{"text_format":"1","workbook":"xlsx","n_sheets":19,"sheets":["Startseite","Definition Maßnahme","Identifikation Wirkunskateg.","Eingabevariablen","Kompensation_Deckelung","Andere Kosten_Nutzen","Gesamtwirkung","Gesamtübersicht (für Druck)","Rechenblatt","-->> Hilfsblätter","Hilfsblatt Kostensätze Umwelt","Hilfsblatt Ber. Umweltkosten 1","Hilfsblatt Ber. Umweltkosten 2","Hilfsblatt Ber. Umweltkosten 3","Hilfsblatt Ber. Wirtsch Wirk 1","Hilfsblatt Ber. Wirtsch Wirk 2","Hilfsblatt Ber. Wirtsch Wirk 3","Hilfsblatt Ber. Wirtsch Wirk 4","Hilfsblatt Output"],"not_rendered":{"charts":0,"images":0,"macros":1,"external_links":2,"defined_names":89,"comments":4,"pivot_tables":0},"unopened":[],"bounds":{"document_bytes":16777216,"sheet_cells":100000,"rows_first":2000,"rows_last":500,"rows_between":2000,"halvings":0,"cell_chars":16384,"cell_head_chars":4096},"cells_cut":0,"cells_raw":0,"read":"whole","date_system":"1900"}

{"sheet":"Startseite","index":0,"n_rows":4,"n_cols":1,"rows_kept":4,"cut":false,"hidden":false,"merged":[[3,0,3,8]]}
[]
["Arbeitshilfe zur Berechnung von Kompensations- und Deckelungsbeträgen für entstehenden"]
["Erfüllungsaufwand auf Basis umweltrelevanter Effekte in der Gesetzesfolgenabschätzung (GFA)"]
["Bitte aktivieren Sie zuerst Makros für dieses Tool:\n  1. Klicken Sie auf die Microsoft Office-Schaltfläche (Kreis mit Office-Symbol, links oben), und klicken Sie dann auf Excel-Optionen (Feld, unten in der Mitte).\n  2. Klicken Sie auf Vertrauensstellungscenter (links), auf Einstellungen für das Vertrauensstellungscenter (Feld, rechts) und \n      anschließend auf Einstellungen für Makros (links).\n  3. Klicken Sie auf die gewünschte Option:\n         \"Alle Makros aktivieren (nicht empfohlen, potenziell gefährlicher Code kann ausgeführt werden)\"\n  4. Klicken Sie auf OK. Damit haben Sie die benötigten Makros aktiviert.\n  \nDurch anklicken der grau unterlegten Textfelder werden weiterführende Informationen angezeigt."]

{"sheet":"Definition Maßnahme","index":1,"n_rows":37,"n_cols":3,"rows_kept":37,"cut":false,"hidden":false,"merged":[[5,1,5,2],[10,1,10,2],[37,1,37,2]]}
[]
[null,"Schritt 1: Definition der Maßnahme"]
[]
[null,"a. Rechtlicher Status Quo, aktuelle Rechtspraxis/Rechtsstatus"]
[]
[]
[]
[]
[null,"b. Geplante Änderung (Gesetz, Maßnahme)"]
[]
[]
[]
[]
[null,"c. Betroffene Gruppen (Bedeutung der Maßnahme für verschiedene Gruppen)"]
[]
[null,"Gruppe (Name der Gruppe)","Art der Betroffenheit, mögliche Reaktionen der Gruppen"]
["1."]
["2."]
["3."]
["4."]
["5."]
["6."]
["7."]
["8."]
[]
[]
[null,"d. Systemgrenzen"]
[]
[null,"Betrachtungszeitraum"]
[null,"Relevanter Raum \n(geografisch, örtlich)"]
[null,"Inhaltlich (was ist NICHT Teil der Betrachtungen)"]
[null,"Weiteres"]
[]
[]
[null,"e. Vergleichsmaßstab, Referenzentwicklung"]
[]
[null,"Aufzeigen des Vergleichsmaßstabs bzw. der Referenzentwicklung (oder Referenzzustand) ohne Einführung des Gesetzes bzw. der Maßnahme:"]

{"sheet":"Identifikation Wirkunskateg.","index":2,"n_rows":104,"n_cols":11,"rows_kept":104,"cut":false,"hidden":false,"merged":[[63,2,63,3],[64,2,64,3],[67,2,67,3],[8,2,8,3],[35,2,35,3],[38,2,38,3],[37,2,37,3],[39,2,39,3],[9,2,9,3],[10,2,10,3],[19,2,19,3],[20,2,20,3],[21,2,21,3],[27,2,27,3],[28,2,28,3],[29,2,29,3],[55,2,55,3],[53,2,53,3],[54,2,54,3],[50,2,50,3],[58,2,58,3],[91,2,91,3],[92,2,92,3],[47,2,47,3],[48,2,48,3],[76,2,76,3],[74,2,74,3],[75,2,75,3],[60,2,60,3],[61,2,61,3],[62,2,62,3],[70,2,70,3],[71,2,71,3],[72,2,72,3],[73,2,73,3],[69,2,69,3],[77,2,77,3],[24,0,31,0],[36,1,36,3],[34,0,41,0],[7,2,7,3],[11,2,11,3],[16,1,16,3],[17,2,17,3],[40,2,40,3],[41,2,41,3],[30,2,30,3],[31,2,31,3],[24,1,24,3],[18,2,18,3],[98,2,98,3],[102,2,102,3],[101,2,101,3],[100,2,100,3],[25,2,25,3],[26,1,26,3],[80,2,80,3],[81,2,81,3],[93,2,93,3],[95,2,95,3],[83,2,83,3],[84,2,84,3],[85,2,85,3],[88,2,88,3],[94,2,94,3],[90,2,90,3]]}
[]
["Schritt 2: Identifikation relevanter Wirkungskategorien"]
[]
["1 Veränderung wirtschaftlicher Wirkung"]
[]
[null,"Fragen zur Prüfung der Relevanz verschiedener Aktivitäten"]
["1. Wirtschaftliche Wirkungen","Identifikationsfragen",null,null,null,"Falls zutreffend ankreuzen",null,null,"(Die Spalten I - K dienen nur der Hintergrundberechnung)"]
[null,"1.","Hat das Gesetz Auswirkungen auf die Produktionskosten von Wirtschaftsunternehmen?",null,null,null,null,null,false,{"$f":"IF(I8=TRUE,1,0)","v":0}]
[null,"2.","Hat das Gesetz Auswirkungen auf die Umsätze von Unternehmen oder Gruppen von Unternehmen? ",null,null,null,null,null,false,0]
[null,"3.","Hat das Gesetz Auswirkungen auf die Lebenshaltungskosten oder Ausgabenstruktur von Bürgern?",null,null,null,null,null,false,0,{"$f":"IF((($J$9+$J$10)>0), TRUE, FALSE)","v":false}]
[null,"4.","Hat das Gesetz Auswirkungen auf den Verbrauch von Treibstoff?",null,null,null,null,null,false,0]
[null,"5.","Hat das Gesetz Auswirkungen auf die Ausgaben oder Einnahmen staatlicher Stellen?",null,null,null,null,null,false,0]
[null,null,null,null,null,null,null,null,null,{"$f":"SUM(J8:J12)","v":0},{"$f":"IF(($J$13>0), TRUE, FALSE)","v":false}]
["2 Veränderung  wichtiger umweltrelevanter Aktivitäten (Verkehr, Energie, Landwirtschaft)"]
[]
["Aktivität","Fragen zur Prüfung der Relevanz verschiedener Aktivitäten"]
["2a. Verkehr","Identifikationsfragen",null,null,null,"Falls zutreffend ankreuzen"]
[null,null,"Führt das Gesetz zu spürbaren Veränderungen im Verkehrsbereich? \n   - Verkehrsmenge: Führt das Gesetz zu einer Veränderung des Verkehrsaufkommens?\n   - Fahrzeugflotte: Führt das Gesetz zu einer veränderten Zusammensetzung der Fahrzeugflotte im Land-, Luft- oder Schiffsverkehr? \n   - Kraftstoffverbrauch: Führt das Gesetz zu einer Veränderung des Verbrauchs von Kraftstoffen (Benzin, Diesel, Erdgas etc.)?"]
[null,"1.","Änderungen im Straßenverkehr?",null,null,null,null,null,false,{"$f":"IF(I19=TRUE,1,0)","v":0}]
[null,"2.","Änderungen im Schienenverkehr?",null,null,null,null,null,false,{"$f":"IF(I20=TRUE,1,0)","v":0}]
[null,"3.","Änderungen im Schiffsverkehr?",null,null,null,null,null,false,{"$f":"IF(I21=TRUE,1,0)","v":0}]
[null,"4.","Änderungen im Luftverkehr?",null,null,null,null,null,false,{"$f":"IF(I22=TRUE,1,0)","v":0}]
[null,null,null,null,null,null,null,null,null,{"$f":"SUM(J19:J22)","v":0},{"$f":"IF((J23>0), TRUE, FALSE)","v":false}]
[]
["2b. Energie","Identifikationsfragen",null,null,null,"Falls zutreffend ankreuzen"]
[null,null,"Führt das Gesetz zu spürbaren Veränderungen im Bereich des Energieverbrauchs (Menge) oder des Energie-Mix (Strom-Mix, eingesetzte Brennstoffe)?"]
[null,"Vertiefungsfragen"]
[null,"1.","Strommenge: Führt das Gesetz zu einer Veränderungen des Stromverbrauchs von Haushalten, Unternehmen oder der öffentlichen Hand?",null,null,null,null,null,false,{"$f":"IF(I28=TRUE,1,0)","v":0}]
[null,"2.","Strom-Mix: Verändert sich durch das Gesetzes der von den Konsumenten genutzte oder von Energieunternehmen produzierte Strom-Mix?",null,null,null,null,null,false,{"$f":"IF(I29=TRUE,1,0)","v":0},{"$f":"IF((($J$28+$J$29+$J$92)>0), TRUE, FALSE)","v":false}]
[null,"3.","Wärmeenergieverbrauch: Führt das Gesetz zu einer Veränderung des Wärmeenergieverbrauchs (Energiemenge)? ",null,null,null,null,null,false,{"$f":"IF(I30=TRUE,1,0)","v":0}]
[null,"4.","Wärmeenergieproduktion: Verändert sich die Zusammensetzung der Energieträger zur Wärmeproduktion?",null,null,null,null,null,false,{"$f":"IF(I31=TRUE,1,0)","v":0}]
[null,"5.","Brennstoffe: Führt das Gesetz zu einer Veränderung des Verbrauchs von Brennstoffen bzw. deren Zusammensetzung?",null,null,null,null,null,false,{"$f":"IF(I32=TRUE,1,0)","v":0},{"$f":"IF((($J$30+$J$31+$J$32+$J$93)>0), TRUE, FALSE)","v":false}]
[null,null,null,null,null,null,null,null,null,{"$f":"SUM($J$28:$J$32)+$J$92+$J$93","v":0},{"$f":"IF(($J$33>0), TRUE, FALSE)","v":false}]
[]
["2c. Landwirtschaft","Identifikationsfragen",null,null,null,"Falls zutreffend ankreuzen"]
[null,null,"Führt das Gesetz zu einer Veränderung der landwirtschaftlichen Aktivität? "]
[null,"Vertiefungsfragen"]
[null,"1.","Führt das Gesetz zu einer Nutzungsintensivierung durch Veränderung der land- / forstwirtschaftlichen Bewirtschaftungsform?",null,null,null,null,null,false,{"$f":"IF(I38=TRUE,1,0)","v":0}]
[null,"2.","Führt das Gesetz zu einer Flächenumwandlung oder einer veränderten Landnutzung, d.h. einer Veränderung des Ökosystemtyps?",null,null,null,null,null,false,0,{"$f":"IF((($J$38+$J$39+$J$56+$J$71+$J$72+$J$73+$J$45)>0), TRUE, FALSE)","v":false}]
[null,"3.","Führt das Gesetz zu einer Veränderung der Emission von Nährstoffen aus der Landwirtschaft (v.a. Stickstoffverbindungen)?",null,null,null,null,null,false,0,{"$f":"IF((($J$40+$J$76+$J$45)>0), TRUE, FALSE)","v":false}]
[null,"4.","Führt das Gesetz zu einer Veränderung der Treibhausgasemissionen aus der Landwirtschaft?",null,null,null,null,null,false,0]
[null,"5.","Führt das Gesetz zu einer Zu- oder Abnahme der landwirtschaftlichen Produktionsmenge?",null,null,null,null,null,false,0]
[null,null,null,null,null,null,null,null,null,{"$f":"SUM(J36:J42)","v":0},{"$f":"IF((($J$43+$J$56+$J$70+$J$71+$J$72+$J$73+$J$74+$J$75+$J$76+$J$94+$J$95)>0), TRUE, FALSE)","v":false}]
["3 Veränderung wichtiger Wirkungskategorien",null,null,null,null,null,null,null,"alle_LW",{"$f":"SUM($J$38:$J$40)+$J$42+$J$56+SUM($J$71:$J$73)+$J$76+$J$78","v":0},{"$f":"IF((J44>0), TRUE, FALSE)","v":false}]
[null,null,null,null,null,null,null,null,"alle_LW_Oekos",{"$f":"J42+J78","v":0},{"$f":"IF((J45>0), TRUE, FALSE)","v":false}]
["Wirkungskategorie","Fragen zur Prüfung der Relevanz verschiedener Aktivitäten"]
["3. Luftschadstoffemissionen","Identifikationsfragen",null,null,null,"Falls zutreffend ankreuzen"]
[null,"1.","Führt das Gesetz zu einer Erhöhung oder Verminderung von Luftschadstoffemissionen, bzw. zu einer Veränderung der Luftqualität? ",null,null,null,null,null,false,{"$f":"IF(I48=TRUE,1,0)","v":0}]
[null,"2.","Führt das Gesetz zu einer Veränderung der Anzahl von Luftschadstoffen betroffener Personen (Immissionen)?",null,null,null,null,null,false,{"$f":"IF(I49=TRUE,1,0)","v":0}]
[null,"Vertiefungsfragen (soweit nicht bereits bei den Aktivitäten/Treibern abgedeckt)"]
[null,"3.","Verändert sich der Emissionsort (z.B. außerorts statt innerorts)?",null,null,null,null,null,false,0]
[null,null,null,null,null,null,null,null,null,{"$f":"SUM(J48:J51)+$J$96","v":0},{"$f":"IF((($J$52+$J$96)>0), TRUE, FALSE)","v":false}]
["4. Treibhausgasemissionen","Identifikationsfragen",null,null,null,"Falls zutreffend ankreuzen"]
[null,"1.","Führt das Gesetz zu einer Erhöhung oder Verminderung von Treibhausgasemissionen?",null,null,null,null,null,false,{"$f":"IF(I54=TRUE,1,0)","v":0}]
[null,"2.","Hat das Gesetz Folgen für das Klima, d.h. führt es zu einer Verstärkung oder Verminderung des Klimawandels und dessen Schäden?",null,null,null,null,null,false,{"$f":"IF(I55=TRUE,1,0)","v":0},{"$f":"IF((($J$41+$J$54+$J$55+$J$96)>0), TRUE, FALSE)","v":false}]
[null,"3.","Führt das Gesetz zu einer Landnutzungsänderung von Ökosystemen oder einer Veränderung der landwirtschaftlichen Bewirtschaftungsform mit Folgen für den CO2-Haushalt?",null,null,null,null,null,false,0]
[null,null,null,null,null,null,null,null,null,{"$f":"SUM(J54:J56)+J96","v":0},{"$f":"IF((J57>0), TRUE, FALSE)","v":false}]
["5. Lärmemissionen","Identifikationsfragen",null,null,null,"Falls zutreffend ankreuzen"]
[null,"1.","Führt das Gesetz zu einer Veränderung der Lärmemissionen, der Anzahl Lärmbetroffener oder der Schäden übermäßiger Lärmbelastung?",null,null,null,null,null,false,{"$f":"IF(I59=TRUE,1,0)","v":0}]
[null,"Vertiefungsfragen (soweit nicht bereits bei den Aktivitäten/Treibern abgedeckt)"]
[null,"2.","Führt das Gesetz zu einer Lärmreduktion bzw. -zunahme an der Quelle durch technische Maßnahmen?",null,null,null,null,null,false,{"$f":"IF(I61=TRUE,1,0)","v":0}]
[null,"3.","Führt das Gesetz zu neuen oder weniger Lärmemissionen, z.B. durch zusätzliche oder reduzierte lärmverursachende Aktivitäten?",null,null,null,null,null,false,0]
[null,"4.","Führt das Gesetz dazu, dass mit Lärmemissionen zeitlich anders anfallen, z.B. tagsüber statt nachts?",null,null,null,null,null,false,0]
[null,"5.","Führt das Gesetz dazu, dass Lärmemissionen räumlich anders anfallen?",null,null,null,null,null,false,0]
[null,"6.","Führen Veränderungen im Siedlungsbereich dazu, dass die Anzahl von Lärm betroffenen Personen zu- oder abnimmt?",null,null,null,null,null,false,0]
[null,null,null,null,null,null,null,null,null,{"$f":"SUM($J$59:$J$65)","v":0},{"$f":"IF((J66>0), TRUE, FALSE)","v":false}]
["6. Beeinträchtigung von Ökosystemen","Identifikationsfragen",null,null,null,"Falls zutreffend ankreuzen",null,null,"Oeko_all",{"$f":"J70+J74+J75+J77+J78+J94+J95","v":0},{"$f":"IF((J67>0), TRUE, FALSE)","v":false}]
[null,null,"Führt das Gesetz zu einer verstärkten oder verringerten Beeinträchtigung (bzw. zum Schutz) natürlicher Ökosysteme oder Landschaften und/oder hat es Folgen für die Biodiversität?"]
[null,"Vertiefungsfragen (soweit nicht bereits bei den Aktivitäten/Treibern abgedeckt)"]
[null,"1.","Führt das Gesetz zur Verbauung / Versiegelung natürlicher Flächen, Landschaften bzw. Ökosystemen?",null,null,null,null,null,false,{"$f":"IF(I70=TRUE,1,0)","v":0},{"$f":"IF((($J$70+$J$94+$J$95+$J$45)>0), TRUE, FALSE)","v":false}]
[null,"2.","Führt das Gesetz zu einer Flächenumwandlung oder einer veränderten Landnutzung, d.h. einer Veränderung des Ökosystemtyps?",null,null,null,null,null,false,0]
[null,"3. ","Führt das Gesetz zu einer Nutzungsintensivierung durch Veränderung der land- / forstwirtschaftlichen Bewirtschaftungsform?",null,null,null,null,null,false,0]
[null,"4.","Führt das Gesetz zum Verschwinden oder zur Entstehung ökologisch wichtiger Ökosystemtypen?",null,null,null,null,null,false,0]
[null,"5.","Führt das Gesetz zu einer Zerschneidung (Fragmentierung) natürlicher Ökosysteme?",null,null,null,null,null,false,0]
[null,"6.","Führt das Gesetz zum Bau zusätzlicher Verkehrsinfrastrukturen (oder dem Rückbau von Infrastrukturen)?",null,null,null,null,null,false,0,{"$f":"IF((($J$74+$J$75)>0), TRUE, FALSE)","v":false}]
[null,"7.","Führt das Gesetz eine Zu- oder Abnahme der Emission von Nährstoffen (v.a. Stickstoffverbindungen)?\n",null,null,null,null,null,false,0]
[null,"8.","Führt das Gesetz zu einer Zu- oder Abnahme des Eintrags von Schadstoffen ins Meer?",null,null,null,null,null,false,0,{"$f":"IF((($J$77)>0), TRUE, FALSE)","v":false}]
[null,"9.","Führt das Gesetz zu einer Veränderung der Ökosystemdienstleistungen?",null,null,null,null,null,false,0]
[null,null,null,null,null,null,null,null,null,{"$f":"SUM(J68:J78)","v":0}]
["7. Emission toxischer Stoffe","Identifikationsfragen",null,null,null,"Falls zutreffend ankreuzen"]
[null,"1.","Führt das Gesetz zu einer Erhöhung oder Verminderung von Emission toxischer Schadstoffe (Schwermetalle, Pestizide, POP)?",null,null,null,null,null,false,0]
[null,"2.","Führt das Gesetz zu einer Veränderung der Luft, Wasser- oder Bodenqualität bzw. Schäden infolge toxischer Emissionen?",null,null,null,null,null,false,0]
[null,"Vertiefungsfragen (soweit nicht bereits bei den Aktivitäten/Treibern abgedeckt)"]
[null,"3.","Führt das Gesetz zu einer Zu- oder Abnahme von Gesundheitsschäden infolge der veränderten Emissionsmenge toxischer Stoffe?",null,null,null,null,null,false,0]
[null,"4.","Führt das Gesetz zu einer Veränderung der (Trink-) Wasserverfügbarkeit, durch eine Veränderung der Emission toxischer Stoffe?",null,null,null,null,null,false,0]
[null,"5.","Führt das Gesetz zu einer Veränderung der Nahrungsmittelverfügbarkeit bzw. der Möglichkeit Nahrungsmittel zu produzieren?",null,null,null,null,null,false,0]
[null,null,null,null,null,null,null,null,null,{"$f":"SUM(J81:J86)","v":0},{"$f":"IF((J87>0), TRUE, FALSE)","v":false}]
["8. Indirekte Effekte durch vor- und nachgelagerte Prozesse","Identifikationsfragen",null,null,null,"Falls zutreffend ankreuzen"]
[null,null,"Führt das Gesetz zu einer Erhöhung oder Verminderung von indirekten Umweltbelastungen?\nRelevant sind insbesondere Emissionen, die im Laufe des Lebenszyklus‘ bei vor- oder nachgelagerten Prozessen (Bau, Unterhalt, Entsorgung, Energieproduktion und  -verteilung) anfallen.\n"]
[null,"Vertiefungsfragen (soweit nicht bereits bei den Aktivitäten/Treibern abgedeckt)"]
[null,"1.","Führt das Gesetz zu einer Veränderung des Verkehrsaufkommens, bzw. des Kraftstoffverbrauchs?\n(Falls ja, bitte die betroffenen Verkehrsträger unter 2a Verkehr (oben) ankreuzen.)"]
[null,"2.","Führt das Gesetz zu einer Veränderung des Stromverbrauchs oder des produzierten Strom-Mix?",null,null,null,null,null,false,0]
[null,"3.","Führt das Gesetz zu einer Veränderung des Wärmeenergieverbrauchs oder der Zusammensetzung der Energieträger?",null,null,null,null,null,false,0]
[null,"4.","Führt das Gesetz zum Bau neuer Infrastrukturen oder Gebäude (Verkehrswege, Produktionsstätten, Immobilien, Kraftwerken etc.)?",null,null,null,null,null,false,0]
[null,"5.","Führt das Gesetz zu einer Zu- oder Abnahme des Ressourcenverbrauchs (Bodenversiegelung, landwirtschaftliche Produktion etc.)?",null,null,null,null,null,false,0]
[null,"6.","Führt das Gesetz zu einer Zu- oder Abnahme der Produktionsmenge von Gütern mit hohem Ressourcenverbrauch?",null,null,null,null,null,false,0]
[null,null,null,null,null,null,null,null,null,{"$f":"SUM(J92:J96)","v":0},{"$f":"IF((J97>0), TRUE, FALSE)","v":false}]
["9. Unfälle","Identifikationsfragen",null,null,null,"Falls zutreffend ankreuzen"]
[null,null,"Führt das Gesetz zu einer Veränderung des Unfallrisikos im Verkehrsbereich oder zu einer direkten Veränderung der Anzahl der Unfälle?"]
[null,"Vertiefungsfragen (soweit nicht bereits bei den Aktivitäten/Treibern abgedeckt)"]
[null,"1.","Führt das Gesetz zu einer Veränderung der Anzahl der Getöteten oder der Verletzten bei Verkehrsunfällen?",null,null,null,null,null,false,{"$f":"IF(I101=TRUE,1,0)","v":0}]
[null,"2.","Führt das Gesetz zu einer Veränderung des Schweregrads der Verkehrsunfälle?",null,null,null,null,null,false,0,{"$f":"IF((($J$101+$J$102)>0), TRUE, FALSE)","v":false}]
[null,"3.","Hat das Gesetz eine Zu- oder Abnahme der Anzahl der Verkehrsunfälle zur Folge?",null,null,null,null,null,false,0]
[null,null,null,null,null,null,null,null,null,{"$f":"SUM(J98:J103)","v":0},{"$f":"IF((J104>0), TRUE, FALSE)","v":false}]

{"sheet":"Eingabevariablen","index":3,"n_rows":360,"n_cols":22,"rows_kept":360,"cut":false,"hidden":false,"merged":[[28,0,29,0],[20,0,21,0],[20,5,21,5],[20,1,21,1],[28,1,29,1],[203,7,203,8],[180,1,180,4],[327,0,327,4],[178,2,178,4],[179,2,179,4],[213,3,213,4],[213,7,213,8],[223,3,223,4],[223,7,223,8],[259,2,259,4],[271,2,271,4],[292,2,292,3],[244,0,244,4],[203,3,203,4],[247,2,247,4],[237,7,237,8],[5,6,5,7],[236,7,236,8],[6,6,6,7],[42,0,43,0],[52,2,52,5],[85,2,85,4],[165,1,165,2],[63,2,63,5],[74,2,74,5],[92,2,92,4],[99,2,99,4],[177,5,177,6],[178,5,178,6],[179,5,179,6],[176,5,176,6],[175,1,175,4]]}
[]
[]
[]
["Inputfelder für Eingabevariablen"]
[]
["Wahl der Betrachtungsjahre ","Zeitraum 1","Zeitraum 2","Zeitraum 3",null,null,"Wahl CO2-Kostensatz (Basis Empfehlung UBA-Methodenkonvention)",null,null,null,null,null,null,null,null,null,null,null,null,null,null,"Mittel: 80 € / t CO2 (Stand 2010) "]
["Betrachtungsjahre",null,null,null,null,null,"Mittel: 80 € / t CO2 (Stand 2010) ",null,null,null,null,null,null,null,null,null,0,null,null,null,null,"Tief: 40 € / t CO2 (Stand 2010) "]
[null,null,null,null,null,null,null,null,null,null,null,null,null,null,null,null,null,null,null,null,null,"Hoch: 120 € / t CO2 (Stand 2010) "]
[]
[null,null,null,null,null,null,null,null,"Der gewählte CO2-Kostensatz wird für alle relevanten Berechnungen der Klimafolgekosten angewandt."]
["Übersicht der relevanten wirtschaftlichen Wirkungskategorien (Ergebnis, siehe vorheriges Arbeitsblatt)"]
[]
["1 Wirtschaftliche Wirkungen","Relevant "]
["a. Wirkung auf Produktionskosten",{"$f":"IF('Identifikation Wirkunskateg.'!$J$8>0,\"Ja\",\"―\")","v":"―"}]
["b. Wirkung auf Unternehmsumsätze",{"$f":"IF('Identifikation Wirkunskateg.'!$J$9>0,\"Ja\",\"―\")","v":"―"}]
["c. Wirkung auf Ausgaben von Bürgern",{"$f":"IF('Identifikation Wirkunskateg.'!$J$10>0,\"Ja\",\"―\")","v":"―"}]
["d. Wirkung auf Ausgaben für Treibstoff",{"$f":"IF('Identifikation Wirkunskateg.'!$J$11>0,\"Ja\",\"―\")","v":"―"}]
["e. Wirkung auf Ausgaben des Staates",{"$f":"IF('Identifikation Wirkunskateg.'!$J$12>0,\"Ja\",\"―\")","v":"―"}]
[]
[null,null,null,null,null,null,null,null,null,null,null,null,null,null,null,null,0.2]
["Veränderung der  Produktionskosten","Branche (Produkt-/Dienstleistung)\n(Auswahl-Menü)","Menge in €","Menge in €","Menge in €","Überwälzung auf Konsumenten in %",null,null,null,null,null,null,null,null,null,null,1]
[null,null,{"$f":"IF(B$7=\"\",\"\",B$7)","v":""},{"$f":"IF(C$7=\"\",\"\",C$7)","v":""},{"$f":"IF(D$7=\"\",\"\",D$7)","v":""}]
["Branche 1",null,null,null,null,1]
["Branche 2",null,null,null,null,1]
["Branche 3",null,null,null,null,1]
["Branche 4",null,null,null,null,1]
["Branche 5",null,null,null,null,1]
[]
["Veränderung der Nachfrage (Bürger oder Unternehmen)","Branche (Produkt-/Dienstleistung)\n(Auswahl-Menü)","Menge in €","Menge in €","Menge in €"]
[null,null,{"$f":"IF(B$7=\"\",\"\",B$7)","v":""},{"$f":"IF(C$7=\"\",\"\",C$7)","v":""},{"$f":"IF(D$7=\"\",\"\",D$7)","v":""}]
["Branche 6"]
["Branche 7"]
["Branche 8"]
["Branche 9"]
["Branche 10"]
[null,null,null,null,null,null,null,null,null,null,null,null,null,null,null,null,0.4]
["Veränderung von Treibstoffverbrauch",{"$f":"IF(B$7=\"\",\"\",B$7)","v":""},{"$f":"IF(C$7=\"\",\"\",C$7)","v":""},{"$f":"IF(D$7=\"\",\"\",D$7)","v":""},"Preis pro Liter in €",null,null,null,null,null,null,null,null,null,null,null,0.6]
["Verbrauchter Treibstoff (Diesel oder Benzin, in Liter)"]
["Verbrauchtes Benzin (in Liter)",null,null,null,null,null,null,null,null,null,null,null,null,null,null,null,0.7]
["Verbrauchtes Diesel (in Liter)",null,null,null,null,null,null,null,null,null,null,null,null,null,null,null,0.8]
["Geleistete Verkehrsmenge PKW (in km)",null,null,null,null,null,null,null,null,null,null,null,null,null,null,null,0.9]
[]
["Veränderung des Staatshaushalts","Menge in €","Menge in €","Menge in €"]
[null,{"$f":"IF(B$7=\"\",\"\",B$7)","v":""},{"$f":"IF(C$7=\"\",\"\",C$7)","v":""},{"$f":"IF(D$7=\"\",\"\",D$7)","v":""}]
["Änderung der Staatseinnahmen oder -ausgaben"]
[]
[]
[null,null,null,null,null,null,null,null,null,"Die Bezugsgröße der Eingabevariablen ist pro Jahr"]
[null,null,null,null,null,null,null,null,null,"Jahr"]
[]
["2a. Verkehr",{"$f":"IF('Identifikation Wirkunskateg.'!$J$23>0,\"Ja\",\"―\")","v":"―"},{"$f":"IF(B51=\"Ja\",\"Relevant\", \"Nicht relevant\")","v":"Nicht relevant"}]
[]
[{"$f":"\"Straßenverkehr \"&B$7","v":"Straßenverkehr "},"i. Verkehr: Fahrzeug-km\nnach Fahrzeugkategorie",{"$f":"B$7&\": Verkehrsmenge in Fahrzeug-km, nach Ort\"","v":": Verkehrsmenge in Fahrzeug-km, nach Ort"},null,null,null,null,"Umrechnungshilfe pkm (tkm) > Fzkm:"]
[null,{"$f":"\"Straßenverkehr \"&B$7","v":"Straßenverkehr "},"Ort unbekannt\n(Ø alle Strecken)","Innerorts","Außerorts","Autobahn",null,null,"Auslastung Personen \n(Pers./Fz = pkm/Fzkm)","Auslastung Güter \n(t/Fz = tkm/Fzkm)"]
[null,"PKW, Diesel",null,null,null,null,null,"PKW, Diesel",1.4700000000000002]
[null,"PKW, Benzin",null,null,null,null,null,"PKW, Benzin",1.47]
[null,"Leichte Nutzfahrzeuge, Diesel",null,null,null,null,null,"Leichte Nutzfahrzeuge, Diesel",null,0.80000000000000016]
[null,"Leichte Nutzfahrzeuge, Benzin",null,null,null,null,null,"Leichte Nutzfahrzeuge, Benzin",null,0.80000000000000016]
[null,"Schwere Nutzfahrzeuge, Diesel",null,null,null,null,null,"Schwere Nutzfahrzeuge, Diesel",null,10.52]
[null,"Bus, Diesel",null,null,null,null,null,"Bus, Diesel",17.100000000000001]
[null,"Krafträder, Benzin 4-Takt",null,null,null,null,null,"Krafträder, Benzin 4-Takt",1.1100000000000003]
[null,"Krafträder, Benzin 2-Takt",null,null,null,null,null,"Krafträder, Benzin 2-Takt",1.1100000000000003]
[]
[{"$f":"\"Straßenverkehr \"&C$7","v":"Straßenverkehr "},"i. Verkehr: Fahrzeug-km\nnach Fahrzeugkategorie",{"$f":"C$7&\": Verkehrsmenge in Fahrzeug-km, nach Ort\"","v":": Verkehrsmenge in Fahrzeug-km, nach Ort"}]
[null,{"$f":"\"Straßenverkehr \"&C$7","v":"Straßenverkehr "},"Ort unbekannt\n(Ø alle Strecken)","Innerorts","Außerorts","Autobahn"]
[null,"PKW, Diesel"]
[null,"PKW, Benzin"]
[null,"Leichte Nutzfahrzeuge, Diesel"]
[null,"Leichte Nutzfahrzeuge, Benzin"]
[null,"Schwere Nutzfahrzeuge, Diesel"]
[null,"Bus, Diesel"]
[null,"Krafträder, Benzin 4-Takt",null,null,null,null,null,null,null,null,null,null,null,{"$f":"IF(($N$71>0), TRUE, FALSE)","v":false}]
[null,"Krafträder, Benzin 2-Takt",null,null,null,null,null,null,null,null,null,null,null,{"$f":"IF(($N$72),IF(('Identifikation Wirkunskateg.'!$K$24),TRUE,FALSE),TRUE)","v":true}]
[]
[{"$f":"B76","v":"Straßenverkehr "},"i. Verkehr: Fahrzeug-km\nnach Fahrzeugkategorie",{"$f":"D$7&\": Verkehrsmenge in Fahrzeug-km, nach Ort\"","v":": Verkehrsmenge in Fahrzeug-km, nach Ort"}]
[null,{"$f":"\"Straßenverkehr \"&D$7","v":"Straßenverkehr "},"Ort unbekannt\n(Ø alle Strecken)","Innerorts","Außerorts","Autobahn"]
[null,"PKW, Diesel"]
[null,"PKW, Benzin"]
[null,"Leichte Nutzfahrzeuge, Diesel"]
[null,"Leichte Nutzfahrzeuge, Benzin"]
[null,"Schwere Nutzfahrzeuge, Diesel"]
[null,"Bus, Diesel"]
[null,"Krafträder, Benzin 4-Takt"]
[null,"Krafträder, Benzin 2-Takt"]
[]
[{"$f":"\"Schienenverkehr \"&B$7","v":"Schienenverkehr "},"ii. Verkehr: Fahrzeug-km (Zug-km)",{"$f":"B$7&\": Verkehrsmenge in Zug-km, nach Ort\"","v":": Verkehrsmenge in Zug-km, nach Ort"},null,null,null,null,"Umrechnungshilfe pkm (tkm) > Fzkm:"]
[null,{"$f":"\"Schienenverkehr \"&B$7","v":"Schienenverkehr "},"Ort unbekannt\n(Ø alle Strecken)","Innerorts","Außerorts",null,null,null,"Auslastung Personen \n(Pers./Fz = pkm/Fzkm)","Auslastung Güter \n(t/Fz = tkm/Fzkm)"]
[null,"Personenzug, Diesel",null,null,null,null,null,"Personenzug, Diesel",69.599999999999994]
[null,"Personenzug, elektrisch",null,null,null,null,null,"Personenzug, elektrisch",108]
[null,"Güterzug, Diesel",null,null,null,null,null,"Güterzug, Diesel",null,821.5]
[null,"Güterzug, elektrisch",null,null,null,null,null,"Güterzug, elektrisch",null,597]
[]
[{"$f":"\"Schienenverkehr \"&C$7","v":"Schienenverkehr "},"ii. Verkehr: Fahrzeug-km (Zug-km)\nnach Fahrzeugkategorie",{"$f":"C$7&\": Verkehrsmenge in Zug-km, nach Ort\"","v":": Verkehrsmenge in Zug-km, nach Ort"}]
[null,{"$f":"\"Schienenverkehr \"&C$7","v":"Schienenverkehr "},"Ort unbekannt\n(Ø alle Strecken)","Innerorts","Außerorts"]
[null,"Personenzug, Diesel"]
[null,"Personenzug, elektrisch"]
[null,"Güterzug, Diesel"]
[null,"Güterzug, elektrisch"]
[]
[{"$f":"\"Schienenverkehr \"&D$7","v":"Schienenverkehr "},"ii. Verkehr: Fahrzeug-km (Zug-km)\nnach Fahrzeugkategorie",{"$f":"D$7&\": Verkehrsmenge in Zug-km, nach Ort\"","v":": Verkehrsmenge in Zug-km, nach Ort"}]
[null,{"$f":"\"Schienenverkehr \"&D$7","v":"Schienenverkehr "},"Ort unbekannt\n(Ø alle Strecken)","Innerorts","Außerorts"]
[null,"Personenzug, Diesel"]
[null,"Personenzug, elektrisch"]
[null,"Güterzug, Diesel"]
[null,"Güterzug, elektrisch"]
[]
[null,null,null,null,null,null,null,"Umrechnungshilfe pkm (tkm) > Fzkm:"]
[null,"iii. Verkehr: Fahrzeug-km (Schiffs-km)\nSchiffsverkehr",{"$f":"IF(B$7=\"\",\"\",B$7&\"\n  (in Schiffs-km)\")","v":""},{"$f":"IF(C$7=\"\",\"\",C$7&\"\n  (in Schiffs-km)\")","v":""},{"$f":"IF(D$7=\"\",\"\",D$7&\"\n  (in Schiffs-km)\")","v":""},null,null,null,"Auslastung Personen \n(Pers./Fz = pkm/Fzkm)","Auslastung Güter \n(t/Fz = tkm/Fzkm)"]
[null,"Binnengüterschiff",null,null,null,null,null,"Binnengüterschiff",null,1023]
[]
[null,null,null,null,null,null,null,"Umrechnungshilfe pkm (tkm) > Fzkm:"]
[null,"iv. Verkehr: Fahrzeug-km (Flugzeug-km)\nLuftverkehr",{"$f":"IF(B$7=\"\",\"\",B$7&\"\n  (in Flugzeug-km)\")","v":""},{"$f":"IF(C$7=\"\",\"\",C$7&\"\n  (in Flugzeug-km)\")","v":""},{"$f":"IF(D$7=\"\",\"\",D$7&\"\n  (in Flugzeug-km)\")","v":""},null,null,null,"Auslastung Personen \n(Pers./Fz = pkm/Fzkm)"]
[null,"Luftverkehr, Europa-/Kontinentalflug",null,null,null,null,null,"Luftverkehr, Europa-/Kontinentalflug",83.9]
[]
[]
[null,null,{"$f":"IF(B$7=\"\",\"\",B$7)","v":""},{"$f":"IF(C$7=\"\",\"\",C$7)","v":""},{"$f":"IF(D$7=\"\",\"\",D$7)","v":""}]
[null,"Betrachtungszeitpunkt: Auswahlmenü\n(für Verbrauchsminderung Krafstoff, Energie)",null,null,null,"Standardwert: 2015"]
[null,"Verbrauchsminderung (Kraftstoff, Energie) in % gegenüber 2015",{"$f":"IF(C117=\"\",0,VLOOKUP(C117,'Hilfsblatt Kostensätze Umwelt'!$BT$44:$BU$47,2,FALSE))","v":0},{"$f":"IF(D117=\"\",0,VLOOKUP(D117,'Hilfsblatt Kostensätze Umwelt'!$BT$44:$BU$47,2,FALSE))","v":0},{"$f":"IF(E117=\"\",0,VLOOKUP(E117,'Hilfsblatt Kostensätze Umwelt'!$BT$44:$BU$47,2,FALSE))","v":0},"vgl. mit Standardwert 2015"]
[]
[]
["2b. Energie",{"$f":"IF('Identifikation Wirkunskateg.'!$J$33>0,\"Ja\",\"―\")","v":"―"},{"$f":"IF(B121=\"Ja\",\"Relevant\", \"Nicht relevant\")","v":"Nicht relevant"}]
[]
[null,"i. Energie: Strommenge in kWhel \nnach Art der Stromerzeugung \n(Energieträger, Strommix)",{"$f":"IF(B$7=\"\",\"\",B$7&\"\n  (in kWh)\")","v":""},{"$f":"IF(C$7=\"\",\"\",C$7&\"\n  (in kWh)\")","v":""},{"$f":"IF(D$7=\"\",\"\",D$7&\"\n  (in kWh)\")","v":""}]
[null,"Strommix Deutschland (ohne Kernkraft)",null,null,null,null,null,"Umrechnungshilfe von MJ, GJ, TJ, PJ in kWh:"]
[null,"Strommix Deutschland (mit Kernkraft)",null,null,null,null,null,"1 MJ",0.27777777777777779,"kWh"]
[null,"Strommix Bahn DB",null,null,null,null,null,"1 GJ",277.77777777777777,"kWh"]
[null,"Strommix Europa (ohne Kernkraft)",null,null,null,null,null,"1 TJ",277777.77777777775,"kWh"]
[null,"Strommix Europa (mit Kernkraft)",null,null,null,null,null,"1 PJ",277777777.77777803,"kWh"]
[null,"Braunkohle"]
[null,"Steinkohle"]
[null,"Erdgas"]
[null,"Öl"]
[null,"Kernenergie"]
[null,"Wasserkraft"]
[null,"Windenergie"]
[null,"Photovoltaik"]
[null,"Geothermie"]
[null,"Feste Biomasse (v.a. Holz)"]
[null,"Flüssige Biomasse"]
[null,"Biogas"]
[null,"Klär- / Deponiegas"]
[]
[null,"ii. Energie: Wärmemenge in kWhEndenergie \nnach Art der Wärmeerzeugung \n(Energieträger, Wärmemix)",{"$f":"IF(B$7=\"\",\"\",B$7&\"\n  (in kWh)\")","v":""},{"$f":"IF(C$7=\"\",\"\",C$7&\"\n  (in kWh)\")","v":""},{"$f":"IF(D$7=\"\",\"\",D$7&\"\n  (in kWh)\")","v":""}]
[null,"Wärmemix Haushalte (D)"]
[null,"Wärmemix Industrie (D)"]
[]
[null,"Heizöl / Öl"]
[null,"Erdgas"]
[null,"Braunkohle, Steinkohle"]
[null,"Fernwärme"]
[null,"Holzpellets, feste Biomasse (Haushalte)"]
[null,"Feste Biomasse / Holz (Industrie)"]
[null,"Solarthermie"]
[null,"Geothermie"]
[null,"Biogas-Mix (v.a. BHKW)"]
[null,"Flüssige Biomasse (diverse Nutzungen)"]
[null,"Flüssige Biomasse (Industrie)"]
[]
[null,"iii. Brennstoffmenge in Tonnen\nnach Art des Brennstoffs",{"$f":"IF(B$7=\"\",\"\",B$7&\"\n  (in Tonnen)\")","v":""},{"$f":"IF(C$7=\"\",\"\",C$7&\"\n  (in Tonnen)\")","v":""},{"$f":"IF(D$7=\"\",\"\",D$7&\"\n  (in Tonnen)\")","v":""}]
[null,"Braunkohle"]
[null,"Steinkohle"]
[null,"Erdgas"]
[null,"Öl, Heizöl"]
[null,"Holz (Stück)"]
[null,"Holz (Pellets)"]
[]
[null,"iv. Kraftstoffmenge in Tonnen\nnach Art des Kraftstoffs",{"$f":"IF(B$7=\"\",\"\",B$7&\"\n  (in Tonnen)\")","v":""},{"$f":"IF(C$7=\"\",\"\",C$7&\"\n  (in Tonnen)\")","v":""},{"$f":"IF(D$7=\"\",\"\",D$7&\"\n  (in Tonnen)\")","v":""}]
[null,"Mittl. Kraftstoffmix PW (Benzin, Diesel)"]
[null,"Benzin"]
[null,"Diesel"]
[null,"Erdgas"]
[]
["2c. Landwirtschaft",{"$f":"IF(('Identifikation Wirkunskateg.'!$J$43+'Identifikation Wirkunskateg.'!$J$45+'Identifikation Wirkunskateg.'!$J$56+'Identifikation Wirkunskateg.'!$J$71+'Identifikation Wirkunskateg.'!$J$72+'Identifikation Wirkunskateg.'!$J$73+'Identifikation Wirkunskateg.'!$J$76)>0,\"Ja\",\"―\")","v":"―"},{"$f":"IF(B173=\"Ja\",\"Relevant\", \"Nicht relevant\")","v":"Nicht relevant"}]
[]
[null,"a. Landnutzungsänderung, Nutzungsintenvisierung"]
[null,"Größe der Fläche, deren Bewirtschaftungs-, Nutzungsform verändert wird. Zudem Angabe der Nutzung vorher und nachher."]
[null,null,{"$f":"IF(B$7=\"\",\"\",B$7&\"\n  (in km2)\")","v":""},{"$f":"IF(C$7=\"\",\"\",C$7&\"\n  (in km2)\")","v":""},{"$f":"IF(D$7=\"\",\"\",D$7&\"\n  (in km2)\")","v":""}]
[null,"Größe der anders genutzten Fläche (km2)",null,null,null,"in km2"]
[null,"bisherige Nutzungsform (Auswahl)","Durchschnitt Deutschland (alle Biotoptypen)",null,null,"Nutzungsart, Ökosystemtyp"]
[null,"neue Nutzungsform (Auswahl)","Ackerland",null,null,"Nutzungsart, Ökosystemtyp"]
[]
[null,"b. Nährstoffeintrag"]
[null,"Ausgestoßene oder eingesparte Menge an Stickstoff (N), in Tonnen",{"$f":"IF(B$7=\"\",\"\",B$7&\"\n  (in Tonnen)\")","v":""},{"$f":"IF(C$7=\"\",\"\",C$7&\"\n  (in Tonnen)\")","v":""},{"$f":"IF(D$7=\"\",\"\",D$7&\"\n  (in Tonnen)\")","v":""}]
[null,"Stickstoff-Verbindungen",null,null,null,"in t Stickstoff (N)"]
[]
[]
[]
["Übersicht der relevanten Wirkungskategorien (Ergebnis, siehe vorheriges Arbeitsblatt)"]
[]
["Umweltwirkungen","Relevant"]
["3. Luftschadstoffemissionen",{"$f":"IF('Identifikation Wirkunskateg.'!$J$52>0,\"Ja\",(IF('Identifikation Wirkunskateg.'!$J$52>0,\"Ja\",\"―\")))","v":"―"}]
["4. Treibhausgasemissionen",{"$f":"(IF('Identifikation Wirkunskateg.'!$J$57>0,\"Ja\",\"―\"))","v":"―"}]
["5. Lärmemissionen",{"$f":"IF('Identifikation Wirkunskateg.'!$J$66>0,\"Ja\",\"―\")","v":"―"}]
["6. Beeinträchtigung von Ökosystemen",{"$f":"IF('Identifikation Wirkunskateg.'!$J$67>0,\"Ja\",\"―\")","v":"―"}]
["7. Emission toxischer Stoffe",{"$f":"IF('Identifikation Wirkunskateg.'!$J$87>0,\"Ja\",\"―\")","v":"―"}]
["8. Indirekte Effekte durch vor- und nachgelagerte Prozesse",{"$f":"IF('Identifikation Wirkunskateg.'!$J$97>0,\"Ja\",\"―\")","v":"―"}]
["9. Unfälle",{"$f":"IF('Identifikation Wirkunskateg.'!$J$104>0,\"Ja\",\"―\")","v":"―"}]
[]
[]
["3. Luftschadstoffemissionen",{"$f":"$B$191","v":"―"},{"$f":"IF(B200=\"Ja\",\"Relevant\", \"Nicht relevant\")","v":"Nicht relevant"}]
[]
[]
[{"$f":"IF(B$7=\"\",\"\",B$7)","v":""},{"$f":"\"Menge Luftschadstoffemissionen \"&B$7&\" nach Art/Quelle der Emissionen\"","v":"Menge Luftschadstoffemissionen  nach Art/Quelle der Emissionen"},{"$f":"B$7&\" \nin Tonnen\"","v":" \nin Tonnen"}]
[null,"Quelle:","Quelle unbekannt","Verkehr",null,"Kraftwerk/Energie","Industrie","Kleinfeuerung"]
[null,"Schadstoffmenge in Tonnen",null,"Innerorts (Durchschnitt)","Außerorts",null,null,"Innerorts","Außerorts"]
[null,"Partikel (Feinstaub) PM10"]
[null,"Partikel (Feinstaub) fein PM2.5"]
[null,"Stickoxide NOx"]
[null,"Schwefeldioxid SO2"]
[null,"Flüchtige Kohlenwasserstoffe NMVOC"]
[null,"Ammoniak NH3"]
[]
[{"$f":"IF(C$7=\"\",\"\",C$7)","v":""},{"$f":"\"Menge Luftschadstoffemissionen \"&C$7&\" nach Art/Quelle der Emissionen\"","v":"Menge Luftschadstoffemissionen  nach Art/Quelle der Emissionen"},{"$f":"C$7&\" \nin Tonnen\"","v":" \nin Tonnen"}]
[null,"Quelle:","Quelle unbekannt","Verkehr",null,"Kraftwerk/Energie","Industrie","Kleinfeuerung"]
[null,"Schadstoffmenge in Tonnen",null,"Innerorts (Durchschnitt)","Außerorts",null,null,"Innerorts","Außerorts"]
[null,"Partikel (Feinstaub) PM10"]
[null,"Partikel (Feinstaub) fein PM2.5"]
[null,"Stickoxide NOx"]
[null,"Schwefeldioxid SO2"]
[null,"Flüchtige Kohlenwasserstoffe NMVOC"]
[null,"Ammoniak NH3"]
[]
[{"$f":"IF(D$7=\"\",\"\",D$7)","v":""},{"$f":"\"Menge Luftschadstoffemissionen \"&D$7&\" nach Art/Quelle der Emissionen\"","v":"Menge Luftschadstoffemissionen  nach Art/Quelle der Emissionen"},{"$f":"D$7&\" \nin Tonnen\"","v":" \nin Tonnen"}]
[null,"Quelle:","Quelle unbekannt","Verkehr",null,"Kraftwerk/Energie","Industrie","Kleinfeuerung"]
[null,"Schadstoffmenge in Tonnen",null,"Innerorts (Durchschnitt)","Außerorts",null,null,"Innerorts","Außerorts"]
[null,"Partikel (Feinstaub) PM10"]
[null,"Partikel (Feinstaub) fein PM2.5"]
[null,"Stickoxide NOx"]
[null,"Schwefeldioxid SO2"]
[null,"Flüchtige Kohlenwasserstoffe NMVOC"]
[null,"Ammoniak NH3"]
[]
[]
["4. Treibhausgasemissionen",{"$f":"$B$192","v":"―"},{"$f":"IF(B234=\"Ja\",\"Relevant\", \"Nicht relevant\")","v":"Nicht relevant"}]
[]
[]
[null,"Menge Treibhausgasemissionen, in t",{"$f":"IF(B$7=\"\",\"\",B$7&\"\n  (in Tonnen)\")","v":""},{"$f":"IF(C$7=\"\",\"\",C$7&\"\n  (in Tonnen)\")","v":""},{"$f":"IF(D$7=\"\",\"\",D$7&\"\n  (in Tonnen)\")","v":""}]
[null,"Kohlendioxid (CO2)"]
[null,"Methan (CH4)"]
[null,"Lachgas (N2O)"]
[null,"Treibhausgase total (in CO2-Äquivalent)"]
[]
[]
["5. Lärmemissionen",{"$f":"$B$193","v":"―"},{"$f":"IF(B244=\"Ja\",\"Relevant\", \"Nicht relevant\")","v":"Nicht relevant"}]
[]
[]
[]
[{"$f":"IF(B$7=\"\",\"\",B$7)","v":""},{"$f":"\"Anzahl von Lärm belastete Personen je Lärmklasse (Dezibel-Klasse) \"&B$7","v":"Anzahl von Lärm belastete Personen je Lärmklasse (Dezibel-Klasse) "},"Quelle: Verkehr",null,null,"Quelle: unbekannt"]
[null,"Lärmbelastung (Lden (dB(A))","Strassenverkehr","Schienenverkehr","Luftverkehr"]
[null,"45 dB"]
[null,"50 dB"]
[null,"55 dB"]
[null,"60 dB"]
[null,"65 dB"]
[null,"70 dB"]
[null,"75 dB"]
[null,"80 dB"]
[null,"≥81 dB"]
[]
[{"$f":"IF(C$7=\"\",\"\",C$7)","v":""},{"$f":"\"Anzahl von Lärm belastete Personen je Lärmklasse (Dezibel-Klasse) \"&C$7","v":"Anzahl von Lärm belastete Personen je Lärmklasse (Dezibel-Klasse) "},"Quelle: Verkehr",null,null,"Quelle: unbekannt"]
[null,"Lärmbelastung (Lden (dB(A))","Strassenverkehr","Schienenverkehr","Luftverkehr"]
[null,"45 dB"]
[null,"50 dB"]
[null,"55 dB"]
[null,"60 dB"]
[null,"65 dB"]
[null,"70 dB"]
[null,"75 dB"]
[null,"80 dB"]
[null,"≥81 dB"]
[]
[{"$f":"IF(D$7=\"\",\"\",D$7)","v":""},{"$f":"\"Anzahl von Lärm belastete Personen je Lärmklasse (Dezibel-Klasse) \"&D$7","v":"Anzahl von Lärm belastete Personen je Lärmklasse (Dezibel-Klasse) "},"Quelle: Verkehr",null,null,"Quelle: unbekannt"]
[null,"Lärmbelastung (Lden (dB(A))","Strassenverkehr","Schienenverkehr","Luftverkehr"]
[null,"45 dB"]
[null,"50 dB"]
[null,"55 dB"]
[null,"60 dB"]
[null,"65 dB"]
[null,"70 dB"]
[null,"75 dB"]
[null,"80 dB"]
[null,"≥81 dB"]
[]
[]
["6. Beeinträchtigung von Ökosystemen",{"$f":"IF('Identifikation Wirkunskateg.'!$J$67>0,\"Ja\",\"―\")","v":"―"},{"$f":"IF(B285=\"Ja\",\"Relevant\", \"Nicht relevant\")","v":"Nicht relevant"}]
[]
[null,"a. Schadstoffeinträge ins Meer"]
[null,"Schadstoffeinträge ins Meer",{"$f":"IF(B$7=\"\",\"\",B$7&\"\n  (Menge in t)\")","v":""},{"$f":"IF(C$7=\"\",\"\",C$7&\"\n  (Menge in t)\")","v":""},{"$f":"IF(D$7=\"\",\"\",D$7&\"\n  (Menge in t)\")","v":""}]
[null,"Stickstoffeintrag ins Meer",null,null,null,"in Tonnen"]
[null,"Abfallmenge, ins Meer",null,null,null,"in Tonnen"]
[null,"Ölmenge, ins Meer",null,null,null,"in Tonnen"]
[]
[null,"Kosten Öleintrag ins Meer","Minimalwert (805 €/t)"]
[]
[null,"b. Zerschneidung der Landschaft durch Verkehrswege"]
[null,"Länge/Fläche (zusätzlicher) Verkehrsinfrastrukturen",{"$f":"IF(B$7=\"\",\"\",B$7&\"\n  (in km bzw. km2)\")","v":""},{"$f":"IF(C$7=\"\",\"\",C$7&\"\n  (in km bzw. km2)\")","v":""},{"$f":"IF(D$7=\"\",\"\",D$7&\"\n  (in km bzw. km2)\")","v":""}]
[null,"Straße: Autobahn, Bundesstraße",null,null,null,"Länge in km"]
[null,"Straße: Hauptstraße",null,null,null,"Länge in km"]
[null,"Straße: Nebenstraße",null,null,null,"Länge in km"]
[null,"Schiene: mehrspurig",null,null,null,"Länge in km"]
[null,"Schiene: einspurig",null,null,null,"Länge in km"]
[null,"Flugplatz, Flughafen (Fläche)",null,null,null,"Fläche in km2"]
[]
[null,"c. Flächenversiegelung, Flächenumwandlung, Verbauung natürlicher Flächen"]
[null,"(Bem: 1.000.000 m2 = 1 km2)",{"$f":"IF(B$7=\"\",\"\",B$7&\"\n  (in km2)\")","v":""},{"$f":"IF(C$7=\"\",\"\",C$7&\"\n  (in km2)\")","v":""},{"$f":"IF(D$7=\"\",\"\",D$7&\"\n  (in km2)\")","v":""}]
[null,"Größe der versiegelten Fläche, in km2"]
[]
[]
["7. Emission toxischer Stoffe",{"$f":"$B$195","v":"―"},{"$f":"IF(B309=\"Ja\",\"Relevant\", \"Nicht relevant\")","v":"Nicht relevant"}]
[]
[null,"Emissionsmenge toxischer Stoffe",{"$f":"IF(B$7=\"\",\"\",B$7&\"\n  (in t bzw. kg)\")","v":""},{"$f":"IF(C$7=\"\",\"\",C$7&\"\n  (in t bzw. kg)\")","v":""},{"$f":"IF(D$7=\"\",\"\",D$7&\"\n  (in t bzw. kg)\")","v":""}]
[null,"Schwermetalle:"]
[null,"Arsen (As)",null,null,null,"in t"]
[null,"Cadmium (Cd)",null,null,null,"in t"]
[null,"Chrom (Cr)",null,null,null,"in t"]
[null,"Nickel (Ni)",null,null,null,"in t"]
[null,"Quecksilber (Hg)",null,null,null,"in t"]
[null,"Blei (Pb)",null,null,null,"in t"]
[null,"Langlebige organische Schadstoffe (POPs):"]
[null,"Dioxine",null,null,null,"in kg"]
[null,"Furane",null,null,null,"in kg"]
[null,"Formaldehyd",null,null,null,"in t"]
[null,"Pflanzenschutzmittel",null,null,null,"in t"]
[null,"Insektizide",null,null,null,"in t"]
[]
[]
["8. Indirekte Effekte vor- und nachgelagerte Prozesse",{"$f":"$B$196","v":"―"},{"$f":"IF(B327=\"Ja\",\"Relevant\", \"Nicht relevant\")","v":"Nicht relevant"}]
[]
[null,"Menge Schadstoffemissionen, in Tonnen",{"$f":"IF(B$7=\"\",\"\",B$7&\"\n  (in Tonnen)\")","v":""},{"$f":"IF(C$7=\"\",\"\",C$7&\"\n  (in Tonnen)\")","v":""},{"$f":"IF(D$7=\"\",\"\",D$7&\"\n  (in Tonnen)\")","v":""}]
[null,"Partikel (Feinstaub) PM10",null,null,null,"in t"]
[null,"Partikel (Feinstaub) fein PM2.5",null,null,null,"in t"]
[null,"Stickoxide NOx",null,null,null,"in t"]
[null,"Schwefeldioxid SO2",null,null,null,"in t"]
[null,"Flüchtige Kohlenwasserstoffe NMVOC",null,null,null,"in t"]
[null,"Ammoniak NH3",null,null,null,"in t"]
[null,"Kohlendioxid (CO2)",null,null,null,"in t"]
[null,"Methan (CH4)",null,null,null,"in t"]
[null,"Lachgas (N2O)",null,null,null,"in t"]
[null,"Treibhausgase total (in CO2-Äquivalent)",null,null,null,"in t"]
[null,"Stickstoff-Verbindungen",null,null,null,"in t"]
[]
[]
["9. Unfälle",{"$f":"$B$197","v":"―"},{"$f":"IF(B343=\"Ja\",\"Relevant\", \"Nicht relevant\")","v":"Nicht relevant"}]
[]
[null,"Anzahl Unfallopfer (Verkehrsunfälle)",{"$f":"IF(B$7=\"\",\"\",B$7&\"\n  (Anzahl Personen)\")","v":""},{"$f":"IF(C$7=\"\",\"\",C$7&\"\n  (Anzahl Personen)\")","v":""},{"$f":"IF(D$7=\"\",\"\",D$7&\"\n  (Anzahl Personen)\")","v":""}]
[null,"Leichtverletzte"]
[null,"Schwerverletzte"]
[null,"Todesopfer"]
[]
[null,"Anzahl Verkehrsunfälle",{"$f":"IF(B$7=\"\",\"\",B$7&\"\n  (Anzahl Unfälle)\")","v":""},{"$f":"IF(C$7=\"\",\"\",C$7&\"\n  (Anzahl Unfälle)\")","v":""},{"$f":"IF(D$7=\"\",\"\",D$7&\"\n  (Anzahl Unfälle)\")","v":""}]
[null,"Strassenverkehrsunfälle generell"]
[null,"Unfälle mit Personenwagen"]
[null,"Unfälle mit Motorrädern"]
[null,"Unfälle mit Güterschwerverkehr"]
[null,"Unfälle mit öffentl. Personenverkehr"]
[null,"Unfälle mit Fahrrädern"]
[null,"Unfälle mit Fussgängern"]
[null,"Schienenverkehrsunfälle: Personenverkehr"]
[null,"Schienenverkehrsunfälle: Güterverkehr"]
[null,"Luftverkehrsunfälle (ohne Grossereignisse)"]

{"sheet":"Kompensation_Deckelung","index":4,"n_rows":73,"n_cols":13,"rows_kept":73,"cut":false,"hidden":false,"merged":[[23,0,23,1],[33,0,33,1],[34,0,34,1],[35,0,35,1],[36,0,36,1],[24,0,24,1],[28,0,28,1],[27,0,27,1],[54,0,54,1],[25,0,25,1],[26,0,26,1],[59,0,59,1],[57,0,57,1],[55,0,55,1],[56,0,56,1],[58,0,58,1],[37,0,37,1],[38,0,38,1],[69,0,69,1],[70,0,70,1],[71,0,71,1],[64,0,64,1],[65,0,65,1],[66,0,66,1],[67,0,67,1],[68,0,68,1]]}
[]
["Schritt: Kompensation und Deckelung",null,null,null,null,null,null,null,null,null,null,null,false]
[]
[]
["Kompensation und Deckelung"]
[]
["Kompensation und Deckelung"]
[null,null,{"$f":"IF(Eingabevariablen!B$7=\"\",\"\",Eingabevariablen!B$7)","v":""},{"$f":"IF(Eingabevariablen!C$7=\"\",\"\",Eingabevariablen!C$7)","v":""},{"$f":"IF(Eingabevariablen!D$7=\"\",\"\",Eingabevariablen!D$7)","v":""},"Einheit"]
["Summe Kompensation",null,{"$f":"C20","v":0},{"$f":"D20","v":0},{"$f":"E20","v":0},"1.000 € pro Jahr"]
["Summe Deckelung (Wirtschaftliche Wirkung)",null,{"$f":"C49","v":0},{"$f":"D49","v":0},0,"1.000 € pro Jahr"]
["Summe Deckelung (Umweltwirkung & Unfälle)",null,{"$f":"C50","v":0},0,0,"1.000 € pro Jahr"]
[]
[]
["Kompensation"]
[]
["Kompensation: Direkte Umsatzgewinne- und Verluste der Wirtschaft "]
[null,null,{"$f":"IF(Eingabevariablen!B$7=\"\",\"\",Eingabevariablen!B$7)","v":""},{"$f":"IF(Eingabevariablen!C$7=\"\",\"\",Eingabevariablen!C$7)","v":""},{"$f":"IF(Eingabevariablen!D$7=\"\",\"\",Eingabevariablen!D$7)","v":""},"Einheit"]
["Durch Produktionskostenveränderung",null,{"$f":"C30","v":0},{"$f":"D30","v":0},{"$f":"E30","v":0},"1.000 € pro Jahr"]
["Durch Nachfrageverlagerung",null,{"$f":"C40","v":0},{"$f":"D40","v":0},{"$f":"E40","v":0},"1.000 € pro Jahr"]
["Summe Kompensation ",null,{"$f":"SUM(C18:C19)","v":0},{"$f":"SUM(D18:D19)","v":0},{"$f":"SUM(E18:E19)","v":0},"1.000 € pro Jahr"]
[]
[]
["Durch Produktionskostenveränderung: Umsatzgewinne- und Verluste der Wirtschaft nach Branche"]
["Wirkungen je Einzelbranche (Name der Branche)",null,{"$f":"IF(Eingabevariablen!B$7=\"\",\"\",Eingabevariablen!B$7)","v":""},{"$f":"IF(Eingabevariablen!C$7=\"\",\"\",Eingabevariablen!C$7)","v":""},{"$f":"IF(Eingabevariablen!D$7=\"\",\"\",Eingabevariablen!D$7)","v":""},"Einheit"]
[{"$f":"IF(Eingabevariablen!$B$23=0,\"-\",VLOOKUP(Eingabevariablen!$B$23,'Hilfsblatt Ber. Wirtsch Wirk 4'!$A$23:$B$107,2,FALSE))","v":"-"},null,{"$f":"IFERROR((ROUND('Hilfsblatt Ber. Wirtsch Wirk 1'!D6,-3)/1000),\"\")","v":0},{"$f":"IFERROR((ROUND('Hilfsblatt Ber. Wirtsch Wirk 1'!D106,-3)/1000),\"\")","v":0},{"$f":"IFERROR((ROUND('Hilfsblatt Ber. Wirtsch Wirk 1'!D206,-3)/1000),\"\")","v":0},"1.000 € pro Jahr"]
[{"$f":"IF(Eingabevariablen!$B$24=0,\"-\",VLOOKUP(Eingabevariablen!$B$24,'Hilfsblatt Ber. Wirtsch Wirk 4'!$A$23:$B$107,2,FALSE))","v":"-"},null,{"$f":"IFERROR((ROUND('Hilfsblatt Ber. Wirtsch Wirk 1'!E6,-3)/1000),\"\")","v":0},{"$f":"IFERROR((ROUND('Hilfsblatt Ber. Wirtsch Wirk 1'!E106,-3)/1000),\"\")","v":0},{"$f":"IFERROR((ROUND('Hilfsblatt Ber. Wirtsch Wirk 1'!E206,-3)/1000),\"\")","v":0},"1.000 € pro Jahr",null,null,null,null,null,null,{"$f":"IF((ABS(C26)+ABS(C27)+ABS(C28)+ABS(D26)+ABS(D27)+ABS(D28)+ABS(E26)+ABS(E27)+ABS(E28))>0, TRUE, FALSE)","v":false}]
[{"$f":"IF(Eingabevariablen!$B$25=0,\"-\",VLOOKUP(Eingabevariablen!$B$25,'Hilfsblatt Ber. Wirtsch Wirk 4'!$A$23:$B$107,2,FALSE))","v":"-"},null,{"$f":"IFERROR((ROUND('Hilfsblatt Ber. Wirtsch Wirk 1'!F6,-3)/1000),\"\")","v":0},{"$f":"IFERROR((ROUND('Hilfsblatt Ber. Wirtsch Wirk 1'!F106,-3)/1000),\"\")","v":0},{"$f":"IFERROR((ROUND('Hilfsblatt Ber. Wirtsch Wirk 1'!F206,-3)/1000),\"\")","v":0},"1.000 € pro Jahr"]
[{"$f":"IF(Eingabevariablen!$B$26=0,\"-\",VLOOKUP(Eingabevariablen!$B$26,'Hilfsblatt Ber. Wirtsch Wirk 4'!$A$23:$B$107,2,FALSE))","v":"-"},null,{"$f":"IFERROR((ROUND('Hilfsblatt Ber. Wirtsch Wirk 1'!G6,-3)/1000),\"\")","v":0},{"$f":"IFERROR((ROUND('Hilfsblatt Ber. Wirtsch Wirk 1'!G106,-3)/1000),\"\")","v":0},{"$f":"IFERROR((ROUND('Hilfsblatt Ber. Wirtsch Wirk 1'!G206,-3)/1000),\"\")","v":0},"1.000 € pro Jahr"]
[{"$f":"IF(Eingabevariablen!$B$27=0,\"-\",VLOOKUP(Eingabevariablen!$B$27,'Hilfsblatt Ber. Wirtsch Wirk 4'!$A$23:$B$107,2,FALSE))","v":"-"},null,{"$f":"IFERROR((ROUND('Hilfsblatt Ber. Wirtsch Wirk 1'!H6,-3)/1000),\"\")","v":0},{"$f":"IFERROR((ROUND('Hilfsblatt Ber. Wirtsch Wirk 1'!H106,-3)/1000),\"\")","v":0},{"$f":"IFERROR((ROUND('Hilfsblatt Ber. Wirtsch Wirk 1'!H206,-3)/1000),\"\")","v":0},"1.000 € pro Jahr"]
["Summe (Branche 1 bis 5)",null,{"$f":"SUM(C25:C29)","v":0},{"$f":"SUM(D25:D29)","v":0},{"$f":"SUM(E25:E29)","v":0},"1.000 € pro Jahr"]
[]
[]
["Durch Nachfrageverlagerung: Umsatzgewinne- und Verluste der Wirtschaft nach Branche"]
["Wirkungen je Einzelbranche (Name der Branche)",null,{"$f":"IF(Eingabevariablen!B$7=\"\",\"\",Eingabevariablen!B$7)","v":""},{"$f":"IF(Eingabevariablen!C$7=\"\",\"\",Eingabevariablen!C$7)","v":""},{"$f":"IF(Eingabevariablen!D$7=\"\",\"\",Eingabevariablen!D$7)","v":""},"Einheit"]
[{"$f":"IF(Eingabevariablen!$B$31=0,\"-\",VLOOKUP(Eingabevariablen!$B$31,'Hilfsblatt Ber. Wirtsch Wirk 4'!$A$23:$B$107,2,FALSE))","v":"-"},null,{"$f":"IFERROR((ROUND('Hilfsblatt Ber. Wirtsch Wirk 1'!I6,-3)/1000),\"\")","v":0},{"$f":"IFERROR((ROUND('Hilfsblatt Ber. Wirtsch Wirk 1'!I106,-3)/1000),\"\")","v":0},{"$f":"IFERROR((ROUND('Hilfsblatt Ber. Wirtsch Wirk 1'!I206,-3)/1000),\"\")","v":0},"1.000 € pro Jahr",null,null,null,null,null,null,{"$f":"IF((ABS(C35)+ABS(C36)+ABS(C37)+ABS(D35)+ABS(D36)+ABS(D37)+ABS(E35)+ABS(E36)+ABS(E37))>0, TRUE, FALSE)","v":false}]
[{"$f":"IF(Eingabevariablen!$B$32=0,\"-\",VLOOKUP(Eingabevariablen!$B$32,'Hilfsblatt Ber. Wirtsch Wirk 4'!$A$23:$B$107,2,FALSE))","v":"-"},null,{"$f":"IFERROR((ROUND('Hilfsblatt Ber. Wirtsch Wirk 1'!J6,-3)/1000),\"\")","v":0},{"$f":"IFERROR((ROUND('Hilfsblatt Ber. Wirtsch Wirk 1'!J106,-3)/1000),\"\")","v":0},{"$f":"IFERROR((ROUND('Hilfsblatt Ber. Wirtsch Wirk 1'!J206,-3)/1000),\"\")","v":0},"1.000 € pro Jahr"]
[{"$f":"IF(Eingabevariablen!$B$33=0,\"-\",VLOOKUP(Eingabevariablen!$B$33,'Hilfsblatt Ber. Wirtsch Wirk 4'!$A$23:$B$107,2,FALSE))","v":"-"},null,{"$f":"IFERROR((ROUND('Hilfsblatt Ber. Wirtsch Wirk 1'!K6,-3)/1000),\"\")","v":0},{"$f":"IFERROR((ROUND('Hilfsblatt Ber. Wirtsch Wirk 1'!K106,-3)/1000),\"\")","v":0},{"$f":"IFERROR((ROUND('Hilfsblatt Ber. Wirtsch Wirk 1'!K206,-3)/1000),\"\")","v":0},"1.000 € pro Jahr"]
[{"$f":"IF(Eingabevariablen!$B$34=0,\"-\",VLOOKUP(Eingabevariablen!$B$34,'Hilfsblatt Ber. Wirtsch Wirk 4'!$A$23:$B$107,2,FALSE))","v":"-"},null,{"$f":"IFERROR((ROUND('Hilfsblatt Ber. Wirtsch Wirk 1'!L6,-3)/1000),\"\")","v":0},{"$f":"IFERROR((ROUND('Hilfsblatt Ber. Wirtsch Wirk 1'!L106,-3)/1000),\"\")","v":0},{"$f":"IFERROR((ROUND('Hilfsblatt Ber. Wirtsch Wirk 1'!L206,-3)/1000),\"\")","v":0},"1.000 € pro Jahr"]
[{"$f":"IF(Eingabevariablen!$B$35=0,\"-\",VLOOKUP(Eingabevariablen!$B$35,'Hilfsblatt Ber. Wirtsch Wirk 4'!$A$23:$B$107,2,FALSE))","v":"-"},null,{"$f":"IFERROR((ROUND('Hilfsblatt Ber. Wirtsch Wirk 1'!M6,-3)/1000),\"\")","v":0},{"$f":"IFERROR((ROUND('Hilfsblatt Ber. Wirtsch Wirk 1'!M106,-3)/1000),\"\")","v":0},{"$f":"IFERROR((ROUND('Hilfsblatt Ber. Wirtsch Wirk 1'!M206,-3)/1000),\"\")","v":0},"1.000 € pro Jahr"]
["Summe (Branche 6 bis 10)",null,{"$f":"SUM(C35:C39)","v":0},{"$f":"SUM(D35:D39)","v":0},{"$f":"SUM(E35:E39)","v":0},"1.000 € pro Jahr"]
[]
[]
[]
[]
["Deckelung"]
[]
["Deckelung (Wertschöpfung plus Umweltwirkung)"]
["Deckelung",null,{"$f":"IF(Eingabevariablen!B$7=\"\",\"\",Eingabevariablen!B$7)","v":""},{"$f":"IF(Eingabevariablen!C$7=\"\",\"\",Eingabevariablen!C$7)","v":""},{"$f":"IF(Eingabevariablen!D$7=\"\",\"\",Eingabevariablen!D$7)","v":""},"Einheit"]
["Deckelung (Wertschöpfung)",null,{"$f":"ROUND('Hilfsblatt Ber. Wirtsch Wirk 1'!S9/1000000,0)*1000","v":0},{"$f":"ROUND('Hilfsblatt Ber. Wirtsch Wirk 1'!S109/1000000,0)*1000","v":0},{"$f":"ROUND('Hilfsblatt Ber. Wirtsch Wirk 1'!S209/1000000,0)*1000","v":0},{"$f":"\"1.000 € pro \"&Eingabevariablen!$J$49","v":"1.000 € pro Jahr"}]
["Deckelung (Umweltwirkung)",null,{"$f":"C72","v":0},{"$f":"D72","v":0},0,{"$f":"\"1.000 € pro \"&Eingabevariablen!$J$49","v":"1.000 € pro Jahr"}]
["Summe Deckelung",null,{"$f":"C49+C50","v":0},{"$f":"D49+D50","v":0},{"$f":"E49+E50","v":0},{"$f":"\"1.000 € pro \"&Eingabevariablen!$J$49","v":"1.000 € pro Jahr"}]
[]
[]
["Branchen mit der größten absoluten Veränderung - Wirtschaftliche Wirkung (Fünf größten Veränderungen im ersten Zeitraum)"]
["Wirkungen je Einzelbranche (Name der Branche)",null,{"$f":"IF(Eingabevariablen!B$7=\"\",\"\",Eingabevariablen!B$7)","v":""},{"$f":"IF(Eingabevariablen!C$7=\"\",\"\",Eingabevariablen!C$7)","v":""},{"$f":"IF(Eingabevariablen!D$7=\"\",\"\",Eingabevariablen!D$7)","v":""},"Einheit"]
[{"$f":"INDEX('Hilfsblatt Ber. Wirtsch Wirk 1'!$C$10:$C$80,MATCH(LARGE('Hilfsblatt Ber. Wirtsch Wirk 1'!$Y$10:$Y$81,1),'Hilfsblatt Ber. Wirtsch Wirk 1'!$Y$10:$Y$80,0))","v":"Erzeugnisse der Landwirtschaft, Jagd und Dienstleistungen"},null,{"$f":"VLOOKUP(A56,'Hilfsblatt Ber. Wirtsch Wirk 1'!$C$10:$S$81,17,FALSE)/1000","v":0},{"$f":"VLOOKUP(A56,'Hilfsblatt Ber. Wirtsch Wirk 1'!$C$110:$S$181,17,FALSE)/1000","v":0},{"$f":"VLOOKUP(A56,'Hilfsblatt Ber. Wirtsch Wirk 1'!$C$210:$S$281,17,FALSE)/1000","v":0},"1.000 € pro Jahr"]
[{"$f":"INDEX('Hilfsblatt Ber. Wirtsch Wirk 1'!$C$10:$C$80,MATCH(LARGE('Hilfsblatt Ber. Wirtsch Wirk 1'!$Y$10:$Y$81,2),'Hilfsblatt Ber. Wirtsch Wirk 1'!$Y$10:$Y$80,0))","v":"Erzeugnisse der Landwirtschaft, Jagd und Dienstleistungen"},null,{"$f":"VLOOKUP(A57,'Hilfsblatt Ber. Wirtsch Wirk 1'!$C$10:$S$81,17,FALSE)/1000","v":0},{"$f":"VLOOKUP(A57,'Hilfsblatt Ber. Wirtsch Wirk 1'!$C$110:$S$181,17,FALSE)/1000","v":0},{"$f":"VLOOKUP(A57,'Hilfsblatt Ber. Wirtsch Wirk 1'!$C$210:$S$281,17,FALSE)/1000","v":0},"1.000 € pro Jahr"]
[{"$f":"INDEX('Hilfsblatt Ber. Wirtsch Wirk 1'!$C$10:$C$80,MATCH(LARGE('Hilfsblatt Ber. Wirtsch Wirk 1'!$Y$10:$Y$81,3),'Hilfsblatt Ber. Wirtsch Wirk 1'!$Y$10:$Y$80,0))","v":"Erzeugnisse der Landwirtschaft, Jagd und Dienstleistungen"},null,{"$f":"VLOOKUP(A58,'Hilfsblatt Ber. Wirtsch Wirk 1'!$C$10:$S$81,17,FALSE)/1000","v":0},{"$f":"VLOOKUP(A58,'Hilfsblatt Ber. Wirtsch Wirk 1'!$C$110:$S$181,17,FALSE)/1000","v":0},{"$f":"VLOOKUP(A58,'Hilfsblatt Ber. Wirtsch Wirk 1'!$C$210:$S$281,17,FALSE)/1000","v":0},"1.000 € pro Jahr"]
[{"$f":"INDEX('Hilfsblatt Ber. Wirtsch Wirk 1'!$C$10:$C$80,MATCH(LARGE('Hilfsblatt Ber. Wirtsch Wirk 1'!$Y$10:$Y$81,4),'Hilfsblatt Ber. Wirtsch Wirk 1'!$Y$10:$Y$80,0))","v":"Erzeugnisse der Landwirtschaft, Jagd und Dienstleistungen"},null,{"$f":"VLOOKUP(A59,'Hilfsblatt Ber. Wirtsch Wirk 1'!$C$10:$S$81,17,FALSE)/1000","v":0},{"$f":"VLOOKUP(A59,'Hilfsblatt Ber. Wirtsch Wirk 1'!$C$110:$S$181,17,FALSE)/1000","v":0},{"$f":"VLOOKUP(A59,'Hilfsblatt Ber. Wirtsch Wirk 1'!$C$210:$S$281,17,FALSE)/1000","v":0},"1.000 € pro Jahr"]
[{"$f":"INDEX('Hilfsblatt Ber. Wirtsch Wirk 1'!$C$10:$C$80,MATCH(LARGE('Hilfsblatt Ber. Wirtsch Wirk 1'!$Y$10:$Y$81,5),'Hilfsblatt Ber. Wirtsch Wirk 1'!$Y$10:$Y$80,0))","v":"Erzeugnisse der Landwirtschaft, Jagd und Dienstleistungen"},null,{"$f":"VLOOKUP(A60,'Hilfsblatt Ber. Wirtsch Wirk 1'!$C$10:$S$81,17,FALSE)/1000","v":0},{"$f":"VLOOKUP(A60,'Hilfsblatt Ber. Wirtsch Wirk 1'!$C$110:$S$181,17,FALSE)/1000","v":0},{"$f":"VLOOKUP(A60,'Hilfsblatt Ber. Wirtsch Wirk 1'!$C$210:$S$281,17,FALSE)/1000","v":0},"1.000 € pro Jahr"]
[]
[]
["Ergebnis Nutzen/Kosten aus Umweltwirkungen für die Wirtschaft (inkl. Unfällen)"]
["Nutzen (+) / Kosten (-) aus:",null,{"$f":"IF(Eingabevariablen!B$7=\"\",\"\",Eingabevariablen!B$7)","v":""},{"$f":"IF(Eingabevariablen!C$7=\"\",\"\",Eingabevariablen!C$7)","v":""},{"$f":"IF(Eingabevariablen!D$7=\"\",\"\",Eingabevariablen!D$7)","v":""},"Einheit"]
["3 Luftschadstoffemissionen",null,{"$f":"'Hilfsblatt Ber. Umweltkosten 1'!I371","v":0},{"$f":"'Hilfsblatt Ber. Umweltkosten 2'!I371","v":0},{"$f":"'Hilfsblatt Ber. Umweltkosten 3'!I371","v":0},{"$f":"\"1.000 € pro \"&Eingabevariablen!$J$49","v":"1.000 € pro Jahr"}]
["4 Treibhausgasemissionen",null,{"$f":"'Hilfsblatt Ber. Umweltkosten 1'!I372","v":0},{"$f":"'Hilfsblatt Ber. Umweltkosten 2'!I372","v":0},{"$f":"'Hilfsblatt Ber. Umweltkosten 3'!I372","v":0},{"$f":"\"1.000 € pro \"&Eingabevariablen!$J$49","v":"1.000 € pro Jahr"}]
["5 Lärmemissionen",null,{"$f":"'Hilfsblatt Ber. Umweltkosten 1'!I373","v":0},{"$f":"'Hilfsblatt Ber. Umweltkosten 2'!I373","v":0},{"$f":"'Hilfsblatt Ber. Umweltkosten 3'!I373","v":0},{"$f":"\"1.000 € pro \"&Eingabevariablen!$J$49","v":"1.000 € pro Jahr"}]
["6 Beeinträchtigung von Ökosystemen",null,{"$f":"'Hilfsblatt Ber. Umweltkosten 1'!I374","v":0},{"$f":"'Hilfsblatt Ber. Umweltkosten 2'!I374","v":0},{"$f":"'Hilfsblatt Ber. Umweltkosten 3'!I374","v":0},{"$f":"\"1.000 € pro \"&Eingabevariablen!$J$49","v":"1.000 € pro Jahr"}]
["7 Emission toxischer Stoffe",null,{"$f":"'Hilfsblatt Ber. Umweltkosten 1'!I375","v":0},{"$f":"'Hilfsblatt Ber. Umweltkosten 2'!I375","v":0},{"$f":"'Hilfsblatt Ber. Umweltkosten 3'!I375","v":0},{"$f":"\"1.000 € pro \"&Eingabevariablen!$J$49","v":"1.000 € pro Jahr"}]
["8 Indirekte Effekte durch vor- und nachgelagerte Prozesse",null,{"$f":"'Hilfsblatt Ber. Umweltkosten 1'!I376","v":0},{"$f":"'Hilfsblatt Ber. Umweltkosten 2'!I376","v":0},{"$f":"'Hilfsblatt Ber. Umweltkosten 3'!I376","v":0},{"$f":"\"1.000 € pro \"&Eingabevariablen!$J$49","v":"1.000 € pro Jahr"}]
["9 Unfälle",null,{"$f":"'Hilfsblatt Ber. Umweltkosten 1'!I378","v":0},{"$f":"'Hilfsblatt Ber. Umweltkosten 2'!I378","v":0},{"$f":"'Hilfsblatt Ber. Umweltkosten 3'!I378","v":0},"1.000 € pro Jahr"]
["Gesamtnutzen (-kosten) Umwelt & Unfälle",null,{"$f":"SUM(C65:C71)","v":0},{"$f":"SUM(D65:D71)","v":0},0,"1.000 € pro Jahr"]
["Bemerkung: positives Vorzeichen = Nutzen = Reduktion von Kosten; negatives Vorzeichen = zusätzliche Kosten"]

{"sheet":"Andere Kosten_Nutzen","index":5,"n_rows":22,"n_cols":5,"rows_kept":22,"cut":false,"hidden":false,"merged":[[4,4,4,5],[11,0,11,2],[12,4,12,5],[13,4,13,5],[14,4,14,5],[20,4,20,5],[15,4,15,5],[16,4,16,5],[17,4,17,5],[18,4,18,5],[19,4,19,5]]}
[]
["Schritt: Andere Kosten/Nutzen"]
[]
["Zusätzliche Wirtschaftliche Wirkungen"]
[null,{"$f":"IF(Eingabevariablen!B$7=\"\",\"\",Eingabevariablen!B$7)","v":""},{"$f":"IF(Eingabevariablen!C$7=\"\",\"\",Eingabevariablen!C$7)","v":""},{"$f":"IF(Eingabevariablen!D$7=\"\",\"\",Eingabevariablen!D$7)","v":""},"Einheit"]
["Arbeitnehmerentgelte",{"$f":"ROUND('Hilfsblatt Ber. Wirtsch Wirk 1'!T$9/1000000,0)*1000","v":0},{"$f":"ROUND('Hilfsblatt Ber. Wirtsch Wirk 1'!T$109/1000000,0)*1000","v":0},{"$f":"ROUND('Hilfsblatt Ber. Wirtsch Wirk 1'!T$209/1000000,0)*1000","v":0},{"$f":"\"1.000 € pro \"&Eingabevariablen!$J$49","v":"1.000 € pro Jahr"}]
["Beschäftigung",{"$f":"ROUND('Hilfsblatt Ber. Wirtsch Wirk 1'!U$9/1000,0)*1000","v":0},{"$f":"ROUND('Hilfsblatt Ber. Wirtsch Wirk 1'!U$109/1000,0)*1000","v":0},{"$f":"ROUND('Hilfsblatt Ber. Wirtsch Wirk 1'!U$209/1000,0)*1000","v":0},{"$f":"\"Anzahl Erwerbstätige pro \"&Eingabevariablen!$J$49","v":"Anzahl Erwerbstätige pro Jahr"}]
["Sozialversicherungseinnahmen",{"$f":"ROUND('Hilfsblatt Ber. Wirtsch Wirk 1'!V$9/1000000,0)*1000","v":0},{"$f":"ROUND('Hilfsblatt Ber. Wirtsch Wirk 1'!V$109/1000000,0)*1000","v":0},{"$f":"ROUND('Hilfsblatt Ber. Wirtsch Wirk 1'!V$209/1000000,0)*1000","v":0},{"$f":"\"1.000 € pro \"&Eingabevariablen!$J$49","v":"1.000 € pro Jahr"}]
["Produktsteuern",{"$f":"ROUND(('Hilfsblatt Ber. Wirtsch Wirk 1'!W$9+SUM('Hilfsblatt Ber. Wirtsch Wirk 1'!E7:Q7))/1000000,0)*1000","v":0},{"$f":"ROUND(('Hilfsblatt Ber. Wirtsch Wirk 1'!W$109+SUM('Hilfsblatt Ber. Wirtsch Wirk 1'!E107:Q107))/1000000,0)*1000","v":0},{"$f":"ROUND(('Hilfsblatt Ber. Wirtsch Wirk 1'!W$209+SUM('Hilfsblatt Ber. Wirtsch Wirk 1'!E207:Q207))/1000000,0)*1000","v":0},{"$f":"\"1.000 € pro \"&Eingabevariablen!$J$49","v":"1.000 € pro Jahr"}]
[]
[]
["Nutzen/Kosten aus Umweltwirkungen für den Staat oder Private (inkl. Unfällen)"]
["Nutzen (+) / Kosten (-) aus:",{"$f":"IF(Eingabevariablen!B$7=\"\",\"\",Eingabevariablen!B$7)","v":""},{"$f":"IF(Eingabevariablen!C$7=\"\",\"\",Eingabevariablen!C$7)","v":""},{"$f":"IF(Eingabevariablen!D$7=\"\",\"\",Eingabevariablen!D$7)","v":""},"Einheit"]
["3 Luftschadstoffemissionen",{"$f":"'Hilfsblatt Ber. Umweltkosten 1'!J371","v":0},{"$f":"'Hilfsblatt Ber. Umweltkosten 2'!J371","v":0},{"$f":"'Hilfsblatt Ber. Umweltkosten 3'!J371","v":0},{"$f":"\"1.000 € pro \"&Eingabevariablen!$J$49","v":"1.000 € pro Jahr"}]
["4 Treibhausgasemissionen",{"$f":"'Hilfsblatt Ber. Umweltkosten 1'!J372","v":0},{"$f":"'Hilfsblatt Ber. Umweltkosten 2'!J372","v":0},{"$f":"'Hilfsblatt Ber. Umweltkosten 3'!J372","v":0},{"$f":"\"1.000 € pro \"&Eingabevariablen!$J$49","v":"1.000 € pro Jahr"}]
["5 Lärmemissionen",{"$f":"'Hilfsblatt Ber. Umweltkosten 1'!J373","v":0},{"$f":"'Hilfsblatt Ber. Umweltkosten 2'!J373","v":0},{"$f":"'Hilfsblatt Ber. Umweltkosten 3'!J373","v":0},{"$f":"\"1.000 € pro \"&Eingabevariablen!$J$49","v":"1.000 € pro Jahr"}]
["6 Beeinträchtigung von Ökosystemen",{"$f":"'Hilfsblatt Ber. Umweltkosten 1'!J374","v":0},{"$f":"'Hilfsblatt Ber. Umweltkosten 2'!J374","v":0},{"$f":"'Hilfsblatt Ber. Umweltkosten 3'!J374","v":0},{"$f":"\"1.000 € pro \"&Eingabevariablen!$J$49","v":"1.000 € pro Jahr"}]
["7 Emission toxischer Stoffe",{"$f":"'Hilfsblatt Ber. Umweltkosten 1'!J375","v":0},{"$f":"'Hilfsblatt Ber. Umweltkosten 2'!J375","v":0},{"$f":"'Hilfsblatt Ber. Umweltkosten 3'!J375","v":0},{"$f":"\"1.000 € pro \"&Eingabevariablen!$J$49","v":"1.000 € pro Jahr"}]
["8 Indirekte Effekte durch vor- und \n   nachgelagerte Prozesse",{"$f":"'Hilfsblatt Ber. Umweltkosten 1'!J376","v":0},{"$f":"'Hilfsblatt Ber. Umweltkosten 2'!J376","v":0},{"$f":"'Hilfsblatt Ber. Umweltkosten 3'!J376","v":0},{"$f":"\"1.000 € pro \"&Eingabevariablen!$J$49","v":"1.000 € pro Jahr"}]
["9 Unfälle",{"$f":"'Hilfsblatt Ber. Umweltkosten 1'!J378","v":0},{"$f":"'Hilfsblatt Ber. Umweltkosten 2'!J378","v":0},{"$f":"'Hilfsblatt Ber. Umweltkosten 3'!J378","v":0},{"$f":"\"1.000 € pro \"&Eingabevariablen!$J$49","v":"1.000 € pro Jahr"}]
["Gesamtnutzen (-kosten) Umwelt & Unfälle",{"$f":"SUM(B14:B20)","v":0},{"$f":"SUM(C14:C20)","v":0},0,"1.000 € pro Jahr"]
["Bemerkung: positives Vorzeichen = Nutzen = Reduktion von Kosten; negatives Vorzeichen = zusätzliche Kosten"]

{"sheet":"Gesamtwirkung","index":6,"n_rows":29,"n_cols":5,"rows_kept":29,"cut":false,"hidden":false,"merged":[[10,4,10,5],[11,4,11,5],[9,0,9,5],[19,4,19,5],[20,4,20,5],[18,0,18,4],[26,4,26,5],[27,4,27,5],[21,4,21,5],[22,4,22,5],[23,4,23,5],[24,4,24,5],[25,4,25,5]]}
[]
["Schritt: Berücksichtigte Gesamtwirkung"]
[]
["Berücksichtigte Gesamtwirkung",{"$f":"IF(Eingabevariablen!B$7=\"\",\"\",Eingabevariablen!B$7)","v":""},{"$f":"IF(Eingabevariablen!C$7=\"\",\"\",Eingabevariablen!C$7)","v":""},{"$f":"IF(Eingabevariablen!D$7=\"\",\"\",Eingabevariablen!D$7)","v":""},"Einheit"]
["1 Kompensation",{"$f":"Kompensation_Deckelung!C20","v":0},{"$f":"Kompensation_Deckelung!D20","v":0},{"$f":"Kompensation_Deckelung!E20","v":0},1000]
["2 Deckelung",{"$f":"Kompensation_Deckelung!C51","v":0},{"$f":"Kompensation_Deckelung!D51","v":0},{"$f":"Kompensation_Deckelung!E51","v":0},1000]
["3 Andere Kosten/Nutzen",{"$f":"'Andere Kosten_Nutzen'!B21","v":0},{"$f":"'Andere Kosten_Nutzen'!C21","v":0},{"$f":"'Andere Kosten_Nutzen'!D21","v":0},1000]
[]
[]
["Gesamtwirkung Volkswirtschaft (alle Branchen)"]
[null,{"$f":"IF(Eingabevariablen!B$7=\"\",\"\",Eingabevariablen!B$7)","v":""},{"$f":"IF(Eingabevariablen!C$7=\"\",\"\",Eingabevariablen!C$7)","v":""},{"$f":"IF(Eingabevariablen!D$7=\"\",\"\",Eingabevariablen!D$7)","v":""},"Einheit"]
["Wertschöpfung",{"$f":"ROUND('Hilfsblatt Ber. Wirtsch Wirk 1'!S9/1000000,0)*1000","v":0},{"$f":"ROUND('Hilfsblatt Ber. Wirtsch Wirk 1'!S109/1000000,0)*1000","v":0},{"$f":"ROUND('Hilfsblatt Ber. Wirtsch Wirk 1'!S209/1000000,0)*1000","v":0},{"$f":"\"1.000 € pro \"&Eingabevariablen!$J$49","v":"1.000 € pro Jahr"}]
["Arbeitnehmerentgelte",{"$f":"ROUND('Hilfsblatt Ber. Wirtsch Wirk 1'!T$9/1000000,0)*1000","v":0},{"$f":"ROUND('Hilfsblatt Ber. Wirtsch Wirk 1'!T$109/1000000,0)*1000","v":0},{"$f":"ROUND('Hilfsblatt Ber. Wirtsch Wirk 1'!T$209/1000000,0)*1000","v":0},{"$f":"\"1.000 € pro \"&Eingabevariablen!$J$49","v":"1.000 € pro Jahr"}]
["Beschäftigung",{"$f":"ROUND('Hilfsblatt Ber. Wirtsch Wirk 1'!U$9/1000,0)*1000","v":0},{"$f":"ROUND('Hilfsblatt Ber. Wirtsch Wirk 1'!U$109/1000,0)*1000","v":0},{"$f":"ROUND('Hilfsblatt Ber. Wirtsch Wirk 1'!U$209/1000,0)*1000","v":0},{"$f":"\"Anzahl Erwerbstätige pro \"&Eingabevariablen!$J$49","v":"Anzahl Erwerbstätige pro Jahr"}]
["Sozialversicherungseinnahmen",{"$f":"ROUND('Hilfsblatt Ber. Wirtsch Wirk 1'!V$9/1000000,0)*1000","v":0},{"$f":"ROUND('Hilfsblatt Ber. Wirtsch Wirk 1'!V$109/1000000,0)*1000","v":0},{"$f":"ROUND('Hilfsblatt Ber. Wirtsch Wirk 1'!V$209/1000000,0)*1000","v":0},{"$f":"\"1.000 € pro \"&Eingabevariablen!$J$49","v":"1.000 € pro Jahr"}]
["Produktsteuern",{"$f":"ROUND(('Hilfsblatt Ber. Wirtsch Wirk 1'!W$9+SUM('Hilfsblatt Ber. Wirtsch Wirk 1'!E7:Q7))/1000000,0)*1000","v":0},{"$f":"ROUND(('Hilfsblatt Ber. Wirtsch Wirk 1'!W$109+SUM('Hilfsblatt Ber. Wirtsch Wirk 1'!E107:Q107))/1000000,0)*1000","v":0},{"$f":"ROUND(('Hilfsblatt Ber. Wirtsch Wirk 1'!W$209+SUM('Hilfsblatt Ber. Wirtsch Wirk 1'!E207:Q207))/1000000,0)*1000","v":0},{"$f":"\"1.000 € pro \"&Eingabevariablen!$J$49","v":"1.000 € pro Jahr"}]
[]
[]
["Umweltwirkung insgesamt (inkl. Unfällen)"]
["Nutzen (+) / Kosten (-) aus:",{"$f":"IF(Eingabevariablen!B$7=\"\",\"\",Eingabevariablen!B$7)","v":""},{"$f":"IF(Eingabevariablen!C$7=\"\",\"\",Eingabevariablen!C$7)","v":""},{"$f":"IF(Eingabevariablen!D$7=\"\",\"\",Eingabevariablen!D$7)","v":""},"Einheit"]
["3 Luftschadstoffemissionen",{"$f":"'Hilfsblatt Ber. Umweltkosten 1'!K371","v":0},{"$f":"'Hilfsblatt Ber. Umweltkosten 2'!K371","v":0},{"$f":"'Hilfsblatt Ber. Umweltkosten 3'!K371","v":0},{"$f":"\"1.000 € pro \"&Eingabevariablen!$J$49","v":"1.000 € pro Jahr"}]
["4 Treibhausgasemissionen",{"$f":"'Hilfsblatt Ber. Umweltkosten 1'!K372","v":0},{"$f":"'Hilfsblatt Ber. Umweltkosten 2'!K372","v":0},{"$f":"'Hilfsblatt Ber. Umweltkosten 3'!K372","v":0},{"$f":"\"1.000 € pro \"&Eingabevariablen!$J$49","v":"1.000 € pro Jahr"}]
["5 Lärmemissionen",{"$f":"'Hilfsblatt Ber. Umweltkosten 1'!K373","v":0},{"$f":"'Hilfsblatt Ber. Umweltkosten 2'!K373","v":0},{"$f":"'Hilfsblatt Ber. Umweltkosten 3'!K373","v":0},{"$f":"\"1.000 € pro \"&Eingabevariablen!$J$49","v":"1.000 € pro Jahr"}]
["6 Beeinträchtigung von Ökosystemen",{"$f":"'Hilfsblatt Ber. Umweltkosten 1'!K374","v":0},{"$f":"'Hilfsblatt Ber. Umweltkosten 2'!K374","v":0},{"$f":"'Hilfsblatt Ber. Umweltkosten 3'!K374","v":0},{"$f":"\"1.000 € pro \"&Eingabevariablen!$J$49","v":"1.000 € pro Jahr"}]
["7 Emission toxischer Stoffe",{"$f":"'Hilfsblatt Ber. Umweltkosten 1'!K375","v":0},{"$f":"'Hilfsblatt Ber. Umweltkosten 2'!K375","v":0},{"$f":"'Hilfsblatt Ber. Umweltkosten 3'!K375","v":0},{"$f":"\"1.000 € pro \"&Eingabevariablen!$J$49","v":"1.000 € pro Jahr"}]
["8 Indirekte Effekte durch vor- und \n   nachgelagerte Prozesse",{"$f":"'Hilfsblatt Ber. Umweltkosten 1'!K376","v":0},{"$f":"'Hilfsblatt Ber. Umweltkosten 2'!K376","v":0},{"$f":"'Hilfsblatt Ber. Umweltkosten 3'!K376","v":0},{"$f":"\"1.000 € pro \"&Eingabevariablen!$J$49","v":"1.000 € pro Jahr"}]
["9 Unfälle",{"$f":"'Hilfsblatt Ber. Umweltkosten 1'!K378","v":0},{"$f":"'Hilfsblatt Ber. Umweltkosten 2'!K378","v":0},{"$f":"'Hilfsblatt Ber. Umweltkosten 3'!K378","v":0},{"$f":"\"1.000 € pro \"&Eingabevariablen!$J$49","v":"1.000 € pro Jahr"}]
["Gesamtnutzen (-kosten) Umwelt & Unfälle",{"$f":"SUM(B21:B27)","v":0},{"$f":"SUM(C21:C27)","v":0},{"$f":"SUM(D21:D27)","v":0},"1.000 € pro Jahr"]
["Bemerkung: positives Vorzeichen = Nutzen = Reduktion von Kosten; negatives Vorzeichen = zusätzliche Kosten"]

{"sheet":"Gesamtübersicht (für Druck)","index":7,"n_rows":270,"n_cols":13,"rows_kept":270,"cut":false,"hidden":false,"merged":[[182,0,182,7],[186,0,186,7],[190,0,190,7],[187,0,187,7],[194,0,194,7],[198,0,198,7],[202,0,202,7],[203,0,203,7],[206,0,206,7],[189,2,189,4],[189,5,189,7],[192,2,192,4],[192,5,192,7],[196,2,196,4],[196,5,196,7],[200,2,200,4],[200,5,200,7],[205,2,205,4],[205,5,205,7],[183,0,183,1],[183,2,183,4],[183,5,183,7],[184,2,184,4],[184,5,184,7],[184,0,184,1],[188,0,188,1],[188,2,188,4],[188,5,188,7],[191,0,191,1],[191,2,191,4],[191,5,191,7],[195,2,195,4],[195,5,195,7],[228,0,228,1],[228,2,228,4],[228,5,228,7],[204,0,204,1],[204,2,204,4],[204,5,204,7],[207,0,207,1],[207,2,207,4],[207,5,207,7],[208,2,208,4],[208,5,208,7],[212,2,212,4],[212,5,212,7],[211,0,211,1],[211,2,211,4],[211,5,211,7],[269,2,269,4],[269,5,269,7],[215,0,215,7],[217,0,217,1],[219,0,219,7],[217,2,217,4],[217,5,217,7],[221,2,221,4],[221,5,221,7],[225,2,225,4],[225,5,225,7],[229,2,229,4],[229,5,229,7],[227,0,227,7],[223,0,223,7],[216,0,216,1],[216,2,216,4],[216,5,216,7],[220,0,220,1],[220,2,220,4],[220,5,220,7],[224,0,224,1],[224,2,224,4],[224,5,224,7],[264,0,264,1],[264,2,264,4],[264,5,264,7],[268,0,268,1],[268,2,268,4],[268,5,268,7],[265,0,265,1],[263,0,263,7],[267,0,267,7],[265,2,265,4],[265,5,265,7],[260,0,260,1],[254,0,254,7],[250,0,250,1],[250,2,250,4],[250,5,250,7],[247,0,247,1],[245,0,245,7],[247,2,247,4],[247,5,247,7],[251,2,251,4],[251,5,251,7],[257,2,257,4],[257,5,257,7],[249,0,249,7],[260,2,260,4],[260,5,260,7],[242,2,242,4],[242,5,242,7],[246,0,246,1],[246,2,246,4],[246,5,246,7],[256,0,256,1],[256,2,256,4],[256,5,256,7],[259,0,259,1],[259,2,259,4],[259,5,259,7],[257,0,257,1],[233,0,233,1],[233,2,233,4],[233,5,233,7],[232,0,232,7],[237,0,237,1],[237,2,237,4],[237,5,237,7],[241,0,241,1],[241,2,241,4],[241,5,241,7],[236,0,236,7],[240,0,240,7],[234,2,234,4],[234,5,234,7],[238,2,238,4],[238,5,238,7],[172,5,172,7],[170,0,170,7],[172,0,172,1],[175,0,175,1],[175,2,175,4],[175,5,175,7],[176,2,176,4],[176,5,176,7],[174,0,174,7],[176,0,176,1],[161,0,161,7],[165,0,165,7],[155,2,155,4],[155,5,155,7],[159,2,159,4],[159,5,159,7],[163,2,163,4],[163,5,163,7],[163,0,163,1],[158,0,158,1],[158,2,158,4],[146,0,146,1],[145,0,145,1],[145,2,145,4],[145,5,145,7],[144,0,144,7],[146,2,146,4],[146,5,146,7],[150,0,150,1],[150,2,150,4],[150,5,150,7],[149,0,149,1],[142,2,142,4],[137,5,137,7],[138,5,138,7],[141,0,141,1],[141,2,141,4],[141,5,141,7],[140,0,140,7],[93,0,93,7],[138,2,138,4],[137,2,137,4],[137,0,137,1],[138,0,138,1],[114,1,114,3],[142,5,142,7],[51,0,51,1],[53,0,53,1],[70,0,70,7],[76,1,76,7],[72,0,72,7],[126,0,126,1],[229,0,229,1],[196,0,196,1],[189,0,189,1],[192,0,192,1],[108,4,108,6],[108,1,109,3],[110,1,110,3],[111,1,111,3],[112,1,112,3],[113,1,113,3],[82,1,82,7],[83,1,83,7],[84,1,84,7],[149,5,149,7],[148,0,148,7],[149,2,149,4],[142,0,142,1],[166,5,166,7],[39,0,39,1],[251,0,251,1],[221,0,221,1],[225,0,225,1],[89,1,89,7],[90,1,90,7],[92,0,92,7],[73,0,73,7],[62,4,62,5],[63,4,63,5],[45,0,45,1],[46,0,46,1],[58,4,58,5],[47,0,47,1],[48,0,48,1],[49,0,49,1],[50,0,50,1],[195,0,195,1],[108,0,109,0],[99,0,100,0],[124,2,124,4],[124,0,125,1],[155,0,155,1],[81,1,81,7],[153,0,153,7],[171,0,171,1],[171,2,171,4],[171,5,171,7],[172,2,172,4],[205,0,205,1],[208,0,208,1],[200,0,200,1],[199,0,199,1],[199,2,199,4],[199,5,199,7],[158,5,158,7],[154,0,154,1],[154,2,154,4],[154,5,154,7],[159,0,159,1],[162,0,162,1],[162,2,162,4],[162,5,162,7],[167,2,167,4],[167,5,167,7],[166,0,166,1],[166,2,166,4],[157,0,157,7],[269,0,269,1],[167,0,167,1],[212,0,212,1],[234,0,234,1],[238,0,238,1],[242,0,242,1],[255,0,255,7],[258,0,258,7],[59,4,59,5],[60,4,60,5],[61,4,61,5],[101,1,101,3],[102,1,102,3],[103,1,103,3],[104,1,104,3],[105,1,105,3],[99,1,100,3],[99,4,99,6],[87,1,87,7],[88,1,88,7],[77,1,77,7],[78,1,78,7],[79,1,79,7],[80,1,80,7]]}
[]
[]
["Übersicht (für Ausdruck): Ergebnisse, Grundlageninfos, Eingabevariablen"]
["Diese Übersicht kann direkt ausgedruckt werden. Der Ausdruck erfolgt am besten im Querformat auf A4."]
[]
["Arbeitshilfe Nutzen-Kosten-Abschätzung umweltrelevanter Effekte in der Gesetzesfolgenabschätzung"]
[]
["Kompensation und Deckelung"]
[]
["Kompensation und Deckelung"]
[null,null,{"$f":"IF(Eingabevariablen!B$7=\"\",\"\",Eingabevariablen!B$7)","v":""},{"$f":"IF(Eingabevariablen!C$7=\"\",\"\",Eingabevariablen!C$7)","v":""},{"$f":"IF(Eingabevariablen!D$7=\"\",\"\",Eingabevariablen!D$7)","v":""},"Einheit"]
["Summe Kompensation",null,{"$f":"Kompensation_Deckelung!$C$9","v":0},{"$f":"Kompensation_Deckelung!$D$9","v":0},{"$f":"Kompensation_Deckelung!$E$9","v":0},"1.000 € pro Jahr"]
["Summe Deckelung (Wertschöpfung)",null,{"$f":"Kompensation_Deckelung!$C$10","v":0},{"$f":"Kompensation_Deckelung!$D$10","v":0},{"$f":"Kompensation_Deckelung!$E$10","v":0},"1.000 € pro Jahr"]
["Summe Deckelung (Umweltwirkung & Unfälle)",null,{"$f":"Kompensation_Deckelung!$C$11","v":0},{"$f":"Kompensation_Deckelung!$D$11","v":0},{"$f":"Kompensation_Deckelung!$E$11","v":0},"1.000 € pro Jahr"]
[]
[]
["Kompensation: Umsatzgewinne- und Verluste der Wirtschaft "]
[null,null,{"$f":"IF(Eingabevariablen!B$7=\"\",\"\",Eingabevariablen!B$7)","v":""},{"$f":"IF(Eingabevariablen!C$7=\"\",\"\",Eingabevariablen!C$7)","v":""},{"$f":"IF(Eingabevariablen!D$7=\"\",\"\",Eingabevariablen!D$7)","v":""},"Einheit"]
["Durch Produktionskostenveränderung",null,{"$f":"Kompensation_Deckelung!$C$18","v":0},{"$f":"Kompensation_Deckelung!$D$18","v":0},{"$f":"Kompensation_Deckelung!$E$18","v":0},"1.000 € pro Jahr"]
["Durch Nachfrageverlagerung",null,{"$f":"Kompensation_Deckelung!$C$19","v":0},{"$f":"Kompensation_Deckelung!$D$19","v":0},{"$f":"Kompensation_Deckelung!$E$19","v":0},"1.000 € pro Jahr"]
["Summe Kompensation",null,{"$f":"Kompensation_Deckelung!$C$20","v":0},{"$f":"Kompensation_Deckelung!$D$20","v":0},{"$f":"Kompensation_Deckelung!$E$20","v":0},"1.000 € pro Jahr"]
[]
[]
["Deckelung (Wertschöpfung plus Umweltwirkung)"]
["Deckelung",null,{"$f":"IF(Eingabevariablen!B$7=\"\",\"\",Eingabevariablen!B$7)","v":""},{"$f":"IF(Eingabevariablen!C$7=\"\",\"\",Eingabevariablen!C$7)","v":""},{"$f":"IF(Eingabevariablen!D$7=\"\",\"\",Eingabevariablen!D$7)","v":""},"Einheit"]
["Volkswirtschaftliche Wertschöpfung",null,{"$f":"Kompensation_Deckelung!$C$49","v":0},{"$f":"Kompensation_Deckelung!$D$49","v":0},{"$f":"Kompensation_Deckelung!$E$49","v":0},{"$f":"\"1.000 € pro \"&Eingabevariablen!$J$49","v":"1.000 € pro Jahr"}]
["Umweltwirkung",null,{"$f":"Kompensation_Deckelung!$C$50","v":0},{"$f":"Kompensation_Deckelung!$D$50","v":0},{"$f":"Kompensation_Deckelung!$E$50","v":0},{"$f":"\"1.000 € pro \"&Eingabevariablen!$J$49","v":"1.000 € pro Jahr"}]
["Summe Deckelung",null,{"$f":"Kompensation_Deckelung!$C$51","v":0},{"$f":"Kompensation_Deckelung!$D$51","v":0},{"$f":"Kompensation_Deckelung!$E$51","v":0},{"$f":"\"1.000 € pro \"&Eingabevariablen!$J$49","v":"1.000 € pro Jahr"}]
[]
[]
["Deckelung: Nutzen/Kosten aus Umweltwirkungen (inkl. Unfällen) für die Wirtschaft "]
["Nutzen (+) / Kosten (-) aus:",null,{"$f":"IF(Eingabevariablen!B$7=\"\",\"\",Eingabevariablen!B$7)","v":""},{"$f":"IF(Eingabevariablen!C$7=\"\",\"\",Eingabevariablen!C$7)","v":""},{"$f":"IF(Eingabevariablen!D$7=\"\",\"\",Eingabevariablen!D$7)","v":""},"Einheit"]
["3 Luftschadstoffemissionen",null,{"$f":"Kompensation_Deckelung!C$65","v":0},{"$f":"Kompensation_Deckelung!D$65","v":0},{"$f":"Kompensation_Deckelung!E$65","v":0},{"$f":"\"1.000 € pro \"&Eingabevariablen!$J$49","v":"1.000 € pro Jahr"}]
["4 Treibhausgasemissionen",null,{"$f":"Kompensation_Deckelung!C$66","v":0},{"$f":"Kompensation_Deckelung!D$66","v":0},{"$f":"Kompensation_Deckelung!E$66","v":0},{"$f":"\"1.000 € pro \"&Eingabevariablen!$J$49","v":"1.000 € pro Jahr"}]
["5 Lärmemissionen",null,{"$f":"Kompensation_Deckelung!C$67","v":0},{"$f":"Kompensation_Deckelung!D$67","v":0},{"$f":"Kompensation_Deckelung!E$67","v":0},{"$f":"\"1.000 € pro \"&Eingabevariablen!$J$49","v":"1.000 € pro Jahr"}]
["6 Beeinträchtigung von Ökosystemen",null,{"$f":"Kompensation_Deckelung!C$68","v":0},{"$f":"Kompensation_Deckelung!D$68","v":0},{"$f":"Kompensation_Deckelung!E$68","v":0},{"$f":"\"1.000 € pro \"&Eingabevariablen!$J$49","v":"1.000 € pro Jahr"}]
["7 Emission toxischer Stoffe",null,{"$f":"Kompensation_Deckelung!C$69","v":0},{"$f":"Kompensation_Deckelung!D$69","v":0},{"$f":"Kompensation_Deckelung!E$69","v":0},{"$f":"\"1.000 € pro \"&Eingabevariablen!$J$49","v":"1.000 € pro Jahr"}]
["8 Indirekte Effekte durch vor- und nachgelagerte Prozesse",null,{"$f":"Kompensation_Deckelung!C$70","v":0},{"$f":"Kompensation_Deckelung!D$70","v":0},{"$f":"Kompensation_Deckelung!E$70","v":0},{"$f":"\"1.000 € pro \"&Eingabevariablen!$J$49","v":"1.000 € pro Jahr"}]
["9 Unfälle",null,{"$f":"Kompensation_Deckelung!C$71","v":0},{"$f":"Kompensation_Deckelung!D$71","v":0},{"$f":"Kompensation_Deckelung!E$71","v":0},"1.000 € pro Jahr"]
["Gesamtnutzen (-kosten) Umwelt & Unfälle",null,{"$f":"Kompensation_Deckelung!C$72","v":0},{"$f":"Kompensation_Deckelung!D$72","v":0},{"$f":"Kompensation_Deckelung!E$72","v":0},"1.000 € pro Jahr"]
[]
[]
["Gesamtübersicht Kosten und Nutzen "]
[]
["Umweltnutzen / Umweltkosten (inkl. Unfällen) insgesamt"]
["Nutzen (+) / Kosten (-) aus:",null,{"$f":"IF(Eingabevariablen!B$7=\"\",\"\",Eingabevariablen!B$7)","v":""},{"$f":"IF(Eingabevariablen!C$7=\"\",\"\",Eingabevariablen!C$7)","v":""},{"$f":"IF(Eingabevariablen!D$7=\"\",\"\",Eingabevariablen!D$7)","v":""},"Einheit"]
["Luftschadstoffemissionen",null,{"$f":"'Hilfsblatt Ber. Umweltkosten 1'!K371","v":0},{"$f":"'Hilfsblatt Ber. Umweltkosten 2'!K371","v":0},{"$f":"'Hilfsblatt Ber. Umweltkosten 3'!K371","v":0},{"$f":"\"1.000 € pro \"&Eingabevariablen!$J$49","v":"1.000 € pro Jahr"}]
["Treibhausgasemissionen",null,{"$f":"'Hilfsblatt Ber. Umweltkosten 1'!K372","v":0},{"$f":"'Hilfsblatt Ber. Umweltkosten 2'!K372","v":0},{"$f":"'Hilfsblatt Ber. Umweltkosten 3'!K372","v":0},{"$f":"\"1.000 € pro \"&Eingabevariablen!$J$49","v":"1.000 € pro Jahr"}]
["Lärmemissionen",null,{"$f":"'Hilfsblatt Ber. Umweltkosten 1'!K373","v":0},{"$f":"'Hilfsblatt Ber. Umweltkosten 2'!K373","v":0},{"$f":"'Hilfsblatt Ber. Umweltkosten 3'!K373","v":0},{"$f":"\"1.000 € pro \"&Eingabevariablen!$J$49","v":"1.000 € pro Jahr"}]
["Beeinträchtigung von Ökosystemen",null,{"$f":"'Hilfsblatt Ber. Umweltkosten 1'!K374","v":0},{"$f":"'Hilfsblatt Ber. Umweltkosten 2'!K374","v":0},{"$f":"'Hilfsblatt Ber. Umweltkosten 3'!K374","v":0},{"$f":"\"1.000 € pro \"&Eingabevariablen!$J$49","v":"1.000 € pro Jahr"}]
["Emission toxischer Stoffe",null,{"$f":"'Hilfsblatt Ber. Umweltkosten 1'!K375","v":0},{"$f":"'Hilfsblatt Ber. Umweltkosten 2'!K375","v":0},{"$f":"'Hilfsblatt Ber. Umweltkosten 3'!K375","v":0},{"$f":"\"1.000 € pro \"&Eingabevariablen!$J$49","v":"1.000 € pro Jahr"}]
["Indirekte Effekte durch vor- und nachgelagerte Prozesse",null,{"$f":"'Hilfsblatt Ber. Umweltkosten 1'!K376","v":0},{"$f":"'Hilfsblatt Ber. Umweltkosten 2'!K376","v":0},{"$f":"'Hilfsblatt Ber. Umweltkosten 3'!K376","v":0},{"$f":"\"1.000 € pro \"&Eingabevariablen!$J$49","v":"1.000 € pro Jahr"}]
["Unfälle",null,{"$f":"'Hilfsblatt Ber. Umweltkosten 1'!K378","v":0},{"$f":"'Hilfsblatt Ber. Umweltkosten 2'!K378","v":0},{"$f":"'Hilfsblatt Ber. Umweltkosten 3'!K378","v":0},{"$f":"\"1.000 € pro \"&Eingabevariablen!$J$49","v":"1.000 € pro Jahr"}]
["Gesamtnutzen (-kosten) Umwelt & Unfälle",null,{"$f":"SUM(C47:C53)","v":0},{"$f":"SUM(D47:D53)","v":0},{"$f":"SUM(E47:E53)","v":0},"1.000 € pro Jahr"]
[]
[]
["Ergebnisse Wirtschaftliche Wirkungen insgesamt"]
["Gesamtwirkung Volkswirtschaft (alle Branchen)"]
[null,{"$f":"IF(Eingabevariablen!B$7=\"\",\"\",Eingabevariablen!B$7)","v":""},{"$f":"IF(Eingabevariablen!C$7=\"\",\"\",Eingabevariablen!C$7)","v":""},{"$f":"IF(Eingabevariablen!D$7=\"\",\"\",Eingabevariablen!D$7)","v":""},"Einheit"]
["Wertschöpfung",{"$f":"ROUND('Hilfsblatt Ber. Wirtsch Wirk 1'!S9/1000000,0)*1000","v":0},{"$f":"ROUND('Hilfsblatt Ber. Wirtsch Wirk 1'!S109/1000000,0)*1000","v":0},{"$f":"ROUND('Hilfsblatt Ber. Wirtsch Wirk 1'!S209/1000000,0)*1000","v":0},{"$f":"\"1.000 € pro \"&Eingabevariablen!$J$49","v":"1.000 € pro Jahr"}]
["Arbeitnehmerentgelte",{"$f":"ROUND('Hilfsblatt Ber. Wirtsch Wirk 1'!T$9/1000000,0)*1000","v":0},{"$f":"ROUND('Hilfsblatt Ber. Wirtsch Wirk 1'!T$109/1000000,0)*1000","v":0},{"$f":"ROUND('Hilfsblatt Ber. Wirtsch Wirk 1'!T$209/1000000,0)*1000","v":0},{"$f":"\"1.000 € pro \"&Eingabevariablen!$J$49","v":"1.000 € pro Jahr"}]
["Beschäftigung",{"$f":"ROUND('Hilfsblatt Ber. Wirtsch Wirk 1'!U$9/1000,0)*1000","v":0},{"$f":"ROUND('Hilfsblatt Ber. Wirtsch Wirk 1'!U$109/1000,0)*1000","v":0},{"$f":"ROUND('Hilfsblatt Ber. Wirtsch Wirk 1'!U$209/1000,0)*1000","v":0},{"$f":"\"Anz. Erwerbstätige pro \"&Eingabevariablen!$J$49","v":"Anz. Erwerbstätige pro Jahr"}]
["Sozialversicherungseinnahmen",{"$f":"ROUND('Hilfsblatt Ber. Wirtsch Wirk 1'!V$9/1000000,0)*1000","v":0},{"$f":"ROUND('Hilfsblatt Ber. Wirtsch Wirk 1'!V$109/1000000,0)*1000","v":0},{"$f":"ROUND('Hilfsblatt Ber. Wirtsch Wirk 1'!V$209/1000000,0)*1000","v":0},{"$f":"\"1.000 € pro \"&Eingabevariablen!$J$49","v":"1.000 € pro Jahr"}]
["Produktsteuern",{"$f":"ROUND(('Hilfsblatt Ber. Wirtsch Wirk 1'!W$9+SUM('Hilfsblatt Ber. Wirtsch Wirk 1'!E7:Q7))/1000000,0)*1000","v":0},{"$f":"ROUND(('Hilfsblatt Ber. Wirtsch Wirk 1'!W$109+SUM('Hilfsblatt Ber. Wirtsch Wirk 1'!E107:Q107))/1000000,0)*1000","v":0},{"$f":"ROUND(('Hilfsblatt Ber. Wirtsch Wirk 1'!W$209+SUM('Hilfsblatt Ber. Wirtsch Wirk 1'!E207:Q207))/1000000,0)*1000","v":0},{"$f":"\"1.000 € pro \"&Eingabevariablen!$J$49","v":"1.000 € pro Jahr"}]
["Ergebnisse je Branche siehe Blatt Kompensation_Deckelung"]
[]
[]
["Grundlageninformationen zur Maßnahme"]
[]
["a. Rechtlicher Status Quo, aktuelle Rechtspraxis/Rechtsstatus"]
[{"$f":"IF('Definition Maßnahme'!B6=0,\"-\",'Definition Maßnahme'!B6)","v":"-"},null,null,null,null,null,null,null,null,null,null,null,{"$f":"IF(A71=\"-\", FALSE,TRUE)","v":false}]
[]
["b. Geplante Änderung \n(Gesetz, Maßnahme)"]
[{"$f":"IF('Definition Maßnahme'!B11=0,\"-\",'Definition Maßnahme'!B11)","v":"-"},null,null,null,null,null,null,null,null,null,null,null,{"$f":"IF(A74=\"-\", FALSE,TRUE)","v":false}]
[]
["c. Betroffene Gruppen",null,null,null,null,null,null,null,null,null,null,null,{"$f":"IF((M78=FALSE)*AND(M79=FALSE)*AND(M80=FALSE)*AND(M81=FALSE)*AND(M82=FALSE)*AND(M83=FALSE)*AND(M84=FALSE)*AND(M85=FALSE),FALSE,TRUE)","v":false}]
["Gruppe","Art der Betroffenheit, mögliche Reaktionen der Gruppen"]
[{"$f":"IF('Definition Maßnahme'!$B$17=0,\"-\",\"1. \"&'Definition Maßnahme'!$B$17)","v":"-"},{"$f":"IF('Definition Maßnahme'!C17=0,\"-\",'Definition Maßnahme'!C17)","v":"-"},null,null,null,null,null,null,null,null,null,null,{"$f":"IF((A78=\"-\")*AND(B78=\"-\"),FALSE,TRUE)","v":false}]
[{"$f":"IF('Definition Maßnahme'!$B$18=0,\"-\",\"2. \"&'Definition Maßnahme'!$B$18)","v":"-"},{"$f":"IF('Definition Maßnahme'!C18=0,\"-\",'Definition Maßnahme'!C18)","v":"-"},null,null,null,null,null,null,null,null,null,null,{"$f":"IF((A79=\"-\")*AND((B79=\"-\")),FALSE,TRUE)","v":false}]
[{"$f":"IF('Definition Maßnahme'!$B$19=0,\"-\",\"3. \"&'Definition Maßnahme'!$B$19)","v":"-"},{"$f":"IF('Definition Maßnahme'!C19=0,\"-\",'Definition Maßnahme'!C19)","v":"-"},null,null,null,null,null,null,null,null,null,null,{"$f":"IF((A80=\"-\")*AND((B80=\"-\")),FALSE,TRUE)","v":false}]
[{"$f":"IF('Definition Maßnahme'!$B$20=0,\"-\",\"4. \"&'Definition Maßnahme'!$B$20)","v":"-"},{"$f":"IF('Definition Maßnahme'!C20=0,\"-\",'Definition Maßnahme'!C20)","v":"-"},null,null,null,null,null,null,null,null,null,null,false]
[{"$f":"IF('Definition Maßnahme'!$B$21=0,\"-\",\"5. \"&'Definition Maßnahme'!$B$21)","v":"-"},{"$f":"IF('Definition Maßnahme'!C21=0,\"-\",'Definition Maßnahme'!C21)","v":"-"},null,null,null,null,null,null,null,null,null,null,false]
[{"$f":"IF('Definition Maßnahme'!$B$22=0,\"-\",\"6. \"&'Definition Maßnahme'!$B$22)","v":"-"},{"$f":"IF('Definition Maßnahme'!C22=0,\"-\",'Definition Maßnahme'!C22)","v":"-"},null,null,null,null,null,null,null,null,null,null,false]
[{"$f":"IF('Definition Maßnahme'!$B$23=0,\"-\",\"7. \"&'Definition Maßnahme'!$B$23)","v":"-"},{"$f":"IF('Definition Maßnahme'!C23=0,\"-\",'Definition Maßnahme'!C23)","v":"-"},null,null,null,null,null,null,null,null,null,null,false]
[{"$f":"IF('Definition Maßnahme'!$B$24=0,\"-\",\"8. \"&'Definition Maßnahme'!$B$24)","v":"-"},{"$f":"IF('Definition Maßnahme'!C24=0,\"-\",'Definition Maßnahme'!C24)","v":"-"},null,null,null,null,null,null,null,null,null,null,false]
[]
["d. Systemgrenzen",null,null,null,null,null,null,null,null,null,null,null,{"$f":"IF((M88=FALSE)*AND(M89=FALSE)*AND(M90=FALSE)*AND(M91=FALSE),FALSE,TRUE)","v":false}]
["Betrachtungszeitraum",{"$f":"IF('Definition Maßnahme'!C29=0,\"-\",'Definition Maßnahme'!C29)","v":"-"},null,null,null,null,null,null,null,null,null,null,{"$f":"IF(B88=\"-\", FALSE,TRUE)","v":false}]
["Relevanter Raum \n(geografisch, örtlich)",{"$f":"IF('Definition Maßnahme'!C30=0,\"-\",'Definition Maßnahme'!C30)","v":"-"},null,null,null,null,null,null,null,null,null,null,{"$f":"IF(B89=\"-\", FALSE,TRUE)","v":false}]
["Inhaltlich (was ist NICHT Teil der Betrachtungen)",{"$f":"IF('Definition Maßnahme'!C31=0,\"-\",'Definition Maßnahme'!C31)","v":"-"},null,null,null,null,null,null,null,null,null,null,{"$f":"IF(B90=\"-\", FALSE,TRUE)","v":false}]
["Weiteres",{"$f":"IF('Definition Maßnahme'!C32=0,\"-\",'Definition Maßnahme'!C32)","v":"-"},null,null,null,null,null,null,null,null,null,null,{"$f":"IF(B91=\"-\", FALSE,TRUE)","v":false}]
[]
["e. Vergleichsmaßstab, Referenzentwicklung"]
[{"$f":"IF('Definition Maßnahme'!B38=0,\"-\",'Definition Maßnahme'!B38)","v":"-"},null,null,null,null,null,null,null,null,null,null,null,{"$f":"IF(A94=\"-\", FALSE,TRUE)","v":false}]
[]
[]
["Übersicht Eingabevariablen Wirtschaft"]
[]
["Veränderung Produktionskosten"]
[null,"Branche (Produkt-/Dienstleistung)",null,null,"Menge in 1000 €",null,null,"Überwälzung auf Konsummenten in %"]
[null,null,null,null,{"$f":"Eingabevariablen!C30","v":""},{"$f":"Eingabevariablen!D30","v":""},{"$f":"Eingabevariablen!E30","v":""}]
[{"$f":"Eingabevariablen!A23","v":"Branche 1"},{"$f":"IF(Eingabevariablen!B23=\"\",\"-\",Eingabevariablen!B23)","v":"-"},null,null,{"$f":"Eingabevariablen!C23/1000","v":0},{"$f":"Eingabevariablen!D23/1000","v":0},{"$f":"Eingabevariablen!E23/1000","v":0},{"$f":"Eingabevariablen!F23","v":1}]
[{"$f":"Eingabevariablen!A24","v":"Branche 2"},{"$f":"IF(Eingabevariablen!B24=\"\",\"-\",Eingabevariablen!B24)","v":"-"},null,null,{"$f":"Eingabevariablen!C24/1000","v":0},{"$f":"Eingabevariablen!D24/1000","v":0},{"$f":"Eingabevariablen!E24/1000","v":0},{"$f":"Eingabevariablen!F24","v":1}]
[{"$f":"Eingabevariablen!A25","v":"Branche 3"},{"$f":"IF(Eingabevariablen!B25=\"\",\"-\",Eingabevariablen!B25)","v":"-"},null,null,{"$f":"Eingabevariablen!C25/1000","v":0},{"$f":"Eingabevariablen!D25/1000","v":0},{"$f":"Eingabevariablen!E25/1000","v":0},{"$f":"Eingabevariablen!F25","v":1}]
[{"$f":"Eingabevariablen!A26","v":"Branche 4"},{"$f":"IF(Eingabevariablen!B26=\"\",\"-\",Eingabevariablen!B26)","v":"-"},null,null,{"$f":"Eingabevariablen!C26/1000","v":0},{"$f":"Eingabevariablen!D26/1000","v":0},{"$f":"Eingabevariablen!E26/1000","v":0},{"$f":"Eingabevariablen!F26","v":1}]
[{"$f":"Eingabevariablen!A27","v":"Branche 5"},{"$f":"IF(Eingabevariablen!B27=\"\",\"-\",Eingabevariablen!B27)","v":"-"},null,null,{"$f":"Eingabevariablen!C27/1000","v":0},{"$f":"Eingabevariablen!D27/1000","v":0},{"$f":"Eingabevariablen!E27/1000","v":0},{"$f":"Eingabevariablen!F27","v":1},null,null,null,null,{"$f":"IF((ABS(E102)+ABS(F102)+ABS(G102)+ABS(E103)+ABS(F103)+ABS(G103)+ABS(E104)+ABS(F104)+ABS(G104)+ ABS(E105)+ ABS(F105)+ABS(G105)+ABS(E106)+ABS(F106)+ABS(G106))>0, TRUE, FALSE)","v":false}]
[]
["Veränderung der Nachfrage (Bürger oder Unternehmen)"]
[null,"Branche (Produkt-/Dienstleistung)",null,null,"Menge in 1000 €"]
[null,null,null,null,{"$f":"Eingabevariablen!C30","v":""},{"$f":"Eingabevariablen!D30","v":""},{"$f":"Eingabevariablen!E30","v":""}]
[{"$f":"Eingabevariablen!A31","v":"Branche 6"},{"$f":"IF(Eingabevariablen!B31=\"\",\"-\",Eingabevariablen!B31)","v":"-"},null,null,{"$f":"Eingabevariablen!C31/1000","v":0},{"$f":"Eingabevariablen!D31/1000","v":0},{"$f":"Eingabevariablen!E31/1000","v":0}]
[{"$f":"Eingabevariablen!A32","v":"Branche 7"},{"$f":"IF(Eingabevariablen!B32=\"\",\"-\",Eingabevariablen!B32)","v":"-"},null,null,{"$f":"Eingabevariablen!C32/1000","v":0},{"$f":"Eingabevariablen!D32/1000","v":0},{"$f":"Eingabevariablen!E32/1000","v":0}]
[{"$f":"Eingabevariablen!A33","v":"Branche 8"},{"$f":"IF(Eingabevariablen!B33=\"\",\"-\",Eingabevariablen!B33)","v":"-"},null,null,{"$f":"Eingabevariablen!C33/1000","v":0},{"$f":"Eingabevariablen!D33/1000","v":0},{"$f":"Eingabevariablen!E33/1000","v":0}]
[{"$f":"Eingabevariablen!A34","v":"Branche 9"},{"$f":"IF(Eingabevariablen!B34=\"\",\"-\",Eingabevariablen!B34)","v":"-"},null,null,{"$f":"Eingabevariablen!C34/1000","v":0},{"$f":"Eingabevariablen!D34/1000","v":0},{"$f":"Eingabevariablen!E34/1000","v":0}]
[{"$f":"Eingabevariablen!A35","v":"Branche 10"},{"$f":"IF(Eingabevariablen!B35=\"\",\"-\",Eingabevariablen!B35)","v":"-"},null,null,{"$f":"Eingabevariablen!C35/1000","v":0},{"$f":"Eingabevariablen!D35/1000","v":0},{"$f":"Eingabevariablen!E35/1000","v":0},null,null,null,null,null,{"$f":"IF((ABS(E111)+ABS(F111)+ABS(G111)+ABS(E112)+ABS(F112)+ABS(G112)+ABS(E113)+ABS(F113)+ABS(G113)+ ABS(E114)+ ABS(F114)+ABS(G114)+ABS(E115)+ABS(F115)+ABS(G115))>0, TRUE, FALSE)","v":false}]
[]
["Veränderung von Treibstoffverbrauch"]
[null,{"$f":"Eingabevariablen!B44","v":""},{"$f":"Eingabevariablen!C44","v":""},{"$f":"Eingabevariablen!D44","v":""},"Einheit","Preis pro Liter"]
["Verbrauchter Treibstoff (Diesel oder Benzin in Liter)",{"$f":"IF(Eingabevariablen!$B$38=\"\",\"0\",Eingabevariablen!$B$38)","v":"0"},{"$f":"IF(Eingabevariablen!$C$38=\"\",\"0\",Eingabevariablen!$C$38)","v":"0"},{"$f":"IF(Eingabevariablen!$D$38=\"\",\"0\",Eingabevariablen!$D$38)","v":"0"},"in Liter ",{"$f":"IF(Eingabevariablen!$E$38=\"\",\"-\",Eingabevariablen!$E$38)","v":"-"}]
["Verbrauchtes Benzin (in Liter)",{"$f":"IF(Eingabevariablen!$B$39=\"\",\"0\",Eingabevariablen!$B$39)","v":"0"},{"$f":"IF(Eingabevariablen!$C$39=\"\",\"0\",Eingabevariablen!$C$39)","v":"0"},{"$f":"IF(Eingabevariablen!$D$39=\"\",\"0\",Eingabevariablen!$D$39)","v":"0"},"in Liter ",{"$f":"IF(Eingabevariablen!$E$39=\"\",\"-\",Eingabevariablen!$E$39)","v":"-"}]
["Verbrauchtes Diesel (in Liter)",{"$f":"IF(Eingabevariablen!$B$40=\"\",\"0\",Eingabevariablen!$B$40)","v":"0"},{"$f":"IF(Eingabevariablen!$C$40=\"\",\"0\",Eingabevariablen!$C$40)","v":"0"},{"$f":"IF(Eingabevariablen!$D$40=\"\",\"0\",Eingabevariablen!$D$40)","v":"0"},"in Liter ",{"$f":"IF(Eingabevariablen!$E$40=\"\",\"-\",Eingabevariablen!$E$40)","v":"-"}]
["Geleistete Verkehrsmenge (PKW; in km)",{"$f":"IF(Eingabevariablen!$B$41=\"\",\"0\",Eingabevariablen!$B$41)","v":"0"},{"$f":"IF(Eingabevariablen!$C$41=\"\",\"0\",Eingabevariablen!$C$41)","v":"0"},{"$f":"IF(Eingabevariablen!$D$41=\"\",\"0\",Eingabevariablen!$D$41)","v":"0"},"in km",{"$f":"IF(Eingabevariablen!$E$40=\"\",\"-\",Eingabevariablen!$E$40)","v":"-"},null,null,null,null,null,null,{"$f":"IF((ABS(B119)+ABS(C119)+ABS(D119)+ABS(B120)+ABS(C120)+ABS(D120)+ABS(B121)+ABS(C121)+ABS(D121)+ABS(B122)+ABS(C122)+ABS(D122))>0, TRUE, FALSE)","v":false}]
[]
["Veränderung des Staatshaushalts"]
[null,null,"Menge in 1000 €"]
[null,null,{"$f":"Eingabevariablen!B44","v":""},{"$f":"Eingabevariablen!C44","v":""},{"$f":"Eingabevariablen!D44","v":""}]
["Änderung der Staatseinnahmen oder -ausgaben",null,{"$f":"Eingabevariablen!B45/1000","v":0},{"$f":"Eingabevariablen!C45/1000","v":0},{"$f":"Eingabevariablen!D45/1000","v":0},null,null,null,null,null,null,null,{"$f":"IF((ABS(C127)+ABS(D127)+ABS(E127))>0, TRUE, FALSE)","v":false}]
[]
[]
[]
["Übersicht Eingabevariablen Umwelt",null,null,null,null,null,null,null,null,null,null,null,{"$f":"IF((M135=FALSE)*AND(M153=FALSE)*AND(M170=FALSE)*AND(M147=FALSE),FALSE,TRUE)","v":false}]
[]
["A. Eingabevariablen Umwelt: Nach Aktivitäten, Treiber"]
[]
["2a. Verkehr",null,null,null,null,null,null,null,null,null,null,null,{"$f":"IF((M139=FALSE)*AND(M143=FALSE)*AND(M147=FALSE)*AND(M151=FALSE),FALSE,TRUE)","v":false}]
["Verkehrsmenge (in Fahrzeug-km)"]
["Ort unbekannt (Ø alle Strecken)"]
[{"$f":"Eingabevariablen!$B$44","v":""},null,{"$f":"Eingabevariablen!$C$44","v":""},null,null,{"$f":"Eingabevariablen!$D$44","v":""}]
[{"$f":"IF('Hilfsblatt Output'!G29=\"\",\"--\",'Hilfsblatt Output'!G29)","v":"--"},null,{"$f":"IF('Hilfsblatt Output'!G189=\"\",\"--\",'Hilfsblatt Output'!G189)","v":"--"},null,null,{"$f":"IF('Hilfsblatt Output'!G338=\"\",\"--\",'Hilfsblatt Output'!G338)","v":"--"},null,null,null,null,null,null,{"$f":"IF((A139=\"--\")*AND(C139=\"--\")*AND(F139=\"--\"),FALSE,TRUE)","v":false}]
[]
["Innerorts"]
[{"$f":"Eingabevariablen!$B$44","v":""},null,{"$f":"Eingabevariablen!$C$44","v":""},null,null,{"$f":"Eingabevariablen!$D$44","v":""}]
[{"$f":"IF('Hilfsblatt Output'!H29=\"\",\"--\",'Hilfsblatt Output'!H29)","v":"--"},null,{"$f":"IF('Hilfsblatt Output'!H189=\"\",\"--\",'Hilfsblatt Output'!H189)","v":"--"},null,null,{"$f":"IF('Hilfsblatt Output'!H338=\"\",\"--\",'Hilfsblatt Output'!H338)","v":"--"},null,null,null,null,null,null,{"$f":"IF((A143=\"--\")*AND(C143=\"--\")*AND(F143=\"--\"),FALSE,TRUE)","v":false}]
[]
["Außerorts"]
[{"$f":"Eingabevariablen!$B$44","v":""},null,{"$f":"Eingabevariablen!$C$44","v":""},null,null,{"$f":"Eingabevariablen!$D$44","v":""}]
[{"$f":"IF('Hilfsblatt Output'!I29=\"\",\"--\",'Hilfsblatt Output'!I29)","v":"--"},null,{"$f":"IF('Hilfsblatt Output'!I189=\"\",\"--\",'Hilfsblatt Output'!I189)","v":"--"},null,null,{"$f":"IF('Hilfsblatt Output'!I338=\"\",\"--\",'Hilfsblatt Output'!I338)","v":"--"},null,null,null,null,null,null,{"$f":"IF((A147=\"--\")*AND(C147=\"--\")*AND(F147=\"--\"),FALSE,TRUE)","v":false}]
[]
["Autobahn"]
[{"$f":"Eingabevariablen!$B$44","v":""},null,{"$f":"Eingabevariablen!$C$44","v":""},null,null,{"$f":"Eingabevariablen!$D$44","v":""}]
[{"$f":"IF('Hilfsblatt Output'!J29=\"\",\"--\",'Hilfsblatt Output'!J29)","v":"--"},null,{"$f":"IF('Hilfsblatt Output'!J189=\"\",\"--\",'Hilfsblatt Output'!J189)","v":"--"},null,null,{"$f":"IF('Hilfsblatt Output'!J338=\"\",\"--\",'Hilfsblatt Output'!J338)","v":"--"},null,null,null,null,null,null,{"$f":"IF((A151=\"--\")*AND(C151=\"--\")*AND(F151=\"--\"),FALSE,TRUE)","v":false}]
[]
["2b. Energie",null,null,null,null,null,null,null,null,null,null,null,{"$f":"IF((M156=FALSE)*AND(M160=FALSE)*AND(M164=FALSE)*AND(M168=FALSE),FALSE,TRUE)","v":false}]
["i. Strommenge"]
[{"$f":"Eingabevariablen!$B$44","v":""},null,{"$f":"Eingabevariablen!$C$44","v":""},null,null,{"$f":"Eingabevariablen!$D$44","v":""}]
[{"$f":"IF('Hilfsblatt Output'!D6=\"\",\"--\",'Hilfsblatt Output'!D6)","v":"--"},null,{"$f":"IF('Hilfsblatt Output'!D166=\"\",\"--\",'Hilfsblatt Output'!D166)","v":"--"},null,null,{"$f":"IF('Hilfsblatt Output'!D315=\"\",\"--\",'Hilfsblatt Output'!D315)","v":"--"},null,null,null,null,null,null,{"$f":"IF((A156=\"--\")*AND(C156=\"--\")*AND(F156=\"--\"),FALSE,TRUE)","v":false}]
[]
["ii. Energie: Wärmemenge"]
[{"$f":"Eingabevariablen!$B$44","v":""},null,{"$f":"Eingabevariablen!$C$44","v":""},null,null,{"$f":"Eingabevariablen!$D$44","v":""}]
[{"$f":"IF('Hilfsblatt Output'!J6=\"\",\"--\",'Hilfsblatt Output'!J6)","v":"--"},null,{"$f":"IF('Hilfsblatt Output'!J166=\"\",\"--\",'Hilfsblatt Output'!J166)","v":"--"},null,null,{"$f":"IF('Hilfsblatt Output'!J315=\"\",\"--\",'Hilfsblatt Output'!J315)","v":"--"},null,null,null,null,null,null,{"$f":"IF((A160=\"--\")*AND(C160=\"--\")*AND(F160=\"--\"),FALSE,TRUE)","v":false}]
[]
["iii. Brennstoffmenge"]
[{"$f":"Eingabevariablen!$B$44","v":""},null,{"$f":"Eingabevariablen!$C$44","v":""},null,null,{"$f":"Eingabevariablen!$D$44","v":""}]
[{"$f":"IF('Hilfsblatt Output'!O6=\"\",\"--\",'Hilfsblatt Output'!O6)","v":"--"},null,{"$f":"IF('Hilfsblatt Output'!O166=\"\",\"--\",'Hilfsblatt Output'!O166)","v":"--"},null,null,{"$f":"IF('Hilfsblatt Output'!O315=\"\",\"--\",'Hilfsblatt Output'!O315)","v":"--"},null,null,null,null,null,null,{"$f":"IF((A164=\"--\")*AND(C164=\"--\")*AND(F164=\"--\"),FALSE,TRUE)","v":false}]
[]
["iv. Kraftstoffmenge"]
[{"$f":"Eingabevariablen!$B$44","v":""},null,{"$f":"Eingabevariablen!$C$44","v":""},null,null,{"$f":"Eingabevariablen!$D$44","v":""}]
[{"$f":"IF('Hilfsblatt Output'!T6=\"\",\"--\",'Hilfsblatt Output'!T6)","v":"--"},null,{"$f":"IF('Hilfsblatt Output'!T166=\"\",\"--\",'Hilfsblatt Output'!T166)","v":"--"},null,null,{"$f":"IF('Hilfsblatt Output'!T315=\"\",\"--\",'Hilfsblatt Output'!T315)","v":"--"},null,null,null,null,null,null,{"$f":"IF((A168=\"--\")*AND(C168=\"--\")*AND(F168=\"--\"),FALSE,TRUE)","v":false}]
[]
["2c. Landwirtschaft",null,null,null,null,null,null,null,null,null,null,null,{"$f":"IF((M173=FALSE)*AND(M177=FALSE),FALSE,TRUE)","v":false}]
["a. Landnutzungsänderung, Nutzungsintenvisierung"]
[{"$f":"Eingabevariablen!$B$44","v":""},null,{"$f":"Eingabevariablen!$C$44","v":""},null,null,{"$f":"Eingabevariablen!$D$44","v":""}]
[{"$f":"IF('Hilfsblatt Output'!D84=\"\",\"--\",'Hilfsblatt Output'!D84)","v":"--"},null,{"$f":"IF('Hilfsblatt Output'!D244=\"\",\"--\",'Hilfsblatt Output'!D244)","v":"--"},null,null,{"$f":"IF('Hilfsblatt Output'!D393=\"\",\"--\",'Hilfsblatt Output'!D393)","v":"--"},null,null,null,null,null,null,{"$f":"IF((A173=\"--\")*AND(C173=\"--\")*AND(F173=\"--\"),FALSE,TRUE)","v":false}]
[]
["b. Nährstoffeintrag"]
[{"$f":"Eingabevariablen!$B$44","v":""},null,{"$f":"Eingabevariablen!$C$44","v":""},null,null,{"$f":"Eingabevariablen!$D$44","v":""}]
[{"$f":"IF('Hilfsblatt Output'!D87=\"\",\"--\",'Hilfsblatt Output'!D87)","v":"--"},null,{"$f":"IF('Hilfsblatt Output'!D247=\"\",\"--\",'Hilfsblatt Output'!D247)","v":"--"},null,null,{"$f":"IF('Hilfsblatt Output'!D396=\"\",\"--\",'Hilfsblatt Output'!D396)","v":"--"},null,null,null,null,null,null,{"$f":"IF((A177=\"--\")*AND(C177=\"--\")*AND(F177=\"--\"),FALSE,TRUE)","v":false}]
[]
[]
["B. Eingabevariablen Umwelt: nach Umweltwirkung",null,null,null,null,null,null,null,null,null,null,null,{"$f":"IF((M182=FALSE)*AND(M213=FALSE)*AND(M215=FALSE)*AND(M232=FALSE)*AND(M245=FALSE)*AND(M254=FALSE)*AND(M263=FALSE),FALSE,TRUE)","v":false}]
[]
["3. Luftschadstoffemissionen",null,null,null,null,null,null,null,null,null,null,null,{"$f":"IF((M185=FALSE)*AND(M190=FALSE)*AND(M193=FALSE)*AND(M197=FALSE)*AND(M201=FALSE)*AND(M206=FALSE)*AND(M209=FALSE),FALSE,TRUE)","v":false}]
["Quelle unbekannt"]
[{"$f":"Eingabevariablen!$B$44","v":""},null,{"$f":"Eingabevariablen!$C$44","v":""},null,null,{"$f":"Eingabevariablen!$D$44","v":""}]
[{"$f":"IF('Hilfsblatt Output'!J49=\"\",\"--\",'Hilfsblatt Output'!J49)","v":"--"},null,{"$f":"IF('Hilfsblatt Output'!J209=\"\",\"--\",'Hilfsblatt Output'!J209)","v":"--"},null,null,{"$f":"IF('Hilfsblatt Output'!J358=\"\",\"--\",'Hilfsblatt Output'!J358)","v":"--"},null,null,null,null,null,null,{"$f":"IF((A185=\"--\")*AND(C185=\"--\")*AND(F185=\"--\"),FALSE,TRUE)","v":false}]
[]
["Verkehr",null,null,null,null,null,null,null,null,null,null,null,{"$f":"IF((M190=FALSE)*AND(M193=FALSE),FALSE,TRUE)","v":false}]
["Innerorts (Durchschnitt)"]
[{"$f":"Eingabevariablen!$B$44","v":""},null,{"$f":"Eingabevariablen!$C$44","v":""},null,null,{"$f":"Eingabevariablen!$D$44","v":""}]
[{"$f":"IF('Hilfsblatt Output'!K49=\"\",\"--\",'Hilfsblatt Output'!K49)","v":"--"},null,{"$f":"IF('Hilfsblatt Output'!K209=\"\",\"--\",'Hilfsblatt Output'!K209)","v":"--"},null,null,{"$f":"IF('Hilfsblatt Output'!K358=\"\",\"--\",'Hilfsblatt Output'!K358)","v":"--"},null,null,null,null,null,null,{"$f":"IF((A190=\"--\")*AND(C190=\"--\")*AND(F190=\"--\"),FALSE,TRUE)","v":false}]
["Außerorts"]
[{"$f":"Eingabevariablen!$B$44","v":""},null,{"$f":"Eingabevariablen!$C$44","v":""},null,null,{"$f":"Eingabevariablen!$D$44","v":""}]
[{"$f":"IF('Hilfsblatt Output'!L49=\"\",\"--\",'Hilfsblatt Output'!L49)","v":"--"},null,{"$f":"IF('Hilfsblatt Output'!L209=\"\",\"--\",'Hilfsblatt Output'!L209)","v":"--"},null,null,{"$f":"IF('Hilfsblatt Output'!L358=\"\",\"--\",'Hilfsblatt Output'!L358)","v":"--"},null,null,null,null,null,null,{"$f":"IF((A193=\"--\")*AND(C193=\"--\")*AND(F193=\"--\"),FALSE,TRUE)","v":false}]
[]
["Kraftwerk/Energie"]
[{"$f":"Eingabevariablen!$B$44","v":""},null,{"$f":"Eingabevariablen!$C$44","v":""},null,null,{"$f":"Eingabevariablen!$D$44","v":""}]
[{"$f":"IF('Hilfsblatt Output'!M49=\"\",\"--\",'Hilfsblatt Output'!M49)","v":"--"},null,{"$f":"IF('Hilfsblatt Output'!M209=\"\",\"--\",'Hilfsblatt Output'!M209)","v":"--"},null,null,{"$f":"IF('Hilfsblatt Output'!M358=\"\",\"--\",'Hilfsblatt Output'!M358)","v":"--"},null,null,null,null,null,null,{"$f":"IF((A197=\"--\")*AND(C197=\"--\")*AND(F197=\"--\"),FALSE,TRUE)","v":false}]
[]
["Industrie"]
[{"$f":"Eingabevariablen!$B$44","v":""},null,{"$f":"Eingabevariablen!$C$44","v":""},null,null,{"$f":"Eingabevariablen!$D$44","v":""}]
[{"$f":"IF('Hilfsblatt Output'!N49=\"\",\"--\",'Hilfsblatt Output'!N49)","v":"--"},null,{"$f":"IF('Hilfsblatt Output'!N209=\"\",\"--\",'Hilfsblatt Output'!N209)","v":"--"},null,null,{"$f":"IF('Hilfsblatt Output'!N358=\"\",\"--\",'Hilfsblatt Output'!N358)","v":"--"},null,null,null,null,null,null,{"$f":"IF((A201=\"--\")*AND(C201=\"--\")*AND(F201=\"--\"),FALSE,TRUE)","v":false}]
[]
["Kleinfeuerung",null,null,null,null,null,null,null,null,null,null,null,{"$f":"IF((M206=FALSE)*AND(M209=FALSE),FALSE,TRUE)","v":false}]
["Innerorts"]
[{"$f":"Eingabevariablen!$B$44","v":""},null,{"$f":"Eingabevariablen!$C$44","v":""},null,null,{"$f":"Eingabevariablen!$D$44","v":""}]
[{"$f":"IF('Hilfsblatt Output'!O49=\"\",\"--\",'Hilfsblatt Output'!O49)","v":"--"},null,{"$f":"IF('Hilfsblatt Output'!O209=\"\",\"--\",'Hilfsblatt Output'!O209)","v":"--"},null,null,{"$f":"IF('Hilfsblatt Output'!O358=\"\",\"--\",'Hilfsblatt Output'!O358)","v":"--"},null,null,null,null,null,null,{"$f":"IF((A206=\"--\")*AND(C206=\"--\")*AND(F206=\"--\"),FALSE,TRUE)","v":false}]
["Außerorts"]
[{"$f":"Eingabevariablen!$B$44","v":""},null,{"$f":"Eingabevariablen!$C$44","v":""},null,null,{"$f":"Eingabevariablen!$D$44","v":""}]
[{"$f":"IF('Hilfsblatt Output'!P49=\"\",\"--\",'Hilfsblatt Output'!P49)","v":"--"},null,{"$f":"IF('Hilfsblatt Output'!P209=\"\",\"--\",'Hilfsblatt Output'!P209)","v":"--"},null,null,{"$f":"IF('Hilfsblatt Output'!P358=\"\",\"--\",'Hilfsblatt Output'!P358)","v":"--"},null,null,null,null,null,null,{"$f":"IF((A209=\"--\")*AND(C209=\"--\")*AND(F209=\"--\"),FALSE,TRUE)","v":false}]
[]
["4. Treibhausgasemissionen"]
[{"$f":"Eingabevariablen!$B$44","v":""},null,{"$f":"Eingabevariablen!$C$44","v":""},null,null,{"$f":"Eingabevariablen!$D$44","v":""}]
[{"$f":"IF('Hilfsblatt Output'!D58=\"\",\"--\",'Hilfsblatt Output'!D58)","v":"--"},null,{"$f":"IF('Hilfsblatt Output'!D218=\"\",\"--\",'Hilfsblatt Output'!D218)","v":"--"},null,null,{"$f":"IF('Hilfsblatt Output'!D367=\"\",\"--\",'Hilfsblatt Output'!D367)","v":"--"},null,null,null,null,null,null,{"$f":"IF((A213=\"--\")*AND(C213=\"--\")*AND(F213=\"--\"),FALSE,TRUE)","v":false}]
[]
["5. Lärmemissionen",null,null,null,null,null,null,null,null,null,null,null,{"$f":"IF((M218=FALSE)*AND(M222=FALSE)*AND(M226=FALSE)*AND(M230=FALSE),FALSE,TRUE)","v":false}]
["Strassenverkehr"]
[{"$f":"Eingabevariablen!$B$44","v":""},null,{"$f":"Eingabevariablen!$C$44","v":""},null,null,{"$f":"Eingabevariablen!$D$44","v":""}]
[{"$f":"IF('Hilfsblatt Output'!G67=\"\",\"--\",'Hilfsblatt Output'!G67)","v":"--"},null,{"$f":"IF('Hilfsblatt Output'!G227=\"\",\"--\",'Hilfsblatt Output'!G227)","v":"--"},null,null,{"$f":"IF('Hilfsblatt Output'!G376=\"\",\"--\",'Hilfsblatt Output'!G376)","v":"--"},null,null,null,null,null,null,{"$f":"IF((A218=\"--\")*AND(C218=\"--\")*AND(F218=\"--\"),FALSE,TRUE)","v":false}]
[]
["Schienenverkehr"]
[{"$f":"Eingabevariablen!$B$44","v":""},null,{"$f":"Eingabevariablen!$C$44","v":""},null,null,{"$f":"Eingabevariablen!$D$44","v":""}]
[{"$f":"IF('Hilfsblatt Output'!H67=\"\",\"--\",'Hilfsblatt Output'!H67)","v":"--"},null,{"$f":"IF('Hilfsblatt Output'!H227=\"\",\"--\",'Hilfsblatt Output'!H227)","v":"--"},null,null,{"$f":"IF('Hilfsblatt Output'!H376=\"\",\"--\",'Hilfsblatt Output'!H376)","v":"--"},null,null,null,null,null,null,{"$f":"IF((A222=\"--\")*AND(C222=\"--\")*AND(F222=\"--\"),FALSE,TRUE)","v":false}]
[]
["Luftverkehr"]
[{"$f":"Eingabevariablen!$B$44","v":""},null,{"$f":"Eingabevariablen!$C$44","v":""},null,null,{"$f":"Eingabevariablen!$D$44","v":""}]
[{"$f":"IF('Hilfsblatt Output'!I67=\"\",\"--\",'Hilfsblatt Output'!I67)","v":"--"},null,{"$f":"IF('Hilfsblatt Output'!I227=\"\",\"--\",'Hilfsblatt Output'!I227)","v":"--"},null,null,{"$f":"IF('Hilfsblatt Output'!I376=\"\",\"--\",'Hilfsblatt Output'!I376)","v":"--"},null,null,null,null,null,null,{"$f":"IF((A226=\"--\")*AND(C226=\"--\")*AND(F226=\"--\"),FALSE,TRUE)","v":false}]
[]
["Quelle: unbekannt"]
[{"$f":"Eingabevariablen!$B$44","v":""},null,{"$f":"Eingabevariablen!$C$44","v":""},null,null,{"$f":"Eingabevariablen!$D$44","v":""}]
[{"$f":"IF('Hilfsblatt Output'!J67=\"\",\"--\",'Hilfsblatt Output'!J67)","v":"--"},null,{"$f":"IF('Hilfsblatt Output'!J227=\"\",\"--\",'Hilfsblatt Output'!J227)","v":"--"},null,null,{"$f":"IF('Hilfsblatt Output'!J376=\"\",\"--\",'Hilfsblatt Output'!J376)","v":"--"},null,null,null,null,null,null,{"$f":"IF((A230=\"--\")*AND(C230=\"--\")*AND(F230=\"--\"),FALSE,TRUE)","v":false}]
[]
["6. Beeinträchtigung von Ökosystemen",null,null,null,null,null,null,null,null,null,null,null,{"$f":"IF((M235=FALSE)*AND(M239=FALSE)*AND(M243=FALSE)*AND(M248=FALSE)*AND(M252=FALSE),FALSE,TRUE)","v":false}]
["a. Schadstoffeinträge ins Meer"]
[{"$f":"Eingabevariablen!$B$44","v":""},null,{"$f":"Eingabevariablen!$C$44","v":""},null,null,{"$f":"Eingabevariablen!$D$44","v":""}]
[{"$f":"IF('Hilfsblatt Output'!D90=\"\",\"--\",'Hilfsblatt Output'!D90)","v":"--"},null,{"$f":"IF('Hilfsblatt Output'!D250=\"\",\"--\",'Hilfsblatt Output'!D250)","v":"--"},null,null,{"$f":"IF('Hilfsblatt Output'!D399=\"\",\"--\",'Hilfsblatt Output'!D399)","v":"--"},null,null,null,null,null,null,{"$f":"IF((A235=\"--\")*AND(C235=\"--\")*AND(F235=\"--\"),FALSE,TRUE)","v":false}]
[]
["b. Zerschneidung der Landschaft durch Verkehrswege"]
[{"$f":"Eingabevariablen!$B$44","v":""},null,{"$f":"Eingabevariablen!$C$44","v":""},null,null,{"$f":"Eingabevariablen!$D$44","v":""}]
[{"$f":"IF('Hilfsblatt Output'!D95=\"\",\"--\",'Hilfsblatt Output'!D95)","v":"--"},null,{"$f":"IF('Hilfsblatt Output'!D255=\"\",\"--\",'Hilfsblatt Output'!D255)","v":"--"},null,null,{"$f":"IF('Hilfsblatt Output'!D404=\"\",\"--\",'Hilfsblatt Output'!D404)","v":"--"},null,null,null,null,null,null,{"$f":"IF((A239=\"--\")*AND(C239=\"--\")*AND(F239=\"--\"),FALSE,TRUE)","v":false}]
[]
["c. Flächenumwandlung, Verbauung natürlicher Flächen, Versiegelung"]
[{"$f":"Eingabevariablen!$B$44","v":""},null,{"$f":"Eingabevariablen!$C$44","v":""},null,null,{"$f":"Eingabevariablen!$D$44","v":""}]
[{"$f":"IF('Hilfsblatt Output'!D81=\"\",\"--\",'Hilfsblatt Output'!D81)","v":"--"},null,{"$f":"IF('Hilfsblatt Output'!D241=\"\",\"--\",'Hilfsblatt Output'!D241)","v":"--"},null,null,{"$f":"IF('Hilfsblatt Output'!D390=\"\",\"--\",'Hilfsblatt Output'!D390)","v":"--"},null,null,null,null,null,null,{"$f":"IF((A243=\"--\")*AND(C243=\"--\")*AND(F243=\"--\"),FALSE,TRUE)","v":false}]
[]
["7. Emission toxischer Stoffe",null,null,null,null,null,null,null,null,null,null,null,{"$f":"IF((M248=FALSE)*AND(M252=FALSE),FALSE,TRUE)","v":false}]
["Schwermetalle"]
[{"$f":"Eingabevariablen!$B$44","v":""},null,{"$f":"Eingabevariablen!$C$44","v":""},null,null,{"$f":"Eingabevariablen!$D$44","v":""}]
[{"$f":"IF('Hilfsblatt Output'!D104=\"\",\"--\",'Hilfsblatt Output'!D104)","v":"--"},null,{"$f":"IF('Hilfsblatt Output'!D264=\"\",\"--\",'Hilfsblatt Output'!D264)","v":"--"},null,null,{"$f":"IF('Hilfsblatt Output'!D413=\"\",\"--\",'Hilfsblatt Output'!D413)","v":"--"},null,null,null,null,null,null,{"$f":"IF((A248=\"--\")*AND(C248=\"--\")*AND(F248=\"--\"),FALSE,TRUE)","v":false}]
[]
["Organische Schadstoffe (POPs)"]
[{"$f":"Eingabevariablen!$B$44","v":""},null,{"$f":"Eingabevariablen!$C$44","v":""},null,null,{"$f":"Eingabevariablen!$D$44","v":""}]
[{"$f":"IF('Hilfsblatt Output'!E104=\"\",\"--\",'Hilfsblatt Output'!E104)","v":"--"},null,{"$f":"IF('Hilfsblatt Output'!E264=\"\",\"--\",'Hilfsblatt Output'!E264)","v":"--"},null,null,{"$f":"IF('Hilfsblatt Output'!E413=\"\",\"--\",'Hilfsblatt Output'!E413)","v":"--"},null,null,null,null,null,null,{"$f":"IF((A252=\"--\")*AND(C252=\"--\")*AND(F252=\"--\"),FALSE,TRUE)","v":false}]
[]
["8. Indirekte Effekte vor- und nachgelagerte Prozesse",null,null,null,null,null,null,null,null,null,null,null,{"$f":"IF((M258=FALSE)*AND(M261=FALSE),FALSE,TRUE)","v":false}]
["Menge indirekter Emissionen"]
["Luftschadstoffe"]
[{"$f":"Eingabevariablen!$B$44","v":""},null,{"$f":"Eingabevariablen!$C$44","v":""},null,null,{"$f":"Eingabevariablen!$D$44","v":""}]
[{"$f":"IF('Hilfsblatt Output'!D119=\"\",\"--\",'Hilfsblatt Output'!D119)","v":"--"},null,{"$f":"IF('Hilfsblatt Output'!D279=\"\",\"--\",'Hilfsblatt Output'!D279)","v":"--"},null,null,{"$f":"IF('Hilfsblatt Output'!D428=\"\",\"--\",'Hilfsblatt Output'!D428)","v":"--"},null,null,null,null,null,null,{"$f":"IF((A258=\"--\")*AND(C258=\"--\")*AND(F258=\"--\"),FALSE,TRUE)","v":false}]
["Treibhausgase und Stickstoff-Verbindungen"]
[{"$f":"Eingabevariablen!$B$44","v":""},null,{"$f":"Eingabevariablen!$C$44","v":""},null,null,{"$f":"Eingabevariablen!$D$44","v":""}]
[{"$f":"IF('Hilfsblatt Output'!E119=\"\",\"--\",'Hilfsblatt Output'!E119)","v":"--"},null,{"$f":"IF('Hilfsblatt Output'!E279=\"\",\"--\",'Hilfsblatt Output'!E279)","v":"--"},null,null,{"$f":"IF('Hilfsblatt Output'!E428=\"\",\"--\",'Hilfsblatt Output'!E428)","v":"--"},null,null,null,null,null,null,{"$f":"IF((A261=\"--\")*AND(C261=\"--\")*AND(F261=\"--\"),FALSE,TRUE)","v":false}]
[]
["9. Unfälle",null,null,null,null,null,null,null,null,null,null,null,{"$f":"IF((M266=FALSE)*AND(M270=FALSE),FALSE,TRUE)","v":false}]
["Anzahl Unfallopfer (Verkehrsunfälle)"]
[{"$f":"Eingabevariablen!$B$44","v":""},null,{"$f":"Eingabevariablen!$C$44","v":""},null,null,{"$f":"Eingabevariablen!$D$44","v":""}]
[{"$f":"IF('Hilfsblatt Output'!D133=\"\",\"--\",'Hilfsblatt Output'!D133)","v":"--"},null,{"$f":"IF('Hilfsblatt Output'!D293=\"\",\"--\",'Hilfsblatt Output'!D293)","v":"--"},null,null,{"$f":"IF('Hilfsblatt Output'!D442=\"\",\"--\",'Hilfsblatt Output'!D442)","v":"--"},null,null,null,null,null,null,{"$f":"IF((A266=\"--\")*AND(C266=\"--\")*AND(F266=\"--\"),FALSE,TRUE)","v":false}]
[]
["Anzahl Verkehrsunfälle"]
[{"$f":"Eingabevariablen!$B$44","v":""},null,{"$f":"Eingabevariablen!$C$44","v":""},null,null,{"$f":"Eingabevariablen!$D$44","v":""}]
[{"$f":"IF('Hilfsblatt Output'!E133=\"\",\"--\",'Hilfsblatt Output'!E133)","v":"--"},null,{"$f":"IF('Hilfsblatt Output'!E293=\"\",\"--\",'Hilfsblatt Output'!E293)","v":"--"},null,null,{"$f":"IF('Hilfsblatt Output'!E442=\"\",\"--\",'Hilfsblatt Output'!E442)","v":"--"},null,null,null,null,null,null,{"$f":"IF((A270=\"--\")*AND(C270=\"--\")*AND(F270=\"--\"),FALSE,TRUE)","v":false}]

{"sheet":"Rechenblatt","index":8,"n_rows":3,"n_cols":1,"rows_kept":3,"cut":false,"hidden":false,"merged":[]}
["Rechenblatt"]
[]
["Dieses Rechenblatt kann für separate Berechnungen genutzt werden und ist unabhängig von den anderen Blättern."]

{"sheet":"-->> Hilfsblätter","index":9,"n_rows":4,"n_cols":1,"rows_kept":4,"cut":false,"hidden":false,"merged":[]}
[]
["Die folgenden Blätter sind für die Anwender des Excel Werkzeugs zwar sichtbar, aber für die Bearbeitung nicht nötig."]
[]
["Damit keine unabsichtlichen Fehler bei den Berechnungen vorgenommen werden, sind die folgenden Blätter geschützt."]

{"sheet":"Hilfsblatt Kostensätze Umwelt","index":10,"n_rows":270,"n_cols":73,"rows_kept":270,"cut":false,"hidden":false,"merged":[[40,38,40,41],[40,50,40,53],[40,62,40,65],[117,1,117,2],[171,0,171,4],[112,3,112,11],[111,4,111,11],[117,5,117,13],[216,2,216,3],[191,0,191,4],[40,14,40,17],[40,26,40,29],[77,0,77,4],[89,0,89,4],[92,2,92,4],[106,0,106,4],[40,2,40,5],[66,7,66,8],[66,3,66,4]]}
[]
["Hilfsblatt: Berechnung/Schätzung der Wirkungen: Kostensätze, Kenngrößen etc."]
[]
["Für den Nutzer nur zur Info. In diesem Blatt sind alle Kostensätze dargestellt"]
[]
[]
["Kostensätze Umweltwirkungen"]
[]
["A. Nach Aktivitäten, Treiber"]
[]
[]
["1. Energie","i.) Total Umweltkosten",null,null,null,null,null,null,null,null,null,null,null,"ii.) Kosten Luftschadstoffemissionen",null,null,null,null,null,null,null,null,null,null,null,"iii.) Kosten Treibhausgase",null,null,null,null,null,null,null,null,null,null,null,"iv.) Kosten Lärm",null,null,null,null,null,null,null,null,null,null,null,"v.) Kosten Beeinträchtigung von Ökosystemen",null,null,null,null,null,null,null,null,null,null,null,"vi.) Indirekte Kosten aus vor- und nachgelagerte Prozessen"]
[]
[null,null,null,null,null,null,null,null,null,null,null,null,null,"aktualisiert DS, 8.9.15",null,null,null,null,null,null,null,null,null,null,null,"aktualisiert DS, 8.9.15",null,null,null,null,null,null,null,null,null,null,null,null,null,null,null,null,null,null,null,null,null,null,null,null,null,null,null,null,null,null,null,null,null,null,null,"aktualisiert DS, 8.9.15"]
["aktualisiert DS, 8.9.15","Kostensätze","in Ct2015/kWhel ",null,"Kostensätze","in Ct2015 / kWhEndenergie ",null,"Kostensätze","in EUR2015 / Tonne",null,"Kostensätze","in EUR2015 / Tonne",null,"Kostensätze","in Ct2015/kWhel ",null,"Kostensätze","in Ct2015 / kWhEndenergie ",null,"Kostensätze","in EUR2015 / Tonne",null,"Kostensätze","in EUR2015 / Tonne",null,"Kostensätze","in Ct2015/kWhel ",null,"Kostensätze","in Ct2015 / kWhEndenergie ",null,"Kostensätze","in EUR2015 / Tonne",null,"Kostensätze","in EUR2015 / Tonne",null,"Kostensätze","in Ct2015/kWhel ",null,"Kostensätze","in Ct2015 / kWhEndenergie ",null,"Kostensätze","in EUR2015 / Tonne",null,"Kostensätze","in EUR2015 / Tonne",null,"Kostensätze","in Ct2015/kWhel ",null,"Kostensätze","in Ct2015 / kWhEndenergie ",null,"Kostensätze","in EUR2015 / Tonne",null,"Kostensätze","in EUR2015 / Tonne",null,"Kostensätze","in Ct2015/kWhel ",null,"Kostensätze","in Ct2015 / kWhEndenergie ",null,"Kostensätze","in EUR2015 / Tonne",null,"Kostensätze","in EUR2015 / Tonne"]
[null,"Strommix Deutschland (ohne Kernkraft)",{"$f":"O16+AA16+AM16+AY16+BK16","v":7.8483528069239554},{"$f":"O16+AA16+AM16+AY16+BK16-C16","v":0},"Wärmemix Haushalte (D)",{"$f":"R16+AD16+AP16+BB16+BN16","v":3.2202902488698188},{"$f":"R16+AD16+AP16+BB16+BN16-F16","v":0},"Braunkohle",{"$f":"F21/$G32*$H32/100","v":484.0678311504343},{"$f":"U16+AG16+AS16+BE16+BQ16-I16","v":0},"Mittl. Kraftstoffmix PW (Benzin, Diesel)",{"$f":"SUM(X16,AJ16,AV16,BH16,BT16)","v":517.03645510834212},{"$f":"X16+AJ16+AV16+BH16+BT16-L16","v":0},"Strommix Deutschland (ohne Kernkraft)",1.3073415871305814,null,"Wärmemix Haushalte (D)",0.49350887468189708,null,"Braunkohle",{"$f":"R21/$G32*$H32/100","v":180.17359065349692},null,"Mittl. Kraftstoffmix PW (Benzin, Diesel)",{"$f":"0.75*X17+0.25*X18","v":83.368398572920313},null,"Strommix Deutschland (ohne Kernkraft)",{"$f":"$F$263*5.98329556048643","v":5.9832955604864297},null,"Wärmemix Haushalte (D)",{"$f":"$F$263*2.11139566987204","v":2.11139566987204},null,"Braunkohle",{"$f":"$F$263*AD21/$G32*$H32/100","v":238.27239301837497},null,"Mittl. Kraftstoffmix PW (Benzin, Diesel)",{"$f":"0.75*AJ17+0.25*AJ18","v":231.3605577989785},null,"Strommix Deutschland (ohne Kernkraft)",null,null,"Wärmemix Haushalte (D)",null,null,"Braunkohle",null,null,"Mittl. Kraftstoffmix PW (Benzin, Diesel)",null,null,"Strommix Deutschland (ohne Kernkraft)",null,null,"Wärmemix Haushalte (D)",null,null,"Braunkohle",null,null,"Mittl. Kraftstoffmix PW (Benzin, Diesel)",null,null,"Strommix Deutschland (ohne Kernkraft)",0.55771565930694456,null,"Wärmemix Haushalte (D)",{"$f":"$R78*BN19/$R81","v":0.61538570431588202},null,"Braunkohle",{"$f":"BN21/$G32*$H32/100","v":65.62184747856243},null,"Mittl. Kraftstoffmix PW (Benzin, Diesel)",{"$f":"0.75*BT17+0.25*BT18","v":202.30749873644339}]
[null,"Strommix Deutschland (mit Kernkraft)",{"$f":"O17+AA17+AM17+AY17+BK17","v":8.7539282925095137},{"$f":"O17+AA17+AM17+AY17+BK17-C17","v":0},"Wärmemix Industrie (D)",4.345915349716523,{"$f":"R17+AD17+AP17+BB17+BN17-F17","v":0},"Steinkohle",{"$f":"F21/$G33*$H33/100","v":700.62449245457594},0,"Benzin",{"$f":"SUM(X17,AJ17,AV17,BH17,BT17)","v":471.94646125971087},{"$f":"X17+AJ17+AV17+BH17+BT17-L17","v":0},"Strommix Deutschland (mit Kernkraft)",1.4540603887224519,null,"Wärmemix Industrie (D)",0.2310054887962919,null,"Steinkohle",{"$f":"R21/$G33*$H33/100","v":260.77756541953494},null,"Benzin",{"$f":"O44/$L26*10^6/100","v":69.238096855193277},null,"Strommix Deutschland (mit Kernkraft)",{"$f":"$F$263*6.81105715448427","v":6.8110571544842697},null,"Wärmemix Industrie (D)",{"$f":"$F$263*3.13364054519936","v":3.1336405451993601},null,"Steinkohle",{"$f":"$F$263*AD21/$G33*$H33/100","v":344.86793726343751},null,"Benzin",{"$f":"$F$263*AA44/$L26*10^6/100","v":227.56099872450693},null,"Strommix Deutschland (mit Kernkraft)",null,null,"Wärmemix Industrie (D)",null,null,"Steinkohle",null,null,"Benzin",null,null,"Strommix Deutschland (mit Kernkraft)",null,null,"Wärmemix Industrie (D)",null,null,"Steinkohle",null,null,"Benzin",null,null,"Strommix Deutschland (mit Kernkraft)",0.48881074930279106,null,"Wärmemix Industrie (D)",{"$f":"$R79*BN20/$R82","v":0.98126931572087084},null,"Steinkohle",{"$f":"BN21/$G33*$H33/100","v":94.978989771603523},null,"Benzin",{"$f":"BK44/$L26*10^6/100*2/3","v":175.14736568001072},"> nur 2/3 der indirekten Effekte sind auf Kraftstoffbereitstellung zurückzuführen, Rest Infrastruktur & Fahrzeug"]
[null,"Strommix Bahn DB",7.8362096233868677,{"$f":"O18+AA18+AM18+AY18+BK18-C18","v":0},null,null,null,"Erdgas",{"$f":"F20/$G34*$H34/100","v":364.0068533498748},0,"Diesel",{"$f":"SUM(X18,AJ18,AV18,BH18,BT18)","v":652.30643665423599},{"$f":"X18+AJ18+AV18+BH18+BT18-L18","v":0},"Strommix Bahn DB",1.2366812464233392,null,null,null,null,"Erdgas",{"$f":"R20/$G34*$H34/100","v":19.348646790548472},null,"Diesel",{"$f":"O43/$L27*10^6/100","v":125.75930372610145},null,"Strommix Bahn DB",{"$f":"$F$263*6.06597858018234","v":6.0659785801823398},null,null,null,null,"Erdgas",{"$f":"$F$263*AD20/$G34*$H34/100","v":262.46867290270831},null,"Diesel",{"$f":"$F$263*AA43/$L27*10^6/100","v":242.7592350223932},null,"Strommix Bahn DB",null,null,null,null,null,"Erdgas",null,null,"Diesel",null,null,"Strommix Bahn DB",null,null,null,null,null,"Erdgas",null,null,"Diesel",null,null,"Strommix Bahn DB",0.53354979678118886,null,null,null,null,"Erdgas",{"$f":"BN20/$G34*$H34/100","v":82.189533656618011},null,"Diesel",{"$f":"BK43/$L27*10^6/100*2/3","v":283.78789790574143},"> nur 2/3 der indirekten Effekte sind auf Kraftstoffbereitstellung zurückzuführen, Rest Infrastruktur & Fahrzeug"]
[null,"Strommix Europa (ohne Kernkraft)",5.0790306266775485,0,"Heizöl / Öl",{"$f":"R19+AD19+AP19+BB19+BN19","v":3.6853620839143919},{"$f":"R19+AD19+AP19+BB19+BN19-F19","v":0},"Öl, Heizöl",{"$f":"F19/$G35*$H35/100","v":516.15715460985882},0,"Erdgas",{"$f":"SUM(X19,AJ19,AV19,BH19,BT19)","v":439.77919492922706},{"$f":"X19+AJ19+AV19+BH19+BT19-L19","v":0},"Strommix Europa (ohne Kernkraft)",1.8041475124255306,null,"Heizöl / Öl",0.56478104589057743,null,"Öl, Heizöl",{"$f":"R19/$G35*$H35/100","v":79.100986819408604},null,"Erdgas",{"$f":"($L$31*M69+$L$32*M70+$L$33*M71+$L$34*M72+$L$35*M73)/$L$28","v":41.320140937527981},null,"Strommix Europa (ohne Kernkraft)",{"$f":"$F$263*2.96268288446365","v":2.9626828844636499},null,"Heizöl / Öl",{"$f":"$F$263*2.416321804725","v":2.4163218047249999},null,"Öl, Heizöl",{"$f":"$F$263*AD19/$G35*$H35/100","v":338.42042082983193},null,"Erdgas",{"$f":"$F$263*($L$30*C85)/$L$28","v":223.31168831168833},null,"Strommix Europa (ohne Kernkraft)",null,null,"Heizöl / Öl",null,null,"Öl, Heizöl",null,null,"Erdgas",null,null,"Strommix Europa (ohne Kernkraft)",null,null,"Heizöl / Öl",null,null,"Öl, Heizöl",null,null,"Erdgas",null,null,"Strommix Europa (ohne Kernkraft)",0.31220022978836742,null,"Heizöl / Öl",0.70425923329881446,null,"Öl, Heizöl",{"$f":"BN19/$G35*$H35/100","v":98.635746960618278},null,"Erdgas",{"$f":"BT17","v":175.14736568001072},"Default-Wert Benzin (mangels anderer Datengrundlagen)"]
[null,"Strommix Europa (mit Kernkraft)",7.425483372335588,0,"Erdgas",2.5363058168894503,0,"Holz (Stück)",{"$f":"F23/$G36*$H36/100","v":99.121284450764392},0,null,null,null,"Strommix Europa (mit Kernkraft)",2.6376425620256301,null,"Erdgas",0.13481637763737001,null,"Holz (Stück)",{"$f":"R23/$G36*$H36/100","v":90.411206933472627},null,null,null,null,"Strommix Europa (mit Kernkraft)",{"$f":"$F$263*4.33140772582404","v":4.3314077258240404},null,"Erdgas",{"$f":"$F$263*1.828813978935","v":1.828813978935},null,"Holz (Stück)",{"$f":"$F$263*AD23/$G36*$H36/100","v":0.89053006677080904},null,null,null,null,"Strommix Europa (mit Kernkraft)",null,null,"Erdgas",null,null,"Holz (Stück)",null,null,null,"nicht relevant",null,"Strommix Europa (mit Kernkraft)",null,null,"Erdgas",null,null,"Holz (Stück)",null,null,null,"nicht relevant",null,"Strommix Europa (mit Kernkraft)",0.45643308448591735,null,"Erdgas",0.57267546031708028,null,"Holz (Stück)",{"$f":"BN23/$G36*$H36/100","v":7.819547450520969}]
[null,"Braunkohle",12.025004590322711,0,"Braunkohle, Steinkohle",6.7939344722867983,0,"Holz (Pellets)",{"$f":"F23/$G37*$H37/100","v":96.907575764697327},0,null,null,null,"Braunkohle",2.1877199249731039,null,"Braunkohle, Steinkohle",2.5287521495227634,null,"Holz (Pellets)",{"$f":"R23/$G37*$H37/100","v":88.392023311958397},null,null,null,null,"Braunkohle",{"$f":"$F$263*9.59659175302494","v":9.5965917530249403},null,"Braunkohle, Steinkohle",{"$f":"$F$263*3.3441739371","v":3.3441739370999999},null,"Holz (Pellets)",{"$f":"$F$263*AD23/$G37*$H37/100","v":0.87064156194626074},null,null,null,null,"Braunkohle",null,null,"Braunkohle, Steinkohle",null,null,"Holz (Pellets)",null,null,null,null,null,"Braunkohle",null,null,"Braunkohle, Steinkohle",null,null,"Holz (Pellets)",null,null,null,null,null,"Braunkohle",0.24069291232466739,null,"Braunkohle, Steinkohle",0.92100838566403431,null,"Holz (Pellets)",{"$f":"BN23/$G37*$H37/100","v":7.6449108907926666}]
[null,"Steinkohle",9.9667344427442544,0,"Fernwärme",3.8703008502154566,0,null,null,null,null,null,null,"Steinkohle",1.5519946331878411,null,"Fernwärme",0.73769530399639616,null,null,null,null,null,null,null,"Steinkohle",{"$f":"$F$263*7.33303891951459","v":7.33303891951459},null,"Fernwärme",{"$f":"$F$263*2.60412752252445","v":2.60412752252445},null,null,null,null,null,null,null,"Steinkohle",null,null,"Fernwärme",null,null,null,"nicht relevant",null,null,null,null,"Steinkohle",null,null,"Fernwärme",null,null,null,"nicht relevant",null,null,null,null,"Steinkohle",1.081700890041823,null,"Fernwärme",0.52847802369461039]
[null,"Erdgas",5.4660528554487007,0,"Holzpellets, feste Biomasse (Haushalte)",1.8458585859942347,0,null,null,null,null,null,null,"Erdgas",0.69506603470842787,null,"Holzpellets, feste Biomasse (Haushalte)",1.6836575868944457,null,null,null,null,null,null,null,"Erdgas",{"$f":"$F$263*3.75100278302572","v":3.75100278302572},null,"Holzpellets, feste Biomasse (Haushalte)",{"$f":"$F$263*0.0165836487989764","v":1.6583648798976398E-2},null,null,null,null,null,null,null,"Erdgas",null,null,"Holzpellets, feste Biomasse (Haushalte)",null,null,null,null,null,null,null,null,"Erdgas",null,null,"Holzpellets, feste Biomasse (Haushalte)",null,null,null,null,null,null,null,null,"Erdgas",1.019984037714553,null,"Holzpellets, feste Biomasse (Haushalte)",0.14561735030081269]
[null,"Öl",8.9346659559159711,0,"Feste Biomasse / Holz (Industrie)",0.6030242490144504,0,null,null,null,"Treibstoffverbrauch PKW",null,null,"Öl",1.9172565563044877,null,"Feste Biomasse / Holz (Industrie)",0.36651481106762113,null,null,null,null,null,null,null,"Öl",{"$f":"$F$263*5.49202152584589","v":5.4920215258458898},null,"Feste Biomasse / Holz (Industrie)",{"$f":"$F$263*0.00173481176171645","v":1.7348117617164501E-3},null,null,null,null,null,null,null,"Öl",null,null,"Feste Biomasse / Holz (Industrie)",null,null,null,null,null,null,null,null,"Öl",null,null,"Feste Biomasse / Holz (Industrie)",null,null,null,null,null,null,null,null,"Öl",1.5253878737655937,null,"Feste Biomasse / Holz (Industrie)",0.23477462618511274]
[null,"Kernenergie",12.025004590322711,0,"Solarthermie",1.1793535367614258,0,null,null,null,"l/100 km","g/Fzkm",null,"Kernenergie",2.1877199249731039,null,"Solarthermie",0,null,null,null,null,null,null,null,"Kernenergie",{"$f":"$F$263*9.59659175302494","v":9.5965917530249403},null,"Solarthermie",{"$f":"$F$263*0","v":0},null,null,null,null,null,null,null,"Kernenergie",null,null,"Solarthermie",null,null,null,null,null,null,null,null,"Kernenergie",null,null,"Solarthermie",null,null,null,null,null,null,null,null,"Kernenergie",0.24069291232466739,null,"Solarthermie",1.1793535367614258]
[null,"Wasserkraft",0.18993336988585818,0,"Geothermie",2.290344831504445,0,null,null,"Benzin",8.6266666666666669,64.7,null,"Wasserkraft",0,null,"Geothermie",0,null,null,null,null,null,null,null,"Wasserkraft",{"$f":"$F$263*0","v":0},null,"Geothermie",{"$f":"$F$263*0","v":0},null,null,null,null,null,null,null,"Wasserkraft",null,null,"Geothermie",null,null,null,null,null,null,null,null,"Wasserkraft",null,null,"Geothermie",null,null,null,null,null,null,null,null,"Wasserkraft",0.18993336988585818,null,"Geothermie",2.290344831504445]
[null,"Windenergie",0.27854204552175804,0,"Biogas-Mix (v.a. BHKW)",3.4547953747720084,0,null,null,"Diesel",6.3734939759036147,52.9,null,"Windenergie",0,null,"Biogas-Mix (v.a. BHKW)",1.9372964938259694,null,null,null,null,null,null,null,"Windenergie",{"$f":"$F$263*0","v":0},null,"Biogas-Mix (v.a. BHKW)",{"$f":"$F$263*0.327704186700874","v":0.32770418670087398},null,null,null,null,null,null,null,"Windenergie",null,null,"Biogas-Mix (v.a. BHKW)",null,null,null,null,null,null,null,null,"Windenergie",null,null,"Biogas-Mix (v.a. BHKW)",null,null,null,null,null,null,null,null,"Windenergie",0.27854204552175804,null,"Biogas-Mix (v.a. BHKW)",1.1897946942451649]
[null,"Photovoltaik",1.2666787259311159,0,"Flüssige Biomasse (diverse Nutzungen)",2.7033051889404236,0,null,null,"Erdgas",null,53.9,null,"Photovoltaik",0,null,"Flüssige Biomasse (diverse Nutzungen)",0.82133602662131466,null,null,null,null,null,null,null,"Photovoltaik",{"$f":"$F$263*0","v":0},null,"Flüssige Biomasse (diverse Nutzungen)",{"$f":"$F$263*0.034324362117727","v":3.4324362117726999E-2},null,null,null,null,null,null,null,"Photovoltaik",null,null,"Flüssige Biomasse (diverse Nutzungen)",null,null,null,null,null,null,null,null,"Photovoltaik",null,null,"Flüssige Biomasse (diverse Nutzungen)",null,null,null,null,null,null,null,null,"Photovoltaik",1.2666787259311159,null,"Flüssige Biomasse (diverse Nutzungen)",1.8476448002013817]
[null,"Geothermie",3.9648269302699952,0,"Flüssige Biomasse (Industrie)",1.8060268553320935,0,null,null,"Emissionen Erdgas",null,"g/Fzkm",null,"Geothermie",0,null,"Flüssige Biomasse (Industrie)",1.7840647610609961,null,null,null,null,null,null,null,"Geothermie",{"$f":"$F$263*0","v":0},null,"Flüssige Biomasse (Industrie)",{"$f":"$F$263*0.020033442","v":2.0033441999999999E-2},null,null,null,null,null,null,null,"Geothermie",null,null,"Flüssige Biomasse (Industrie)",null,null,null,null,null,null,null,null,"Geothermie",null,null,"Flüssige Biomasse (Industrie)",null,null,null,null,null,null,null,null,"Geothermie",3.9648269302699952,null,"Flüssige Biomasse (Industrie)",1.9286522710974619E-3]
[null,"Feste Biomasse (v.a. Holz)",2.0048708874502474,0,null,null,null,null,null,"CO2",null,133,null,"Feste Brennstoffe/Biomasse (z.B. Holz)",1.7948719158158299,null,null,null,null,null,null,null,null,null,null,"Feste Biomasse (v.a. Holz)",{"$f":"$F$263*0.0969505316923646","v":9.6950531692364603E-2},null,null,null,null,null,null,null,null,null,null,"Feste Brennstoffe/Biomasse (z.B. Holz)",null,null,null,"nicht relevant",null,null,null,null,null,null,null,"Feste Brennstoffe/Biomasse (z.B. Holz)",null,null,null,"nicht relevant",null,null,null,null,null,null,null,"Feste Biomasse (v.a. Holz)",0.11304843994205269]
[null,"Flüssige Biomasse",7.7735988930760804,0,null,null,"Wirkungsgrad","Heizwert (kWh/t)",null,"PM10",null,3.7999999999999999E-2,null,"Flüssige Biomasse",1.5358528404897684,null,null,null,null,null,null,null,null,null,null,"Flüssige Biomasse",{"$f":"$F$263*0.0710773425","v":7.1077342500000001E-2},null,null,null,null,null,null,null,null,null,null,"Flüssige Biomasse",null,null,null,null,null,null,null,null,null,null,null,"Flüssige Biomasse",null,null,null,null,null,null,null,null,null,null,null,"Flüssige Biomasse",6.166668710086312]
[null,"Biogas",5.7571907808553888,0,null,"Braunkohle",0.8,{"$f":"4275/0.75","v":5700},{"$f":"20*$G$38","v":5555.5555555555557},"PM2.5",null,2E-3,null,"Biogas",3.2283780380985321,null,null,null,null,null,null,null,null,null,null,"Biogas",{"$f":"$F$263*0.546097617328925","v":0.54609761732892503},null,null,null,null,null,null,null,null,null,null,"Biogas",null,null,null,null,null,null,null,null,null,null,null,"Biogas",null,null,null,null,null,null,null,null,null,null,null,"Biogas",1.9827151254279318]
[null,"Klär- / Deponiegas",3.774475655427457,0,null,"Steinkohle",0.8,{"$f":"6600/0.8","v":8250},{"$f":"30*$G$38","v":8333.3333333333339},"NOx",null,5.6000000000000001E-2,null,"Klär- / Deponiegas",3.2283780380985321,null,null,null,null,null,null,null,null,null,null,"Klär- / Deponiegas",{"$f":"$F$263*0.546097617328925","v":0.54609761732892503},null,null,null,null,null,null,null,null,null,null,"Klär- / Deponiegas",null,null,null,null,null,null,null,null,null,null,null,"Klär- / Deponiegas",null,null,null,null,null,null,null,null,null,null,null,"Klär- / Deponiegas",0]
[null,null,"Quelle: UBA Methodenkonvention (UBA, IER 2013)",null,null,"Erdgas",0.9,{"$f":"46.5*$G$38","v":12916.666666666666},{"$f":"9.4/0.0008","v":11750},"SO2",null,1E-3,null,null,"Quelle: UBA Methodenkonvention (UBA, IER 2013)",null,null,null,null,null,null,null,null,null,null,null,"Quelle: UBA Methodenkonvention (UBA, IER 2013)",null,null,null,null,null,null,null,null,null,null,null,"nicht relevant",null,null,null,null,null,null,null,null,null,null,null,"nicht relevant",null,null,null,null,null,null,null,null,null,null,null,"Quelle: UBA Methodenkonvention (UBA, IER 2013)"]
[null,null,null,null,null,"Öl",0.85,{"$f":"10000/0.84","v":11904.761904761905},{"$f":"41.8*$G$38","v":11611.111111111109},"NMVOC",null,1.4999999999999999E-2,null,null,"Aktualisiert auf 2015: Teuerung",null,null,null,null,null,null,null,null,null,null,null,"Aktualisiert auf 2015: Entwicklung CO2-Kostensatz (80 -> 90.5 EUR/t)",null,null,null,null,null,null,null,null,null,null,null,null,null,null,null,null,null,null,null,null,null,null,null,null,null,null,null,null,null,null,null,null,null,null,null,"Aktualisiert auf 2015: Teuerung"]
["2. Verkehr",null,null,null,null,"Holz (Stück)",0.8,{"$f":"1800/0.419","v":4295.9427207637236},null,"NH3",null,0]
[null,null,null,null,null,"Holz (Pellets)",0.9,{"$f":"2835/0.6","v":4725},null,"Quelle: Handbuch Emissionsfaktoren Strassenverkehr (Infras 2010)"]
[null,null,null,null,null,"1GJ",{"$f":"1000/3.6","v":277.77777777777777},"kWh"]
[]
[null,null,null,null,null,null,null,null,null,null,null,null,null,"aktualisiert DS, 8.9.15",null,null,null,null,null,null,null,null,null,null,null,"aktualisiert DS, 8.9.15",null,null,null,null,null,null,null,null,null,null,null,"aktualisiert DS, 8.9.15",null,null,null,null,null,null,null,null,null,null,null,"aktualisiert DS, 8.9.15",null,null,null,null,null,null,null,null,null,null,null,"aktualisiert DS, 8.9.15"]
[null,null,"in Cent2015/Fahrzeug-km",null,null,null,null,null,null,null,null,null,null,null,"in Cent2015/Fahrzeug-km",null,null,null,null,null,null,null,null,null,null,null,"in Cent2015/Fahrzeug-km",null,null,null,null,null,null,null,null,null,null,null,"in Cent2015/Fahrzeug-km",null,null,null,null,null,null,null,null,null,null,null,"in Cent2015/Fahrzeug-km",null,null,null,null,null,null,null,null,null,null,null,"in Cent2015/Fahrzeug-km"]
["aktualisiert DS, 8.9.15",null,"Ort unbekannt\n(Ø alle Strecken)","Innerorts","Außerorts","Autobahn",null,null,null,null,null,null,null,null,"Ort unbekannt\n(Ø alle Strecken)","Innerorts","Außerorts","Autobahn",null,null,"Ort unbekannt\n(Ø alle Strecken)","Innerorts","Außerorts","Autobahn",null,null,"Ort unbekannt\n(Ø alle Strecken)","Innerorts","Außerorts","Autobahn",null,null,"Ort unbekannt\n(Ø alle Strecken)","Innerorts","Außerorts","Autobahn",null,null,"Ort unbekannt\n(Ø alle Strecken)","Innerorts","Außerorts","Autobahn",null,null,null,null,null,null,null,null,"Ort unbekannt\n(Ø alle Strecken)","Innerorts","Außerorts","Autobahn",null,null,null,null,null,null,null,null,"Ort unbekannt\n(Ø alle Strecken)","Innerorts","Außerorts","Autobahn",null,null,null,null,null,"Effizienzsteigerung (Senkung Treibstoffverbrauch) gegenüber 2015"]
[null,"PKW, Diesel",{"$f":"O43+AA43+AM43+AY43+BK43","v":5.0786020841466399},{"$f":"P43+AB43+AN43+AZ43+BL43","v":6.7568097316659701},{"$f":"Q43+AC43+AO43+BA43+BM43","v":3.8804306007779976},{"$f":"R43+AD43+AP43+BB43+BN43","v":4.2248284955407982},null,{"$f":"C43/O62-1","v":-0.12650809770211946},{"$f":"D43/P62-1","v":-0.12252509118646182},-0.10130156139214497,-0.15476137995624561,null,null,"PKW, Diesel",0.66526671671107662,0.92461400306126251,0.43681179411435572,0.58815949250688204,null,null,-0.61346157142252555,-0.59717160955363524,-0.60569963390110049,-0.63927281495387334,null,"PKW, Diesel",{"$f":"$F$263*1.28419635326846","v":1.2841963532684599},{"$f":"$F$263*1.43018236000343","v":1.43018236000343},{"$f":"$F$263*1.09173923048717","v":1.09173923048717},{"$f":"$F$263*1.29246119028056","v":1.2924611902805601},null,null,-5.9374337224732399E-2,-6.8797209878772136E-2,-5.1750559976747046E-2,-5.6658571193223151E-2,null,"PKW, Diesel",0.78917624356775296,2.0767795883361919,0,0,null,null,null,null,null,null,null,"PKW, Diesel",8.8105800717293001E-2,8.8105800717293001E-2,8.8105800717293001E-2,8.8105800717293001E-2,null,null,null,null,null,null,null,"PKW, Diesel",2.2518569698820579,2.2371279795477932,2.2637737754591791,2.2561020120360635,null,null,null,null,null,"Basis Emissionsfaktoren PKW aus dem Handbuch Emissionsfaktoren für den Strassenverkehr (INFRAS, UBA 2012)"]
[null,"PKW, Benzin",{"$f":"O44+AA44+AM44+AY44+BK44","v":4.4973773766102099},5.8890275681582107,3.3316602787232279,3.919233645993681,null,{"$f":"C44/O63-1","v":-1.5096957471152361E-3},{"$f":"D44/P63-1","v":-1.259364819355957E-3},{"$f":"E44/Q63-1","v":-5.1561833711220029E-3},{"$f":"F44/R63-1","v":-8.4831903873060499E-3},null,null,"PKW, Benzin",0.44797048665310052,0.51585646982414435,0.31687939050029496,0.4664771114723143,null,null,-0.30714454727545115,-0.34237417857241259,-0.32068117137590413,-0.29069198916100281,null,"PKW, Benzin",{"$f":"$F$263*1.47231966174756","v":1.47231966174756},{"$f":"$F$263*1.52107582877005","v":1.5210758287700501},{"$f":"$F$263*1.21871985782722","v":1.21871985782722},{"$f":"$F$263*1.66032565494197","v":1.66032565494197},null,null,-7.8366110351792306E-2,-8.8900205878177485E-2,-7.1549810839633188E-2,-7.4585891370399837E-2,null,"PKW, Benzin",0.78917624356775296,2.0767795883361919,0,0,null,null,null,null,null,null,null,"PKW, Benzin",8.8105800717293001E-2,8.8105800717293001E-2,8.8105800717293001E-2,8.8105800717293001E-2,null,null,null,null,null,null,null,"PKW, Benzin",1.6998051839245041,1.6872098805105313,1.70795522967842,1.7043250788621036,null,null,null,null,null,2015,0]
[null,"Leichte Nutzfahrzeuge, Diesel",10.224810649050127,17.07934397669662,5.355379896585502,6.4303941890860461,null,-0.13862799010169302,-8.1373727931741358E-2,-0.19488212599156807,-0.22966983145603637,null,null,"Leichte Nutzfahrzeuge, Diesel",2.2363882838476132,2.6619135655951913,1.4962895399510556,2.1736326682682905,null,null,-0.50078182560098639,-0.49756522122915026,-0.50355671338568297,-0.5029681936955378,null,"Leichte Nutzfahrzeuge, Diesel",{"$f":"$F$263*1.76202744781419","v":1.76202744781419},{"$f":"$F$263*1.73831337951466","v":1.7383133795146599},{"$f":"$F$263*1.58166103734748","v":1.58166103734748},{"$f":"$F$263*1.99385746635502","v":1.9938574663550199},null,null,-0.10497953469851773,-9.5458574464176937E-2,-0.10697650731306974,-0.11638084581986652,null,"Leichte Nutzfahrzeuge, Diesel",3.9458812178387648,10.383897941680958,0,0,null,null,null,null,null,null,null,"Leichte Nutzfahrzeuge, Diesel",0.12586542959613287,0.12586542959613287,0.12586542959613287,0.12586542959613287,null,null,null,null,null,null,null,"Leichte Nutzfahrzeuge, Diesel",2.1546482699534262,2.1693536603096777,2.1515638896908338,2.1370386248666025,null,null,null,null,null,2020,-8.2067012142918561E-2]
[null,"Leichte Nutzfahrzeuge, Benzin",8.630716608180645,15.296442641321322,4.2190489634598647,4.7058910195727801,null,-3.7046058324441411E-4,2.6473203929595845E-2,-4.109851002701137E-2,-5.8554796159013045E-2,null,null,"Leichte Nutzfahrzeuge, Benzin",0.9636820533946604,1.0802266482430145,0.73324998257632201,0.95897417503488247,null,null,-0.29613956068853908,-0.30370602352579334,-0.2820597053796734,-0.29834565863354467,null,"Leichte Nutzfahrzeuge, Benzin",{"$f":"$F$263*1.55468750378347","v":1.55468750378347},{"$f":"$F$263*1.66059427804766","v":1.6605942780476599},{"$f":"$F$263*1.31881890680447","v":1.31881890680447},{"$f":"$F$263*1.58939405907998","v":1.58939405907998},null,null,-9.9283569392410564E-2,-9.5674394760905002E-2,-9.893058225287843E-2,-0.10542228907479745,null,"Leichte Nutzfahrzeuge, Benzin",3.9458812178387648,10.383897941680958,0,0,null,null,null,null,null,null,null,"Leichte Nutzfahrzeuge, Benzin",0.12586542959613287,0.12586542959613287,0.12586542959613287,0.12586542959613287,null,null,null,null,null,null,null,"Leichte Nutzfahrzeuge, Benzin",2.0406004035676171,2.0458583437535558,2.0411146444829398,2.0316573558617845,null,null,null,null,null,2025,-0.15725505568148401]
[null,"Schwere Nutzfahrzeuge, Diesel",24.176351522755045,39.908238303917351,16.173935426459789,15.909604671843143,null,-0.11284935892865755,-0.10542534513401147,-0.11384418792564388,-0.12989564447493052,null,null,"Schwere Nutzfahrzeuge, Diesel",3.6260988176959876,7.4223433379100738,3.1452129367186727,2.3320208403209879,null,null,-0.60116142909229575,-0.53301019576868891,-0.54807068226255229,-0.63809415065887753,null,"Schwere Nutzfahrzeuge, Diesel",{"$f":"$F$263*6.14252658056603","v":6.1425265805660301},{"$f":"$F$263*6.19966912378469","v":6.1996691237846902},{"$f":"$F$263*5.86341234426653","v":5.8634123442665302},{"$f":"$F$263*6.42803805554259","v":6.42803805554259},null,null,8.518531462539114E-3,1.929424200751706E-2,1.0407042926540377E-2,6.8795205302427664E-3,null,"Schwere Nutzfahrzeuge, Diesel",7.2508556681740215,19.08119912677374,0,0,null,null,null,null,null,null,null,"Schwere Nutzfahrzeuge, Diesel",0.41535591766723839,0.41535591766723839,0.41535591766723839,0.41535591766723839,null,null,null,null,null,null,null,"Schwere Nutzfahrzeuge, Diesel",6.7415145386517672,6.7896707977816035,6.7499542278073461,6.7341898583123267,null,null,null,null,null,2030,-0.22323794963917909]
[null,"Bus, Diesel",30.779303286172293,46.093336046013803,22.62791443886006,20.729353438403219,null,-0.15374570528559484,-0.15293405109390612,-0.1267733796293693,-0.11473322190081181,null,null,"Bus, Diesel",11.239707774553125,18.295651655362018,7.8237675439156167,6.8573244710653576,null,null,-0.4463279477174229,-0.41795723611670699,-0.43509792207832032,-0.42407013341419753,null,"Bus, Diesel",{"$f":"$F$263*8.19085141451596","v":8.1908514145159597},{"$f":"$F$263*10.0517681113118","v":10.0517681113118},{"$f":"$F$263*7.35833158279168","v":7.3583315827916804},{"$f":"$F$263*6.47942609972911","v":6.4794260997291104},null,null,3.230464264987698E-2,2.3644161007309483E-2,4.1412071498670544E-2,3.0129158751561302E-2,null,"Bus, Diesel",3.9458812178387648,10.383897941680958,0,0,null,null,null,null,null,null,null,"Bus, Diesel",0.176211601434586,0.176211601434586,0.176211601434586,0.176211601434586,null,null,null,null,null,null,null,"Bus, Diesel",7.2266512778298591,7.1858067362244435,7.2696037107181777,7.2163912661741652]
[null,"Krafträder, Benzin 4-Takt",4.2075929556001661,6.5929219493483178,2.1742239932236078,3.2652655403838522,null,5.855491229079246E-2,6.420279588440847E-2,4.5242403378957796E-2,6.455489176898066E-2,null,null,"Krafträder, Benzin 4-Takt",0.96290943258198147,0.84199299243480785,0.66390984595190861,1.4266978840215367,null,null,-9.9720080251359478E-2,-0.12510729618434069,-0.1255063437242111,-2.5010206521372313E-2,null,"Krafträder, Benzin 4-Takt",{"$f":"$F$263*1.03162069993415","v":1.03162069993415},{"$f":"$F$263*0.956308825448628","v":0.95630882544862805},{"$f":"$F$263*0.876997353364731","v":0.87699735336473095},{"$f":"$F$263*1.21579563782872","v":1.21579563782872},null,null,-2.5349302025283738E-3,1.3395748457898815E-2,-6.030663612030529E-3,-3.2482483843552568E-2,null,"Krafträder, Benzin 4-Takt",1.5783524871355059,4.1535591766723838,0,0,null,null,null,null,null,null,null,"Krafträder, Benzin 4-Takt",3.7759628878839852E-2,3.7759628878839852E-2,3.7759628878839852E-2,3.7759628878839852E-2,null,null,null,null,null,null,null,"Krafträder, Benzin 4-Takt",0.59695070706968822,0.60330132591365782,0.59555716502812883,0.58501238965475533]
[null,"Krafträder, Benzin 2-Takt",4.3831606757930857,6.8058123570629068,2.4139310189197771,3.2886136238975618,null,8.354671648525458E-2,7.9821691951556639E-2,8.7212315714257915E-2,8.2188448292644489E-2,null,null,"Krafträder, Benzin 2-Takt",1.1007608453755493,1.1349751589375414,0.85771756359520945,1.3346715808121499,null,null,2.5662252485897818E-2,1.4652275575141038E-2,2.1911258124212685E-2,4.9412081671710517E-2,null,"Krafträder, Benzin 2-Takt",{"$f":"$F$263*0.780373348102188","v":0.78037334810218795},{"$f":"$F$263*0.584130577438738","v":0.58413057743873797},{"$f":"$F$263*0.631121137970146","v":0.63112113797014602},{"$f":"$F$263*1.05151153682054","v":1.0515115368205401},null,null,-1.8229510297041007E-2,-2.3843254208343323E-3,-1.5857240444416387E-2,-5.3761132957103941E-2,null,"Krafträder, Benzin 2-Takt",1.5783524871355059,4.1535591766723838,0,0,null,null,null,null,null,null,null,"Krafträder, Benzin 2-Takt",3.7759628878839852E-2,3.7759628878839852E-2,3.7759628878839852E-2,3.7759628878839852E-2,null,null,null,null,null,null,null,"Krafträder, Benzin 2-Takt",0.88591436630100262,0.895387815135404,0.88733268847558189,0.86467087738603154,null,null,null,null,null,"Effizienzsteigerung (Senkung Treibstoffverbrauch) gegenüber 2010"]
[null,"Personenzug, Diesel",265.39528688487133,370.76263565536993,227.2526216768872,null,null,-2.4113062426041054E-3,-2.7676659344078036E-3,-5.8888886230517024E-3,null,null,null,"Personenzug, Diesel",166.61279941076455,239.46231098338387,148.40042151760969,null,null,null,-0.1,-0.1,-0.1,null,null,"Personenzug, Diesel",{"$f":"$F$263*31.3901567887406","v":31.390156788740601},{"$f":"$F$263*31.3901567887406","v":31.390156788740601},{"$f":"$F$263*31.3901567887406","v":31.390156788740601},null,null,null,-0.05,-0.05,-0.05,-0.05,null,"Personenzug, Diesel",19.930287314829251,52.448124512708553,0,null,null,null,null,null,null,null,null,"Personenzug, Diesel",1.9509141587400591,1.9509141587400591,1.9509141587400591,null,null,null,null,null,null,null,null,"Personenzug, Diesel",45.511129211796842,45.511129211796842,45.511129211796842,null,null,null,null,null,null,"Basis Emissionsfaktoren PKW aus dem Handbuch Emissionsfaktoren für den Strassenverkehr (INFRAS, UBA 2012)"]
[null,"Personenzug, elektrisch",134.83787408754944,171.25945017150352,113.93165205120147,null,null,6.9891564758420843E-2,6.9244710033065759E-2,6.9826634114847241E-2,null,null,null,"Personenzug, elektrisch",12.315441441755512,16.219180327830301,11.339506720236812,null,null,null,-0.05,-0.05,-0.05,null,null,"Personenzug, elektrisch",{"$f":"$F$263*54.5023622471616","v":54.502362247161599},{"$f":"$F$263*54.5023622471616","v":54.502362247161599},{"$f":"$F$263*54.5023622471616","v":54.502362247161599},null,null,null,-0.03,-0.03,-0.03,-0.03,null,"Personenzug, elektrisch",19.930287314829251,52.448124512708553,0,null,null,null,null,null,null,null,null,"Personenzug, elektrisch",1.9509141587400591,1.9509141587400591,1.9509141587400591,null,null,null,null,null,null,null,null,"Personenzug, elektrisch",46.138868925063001,46.138868925063001,46.138868925063001,null,null,null,null,null,null,2010,0]
[null,"Güterzug, Diesel",721.00235829797134,1023.3290347196136,619.87630025602562,null,null,-9.9797858338375178E-3,-1.0398407452714808E-2,-1.2948684330275073E-2,null,null,null,"Güterzug, Diesel",530.45933301512252,762.39702658942349,472.47490962154734,null,null,null,-0.1,-0.1,-0.1,null,null,"Güterzug, Diesel",{"$f":"$F$263*99.9393472639414","v":99.9393472639414},{"$f":"$F$263*99.9393472639414","v":99.9393472639414},{"$f":"$F$263*99.9393472639414","v":99.9393472639414},null,null,null,-0.05,-0.05,-0.05,-0.05,null,"Güterzug, Diesel",43.141634648370498,113.53061749571182,0,null,null,null,null,null,null,null,null,"Güterzug, Diesel",1.9509141587400591,1.9509141587400591,1.9509141587400591,null,null,null,null,null,null,null,null,"Güterzug, Diesel",45.511129211796842,45.511129211796842,45.511129211796842,null,null,null,null,null,null,2015,-8.2000000000000003E-2]
[null,"Güterzug, elektrisch",224.21258290638531,302.37072970011843,179.12865727141687,null,null,7.375651142054318E-2,7.2077851914306379E-2,7.4592469726282085E-2,null,null,null,"Güterzug, elektrisch",24.510205144561755,32.279369090953551,22.567914157963806,null,null,null,-0.05,-0.05,-0.05,null,null,"Güterzug, elektrisch",{"$f":"$F$263*108.47096002965","v":108.47096002965},{"$f":"$F$263*108.47096002965","v":108.47096002965},{"$f":"$F$263*108.47096002965","v":108.47096002965},null,null,null,-0.03,-0.03,-0.03,-0.03,null,"Güterzug, elektrisch",43.141634648370498,113.53061749571182,0,null,null,null,null,null,null,null,null,"Güterzug, elektrisch",1.9509141587400591,1.9509141587400591,1.9509141587400591,null,null,null,null,null,null,null,null,"Güterzug, elektrisch",46.138868925063001,46.138868925063001,46.138868925063001,null,null,null,null,null,null,2020,-0.151]
[null,"Binnengüterschiff",908.18299743906425,null,null,null,null,-3.8787314716728361E-3,null,null,null,null,null,"Binnengüterschiff",601.68326816937201,null,null,null,null,null,-0.1,null,null,null,null,"Binnengüterschiff",{"$f":"$F$263*190.382733410719","v":190.382733410719},null,null,null,null,null,-0.05,-0.05,-0.05,-0.05,null,"Binnengüterschiff",0,null,null,null,null,null,null,null,null,null,null,"Binnengüterschiff",16.203373229963635,null,null,null,null,null,null,null,null,null,null,"Binnengüterschiff",99.913622629009652,null,null,null,null,null,null,null,null,2025,-0.214]
[null,"Luftverkehr, Europa-/Kontinentalflug",323.59357120374443,null,null,null,null,6.1962289364372092E-2,null,null,null,null,null,"Luftverkehr, Europa-/Kontinentalflug",14.293041976718841,null,null,null,null,null,-0.1,null,null,null,null,"Luftverkehr, Europa-/Kontinentalflug",{"$f":"$F$263*236.312201271017","v":236.31220127101699},null,null,null,null,null,-0.05,-0.05,-0.05,-0.05,null,"Luftverkehr, Europa-/Kontinentalflug",6.9355159452860615,null,null,null,null,null,null,null,null,null,null,"Luftverkehr, Europa-/Kontinentalflug",4.1180282648162416,null,null,null,null,null,null,null,null,null,null,"Luftverkehr, Europa-/Kontinentalflug",61.934783745906287,null,null,null,null,null,null,null,null,2030,-0.27100000000000002]
[null,null,"Quelle: Strassen-/Schienenverkehr: UBA Methodenkonvention (UBA, IER 2013)",null,null,null,null,null,null,null,null,null,null,null,"Quelle: Strassen-/Schienenverkehr: UBA Methodenkonvention (UBA, IER 2013)",null,null,null,null,null,null,null,null,null,null,null,"Quelle: Strassen-/Schienenverkehr: UBA Methodenkonvention (UBA, IER 2013)",null,null,null,null,null,null,null,null,null,null,null,"Quelle: Strassen-/Schienenverkehr: UBA Methodenkonvention (UBA, IER 2013)",null,null,null,null,null,null,null,null,null,null,null,"Quelle: Strassen-/Schienenverkehr: UBA Methodenkonvention (UBA, IER 2013)",null,null,null,null,null,null,null,null,null,null,null,"Quelle: Strassen-/Schienenverkehr: UBA Methodenkonvention (UBA, IER 2013)"]
[null,null,"           Schiff-/Luftverkehr: CE, INFRAS, ISI 2011",null,null,null,null,null,null,null,null,null,null,null,"           Schiff-/Luftverkehr: CE, INFRAS, ISI 2011",null,null,null,null,null,null,null,null,null,null,null,"           Schiff-/Luftverkehr: CE, INFRAS, ISI 2011",null,null,null,null,null,null,null,null,null,null,null,"           Schiff-/Luftverkehr: CE, INFRAS, ISI 2011",null,null,null,null,null,null,null,null,null,null,null,"           Schiff-/Luftverkehr: CE, INFRAS, ISI 2011",null,null,null,null,null,null,null,null,null,null,null,"           Schiff-/Luftverkehr: CE, INFRAS, ISI 2011"]
[null,null,"Aktualisiert auf 2015: Emissionsfaktoren PM (Feinstaub), CO2, etc.; Teuerung",null,null,null,null,null,null,null,null,null,null,null,"Aktualisiert auf 2015: Emissionsfaktoren PM (Feinstaub), Teuerung",null,null,null,null,null,null,null,null,null,null,null,"Aktualisiert auf 2015: Emissionsfaktoren CO2, Entwicklung CO2-Kostensatz (80 -> 90.5 EUR/t)",null,null,null,null,null,null,null,null,null,null,null,"Aktualisiert auf 2015: Teuerung",null,null,null,null,null,null,null,null,null,null,null,"Aktualisiert auf 2015: Teuerung",null,null,null,null,null,null,null,null,null,null,null,"Aktualisiert auf 2015: Teuerung, Emissionsfaktoren CO2 (Treibstoffverbrauch) auf 2/3 der Kosten. (> nur 2/3 der indirekten Effekte sind auf Kraftstoffbereitstellung zurückzuführen, Rest Infrastruktur & Fahrzeug)"]
["B. Nach Wirkungskategorien"]
[null,null,null,null,null,null,null,null,null,null,null,null,null,null,"alte Totals 2010 (C43 bis F56)"]
["1. Luftschadstoffemissionen",null,null,null,null,null,null,null,null,null,null,null,null,null,5.8141375676024545,7.7002882518909495,4.3178339185600993,4.998385539129881]
[null,null,null,null,null,null,null,null,null,null,null,null,null,null,4.5041773139453261,5.8964533540713013,3.3489279654095583,3.9527657100686078]
[null,null,null,null,null,null,null,null,null,null,null,null,null,null,11.870377179143842,18.592265969318518,6.6516718476547148,8.347581922230086]
[null,null,null,null,null,null,null,null,null,null,null,null,null,null,8.6339151334166537,14.901940530705254,4.3998773675684992,4.9985819677802725]
[null,"in Euro2015 / Tonne",null,null,null,null,null,null,null,null,null,null,null,null,27.251686921579807,44.611411788651438,18.251796361408569,18.284708691341283]
["aktualisiert DS, 8.9.15","Quelle:","Quelle unbekannt","Verkehr",null,"Kraftwerk/Energie","Industrie","Kleinfeuerung",null,null,null,null,null,null,36.371222549079917,54.415286207099953,25.912992012607116,23.415939636764087]
[null,"Schadstoff",null,"Innerorts (Durchschnitt)","Außerorts",null,null,"Innerorts","Außerorts",null,null,null,"Verkehr Mittelwert",null,3.9748461858200805,6.1951744299536937,2.0801146090083873,3.0672589695754722]
[null,"Partikel (Feinstaub) grob PM10",42593.14004417917,36155.889659668464,11801.625704936294,23388.676397055566,43022.290069813222,99240.943427873382,44846.177678757922,null,{"$f":"C69*100/1000","v":4259.3140044179172},"Ct/kg",{"$f":"0.38*D69+0.62*E69","v":21056.24600773452},"EUR/t",4.0451976911627083,6.3027186875295991,2.2202940345960989,3.0388548584915758]
[null,"Partikel (Feinstaub) fein PM2.5",59437.278550315517,390633.81083339133,131749.05786965246,32829.976961004599,60081.003588766587,136469.70815162698,62763.191248979383,null,{"$f":"C70*100/1000","v":5943.7278550315514},"Ct/kg",{"$f":"0.38*D70+0.62*E70","v":230125.26399587322},"EUR/t",266.03678304057939,371.7916306863184,228.59881463563812]
[null,"Stickoxide NOx",16522.275986910812,16522.275986910812,16522.275986910812,13196.363288246948,16522.275986910812,16522.275986910812,16522.275986910812,null,1652.2275986910811,"Ct/kg",16522.275986910812,"EUR/t",126.02947675168889,160.16862048932413,106.49543432377359]
[null,"Schwefeldioxid SO2",14161.950845923553,14161.950845923553,14161.950845923553,13303.650794655459,14161.950845923553,14161.950845923553,14161.950845923553,null,1416.1950845923554,"Ct/kg",14161.950845923553,"EUR/t",728.27034032353617,1034.0818390212087,628.00817993483236]
[null,"Flüchtige Kohlenwasserstoffe NMVOC",1716.6001025361884,1823.8876089447001,1823.8876089447001,1823.8876089447001,1823.8876089447001,1823.8876089447001,1823.8876089447001,null,171.66001025361885,"Ct/kg",1823.8876089447001,"EUR/t",208.81138369979217,282.04176512013942,166.69450263041963]
[null,"Ammoniak NH3",28753.051717481154,28753.051717481154,28753.051717481154,28753.051717481154,28753.051717481154,28753.051717481154,28753.051717481154,null,2875.3051717481153,"Ct/kg",28753.051717481154,"EUR/t",911.71931182718026]
[null,"Quelle: UBA Methodenkonvention (UBA, IER 2013), aktualisiert auf 2015 (teuerungsbasiert)",null,null,null,null,null,null,null,null,null,null,null,null,304.71286451934975]
[]
["2. Treibhausgasemissionen"]
[null,null,null,null,null,null,null,null,null,null,null,null,null,"Strommix Deutschland (ohne Kernkraft)",7.0274742368369001,null,"Wärmemix Haushalte (D)",2.9]
[null,null,null,null,null,null,null,null,null,null,null,null,null,"Strommix Deutschland (mit Kernkraft)",7.8317255740195968,null,"Wärmemix Industrie (D)",3.9]
[null,"in Euro2015 / Tonne",null,null,null,null,null,null,null,null,null,null,null,"Strommix Bahn DB",7.0121790678618243]
["aktualisiert DS, 8.9.15","Schadstoff",{"$f":"Eingabevariablen!B7","v":0},{"$f":"Eingabevariablen!C7","v":0},{"$f":"Eingabevariablen!D7","v":0},null,null,null,null,null,null,null,null,"Strommix Europa (ohne Kernkraft)",4.5915409680156234,null,"Heizöl / Öl",3.3188157642320002]
[null,"Kohlendioxid (CO2)",{"$f":"B263","v":90.5},{"$f":"C263","v":90.5},90.5,null,null,null,null,null,null,null,null,"Strommix Europa (mit Kernkraft)",6.7127791930052982,null,"Erdgas",2.2760665797400002]
[null,"Methan (CH4)",{"$f":"B264","v":2262.5},2262.5,2262.5,25,null,null,null,null,null,null,null,"Braunkohle",10.746637868227671,null,"Braunkohle, Steinkohle",6.1716113252999998]
[null,"Lachgas (N2O)",{"$f":"B265","v":26969},26969,26969,298,null,null,null,null,null,null,null,"Steinkohle",8.9370460413097224,null,"Fernwärme",3.4821596546140117]
[null,"Treibhausgase total (in CO2-Äquivalent)",{"$f":"B266","v":90.5},90.5,90.5,1,null,null,null,null,null,null,null,"Erdgas",4.9143588208244751,null,"Holzpellets, feste Biomasse (Haushalte)",1.7196809729006299]
[null,"Quelle: UBA Methodenkonvention (UBA, IER 2013), aktualisiert auf 2015 (Basis Studie Kuik et al. 2009)",null,null,null,null,null,null,null,null,null,null,null,"Öl",8.0636283839978375,null,"Feste Biomasse / Holz (Industrie)",0.56198037327499117]
[null,null,null,null,null,null,null,null,null,null,null,null,null,"Kernenergie",10.746637868227671,null,"Solarthermie",1.0992459199031777]
[null,null,null,null,null,null,null,null,null,null,null,null,null,"Wasserkraft",0.17703214124733319,null,"Geothermie",2.1347731046927736]
["3. Lärmemissionen",null,null,null,null,null,null,null,null,null,null,null,null,"Windenergie",0.25962207049642044,null,"Biogas-Mix (v.a. BHKW)",3.2043667041754764]
[null,null,null,null,null,null,null,null,null,null,null,null,null,"Photovoltaik",1.1806395435346073,null,"Flüssige Biomasse (diverse Nutzungen)",2.5180322186426962]
[null,null,null,null,null,null,null,null,null,null,null,null,null,"Geothermie",3.6955159673237046,null,"Flüssige Biomasse (Industrie)",1.68238888852]
[null,"in EUR2015/Person",null,null,null,null,null,null,null,null,null,null,null,"Feste Biomasse (v.a. Holz)",1.8640269479626677]
["aktualisiert DS, 8.9.15","Kosten pro belastete Personen je Lärmklasse \n(Dezibel-Klasse)","Quelle: Verkehr",null,null,"Quelle: unbekannt",null,null,null,null,null,null,null,"Flüssige Biomasse",7.2421583922060133]
[null,"Lärmbelastung (Lden (dB(A))","Strassenverkehr","Schienenverkehr","Luftverkehr",null,null,null,null,null,null,null,null,"Biogas",5.3398677624941726]
[null,"45 dB",0,0,0,{"$f":"C95","v":0},null,null,null,null,null,null,null,"Klär- / Deponiegas",3.4918286088219137]
[null,"50 dB",10.728750640851176,0,17.166001025361883,{"$f":"C96","v":10.728750640851176}]
[null,"55 dB",54.716628268341005,10.728750640851176,83.684254998639176,54.716628268341005]
[null,"60 dB",108.36038147259688,54.716628268341005,168.44138506136346,108.36038147259688]
[null,"65 dB",163.07700974093788,108.36038147259688,252.12564006000267,163.07700974093788]
[null,"70 dB",217.79363800927888,163.07700974093788,336.88277012272692,217.79363800927888]
[null,"75 dB",361.55889659668463,306.84226832834366,511.76140556860111,361.55889659668463]
[null,"80 dB",452.75327704391964,399.10952383966378,631.92341274613432,452.75327704391964]
[null,"≥81 dB",470.99215313336668,416.27552486502566,656.59953922009197,470.99215313336668]
[null,"Quelle: UBA Methodenkonvention (UBA, IER 2013), aktualisiert auf 2015 (teuerungsbasiert)"]
[]
["4. Beeinträchtigung von Ökosystemen"]
[]
[]
[]
["a. Flächenumwandlung, Verbauung natürlicher Flächen, Versiegelung"]
[]
["aktualisiert DS, 8.9.15","Kosten der versiegelten Fläche (total)",30.101535839954966,"in EUR2015 / m2","> Setzt sich zusammen aus Entsiegelungskosten aus NEEDS (2006, S. 70) plus den mittleren Ökosystem-Wiederherstellungs-kosten aus NEEDS für den Durchschnitt Deutschlands. Aktualisiert auf 2015 (teuerungsbasiert)."]
[null,"Zins für Berechnung Jahreskosten (Annuität)",0.03,"> Jahreskosten: Berechnung aus den Gesamtkosten mit 'unendlicher' Annuität, unter der Annahme, dass Flächenumwandlung dauerhaft ist. \nKonkret umgesetzt wird es mit einer Annuität von 100 Jahren."]
[null,"Kosten pro Jahr",{"$f":"-PMT($C$113,100,$C$112)","v":0.95261324775845202},"EUR2015 pro m2 pro Jahr (über 100 Jahre annuisiert; siehe oben)"]
[]
["b. Landnutzungsänderung, Nutzungsintensivierung"]
[]
[null,"Kosten Vollverlust eines Ökosystems bzw. einer Nutzungsform in EUR2015 / m2",null,null,null,"> Jahreskosten: Berechnung aus den Gesamtkosten mit 'unendlicher' Annuität, unter der Annahme, dass Flächenumwandlung dauerhaft ist. \nKonkret umgesetzt wird es mit einer Annuität von 100 Jahren."]
["aktualisiert DS, 8.9.15",null,"Vollverlust, in EUR2015/m2","Sensitivitäts-werte NEEDS, in EUR2015/m2",null,"Kosten pro Jahr, in EUR2015 pro m2 pro Jahr"]
[null,"Durchschnitt Deutschland (alle Biotoptypen)",5.5060832022984991,1.337084166011667,null,{"$f":"-PMT($C$113,100,$C120)","v":0.17424917551242389}]
[null,"Ackerland",0.62419797639422125,0,null,{"$f":"-PMT($C$113,100,$C121)","v":1.9753784813460944E-2}]
[null,"Intensives Grünland",0.97243474217205006,0.42283858241394595,null,3.0774317393602313E-2]
[null,"Extensiv frisches Grünland",3.4232331126462028,2.3541823777641322,null,0.10833391460855948]
[null,"Magerrasen, Halbtrockenrasen",10.361686408144074,null,null,0.32791282790345166]
[null,"Streuwiesen",23.791798658141847,null,null,0.75293110325833779]
[null,"Grünflächen Siedlungsbereich",2.3785228153127171,null,null,7.5272316868135389E-2]
[null,"Obstanlagen",2.8910222064574458,5.0397787795824378,null,9.1491213872871735E-2]
[null,"Reife Streuobstbestände",12.529953062987158,null,null,0.39653123830810549]
[null,"Rebkultur (intensiv)",17.10302455320166,null,null,0.54125370388882976]
[null,"Laubholzforste",6.1828452188101286,3.302712170746767,null,0.19566643694175526]
[null,"Fichten-/Nadelforste",3.8174634135267631,3.302712170746767,null,0.12080998922758744]
[null,"Nieder- /Mittelwälder",5.7360508778121595,3.302712170746767,null,0.18152688570685688]
[null,"Naturnaher Wald inkl. Bruchwald",23.693241082921705,null,null,0.74981208460358073]
[null,"Auewälder",69.811615780932641,null,null,2.2093048804528688]
[null,"Waldränder nicht natürlich",7.5823627869361188,null,null,0.2399565018393045]
[null,"Waldränder natürlich",17.484113844052871,10.422399653014018,null,0.55331390935389024]
[null,"Hecken Feldgehölze",20.920487966728427,null,null,0.66206369311641733]
[null,"Hochmoor natürlich / naturnah",251.17726570103463,null,null,7.9489230089366831]
[null,"Niedermoore, Sümpfe, Großseggenrieder",12.589087608119243,null,null,0.39840264950095972]
[null,"Zwergstrauchheiden",53.753301525064465,null,null,1.7011127743044629]
[null,"natürliche & naturnahe alpine Biotope",29.403009940675158,null,null,0.93050723200250229]
[null,null,"Quelle: Schweppe-Kraft 1998 (Daten aus Investitionsmodell, auf 2015 umgerechnet, teuerungsbasiert von 2010 auf 2015 umgerechnet)"]
[null,null,null,"Quelle: NEEDS 2006 (Daten auf 2010 umgerechnet), aktualisiert auf 2015 (teuerungsbasiert)"]
[]
[]
[]
[]
["c. Nährstoffeintrag"]
[]
["aktualisiert DS, 8.9.15","Kosten pro kg Stickstoff (N)","in EUR2015 / kg"]
[null,"Stickstoff-Verbindungen",7.6843368591805374,"in EUR / kg N"]
[null,null,"Quelle: IER/UBA 2012 (basierend auf NEEDS 2006, Kosten pro t NH3, umgerechnet auf Tonnen N), aktualisiert auf 2015 (teuerungsbasiert)"]
["d. Schadstoffeinträge ins Meer"]
[]
["aktualisiert DS, 8.9.15","Kosten Schadstoffeinträge ins Meer","in EUR2015 pro t"]
[null,"Stickstoffeintrag ins Meer",901.21505383149884,"in EUR / t"]
[null,"Abfallmenge, ins Meer",11.801625704936294,"in EUR / t"]
[null,"Ölmenge, ins Meer",804.65629806383822,3085.5886843087983,"in EUR / t",null,null,null,null,"Minimalwert (805 €/t)"]
[null,null,"Quelle: Interwies et al. 2012 (Arbeiten zur Meeresschutz-Rahmenrichtlinie, MSRL), aktualisiert auf 2015 (teuerungsbasiert)",null,null,null,null,null,null,"Maximalwert (3086 €/t)"]
["e. Zerschneidung der Landschaft durch Verkehrswege"]
[null,null,"total","pro Jahr"]
["aktualisiert DS, 8.9.15 (Teuerung)","Kosten (zusätzlicher) Verkehrsinfrastrukturen","in EUR2015 / km (km2)","in EUR2015 / (km*a)"]
[null,"Straße: Autobahn, Bundesstraße",729555.04357788002,{"$f":"C163/60","v":12159.250726298},"in EUR / km"]
[null,"Straße: Hauptstraße",68234.854075813491,{"$f":"C164/60","v":1137.2475679302249},"in EUR / km"]
[null,"Straße: Nebenstraße",48923.102922281367,815.38504870468944,"in EUR / km"]
[null,"Schiene: mehrspurig",40876.539941642986,681.27566569404974,"in EUR / km"]
[null,"Schiene: einspurig",22315.801332970448,371.93002221617411,"in EUR / km"]
[null,"Flugplatz, Flughafen",31113376.858468413,518556.28097447357,"in EUR / km2"]
[null,null,"Quelle: CE/INFRAS/ISI 2012 (Ergebnisse für Deutschland), aktualisiert auf 2015 (teuerungsbasiert)"]
[null,null,null,"Umgerechnet mit einer Lebensdauer von 60 Jahren"]
["5. Emission toxischer Stoffe"]
[]
[]
[]
["aktualisiert DS, 8.9.15 (Teuerung)","Kosten der Emission toxischer Stoffe","in EUR2015 / t",null,"Quelle:"]
[null,"Schwermetalle:"]
[null,"Arsen (As)",884039.42124990886,"in EUR / t","NEEDS (2008)"]
[null,"Cadmium (Cd)",138531.13795368574,"in EUR / t","NEEDS (2008)"]
[null,"Chrom (Cr)",29361.172140028328,"in EUR / t","NEEDS (2008)"]
[null,"Nickel (Ni)",4705.6591703241111,"in EUR / t","NEEDS (2008)"]
[null,"Quecksilber (Hg)",4156219.5415375219,"in EUR / t","NEEDS (2008)"]
[null,"Blei (Pb)",455476.07864698593,"in EUR / t","NEEDS (2008)"]
[null,"Langlebige organische Schadstoffe (POPs):"]
[null,"Dioxine",58250046.806024633,"in EUR / kg","NEEDS (2008)"]
[null,"Furane",58250046.806024633,"in EUR / kg","NEEDS (2008)"]
[null,"Formaldehyd",314.8651167831456,"in EUR / t","NEEDS (2008)"]
[null,"Pflanzenschutzmittel",118.01625704936295,"in EUR / t","Quelle: EXIOPOL (2011)"]
[null,"Insektizide",1180.1625704936293,"in EUR / t","Quelle: EXIOPOL (2011) bzw. IER (2012): Sachstandspapier toxische Stoffe für UBA-Methodenkonvention"]
[null,null,"Quelle: NEEDS 2008 (Preiss, Friedrich & Klotz, 2008) & EXIOPOL (2011), aktualisiert auf 2015 (teuerungsbasiert)"]
[]
["6. Indirekte Effekte vor- und nachgelagerte Prozesse"]
[]
[]
[]
["aktualisiert DS, 8.9.15","Kosten der Schadstoffemissionen","in EUR2015 / t"]
[null,"Partikel (Feinstaub) PM10",25427.139018817288]
[null,"Partikel (Feinstaub) fein PM2.5",35404.877114808885]
[null,"Stickoxide NOx",11265.188172893735]
[null,"Schwefeldioxid SO2",10836.038147259689]
[null,"Flüchtige Kohlenwasserstoffe NMVOC",1609.3125961276764]
[null,"Ammoniak NH3",20491.913724025748,{"$f":"D81","v":0},{"$f":"E81","v":0}]
[null,"Kohlendioxid (CO2)",{"$f":"C82","v":90.5},{"$f":"D82","v":90.5},90.5]
[null,"Methan (CH4)",{"$f":"C83","v":2262.5},2262.5,2262.5]
[null,"Lachgas (N2O)",26969,26969,26969]
[null,"Treibhausgase total (in CO2-Äquivalent)",90.5,90.5,90.5]
[null,"Stickstoff-Verbindungen",{"$f":"$C$151*1000","v":7684.3368591805374}]
[null,null,"Quellen:"]
[null,null,"Luftschadstoffe: UBA Methodenkonvention (UBA, IER 2013), Daten für Emissionen EU-27, Quelle Industrie (Ausserorts), aktualisiert auf 2015 (teuerungsbasiert)"]
[null,null,"Klimagase: UBA Methodenkonvention (UBA, IER 2013), s. oben"]
[null,null,"Stickstoff: IER, UBA 2012, s. oben"]
[]
[]
["9. Unfälle"]
[]
[null,"Soziale Unfallkosten zu Marktpreisen"]
[]
[null,null,"Werte Deutschland"]
[null,"Kosten pro Person","in EUR2010","in EUR2015"]
[null,"Leichtverletzte",24800,{"$f":"C219*$F$220","v":26607.301589310919},null,"Entwicklung HVPI Deutschland 2010 bis 2015:"]
[null,"Schwerverletzte",307100,{"$f":"C220*$F$220","v":329479.93218053965},null,1.0728750640851177]
[null,"Todesopfer",2220000,2381782.6422689613,null,"Quelle: Destatis"]
[null,null,"Quelle: Update of EU handbook on external costs of transport 2014, basierend auf HEATCO D5; Kostensätze aktualisiert auf 2015 (teuerungsbasiert)"]
[]
[null,"Kosten pro Unfall","in CHF2010","in EUR2010","in EUR2015",null,"Umrechnung Schweiz -> Deutschland: GDP/cap PPP adjusted"]
[null,"Strassenverkehrsunfälle generell",203748,{"$f":"C225*$H$233*$H$229","v":115822.19372903224},{"$f":"ROUND(D225*$F$220,-2)","v":124300},null,"GDP pro Kopf in PPP"]
[null,"Unfälle mit Personenwagen",113445,{"$f":"C226*$H$233*$H$229","v":64488.725129032246},{"$f":"ROUND(D226*$F$220,-2)","v":69200},null,null,2010,2013]
[null,"Unfälle mit Motorrädern",436217,{"$f":"C227*$H$233*$H$229","v":247971.07152903223},{"$f":"ROUND(D227*$F$220,-2)","v":266000},null,"Deutschland",29200,32000]
[null,"Unfälle mit Güterschwerverkehr",76472,43471.125109677414,46600,null,"Schweiz",37200,40600]
[null,"Unfälle mit öffentl. Personenverkehr",442914,251778.03518709677,270100,null,"D/CH",{"$f":"H227/H228","v":0.78494623655913975},{"$f":"I227/I228","v":0.78817733990147787}]
[null,"Unfälle mit Fahrrädern",950205,540151.69519354834,579500,null,"Quelle: Eurostat 2015"]
[null,"Unfälle mit Fussgängern",2255542,1282181.0397548384,1375600]
[null,"Schienenverkehrsunfälle: Personenverkehr",156841,89157.531296774177,95700,null,"Euro-Kurs","Mittelwert 2010"]
[null,"Schienenverkehrsunfälle: Güterverkehr",169759,96500.872574193549,103500,null,"EUR/CHF",0.72419999999999995]
[null,"Luftverkehrsunfälle (ohne Grossereignisse)",2374997,1350086.1978516127,1448500,null,"Quelle: www.oanda.com"]
[]
[]
[]
["Variation des Klimakostensatzes"]
[]
["Kostensätze Klima gemäß UBA Methodenkonvention 2.0: Zwischenjahre linear interpoliert"]
["in Euro2015 / Tonne"]
["Jahr",2015,2016,2017,2018,2019,2020,2021,2022,2023,2024,2025,2026,2027,2028,2029,2030,2031,2032,2033,2034,2035,2036,2037,2038,2039,2040,2041,2042,2043,2044,2045,2046,2047,2048,2049,2050,2051,2052,2053,2054,2055,2056,2057,2058,2059,2060]
["Schadstoff","in EUR2015 / t"]
["Kohlendioxid (CO2) mittel",90.5,{"$f":"$B244+($Q244-$B244)/15*(C242-$B242)","v":94.13333333333334},{"$f":"$B244+($Q244-$B244)/15*(D242-$B242)","v":97.766666666666666},101.4,105.03333333333333,108.66666666666667,112.3,115.93333333333334,119.56666666666666,123.2,126.83333333333334,130.46666666666667,134.1,137.73333333333335,141.36666666666667,145,{"$f":"$Q244+($AK244-$Q244)/20*(R242-$Q242)","v":150.75},{"$f":"$Q244+($AK244-$Q244)/20*(S242-$Q242)","v":156.5},162.25,168,173.75,179.5,185.25,191,196.75,202.5,208.25,214,219.75,225.5,231.25,237,242.75,248.5,254.25,260,{"$f":"AK244+($AK244-$AJ244)","v":265.75},{"$f":"AL244+($AK244-$AJ244)","v":271.5},{"$f":"AM244+($AK244-$AJ244)","v":277.25},283,288.75,294.5,300.25,306,311.75,317.5]
["Kohlendioxid (CO2) tief",{"$f":"40+(70-40)/20*5","v":47.5},{"$f":"$B245+($Q245-$B245)/15*(C$242-$B$242)","v":49},{"$f":"$B245+($Q245-$B245)/15*(D$242-$B$242)","v":50.5},52,53.5,55,56.5,58,59.5,61,62.5,64,65.5,67,68.5,70,{"$f":"$Q245+($AK245-$Q245)/20*(R$242-$Q$242)","v":73},{"$f":"$Q245+($AK245-$Q245)/20*(S$242-$Q$242)","v":76},79,82,85,88,91,94,97,100,103,106,109,112,115,118,121,124,127,130,{"$f":"AK245+($AK245-$AJ245)","v":133},136,139,142,145,148,151,154,157,160]
["Kohlendioxid (CO2) hoch",{"$f":"120+(215-120)/20*5","v":143.75},{"$f":"$B246+($Q246-$B246)/15*(C$242-$B$242)","v":148.5},153.25,158,162.75,167.5,172.25,177,181.75,186.5,191.25,196,200.75,205.5,210.25,215,{"$f":"$Q246+($AK246-$Q246)/20*(R$242-$Q$242)","v":223.75},232.5,241.25,250,258.75,267.5,276.25,285,293.75,302.5,311.25,320,328.75,337.5,346.25,355,363.75,372.5,381.25,390,398.75,407.5,416.25,425,433.75,442.5,451.25,460,468.75,477.5]
["Methan (CH4)",{"$f":"B244*$B$253","v":2262.5},2353.3333333333335,2444.1666666666665,2535,2625.8333333333335,2716.666666666667,2807.5,2898.3333333333335,2989.1666666666665,3080,3170.8333333333335,3261.6666666666665,3352.5,3443.3333333333339,3534.166666666667,3625,3768.75,3912.5,4056.25,4200,4343.75,4487.5,4631.25,4775,4918.75,5062.5,5206.25,5350,5493.75,5637.5,5781.25,5925,6068.75,6212.5,6356.25,6500,6643.75,6787.5,6931.25,7075,7218.75,7362.5,7506.25,7650,7793.75,7937.5]
["Lachgas (N2O)",{"$f":"B244*$B$254","v":26969},28051.733333333334,29134.466666666667,30217.200000000001,31299.933333333334,32382.666666666668,33465.4,34548.133333333331,35630.866666666669,36713.599999999999,37796.333333333336,38879.066666666666,39961.799999999996,41044.53333333334,42127.26666666667,43210,44923.5,46637,48350.5,50064,51777.5,53491,55204.5,56918,58631.5,60345,62058.5,63772,65485.5,67199,68912.5,70626,72339.5,74053,75766.5,{"$f":"AK244*$B$254","v":77480},{"$f":"AL244*$B$254","v":79193.5},80907,82620.5,84334,86047.5,87761,89474.5,91188,92901.5,94615]
["Treibhausgase total (in CO2-Äquivalent)",{"$f":"B244","v":90.5},94.13333333333334,97.766666666666666,101.4,105.03333333333333,108.66666666666667,112.3,115.93333333333334,119.56666666666666,123.2,126.83333333333334,130.46666666666667,134.1,137.73333333333335,141.36666666666667,145,150.75,156.5,162.25,168,173.75,179.5,185.25,191,196.75,202.5,208.25,214,219.75,225.5,231.25,237,242.75,248.5,254.25,{"$f":"AK244","v":260},{"$f":"AL244","v":265.75},271.5,277.25,283,288.75,294.5,300.25,306,311.75,317.5]
["Quelle: UBA Methodenkonvention (UBA, IER 2013), aktualisiert auf 2015 (Basis Studie Kuik et al. 2009)",null,null,null,null,null,null,null,null,null,null,null,null,null,null,null,"Quelle: UBA MK 2.0, mittelfristiger Wert 2050",null,null,null,null,null,null,null,null,null,null,null,null,null,null,null,null,null,null,null,"Quelle: UBA MK 2.0, langfristiger Wert 2050"]
[]
["Global Warming Potentials (GWP)"]
["Methan (CH4)",25]
["Lachgas (N2O)",298]
["Treibhausgase total (in CO2-Äquivalent)",1]
[]
["Gewählter CO2-Kostensatz (Blatt Eingabevariablen):"]
["Mittel, Hoch, Tief","Kostensatz in € / t 2010","Zeile für WVERWEIS"]
[{"$f":"LEFT(Eingabevariablen!G7,4)","v":"Mitt"},{"$f":"IF($A259=\"Mitt\",80,(IF($A259=\"Tief\",40,120)))","v":80},{"$f":"IF($A259=\"Mitt\",3,(IF($A259=\"Tief\",4,5)))","v":3}]
[]
["Kostensätze für gewählte Zeiträume / Jahre:",null,null,null,null,"Vergleich zu Standardkostensatz 2015:",null,null,null,"Vergleich zu Basisjahr 1"]
["Kostensätze",{"$f":"IF(Eingabevariablen!B7=\"\",2015,Eingabevariablen!B7)","v":2015},{"$f":"IF(Eingabevariablen!C7=\"\",2015,Eingabevariablen!C7)","v":2015},{"$f":"IF(Eingabevariablen!D7=\"\",2015,Eingabevariablen!D7)","v":2015},null,{"$f":"IF(Eingabevariablen!B7=\"\",2015,Eingabevariablen!B7)","v":2015},{"$f":"IF(Eingabevariablen!C7=\"\",2015,Eingabevariablen!C7)","v":2015},{"$f":"IF(Eingabevariablen!D7=\"\",2015,Eingabevariablen!D7)","v":2015},null,{"$f":"G262","v":2015},{"$f":"H262","v":2015}]
["Kohlendioxid (CO2)",{"$f":"HLOOKUP(B$262,B242:AU249,$C$259,FALSE)","v":90.5},{"$f":"HLOOKUP(C$262,B242:AU249,$C$259,FALSE)","v":90.5},{"$f":"HLOOKUP(D$262,B242:AU249,$C$259,FALSE)","v":90.5},null,{"$f":"B263/$B244","v":1},{"$f":"C263/$B244","v":1},1,null,{"$f":"G263/$F263","v":1},{"$f":"H263/$F263","v":1}]
["Methan (CH4)",{"$f":"B$263*$B253","v":2262.5},2262.5,2262.5,null,{"$f":"B264/$B247","v":1},{"$f":"C264/$B247","v":1},1,null,{"$f":"G264/$F264","v":1},1]
["Lachgas (N2O)",26969,26969,26969,null,{"$f":"B265/$B248","v":1},{"$f":"C265/$B248","v":1},1,null,1,1]
["Treibhausgase total (in CO2-Äquivalent)",90.5,90.5,90.5,null,{"$f":"B266/$B249","v":1},{"$f":"C266/$B249","v":1},1,null,1,1]
[]
[]
[]
["Ende des Kostensatz-Blattes"]

{"sheet":"Hilfsblatt Ber. Umweltkosten 1","index":11,"n_rows":384,"n_cols":80,"rows_kept":384,"cut":false,"hidden":false,"merged":[[259,9,262,9],[255,9,258,9],[293,9,296,9],[297,9,298,9],[64,7,64,8],[279,7,285,7],[40,15,40,18],[40,27,40,30],[40,76,40,79],[40,39,40,42],[40,51,40,54],[40,63,40,66],[40,2,40,5],[171,0,171,4],[191,0,191,4],[92,2,92,4],[106,0,106,4],[119,2,119,3],[120,2,120,3],[121,2,121,3],[64,3,64,4],[279,0,282,0],[279,3,285,3],[279,4,285,4],[279,6,285,6],[77,0,77,4],[89,0,89,4],[348,4,354,4],[321,6,324,6],[335,2,336,2],[279,5,285,5],[284,2,285,2]]}
[]
["Hilfsblatt: Berechnung Umweltkosten 1 (Umweltwirkung x Kostensatz)"]
[]
["Nicht veränderbar für Anwender.","Jahr: ",{"$f":"Eingabevariablen!$B$7","v":0}]
[]
[]
["Umweltwirkungen"]
[]
["A. Nach Aktivitäten, Treiber"]
[]
[]
["1. Energie","i.) Total Umweltkosten",null,null,null,null,null,null,null,null,null,null,null,null,"ii.) Kosten Luftschadstoffemissionen",null,null,null,null,null,null,null,null,null,null,null,"iii.) Kosten Treibhausgase",null,null,null,null,null,null,null,null,null,null,null,"iv.) Kosten Lärm",null,null,null,null,null,null,null,null,null,null,null,"v.) Kosten Beeinträchtigung von Ökosystemen",null,null,null,null,null,null,null,null,null,null,null,"vi.) Indirekte Kosten aus vor- und nachgelagerte Prozessen"]
[]
[]
[null,"Kosten","in EUR",null,"Kosten","in EUR",null,"Kosten","in EUR",null,"Kosten",null,"in EUR",null,"Kosten","in EUR",null,"Kosten","in EUR",null,"Kosten","in EUR",null,"Kosten","in EUR",null,"Kosten","in EUR",null,"Kosten","in EUR",null,"Kosten","in EUR",null,"Kosten","in EUR",null,"Kosten","in EUR",null,"Kosten","in EUR",null,"Kosten","in EUR",null,"Kosten","in EUR",null,"Kosten","in EUR",null,"Kosten","in EUR",null,"Kosten","in EUR",null,"Kosten","in EUR",null,"Kosten","in EUR",null,"Kosten","in EUR",null,"Kosten","in EUR",null,"Kosten","in EUR"]
[null,"Strommix Deutschland (ohne Kernkraft)",{"$f":"P16+AB16+AN16+AZ16+BL16","v":0},{"$f":"Eingabevariablen!$C124*'Hilfsblatt Kostensätze Umwelt'!C16/100-C16","v":0},"Wärmemix Haushalte (D)",{"$f":"Eingabevariablen!$C144*'Hilfsblatt Kostensätze Umwelt'!F16/100","v":0},{"$f":"S16+AE16+AQ16+BC16+BO16-F16","v":0},"Braunkohle",{"$f":"Eingabevariablen!$C160*'Hilfsblatt Kostensätze Umwelt'!I16","v":0},{"$f":"V16+AH16+AT16+BF16+BR16-I16","v":0},"Mittl. Kraftstoffmix PW (Benzin, Diesel)",null,{"$f":"Eingabevariablen!$C168*'Hilfsblatt Kostensätze Umwelt'!L16","v":0},{"$f":"Y16+AK16+AW16+BI16+BU16-M16","v":0},"Strommix Deutschland (ohne Kernkraft)",{"$f":"Eingabevariablen!$C124*'Hilfsblatt Kostensätze Umwelt'!O16/100","v":0},null,"Wärmemix Haushalte (D)",{"$f":"Eingabevariablen!$C144*'Hilfsblatt Kostensätze Umwelt'!R16/100","v":0},null,"Braunkohle",{"$f":"Eingabevariablen!$C160*'Hilfsblatt Kostensätze Umwelt'!U16","v":0},null,"Mittl. Kraftstoffmix PW (Benzin, Diesel)",{"$f":"Eingabevariablen!$C168*'Hilfsblatt Kostensätze Umwelt'!X16","v":0},null,"Strommix Deutschland (ohne Kernkraft)",{"$f":"Eingabevariablen!$C124*'Hilfsblatt Kostensätze Umwelt'!AA16/100","v":0},null,"Wärmemix Haushalte (D)",{"$f":"Eingabevariablen!$C144*'Hilfsblatt Kostensätze Umwelt'!AD16/100","v":0},null,"Braunkohle",{"$f":"Eingabevariablen!$C160*'Hilfsblatt Kostensätze Umwelt'!AG16","v":0},null,"Mittl. Kraftstoffmix PW (Benzin, Diesel)",{"$f":"Eingabevariablen!$C168*'Hilfsblatt Kostensätze Umwelt'!AJ16","v":0},null,"Strommix Deutschland (ohne Kernkraft)",null,null,"Wärmemix Haushalte (D)",null,null,"Braunkohle",null,null,"Mittl. Kraftstoffmix PW (Benzin, Diesel)",null,null,"Strommix Deutschland (ohne Kernkraft)",null,null,"Wärmemix Haushalte (D)",null,null,"Braunkohle",null,null,"Mittl. Kraftstoffmix PW (Benzin, Diesel)",null,null,"Strommix Deutschland (ohne Kernkraft)",{"$f":"Eingabevariablen!$C124*'Hilfsblatt Kostensätze Umwelt'!BK16/100","v":0},null,"Wärmemix Haushalte (D)",{"$f":"Eingabevariablen!$C144*'Hilfsblatt Kostensätze Umwelt'!BN16/100","v":0},null,"Braunkohle",{"$f":"Eingabevariablen!$C160*'Hilfsblatt Kostensätze Umwelt'!BQ16","v":0},null,"Mittl. Kraftstoffmix PW (Benzin, Diesel)",{"$f":"Eingabevariablen!$C168*'Hilfsblatt Kostensätze Umwelt'!BT16","v":0}]
[null,"Strommix Deutschland (mit Kernkraft)",{"$f":"P17+AB17+AN17+AZ17+BL17","v":0},{"$f":"Eingabevariablen!$C125*'Hilfsblatt Kostensätze Umwelt'!C17/100-C17","v":0},"Wärmemix Industrie (D)",{"$f":"Eingabevariablen!$C145*'Hilfsblatt Kostensätze Umwelt'!F17/100","v":0},0,"Steinkohle",{"$f":"Eingabevariablen!$C161*'Hilfsblatt Kostensätze Umwelt'!I17","v":0},0,"Benzin",null,{"$f":"Eingabevariablen!$C169*'Hilfsblatt Kostensätze Umwelt'!L17","v":0},0,"Strommix Deutschland (mit Kernkraft)",{"$f":"Eingabevariablen!$C125*'Hilfsblatt Kostensätze Umwelt'!O17/100","v":0},null,"Wärmemix Industrie (D)",{"$f":"Eingabevariablen!$C145*'Hilfsblatt Kostensätze Umwelt'!R17/100","v":0},null,"Steinkohle",{"$f":"Eingabevariablen!$C161*'Hilfsblatt Kostensätze Umwelt'!U17","v":0},null,"Benzin",{"$f":"Eingabevariablen!$C169*'Hilfsblatt Kostensätze Umwelt'!X17","v":0},null,"Strommix Deutschland (mit Kernkraft)",{"$f":"Eingabevariablen!$C125*'Hilfsblatt Kostensätze Umwelt'!AA17/100","v":0},null,"Wärmemix Industrie (D)",{"$f":"Eingabevariablen!$C145*'Hilfsblatt Kostensätze Umwelt'!AD17/100","v":0},null,"Steinkohle",{"$f":"Eingabevariablen!$C161*'Hilfsblatt Kostensätze Umwelt'!AG17","v":0},null,"Benzin",{"$f":"Eingabevariablen!$C169*'Hilfsblatt Kostensätze Umwelt'!AJ17","v":0},null,"Strommix Deutschland (mit Kernkraft)",null,null,"Wärmemix Industrie (D)",null,null,"Steinkohle",null,null,"Benzin",null,null,"Strommix Deutschland (mit Kernkraft)",null,null,"Wärmemix Industrie (D)",null,null,"Steinkohle",null,null,"Benzin",null,null,"Strommix Deutschland (mit Kernkraft)",{"$f":"Eingabevariablen!$C125*'Hilfsblatt Kostensätze Umwelt'!BK17/100","v":0},null,"Wärmemix Industrie (D)",{"$f":"Eingabevariablen!$C145*'Hilfsblatt Kostensätze Umwelt'!BN17/100","v":0},null,"Steinkohle",{"$f":"Eingabevariablen!$C161*'Hilfsblatt Kostensätze Umwelt'!BQ17","v":0},null,"Benzin",{"$f":"Eingabevariablen!$C169*'Hilfsblatt Kostensätze Umwelt'!BT17","v":0}]
[null,"Strommix Bahn DB",0,{"$f":"Eingabevariablen!$C126*'Hilfsblatt Kostensätze Umwelt'!C18/100-C18","v":0},null,null,null,"Erdgas",{"$f":"Eingabevariablen!$C162*'Hilfsblatt Kostensätze Umwelt'!I18","v":0},0,"Diesel",null,{"$f":"Eingabevariablen!$C170*'Hilfsblatt Kostensätze Umwelt'!L18","v":0},0,"Strommix Bahn DB",{"$f":"Eingabevariablen!$C126*'Hilfsblatt Kostensätze Umwelt'!O18/100","v":0},null,null,null,null,"Erdgas",{"$f":"Eingabevariablen!$C162*'Hilfsblatt Kostensätze Umwelt'!U18","v":0},null,"Diesel",{"$f":"Eingabevariablen!$C170*'Hilfsblatt Kostensätze Umwelt'!X18","v":0},null,"Strommix Bahn DB",{"$f":"Eingabevariablen!$C126*'Hilfsblatt Kostensätze Umwelt'!AA18/100","v":0},null,null,{"$f":"Eingabevariablen!$C146*'Hilfsblatt Kostensätze Umwelt'!AD18/100","v":0},null,"Erdgas",{"$f":"Eingabevariablen!$C162*'Hilfsblatt Kostensätze Umwelt'!AG18","v":0},null,"Diesel",{"$f":"Eingabevariablen!$C170*'Hilfsblatt Kostensätze Umwelt'!AJ18","v":0},null,"Strommix Bahn DB",null,null,null,null,null,"Erdgas",null,null,"Diesel",null,null,"Strommix Bahn DB",null,null,null,null,null,"Erdgas",null,null,"Diesel",null,null,"Strommix Bahn DB",{"$f":"Eingabevariablen!$C126*'Hilfsblatt Kostensätze Umwelt'!BK18/100","v":0},null,null,{"$f":"Eingabevariablen!$C146*'Hilfsblatt Kostensätze Umwelt'!BN18/100","v":0},null,"Erdgas",{"$f":"Eingabevariablen!$C162*'Hilfsblatt Kostensätze Umwelt'!BQ18","v":0},null,"Diesel",{"$f":"Eingabevariablen!$C170*'Hilfsblatt Kostensätze Umwelt'!BT18","v":0}]
[null,"Strommix Europa (ohne Kernkraft)",0,{"$f":"Eingabevariablen!$C127*'Hilfsblatt Kostensätze Umwelt'!C19/100-C19","v":0},"Heizöl / Öl",{"$f":"Eingabevariablen!$C147*'Hilfsblatt Kostensätze Umwelt'!F19/100","v":0},0,"Öl, Heizöl",{"$f":"Eingabevariablen!$C163*'Hilfsblatt Kostensätze Umwelt'!I19","v":0},0,"Erdgas",null,{"$f":"Eingabevariablen!$C171*'Hilfsblatt Kostensätze Umwelt'!L19","v":0},0,"Strommix Europa (ohne Kernkraft)",{"$f":"Eingabevariablen!$C127*'Hilfsblatt Kostensätze Umwelt'!O19/100","v":0},null,"Heizöl / Öl",{"$f":"Eingabevariablen!$C147*'Hilfsblatt Kostensätze Umwelt'!R19/100","v":0},null,"Öl, Heizöl",{"$f":"Eingabevariablen!$C163*'Hilfsblatt Kostensätze Umwelt'!U19","v":0},null,"Erdgas",{"$f":"Eingabevariablen!$C171*'Hilfsblatt Kostensätze Umwelt'!X19","v":0},null,"Strommix Europa (ohne Kernkraft)",{"$f":"Eingabevariablen!$C127*'Hilfsblatt Kostensätze Umwelt'!AA19/100","v":0},null,"Heizöl / Öl",{"$f":"Eingabevariablen!$C147*'Hilfsblatt Kostensätze Umwelt'!AD19/100","v":0},null,"Öl, Heizöl",{"$f":"Eingabevariablen!$C163*'Hilfsblatt Kostensätze Umwelt'!AG19","v":0},null,"Erdgas",{"$f":"Eingabevariablen!$C171*'Hilfsblatt Kostensätze Umwelt'!AJ19","v":0},null,"Strommix Europa (ohne Kernkraft)",null,null,"Heizöl / Öl",null,null,"Öl, Heizöl",null,null,"Erdgas",null,null,"Strommix Europa (ohne Kernkraft)",null,null,"Heizöl / Öl",null,null,"Öl, Heizöl",null,null,"Erdgas",null,null,"Strommix Europa (ohne Kernkraft)",{"$f":"Eingabevariablen!$C127*'Hilfsblatt Kostensätze Umwelt'!BK19/100","v":0},null,"Heizöl / Öl",{"$f":"Eingabevariablen!$C147*'Hilfsblatt Kostensätze Umwelt'!BN19/100","v":0},null,"Öl, Heizöl",{"$f":"Eingabevariablen!$C163*'Hilfsblatt Kostensätze Umwelt'!BQ19","v":0},null,"Erdgas",{"$f":"Eingabevariablen!$C171*'Hilfsblatt Kostensätze Umwelt'!BT19","v":0}]
[null,"Strommix Europa (mit Kernkraft)",0,{"$f":"Eingabevariablen!$C128*'Hilfsblatt Kostensätze Umwelt'!C20/100-C20","v":0},"Erdgas",{"$f":"Eingabevariablen!$C148*'Hilfsblatt Kostensätze Umwelt'!F20/100","v":0},0,"Holz (Stück)",{"$f":"Eingabevariablen!$C164*'Hilfsblatt Kostensätze Umwelt'!I20","v":0},0,null,null,null,null,"Strommix Europa (mit Kernkraft)",{"$f":"Eingabevariablen!$C128*'Hilfsblatt Kostensätze Umwelt'!O20/100","v":0},null,"Erdgas",{"$f":"Eingabevariablen!$C148*'Hilfsblatt Kostensätze Umwelt'!R20/100","v":0},null,"Holz (Stück)",{"$f":"Eingabevariablen!$C164*'Hilfsblatt Kostensätze Umwelt'!U20","v":0},null,null,null,null,"Strommix Europa (mit Kernkraft)",{"$f":"Eingabevariablen!$C128*'Hilfsblatt Kostensätze Umwelt'!AA20/100","v":0},null,"Erdgas",{"$f":"Eingabevariablen!$C148*'Hilfsblatt Kostensätze Umwelt'!AD20/100","v":0},null,"Holz (Stück)",{"$f":"Eingabevariablen!$C164*'Hilfsblatt Kostensätze Umwelt'!AG20","v":0},null,null,null,null,"Strommix Europa (mit Kernkraft)",null,null,"Erdgas",null,null,"Holz (Stück)",null,null,null,"nicht relevant",null,"Strommix Europa (mit Kernkraft)",null,null,"Erdgas",null,null,"Holz (Stück)",null,null,null,"nicht relevant",null,"Strommix Europa (mit Kernkraft)",{"$f":"Eingabevariablen!$C128*'Hilfsblatt Kostensätze Umwelt'!BK20/100","v":0},null,"Erdgas",{"$f":"Eingabevariablen!$C148*'Hilfsblatt Kostensätze Umwelt'!BN20/100","v":0},null,"Holz (Stück)",{"$f":"Eingabevariablen!$C164*'Hilfsblatt Kostensätze Umwelt'!BQ20","v":0}]
[null,"Braunkohle",0,{"$f":"Eingabevariablen!$C129*'Hilfsblatt Kostensätze Umwelt'!C21/100-C21","v":0},"Braunkohle, Steinkohle",{"$f":"Eingabevariablen!$C149*'Hilfsblatt Kostensätze Umwelt'!F21/100","v":0},0,"Holz (Pellets)",{"$f":"Eingabevariablen!$C165*'Hilfsblatt Kostensätze Umwelt'!I21","v":0},0,null,null,null,null,"Braunkohle",{"$f":"Eingabevariablen!$C129*'Hilfsblatt Kostensätze Umwelt'!O21/100","v":0},null,"Braunkohle, Steinkohle",{"$f":"Eingabevariablen!$C149*'Hilfsblatt Kostensätze Umwelt'!R21/100","v":0},null,"Holz (Pellets)",{"$f":"Eingabevariablen!$C165*'Hilfsblatt Kostensätze Umwelt'!U21","v":0},null,null,null,null,"Braunkohle",{"$f":"Eingabevariablen!$C129*'Hilfsblatt Kostensätze Umwelt'!AA21/100","v":0},null,"Braunkohle, Steinkohle",{"$f":"Eingabevariablen!$C149*'Hilfsblatt Kostensätze Umwelt'!AD21/100","v":0},null,"Holz (Pellets)",{"$f":"Eingabevariablen!$C165*'Hilfsblatt Kostensätze Umwelt'!AG21","v":0},null,null,null,null,"Braunkohle",null,null,"Braunkohle, Steinkohle",null,null,"Holz (Pellets)",null,null,null,null,null,"Braunkohle",null,null,"Braunkohle, Steinkohle",null,null,"Holz (Pellets)",null,null,null,null,null,"Braunkohle",{"$f":"Eingabevariablen!$C129*'Hilfsblatt Kostensätze Umwelt'!BK21/100","v":0},null,"Braunkohle, Steinkohle",{"$f":"Eingabevariablen!$C149*'Hilfsblatt Kostensätze Umwelt'!BN21/100","v":0},null,"Holz (Pellets)",{"$f":"Eingabevariablen!$C165*'Hilfsblatt Kostensätze Umwelt'!BQ21","v":0}]
[null,"Steinkohle",0,{"$f":"Eingabevariablen!$C130*'Hilfsblatt Kostensätze Umwelt'!C22/100-C22","v":0},"Fernwärme",{"$f":"Eingabevariablen!$C150*'Hilfsblatt Kostensätze Umwelt'!F22/100","v":0},0,null,null,null,null,null,null,null,"Steinkohle",{"$f":"Eingabevariablen!$C130*'Hilfsblatt Kostensätze Umwelt'!O22/100","v":0},null,"Fernwärme",{"$f":"Eingabevariablen!$C150*'Hilfsblatt Kostensätze Umwelt'!R22/100","v":0},null,null,null,null,null,null,null,"Steinkohle",{"$f":"Eingabevariablen!$C130*'Hilfsblatt Kostensätze Umwelt'!AA22/100","v":0},null,"Fernwärme",{"$f":"Eingabevariablen!$C150*'Hilfsblatt Kostensätze Umwelt'!AD22/100","v":0},null,null,null,null,null,null,null,"Steinkohle",null,null,"Fernwärme",null,null,null,"nicht relevant",null,null,null,null,"Steinkohle",null,null,"Fernwärme",null,null,null,"nicht relevant",null,null,null,null,"Steinkohle",{"$f":"Eingabevariablen!$C130*'Hilfsblatt Kostensätze Umwelt'!BK22/100","v":0},null,"Fernwärme",{"$f":"Eingabevariablen!$C150*'Hilfsblatt Kostensätze Umwelt'!BN22/100","v":0}]
[null,"Erdgas",0,{"$f":"Eingabevariablen!$C131*'Hilfsblatt Kostensätze Umwelt'!C23/100-C23","v":0},"Holzpellets, feste Biomasse (Haushalte)",{"$f":"Eingabevariablen!$C151*'Hilfsblatt Kostensätze Umwelt'!F23/100","v":0},0,null,null,null,null,null,null,null,"Erdgas",{"$f":"Eingabevariablen!$C131*'Hilfsblatt Kostensätze Umwelt'!O23/100","v":0},null,"Holzpellets, feste Biomasse (Haushalte)",{"$f":"Eingabevariablen!$C151*'Hilfsblatt Kostensätze Umwelt'!R23/100","v":0},null,null,null,null,null,null,null,"Erdgas",{"$f":"Eingabevariablen!$C131*'Hilfsblatt Kostensätze Umwelt'!AA23/100","v":0},null,"Holzpellets, feste Biomasse (Haushalte)",{"$f":"Eingabevariablen!$C151*'Hilfsblatt Kostensätze Umwelt'!AD23/100","v":0},null,null,null,null,null,null,null,"Erdgas",null,null,"Holzpellets, feste Biomasse (Haushalte)",null,null,null,null,null,null,null,null,"Erdgas",null,null,"Holzpellets, feste Biomasse (Haushalte)",null,null,null,null,null,null,null,null,"Erdgas",{"$f":"Eingabevariablen!$C131*'Hilfsblatt Kostensätze Umwelt'!BK23/100","v":0},null,"Holzpellets, feste Biomasse (Haushalte)",{"$f":"Eingabevariablen!$C151*'Hilfsblatt Kostensätze Umwelt'!BN23/100","v":0}]
[null,"Öl",0,{"$f":"Eingabevariablen!$C132*'Hilfsblatt Kostensätze Umwelt'!C24/100-C24","v":0},"Feste Biomasse / Holz (Industrie)",{"$f":"Eingabevariablen!$C152*'Hilfsblatt Kostensätze Umwelt'!F24/100","v":0},0,null,null,null,null,null,null,null,"Öl",{"$f":"Eingabevariablen!$C132*'Hilfsblatt Kostensätze Umwelt'!O24/100","v":0},null,"Feste Biomasse / Holz (Industrie)",{"$f":"Eingabevariablen!$C152*'Hilfsblatt Kostensätze Umwelt'!R24/100","v":0},null,null,null,null,null,null,null,"Öl",{"$f":"Eingabevariablen!$C132*'Hilfsblatt Kostensätze Umwelt'!AA24/100","v":0},null,"Feste Biomasse / Holz (Industrie)",{"$f":"Eingabevariablen!$C152*'Hilfsblatt Kostensätze Umwelt'!AD24/100","v":0},null,null,null,null,null,null,null,"Öl",null,null,"Feste Biomasse / Holz (Industrie)",null,null,null,null,null,null,null,null,"Öl",null,null,"Feste Biomasse / Holz (Industrie)",null,null,null,null,null,null,null,null,"Öl",{"$f":"Eingabevariablen!$C132*'Hilfsblatt Kostensätze Umwelt'!BK24/100","v":0},null,"Feste Biomasse / Holz (Industrie)",{"$f":"Eingabevariablen!$C152*'Hilfsblatt Kostensätze Umwelt'!BN24/100","v":0}]
[null,"Kernenergie",0,{"$f":"Eingabevariablen!$C133*'Hilfsblatt Kostensätze Umwelt'!C25/100-C25","v":0},"Solarthermie",{"$f":"Eingabevariablen!$C153*'Hilfsblatt Kostensätze Umwelt'!F25/100","v":0},0,null,null,null,null,null,null,null,"Kernenergie",{"$f":"Eingabevariablen!$C133*'Hilfsblatt Kostensätze Umwelt'!O25/100","v":0},null,"Solarthermie",{"$f":"Eingabevariablen!$C153*'Hilfsblatt Kostensätze Umwelt'!R25/100","v":0},null,null,null,null,null,null,null,"Kernenergie",{"$f":"Eingabevariablen!$C133*'Hilfsblatt Kostensätze Umwelt'!AA25/100","v":0},null,"Solarthermie",{"$f":"Eingabevariablen!$C153*'Hilfsblatt Kostensätze Umwelt'!AD25/100","v":0},null,null,null,null,null,null,null,"Kernenergie",null,null,"Solarthermie",null,null,null,null,null,null,null,null,"Kernenergie",null,null,"Solarthermie",null,null,null,null,null,null,null,null,"Kernenergie",{"$f":"Eingabevariablen!$C133*'Hilfsblatt Kostensätze Umwelt'!BK25/100","v":0},null,"Solarthermie",{"$f":"Eingabevariablen!$C153*'Hilfsblatt Kostensätze Umwelt'!BN25/100","v":0}]
[null,"Wasserkraft",0,{"$f":"Eingabevariablen!$C134*'Hilfsblatt Kostensätze Umwelt'!C26/100-C26","v":0},"Geothermie",{"$f":"Eingabevariablen!$C154*'Hilfsblatt Kostensätze Umwelt'!F26/100","v":0},0,null,null,null,null,null,null,null,"Wasserkraft",{"$f":"Eingabevariablen!$C134*'Hilfsblatt Kostensätze Umwelt'!O26/100","v":0},null,"Geothermie",{"$f":"Eingabevariablen!$C154*'Hilfsblatt Kostensätze Umwelt'!R26/100","v":0},null,null,null,null,null,null,null,"Wasserkraft",{"$f":"Eingabevariablen!$C134*'Hilfsblatt Kostensätze Umwelt'!AA26/100","v":0},null,"Geothermie",{"$f":"Eingabevariablen!$C154*'Hilfsblatt Kostensätze Umwelt'!AD26/100","v":0},null,null,null,null,null,null,null,"Wasserkraft",null,null,"Geothermie",null,null,null,null,null,null,null,null,"Wasserkraft",null,null,"Geothermie",null,null,null,null,null,null,null,null,"Wasserkraft",{"$f":"Eingabevariablen!$C134*'Hilfsblatt Kostensätze Umwelt'!BK26/100","v":0},null,"Geothermie",{"$f":"Eingabevariablen!$C154*'Hilfsblatt Kostensätze Umwelt'!BN26/100","v":0}]
[null,"Windenergie",0,{"$f":"Eingabevariablen!$C135*'Hilfsblatt Kostensätze Umwelt'!C27/100-C27","v":0},"Biogas-Mix (v.a. BHKW)",{"$f":"Eingabevariablen!$C155*'Hilfsblatt Kostensätze Umwelt'!F27/100","v":0},0,null,null,null,null,null,null,null,"Windenergie",{"$f":"Eingabevariablen!$C135*'Hilfsblatt Kostensätze Umwelt'!O27/100","v":0},null,"Biogas-Mix (v.a. BHKW)",{"$f":"Eingabevariablen!$C155*'Hilfsblatt Kostensätze Umwelt'!R27/100","v":0},null,null,null,null,null,null,null,"Windenergie",{"$f":"Eingabevariablen!$C135*'Hilfsblatt Kostensätze Umwelt'!AA27/100","v":0},null,"Biogas-Mix (v.a. BHKW)",{"$f":"Eingabevariablen!$C155*'Hilfsblatt Kostensätze Umwelt'!AD27/100","v":0},null,null,null,null,null,null,null,"Windenergie",null,null,"Biogas-Mix (v.a. BHKW)",null,null,null,null,null,null,null,null,"Windenergie",null,null,"Biogas-Mix (v.a. BHKW)",null,null,null,null,null,null,null,null,"Windenergie",{"$f":"Eingabevariablen!$C135*'Hilfsblatt Kostensätze Umwelt'!BK27/100","v":0},null,"Biogas-Mix (v.a. BHKW)",{"$f":"Eingabevariablen!$C155*'Hilfsblatt Kostensätze Umwelt'!BN27/100","v":0}]
[null,"Photovoltaik",0,{"$f":"Eingabevariablen!$C136*'Hilfsblatt Kostensätze Umwelt'!C28/100-C28","v":0},"Flüssige Biomasse (diverse Nutzungen)",{"$f":"Eingabevariablen!$C156*'Hilfsblatt Kostensätze Umwelt'!F28/100","v":0},0,null,null,null,null,null,null,null,"Photovoltaik",{"$f":"Eingabevariablen!$C136*'Hilfsblatt Kostensätze Umwelt'!O28/100","v":0},null,"Flüssige Biomasse (diverse Nutzungen)",{"$f":"Eingabevariablen!$C156*'Hilfsblatt Kostensätze Umwelt'!R28/100","v":0},null,null,null,null,null,null,null,"Photovoltaik",{"$f":"Eingabevariablen!$C136*'Hilfsblatt Kostensätze Umwelt'!AA28/100","v":0},null,"Flüssige Biomasse (diverse Nutzungen)",{"$f":"Eingabevariablen!$C156*'Hilfsblatt Kostensätze Umwelt'!AD28/100","v":0},null,null,null,null,null,null,null,"Photovoltaik",null,null,"Flüssige Biomasse (diverse Nutzungen)",null,null,null,null,null,null,null,null,"Photovoltaik",null,null,"Flüssige Biomasse (diverse Nutzungen)",null,null,null,null,null,null,null,null,"Photovoltaik",{"$f":"Eingabevariablen!$C136*'Hilfsblatt Kostensätze Umwelt'!BK28/100","v":0},null,"Flüssige Biomasse (diverse Nutzungen)",{"$f":"Eingabevariablen!$C156*'Hilfsblatt Kostensätze Umwelt'!BN28/100","v":0}]
[null,"Geothermie",0,{"$f":"Eingabevariablen!$C137*'Hilfsblatt Kostensätze Umwelt'!C29/100-C29","v":0},"Flüssige Biomasse (Industrie)",{"$f":"Eingabevariablen!$C157*'Hilfsblatt Kostensätze Umwelt'!F29/100","v":0},0,null,null,null,null,null,null,null,"Geothermie",{"$f":"Eingabevariablen!$C137*'Hilfsblatt Kostensätze Umwelt'!O29/100","v":0},null,"Flüssige Biomasse (Industrie)",{"$f":"Eingabevariablen!$C157*'Hilfsblatt Kostensätze Umwelt'!R29/100","v":0},null,null,null,null,null,null,null,"Geothermie",{"$f":"Eingabevariablen!$C137*'Hilfsblatt Kostensätze Umwelt'!AA29/100","v":0},null,"Flüssige Biomasse (Industrie)",{"$f":"Eingabevariablen!$C157*'Hilfsblatt Kostensätze Umwelt'!AD29/100","v":0},null,null,null,null,null,null,null,"Geothermie",null,null,"Flüssige Biomasse (Industrie)",null,null,null,null,null,null,null,null,"Geothermie",null,null,"Flüssige Biomasse (Industrie)",null,null,null,null,null,null,null,null,"Geothermie",{"$f":"Eingabevariablen!$C137*'Hilfsblatt Kostensätze Umwelt'!BK29/100","v":0},null,"Flüssige Biomasse (Industrie)",{"$f":"Eingabevariablen!$C157*'Hilfsblatt Kostensätze Umwelt'!BN29/100","v":0}]
[null,"Feste Biomasse (v.a. Holz)",0,{"$f":"Eingabevariablen!$C138*'Hilfsblatt Kostensätze Umwelt'!C30/100-C30","v":0},null,null,null,null,null,null,null,null,null,null,"Feste Biomasse (v.a. Holz)",{"$f":"Eingabevariablen!$C138*'Hilfsblatt Kostensätze Umwelt'!O30/100","v":0},null,null,null,null,null,null,null,null,null,null,"Feste Biomasse (v.a. Holz)",{"$f":"Eingabevariablen!$C138*'Hilfsblatt Kostensätze Umwelt'!AA30/100","v":0},null,null,null,null,null,null,null,null,null,null,"Feste Biomasse (v.a. Holz)",null,null,null,"nicht relevant",null,null,null,null,null,null,null,"Feste Biomasse (v.a. Holz)",null,null,null,"nicht relevant",null,null,null,null,null,null,null,"Feste Biomasse (v.a. Holz)",{"$f":"Eingabevariablen!$C138*'Hilfsblatt Kostensätze Umwelt'!BK30/100","v":0}]
[null,"Flüssige Biomasse",0,{"$f":"Eingabevariablen!$C139*'Hilfsblatt Kostensätze Umwelt'!C31/100-C31","v":0},null,null,null,null,null,null,null,null,null,null,"Flüssige Biomasse",{"$f":"Eingabevariablen!$C139*'Hilfsblatt Kostensätze Umwelt'!O31/100","v":0},null,null,null,null,null,null,null,null,null,null,"Flüssige Biomasse",{"$f":"Eingabevariablen!$C139*'Hilfsblatt Kostensätze Umwelt'!AA31/100","v":0},null,null,null,null,null,null,null,null,null,null,"Flüssige Biomasse",null,null,null,null,null,null,null,null,null,null,null,"Flüssige Biomasse",null,null,null,null,null,null,null,null,null,null,null,"Flüssige Biomasse",{"$f":"Eingabevariablen!$C139*'Hilfsblatt Kostensätze Umwelt'!BK31/100","v":0}]
[null,"Biogas",0,{"$f":"Eingabevariablen!$C140*'Hilfsblatt Kostensätze Umwelt'!C32/100-C32","v":0},null,null,null,null,null,null,null,null,null,null,"Biogas",{"$f":"Eingabevariablen!$C140*'Hilfsblatt Kostensätze Umwelt'!O32/100","v":0},null,null,null,null,null,null,null,null,null,null,"Biogas",{"$f":"Eingabevariablen!$C140*'Hilfsblatt Kostensätze Umwelt'!AA32/100","v":0},null,null,null,null,null,null,null,null,null,null,"Biogas",null,null,null,null,null,null,null,null,null,null,null,"Biogas",null,null,null,null,null,null,null,null,null,null,null,"Biogas",{"$f":"Eingabevariablen!$C140*'Hilfsblatt Kostensätze Umwelt'!BK32/100","v":0}]
[null,"Klär- / Deponiegas",0,{"$f":"Eingabevariablen!$C141*'Hilfsblatt Kostensätze Umwelt'!C33/100-C33","v":0},null,null,null,null,null,null,null,null,null,null,"Klär- / Deponiegas",{"$f":"Eingabevariablen!$C141*'Hilfsblatt Kostensätze Umwelt'!O33/100","v":0},null,null,null,null,null,null,null,null,null,null,"Klär- / Deponiegas",{"$f":"Eingabevariablen!$C141*'Hilfsblatt Kostensätze Umwelt'!AA33/100","v":0},null,null,null,null,null,null,null,null,null,null,"Klär- / Deponiegas",null,null,null,null,null,null,null,null,null,null,null,"Klär- / Deponiegas",null,null,null,null,null,null,null,null,null,null,null,"Klär- / Deponiegas",{"$f":"Eingabevariablen!$C141*'Hilfsblatt Kostensätze Umwelt'!BK33/100","v":0}]
[null,null,null,null,null,null,null,null,null,null,null,null,null,null,null,null,null,null,null,null,null,null,null,null,null,null,null,null,null,null,null,null,null,null,null,null,null,null,null,"nicht relevant",null,null,null,null,null,null,null,null,null,null,null,"nicht relevant"]
[]
["2. Verkehr"]
[]
[]
[null,null,null,null,null,null,null,null,null,null,null,null,null,null,null,null,null,null,null,null,null,null,null,null,null,null,null,null,null,null,null,null,null,null,null,null,null,null,null,null,null,null,null,null,null,null,null,null,null,null,null,null,null,null,null,null,null,null,null,null,null,null,null,null,null,null,null,null,null,null,null,null,null,null,"\"Korrigierte\" Verkehrsmengen infolge vermindertem Kraftstoff- bzw. Energieverbrauch in zukünftigen Jahren"]
[]
[null,null,"Kosten in EUR",null,null,null,null,null,null,null,null,null,null,null,null,"Kosten in EUR",null,null,null,null,null,null,null,null,null,null,null,"Kosten in EUR",null,null,null,null,null,null,null,null,null,null,null,"Kosten in EUR",null,null,null,null,null,null,null,null,null,null,null,"Kosten in EUR",null,null,null,null,null,null,null,null,null,null,null,"Kosten in EUR",null,null,null,null,null,null,null,null,null,null,null,"i. Verkehr: Fahrzeug-km\nnach Fahrzeugkategorie","Verkehrsmenge in Fahrzeug-km\nnach Ort"]
[null,null,"Ort unbekannt\n(Ø alle Strecken)","Innerorts","Außerorts","Autobahn",null,null,null,null,null,null,null,null,null,"Ort unbekannt\n(Ø alle Strecken)","Innerorts","Außerorts","Autobahn",null,null,null,null,null,null,null,null,"Ort unbekannt\n(Ø alle Strecken)","Innerorts","Außerorts","Autobahn",null,null,null,null,null,null,null,null,"Ort unbekannt\n(Ø alle Strecken)","Innerorts","Außerorts","Autobahn",null,null,null,null,null,null,null,null,"Ort unbekannt\n(Ø alle Strecken)","Innerorts","Außerorts","Autobahn",null,null,null,null,null,null,null,null,"Ort unbekannt\n(Ø alle Strecken)","Innerorts","Außerorts","Autobahn",null,null,null,null,null,null,null,null,null,"Ort unbekannt\n(Ø alle Strecken)","Innerorts","Außerorts","Autobahn"]
[null,"PKW, Diesel",{"$f":"P43+AB43+AN43+AZ43+BL43","v":0},{"$f":"Q43+AC43+AO43+BA43+BM43","v":0},{"$f":"R43+AD43+AP43+BB43+BN43","v":0},{"$f":"S43+AE43+AQ43+BC43+BO43","v":0},null,{"$f":"P43+AB43+AN43+AZ43+BL43-C43","v":0},{"$f":"Q43+AC43+AO43+BA43+BM43-D43","v":0},{"$f":"R43+AD43+AP43+BB43+BN43-E43","v":0},{"$f":"S43+AE43+AQ43+BC43+BO43-F43","v":0},null,null,null,"PKW, Diesel",{"$f":"$BY43*'Hilfsblatt Kostensätze Umwelt'!O43/100","v":0},{"$f":"$BZ43*'Hilfsblatt Kostensätze Umwelt'!P43/100","v":0},{"$f":"$CA43*'Hilfsblatt Kostensätze Umwelt'!Q43/100","v":0},{"$f":"$CB43*'Hilfsblatt Kostensätze Umwelt'!R43/100","v":0},null,null,null,null,null,null,null,"PKW, Diesel",{"$f":"$BY43*'Hilfsblatt Kostensätze Umwelt'!AA43/100","v":0},{"$f":"$BZ43*'Hilfsblatt Kostensätze Umwelt'!AB43/100","v":0},{"$f":"$CA43*'Hilfsblatt Kostensätze Umwelt'!AC43/100","v":0},{"$f":"$CB43*'Hilfsblatt Kostensätze Umwelt'!AD43/100","v":0},null,null,null,null,null,null,null,"PKW, Diesel",{"$f":"Eingabevariablen!$C55*'Hilfsblatt Kostensätze Umwelt'!AM43/100","v":0},{"$f":"Eingabevariablen!$D55*'Hilfsblatt Kostensätze Umwelt'!AN43/100","v":0},{"$f":"Eingabevariablen!$E55*'Hilfsblatt Kostensätze Umwelt'!AO43/100","v":0},{"$f":"Eingabevariablen!$F55*'Hilfsblatt Kostensätze Umwelt'!AP43/100","v":0},null,null,null,null,null,null,null,"PKW, Diesel",{"$f":"Eingabevariablen!$C55*'Hilfsblatt Kostensätze Umwelt'!AY43/100","v":0},{"$f":"Eingabevariablen!$D55*'Hilfsblatt Kostensätze Umwelt'!AZ43/100","v":0},{"$f":"Eingabevariablen!$E55*'Hilfsblatt Kostensätze Umwelt'!BA43/100","v":0},{"$f":"Eingabevariablen!$F55*'Hilfsblatt Kostensätze Umwelt'!BB43/100","v":0},null,null,null,null,null,null,null,"PKW, Diesel",{"$f":"$BY43*'Hilfsblatt Kostensätze Umwelt'!BK43/100","v":0},{"$f":"$BZ43*'Hilfsblatt Kostensätze Umwelt'!BL43/100","v":0},{"$f":"$CA43*'Hilfsblatt Kostensätze Umwelt'!BM43/100","v":0},{"$f":"$CB43*'Hilfsblatt Kostensätze Umwelt'!BN43/100","v":0},null,null,null,null,null,null,null,"Strassenverkehr: ","PKW, Diesel",{"$f":"Eingabevariablen!C55*(1+Eingabevariablen!$C$118)","v":0},{"$f":"Eingabevariablen!D55*(1+Eingabevariablen!$C$118)","v":0},{"$f":"Eingabevariablen!E55*(1+Eingabevariablen!$C$118)","v":0},{"$f":"Eingabevariablen!F55*(1+Eingabevariablen!$C$118)","v":0}]
[null,"PKW, Benzin",{"$f":"P44+AB44+AN44+AZ44+BL44","v":0},0,0,0,null,{"$f":"P44+AB44+AN44+AZ44+BL44-C44","v":0},{"$f":"Q44+AC44+AO44+BA44+BM44-D44","v":0},{"$f":"R44+AD44+AP44+BB44+BN44-E44","v":0},{"$f":"S44+AE44+AQ44+BC44+BO44-F44","v":0},null,null,null,"PKW, Benzin",{"$f":"$BY44*'Hilfsblatt Kostensätze Umwelt'!O44/100","v":0},{"$f":"$BZ44*'Hilfsblatt Kostensätze Umwelt'!P44/100","v":0},{"$f":"$CA44*'Hilfsblatt Kostensätze Umwelt'!Q44/100","v":0},{"$f":"$CB44*'Hilfsblatt Kostensätze Umwelt'!R44/100","v":0},null,null,null,null,null,null,null,"PKW, Benzin",{"$f":"$BY44*'Hilfsblatt Kostensätze Umwelt'!AA44/100","v":0},{"$f":"$BZ44*'Hilfsblatt Kostensätze Umwelt'!AB44/100","v":0},{"$f":"$CA44*'Hilfsblatt Kostensätze Umwelt'!AC44/100","v":0},{"$f":"$CB44*'Hilfsblatt Kostensätze Umwelt'!AD44/100","v":0},null,null,null,null,null,null,null,"PKW, Benzin",{"$f":"Eingabevariablen!$C56*'Hilfsblatt Kostensätze Umwelt'!AM44/100","v":0},{"$f":"Eingabevariablen!$D56*'Hilfsblatt Kostensätze Umwelt'!AN44/100","v":0},{"$f":"Eingabevariablen!$E56*'Hilfsblatt Kostensätze Umwelt'!AO44/100","v":0},{"$f":"Eingabevariablen!$F56*'Hilfsblatt Kostensätze Umwelt'!AP44/100","v":0},null,null,null,null,null,null,null,"PKW, Benzin",{"$f":"Eingabevariablen!$C56*'Hilfsblatt Kostensätze Umwelt'!AY44/100","v":0},{"$f":"Eingabevariablen!$D56*'Hilfsblatt Kostensätze Umwelt'!AZ44/100","v":0},{"$f":"Eingabevariablen!$E56*'Hilfsblatt Kostensätze Umwelt'!BA44/100","v":0},{"$f":"Eingabevariablen!$F56*'Hilfsblatt Kostensätze Umwelt'!BB44/100","v":0},null,null,null,null,null,null,null,"PKW, Benzin",{"$f":"$BY44*'Hilfsblatt Kostensätze Umwelt'!BK44/100","v":0},{"$f":"$BZ44*'Hilfsblatt Kostensätze Umwelt'!BL44/100","v":0},{"$f":"$CA44*'Hilfsblatt Kostensätze Umwelt'!BM44/100","v":0},{"$f":"$CB44*'Hilfsblatt Kostensätze Umwelt'!BN44/100","v":0},null,null,null,null,null,null,null,null,"PKW, Benzin",{"$f":"Eingabevariablen!C56*(1+Eingabevariablen!$C$118)","v":0},{"$f":"Eingabevariablen!D56*(1+Eingabevariablen!$C$118)","v":0},{"$f":"Eingabevariablen!E56*(1+Eingabevariablen!$C$118)","v":0},{"$f":"Eingabevariablen!F56*(1+Eingabevariablen!$C$118)","v":0}]
[null,"Leichte Nutzfahrzeuge, Diesel",0,0,0,0,null,0,0,0,0,null,null,null,"Leichte Nutzfahrzeuge, Diesel",{"$f":"$BY45*'Hilfsblatt Kostensätze Umwelt'!O45/100","v":0},{"$f":"$BZ45*'Hilfsblatt Kostensätze Umwelt'!P45/100","v":0},{"$f":"$CA45*'Hilfsblatt Kostensätze Umwelt'!Q45/100","v":0},{"$f":"$CB45*'Hilfsblatt Kostensätze Umwelt'!R45/100","v":0},null,null,null,null,null,null,null,"Leichte Nutzfahrzeuge, Diesel",{"$f":"$BY45*'Hilfsblatt Kostensätze Umwelt'!AA45/100","v":0},{"$f":"$BZ45*'Hilfsblatt Kostensätze Umwelt'!AB45/100","v":0},{"$f":"$CA45*'Hilfsblatt Kostensätze Umwelt'!AC45/100","v":0},{"$f":"$CB45*'Hilfsblatt Kostensätze Umwelt'!AD45/100","v":0},null,null,null,null,null,null,null,"Leichte Nutzfahrzeuge, Diesel",{"$f":"Eingabevariablen!$C57*'Hilfsblatt Kostensätze Umwelt'!AM45/100","v":0},{"$f":"Eingabevariablen!$D57*'Hilfsblatt Kostensätze Umwelt'!AN45/100","v":0},{"$f":"Eingabevariablen!$E57*'Hilfsblatt Kostensätze Umwelt'!AO45/100","v":0},{"$f":"Eingabevariablen!$F57*'Hilfsblatt Kostensätze Umwelt'!AP45/100","v":0},null,null,null,null,null,null,null,"Leichte Nutzfahrzeuge, Diesel",{"$f":"Eingabevariablen!$C57*'Hilfsblatt Kostensätze Umwelt'!AY45/100","v":0},{"$f":"Eingabevariablen!$D57*'Hilfsblatt Kostensätze Umwelt'!AZ45/100","v":0},{"$f":"Eingabevariablen!$E57*'Hilfsblatt Kostensätze Umwelt'!BA45/100","v":0},{"$f":"Eingabevariablen!$F57*'Hilfsblatt Kostensätze Umwelt'!BB45/100","v":0},null,null,null,null,null,null,null,"Leichte Nutzfahrzeuge, Diesel",{"$f":"$BY45*'Hilfsblatt Kostensätze Umwelt'!BK45/100","v":0},{"$f":"$BZ45*'Hilfsblatt Kostensätze Umwelt'!BL45/100","v":0},{"$f":"$CA45*'Hilfsblatt Kostensätze Umwelt'!BM45/100","v":0},{"$f":"$CB45*'Hilfsblatt Kostensätze Umwelt'!BN45/100","v":0},null,null,null,null,null,null,null,null,"Leichte Nutzfahrzeuge, Diesel",{"$f":"Eingabevariablen!C57*(1+Eingabevariablen!$C$118)","v":0},{"$f":"Eingabevariablen!D57*(1+Eingabevariablen!$C$118)","v":0},{"$f":"Eingabevariablen!E57*(1+Eingabevariablen!$C$118)","v":0},{"$f":"Eingabevariablen!F57*(1+Eingabevariablen!$C$118)","v":0}]
[null,"Leichte Nutzfahrzeuge, Benzin",0,0,0,0,null,0,0,0,0,null,null,null,"Leichte Nutzfahrzeuge, Benzin",{"$f":"$BY46*'Hilfsblatt Kostensätze Umwelt'!O46/100","v":0},{"$f":"$BZ46*'Hilfsblatt Kostensätze Umwelt'!P46/100","v":0},{"$f":"$CA46*'Hilfsblatt Kostensätze Umwelt'!Q46/100","v":0},{"$f":"$CB46*'Hilfsblatt Kostensätze Umwelt'!R46/100","v":0},null,null,null,null,null,null,null,"Leichte Nutzfahrzeuge, Benzin",{"$f":"$BY46*'Hilfsblatt Kostensätze Umwelt'!AA46/100","v":0},{"$f":"$BZ46*'Hilfsblatt Kostensätze Umwelt'!AB46/100","v":0},{"$f":"$CA46*'Hilfsblatt Kostensätze Umwelt'!AC46/100","v":0},{"$f":"$CB46*'Hilfsblatt Kostensätze Umwelt'!AD46/100","v":0},null,null,null,null,null,null,null,"Leichte Nutzfahrzeuge, Benzin",{"$f":"Eingabevariablen!$C58*'Hilfsblatt Kostensätze Umwelt'!AM46/100","v":0},{"$f":"Eingabevariablen!$D58*'Hilfsblatt Kostensätze Umwelt'!AN46/100","v":0},{"$f":"Eingabevariablen!$E58*'Hilfsblatt Kostensätze Umwelt'!AO46/100","v":0},{"$f":"Eingabevariablen!$F58*'Hilfsblatt Kostensätze Umwelt'!AP46/100","v":0},null,null,null,null,null,null,null,"Leichte Nutzfahrzeuge, Benzin",{"$f":"Eingabevariablen!$C58*'Hilfsblatt Kostensätze Umwelt'!AY46/100","v":0},{"$f":"Eingabevariablen!$D58*'Hilfsblatt Kostensätze Umwelt'!AZ46/100","v":0},{"$f":"Eingabevariablen!$E58*'Hilfsblatt Kostensätze Umwelt'!BA46/100","v":0},{"$f":"Eingabevariablen!$F58*'Hilfsblatt Kostensätze Umwelt'!BB46/100","v":0},null,null,null,null,null,null,null,"Leichte Nutzfahrzeuge, Benzin",{"$f":"$BY46*'Hilfsblatt Kostensätze Umwelt'!BK46/100","v":0},{"$f":"$BZ46*'Hilfsblatt Kostensätze Umwelt'!BL46/100","v":0},{"$f":"$CA46*'Hilfsblatt Kostensätze Umwelt'!BM46/100","v":0},{"$f":"$CB46*'Hilfsblatt Kostensätze Umwelt'!BN46/100","v":0},null,null,null,null,null,null,null,null,"Leichte Nutzfahrzeuge, Benzin",{"$f":"Eingabevariablen!C58*(1+Eingabevariablen!$C$118)","v":0},{"$f":"Eingabevariablen!D58*(1+Eingabevariablen!$C$118)","v":0},{"$f":"Eingabevariablen!E58*(1+Eingabevariablen!$C$118)","v":0},{"$f":"Eingabevariablen!F58*(1+Eingabevariablen!$C$118)","v":0}]
[null,"Schwere Nutzfahrzeuge, Diesel",0,0,0,0,null,0,0,0,0,null,null,null,"Schwere Nutzfahrzeuge, Diesel",{"$f":"$BY47*'Hilfsblatt Kostensätze Umwelt'!O47/100","v":0},{"$f":"$BZ47*'Hilfsblatt Kostensätze Umwelt'!P47/100","v":0},{"$f":"$CA47*'Hilfsblatt Kostensätze Umwelt'!Q47/100","v":0},{"$f":"$CB47*'Hilfsblatt Kostensätze Umwelt'!R47/100","v":0},null,null,null,null,null,null,null,"Schwere Nutzfahrzeuge, Diesel",{"$f":"$BY47*'Hilfsblatt Kostensätze Umwelt'!AA47/100","v":0},{"$f":"$BZ47*'Hilfsblatt Kostensätze Umwelt'!AB47/100","v":0},{"$f":"$CA47*'Hilfsblatt Kostensätze Umwelt'!AC47/100","v":0},{"$f":"$CB47*'Hilfsblatt Kostensätze Umwelt'!AD47/100","v":0},null,null,null,null,null,null,null,"Schwere Nutzfahrzeuge, Diesel",{"$f":"Eingabevariablen!$C59*'Hilfsblatt Kostensätze Umwelt'!AM47/100","v":0},{"$f":"Eingabevariablen!$D59*'Hilfsblatt Kostensätze Umwelt'!AN47/100","v":0},{"$f":"Eingabevariablen!$E59*'Hilfsblatt Kostensätze Umwelt'!AO47/100","v":0},{"$f":"Eingabevariablen!$F59*'Hilfsblatt Kostensätze Umwelt'!AP47/100","v":0},null,null,null,null,null,null,null,"Schwere Nutzfahrzeuge, Diesel",{"$f":"Eingabevariablen!$C59*'Hilfsblatt Kostensätze Umwelt'!AY47/100","v":0},{"$f":"Eingabevariablen!$D59*'Hilfsblatt Kostensätze Umwelt'!AZ47/100","v":0},{"$f":"Eingabevariablen!$E59*'Hilfsblatt Kostensätze Umwelt'!BA47/100","v":0},{"$f":"Eingabevariablen!$F59*'Hilfsblatt Kostensätze Umwelt'!BB47/100","v":0},null,null,null,null,null,null,null,"Schwere Nutzfahrzeuge, Diesel",{"$f":"$BY47*'Hilfsblatt Kostensätze Umwelt'!BK47/100","v":0},{"$f":"$BZ47*'Hilfsblatt Kostensätze Umwelt'!BL47/100","v":0},{"$f":"$CA47*'Hilfsblatt Kostensätze Umwelt'!BM47/100","v":0},{"$f":"$CB47*'Hilfsblatt Kostensätze Umwelt'!BN47/100","v":0},null,null,null,null,null,null,null,null,"Schwere Nutzfahrzeuge, Diesel",{"$f":"Eingabevariablen!C59*(1+Eingabevariablen!$C$118)","v":0},{"$f":"Eingabevariablen!D59*(1+Eingabevariablen!$C$118)","v":0},{"$f":"Eingabevariablen!E59*(1+Eingabevariablen!$C$118)","v":0},{"$f":"Eingabevariablen!F59*(1+Eingabevariablen!$C$118)","v":0}]
[null,"Bus, Diesel",0,0,0,0,null,0,0,0,0,null,null,null,"Bus, Diesel",{"$f":"$BY48*'Hilfsblatt Kostensätze Umwelt'!O48/100","v":0},{"$f":"$BZ48*'Hilfsblatt Kostensätze Umwelt'!P48/100","v":0},{"$f":"$CA48*'Hilfsblatt Kostensätze Umwelt'!Q48/100","v":0},{"$f":"$CB48*'Hilfsblatt Kostensätze Umwelt'!R48/100","v":0},null,null,null,null,null,null,null,"Bus, Diesel",{"$f":"$BY48*'Hilfsblatt Kostensätze Umwelt'!AA48/100","v":0},{"$f":"$BZ48*'Hilfsblatt Kostensätze Umwelt'!AB48/100","v":0},{"$f":"$CA48*'Hilfsblatt Kostensätze Umwelt'!AC48/100","v":0},{"$f":"$CB48*'Hilfsblatt Kostensätze Umwelt'!AD48/100","v":0},null,null,null,null,null,null,null,"Bus, Diesel",{"$f":"Eingabevariablen!$C60*'Hilfsblatt Kostensätze Umwelt'!AM48/100","v":0},{"$f":"Eingabevariablen!$D60*'Hilfsblatt Kostensätze Umwelt'!AN48/100","v":0},{"$f":"Eingabevariablen!$E60*'Hilfsblatt Kostensätze Umwelt'!AO48/100","v":0},{"$f":"Eingabevariablen!$F60*'Hilfsblatt Kostensätze Umwelt'!AP48/100","v":0},null,null,null,null,null,null,null,"Bus, Diesel",{"$f":"Eingabevariablen!$C60*'Hilfsblatt Kostensätze Umwelt'!AY48/100","v":0},{"$f":"Eingabevariablen!$D60*'Hilfsblatt Kostensätze Umwelt'!AZ48/100","v":0},{"$f":"Eingabevariablen!$E60*'Hilfsblatt Kostensätze Umwelt'!BA48/100","v":0},{"$f":"Eingabevariablen!$F60*'Hilfsblatt Kostensätze Umwelt'!BB48/100","v":0},null,null,null,null,null,null,null,"Bus, Diesel",{"$f":"$BY48*'Hilfsblatt Kostensätze Umwelt'!BK48/100","v":0},{"$f":"$BZ48*'Hilfsblatt Kostensätze Umwelt'!BL48/100","v":0},{"$f":"$CA48*'Hilfsblatt Kostensätze Umwelt'!BM48/100","v":0},{"$f":"$CB48*'Hilfsblatt Kostensätze Umwelt'!BN48/100","v":0},null,null,null,null,null,null,null,null,"Bus, Diesel",{"$f":"Eingabevariablen!C60*(1+Eingabevariablen!$C$118)","v":0},{"$f":"Eingabevariablen!D60*(1+Eingabevariablen!$C$118)","v":0},{"$f":"Eingabevariablen!E60*(1+Eingabevariablen!$C$118)","v":0},{"$f":"Eingabevariablen!F60*(1+Eingabevariablen!$C$118)","v":0}]
[null,"Krafträder, Benzin 4-Takt",0,0,0,0,null,0,0,0,0,null,null,null,"Krafträder, Benzin 4-Takt",{"$f":"$BY49*'Hilfsblatt Kostensätze Umwelt'!O49/100","v":0},{"$f":"$BZ49*'Hilfsblatt Kostensätze Umwelt'!P49/100","v":0},{"$f":"$CA49*'Hilfsblatt Kostensätze Umwelt'!Q49/100","v":0},{"$f":"$CB49*'Hilfsblatt Kostensätze Umwelt'!R49/100","v":0},null,null,null,null,null,null,null,"Krafträder, Benzin 4-Takt",{"$f":"$BY49*'Hilfsblatt Kostensätze Umwelt'!AA49/100","v":0},{"$f":"$BZ49*'Hilfsblatt Kostensätze Umwelt'!AB49/100","v":0},{"$f":"$CA49*'Hilfsblatt Kostensätze Umwelt'!AC49/100","v":0},{"$f":"$CB49*'Hilfsblatt Kostensätze Umwelt'!AD49/100","v":0},null,null,null,null,null,null,null,"Krafträder, Benzin 4-Takt",{"$f":"Eingabevariablen!$C61*'Hilfsblatt Kostensätze Umwelt'!AM49/100","v":0},{"$f":"Eingabevariablen!$D61*'Hilfsblatt Kostensätze Umwelt'!AN49/100","v":0},{"$f":"Eingabevariablen!$E61*'Hilfsblatt Kostensätze Umwelt'!AO49/100","v":0},{"$f":"Eingabevariablen!$F61*'Hilfsblatt Kostensätze Umwelt'!AP49/100","v":0},null,null,null,null,null,null,null,"Krafträder, Benzin 4-Takt",{"$f":"Eingabevariablen!$C61*'Hilfsblatt Kostensätze Umwelt'!AY49/100","v":0},{"$f":"Eingabevariablen!$D61*'Hilfsblatt Kostensätze Umwelt'!AZ49/100","v":0},{"$f":"Eingabevariablen!$E61*'Hilfsblatt Kostensätze Umwelt'!BA49/100","v":0},{"$f":"Eingabevariablen!$F61*'Hilfsblatt Kostensätze Umwelt'!BB49/100","v":0},null,null,null,null,null,null,null,"Krafträder, Benzin 4-Takt",{"$f":"$BY49*'Hilfsblatt Kostensätze Umwelt'!BK49/100","v":0},{"$f":"$BZ49*'Hilfsblatt Kostensätze Umwelt'!BL49/100","v":0},{"$f":"$CA49*'Hilfsblatt Kostensätze Umwelt'!BM49/100","v":0},{"$f":"$CB49*'Hilfsblatt Kostensätze Umwelt'!BN49/100","v":0},null,null,null,null,null,null,null,null,"Krafträder, Benzin 4-Takt",{"$f":"Eingabevariablen!C61*(1+Eingabevariablen!$C$118)","v":0},{"$f":"Eingabevariablen!D61*(1+Eingabevariablen!$C$118)","v":0},{"$f":"Eingabevariablen!E61*(1+Eingabevariablen!$C$118)","v":0},{"$f":"Eingabevariablen!F61*(1+Eingabevariablen!$C$118)","v":0}]
[null,"Krafträder, Benzin 2-Takt",0,0,0,0,null,0,0,0,0,null,null,null,"Krafträder, Benzin 2-Takt",{"$f":"$BY50*'Hilfsblatt Kostensätze Umwelt'!O50/100","v":0},{"$f":"$BZ50*'Hilfsblatt Kostensätze Umwelt'!P50/100","v":0},{"$f":"$CA50*'Hilfsblatt Kostensätze Umwelt'!Q50/100","v":0},{"$f":"$CB50*'Hilfsblatt Kostensätze Umwelt'!R50/100","v":0},null,null,null,null,null,null,null,"Krafträder, Benzin 2-Takt",{"$f":"$BY50*'Hilfsblatt Kostensätze Umwelt'!AA50/100","v":0},{"$f":"$BZ50*'Hilfsblatt Kostensätze Umwelt'!AB50/100","v":0},{"$f":"$CA50*'Hilfsblatt Kostensätze Umwelt'!AC50/100","v":0},{"$f":"$CB50*'Hilfsblatt Kostensätze Umwelt'!AD50/100","v":0},null,null,null,null,null,null,null,"Krafträder, Benzin 2-Takt",{"$f":"Eingabevariablen!$C62*'Hilfsblatt Kostensätze Umwelt'!AM50/100","v":0},{"$f":"Eingabevariablen!$D62*'Hilfsblatt Kostensätze Umwelt'!AN50/100","v":0},{"$f":"Eingabevariablen!$E62*'Hilfsblatt Kostensätze Umwelt'!AO50/100","v":0},{"$f":"Eingabevariablen!$F62*'Hilfsblatt Kostensätze Umwelt'!AP50/100","v":0},null,null,null,null,null,null,null,"Krafträder, Benzin 2-Takt",{"$f":"Eingabevariablen!$C62*'Hilfsblatt Kostensätze Umwelt'!AY50/100","v":0},{"$f":"Eingabevariablen!$D62*'Hilfsblatt Kostensätze Umwelt'!AZ50/100","v":0},{"$f":"Eingabevariablen!$E62*'Hilfsblatt Kostensätze Umwelt'!BA50/100","v":0},{"$f":"Eingabevariablen!$F62*'Hilfsblatt Kostensätze Umwelt'!BB50/100","v":0},null,null,null,null,null,null,null,"Krafträder, Benzin 2-Takt",{"$f":"$BY50*'Hilfsblatt Kostensätze Umwelt'!BK50/100","v":0},{"$f":"$BZ50*'Hilfsblatt Kostensätze Umwelt'!BL50/100","v":0},{"$f":"$CA50*'Hilfsblatt Kostensätze Umwelt'!BM50/100","v":0},{"$f":"$CB50*'Hilfsblatt Kostensätze Umwelt'!BN50/100","v":0},null,null,null,null,null,null,null,null,"Krafträder, Benzin 2-Takt",{"$f":"Eingabevariablen!C62*(1+Eingabevariablen!$C$118)","v":0},{"$f":"Eingabevariablen!D62*(1+Eingabevariablen!$C$118)","v":0},{"$f":"Eingabevariablen!E62*(1+Eingabevariablen!$C$118)","v":0},{"$f":"Eingabevariablen!F62*(1+Eingabevariablen!$C$118)","v":0}]
[null,"Personenzug, Diesel",0,0,0,null,null,0,0,0,0,null,null,null,"Personenzug, Diesel",{"$f":"$BY51*'Hilfsblatt Kostensätze Umwelt'!O51/100","v":0},{"$f":"$BZ51*'Hilfsblatt Kostensätze Umwelt'!P51/100","v":0},{"$f":"$CA51*'Hilfsblatt Kostensätze Umwelt'!Q51/100","v":0},null,null,null,null,null,null,null,null,"Personenzug, Diesel",{"$f":"$BY51*'Hilfsblatt Kostensätze Umwelt'!AA51/100","v":0},{"$f":"$BZ51*'Hilfsblatt Kostensätze Umwelt'!AB51/100","v":0},{"$f":"$CA51*'Hilfsblatt Kostensätze Umwelt'!AC51/100","v":0},null,null,null,null,null,null,null,null,"Personenzug, Diesel",{"$f":"Eingabevariablen!$C88*'Hilfsblatt Kostensätze Umwelt'!AM51/100","v":0},{"$f":"Eingabevariablen!$D88*'Hilfsblatt Kostensätze Umwelt'!AN51/100","v":0},{"$f":"Eingabevariablen!$E88*'Hilfsblatt Kostensätze Umwelt'!AO51/100","v":0},null,null,null,null,null,null,null,null,"Personenzug, Diesel",{"$f":"Eingabevariablen!$C88*'Hilfsblatt Kostensätze Umwelt'!AY51/100","v":0},{"$f":"Eingabevariablen!$D88*'Hilfsblatt Kostensätze Umwelt'!AZ51/100","v":0},{"$f":"Eingabevariablen!$E88*'Hilfsblatt Kostensätze Umwelt'!BA51/100","v":0},null,null,null,null,null,null,null,null,"Personenzug, Diesel",{"$f":"$BY51*'Hilfsblatt Kostensätze Umwelt'!BK51/100","v":0},{"$f":"$BZ51*'Hilfsblatt Kostensätze Umwelt'!BL51/100","v":0},{"$f":"$CA51*'Hilfsblatt Kostensätze Umwelt'!BM51/100","v":0},null,null,null,null,null,null,null,null,"Schienenverkehr: ","Personenzug, Diesel",{"$f":"Eingabevariablen!C88*(1+Eingabevariablen!$C$118)","v":0},{"$f":"Eingabevariablen!D88*(1+Eingabevariablen!$C$118)","v":0},{"$f":"Eingabevariablen!E88*(1+Eingabevariablen!$C$118)","v":0}]
[null,"Personenzug, elektrisch",0,0,0,null,null,0,0,0,0,null,null,null,"Personenzug, elektrisch",{"$f":"$BY52*'Hilfsblatt Kostensätze Umwelt'!O52/100","v":0},{"$f":"$BZ52*'Hilfsblatt Kostensätze Umwelt'!P52/100","v":0},{"$f":"$CA52*'Hilfsblatt Kostensätze Umwelt'!Q52/100","v":0},null,null,null,null,null,null,null,null,"Personenzug, elektrisch",{"$f":"$BY52*'Hilfsblatt Kostensätze Umwelt'!AA52/100","v":0},{"$f":"$BZ52*'Hilfsblatt Kostensätze Umwelt'!AB52/100","v":0},{"$f":"$CA52*'Hilfsblatt Kostensätze Umwelt'!AC52/100","v":0},null,null,null,null,null,null,null,null,"Personenzug, elektrisch",{"$f":"Eingabevariablen!$C89*'Hilfsblatt Kostensätze Umwelt'!AM52/100","v":0},{"$f":"Eingabevariablen!$D89*'Hilfsblatt Kostensätze Umwelt'!AN52/100","v":0},{"$f":"Eingabevariablen!$E89*'Hilfsblatt Kostensätze Umwelt'!AO52/100","v":0},null,null,null,null,null,null,null,null,"Personenzug, elektrisch",{"$f":"Eingabevariablen!$C89*'Hilfsblatt Kostensätze Umwelt'!AY52/100","v":0},{"$f":"Eingabevariablen!$D89*'Hilfsblatt Kostensätze Umwelt'!AZ52/100","v":0},{"$f":"Eingabevariablen!$E89*'Hilfsblatt Kostensätze Umwelt'!BA52/100","v":0},null,null,null,null,null,null,null,null,"Personenzug, elektrisch",{"$f":"$BY52*'Hilfsblatt Kostensätze Umwelt'!BK52/100","v":0},{"$f":"$BZ52*'Hilfsblatt Kostensätze Umwelt'!BL52/100","v":0},{"$f":"$CA52*'Hilfsblatt Kostensätze Umwelt'!BM52/100","v":0},null,null,null,null,null,null,null,null,null,"Personenzug, elektrisch",{"$f":"Eingabevariablen!C89*(1+Eingabevariablen!$C$118)","v":0},{"$f":"Eingabevariablen!D89*(1+Eingabevariablen!$C$118)","v":0},{"$f":"Eingabevariablen!E89*(1+Eingabevariablen!$C$118)","v":0}]
[null,"Güterzug, Diesel",0,0,0,null,null,0,0,0,0,null,null,null,"Güterzug, Diesel",{"$f":"$BY53*'Hilfsblatt Kostensätze Umwelt'!O53/100","v":0},{"$f":"$BZ53*'Hilfsblatt Kostensätze Umwelt'!P53/100","v":0},{"$f":"$CA53*'Hilfsblatt Kostensätze Umwelt'!Q53/100","v":0},null,null,null,null,null,null,null,null,"Güterzug, Diesel",{"$f":"$BY53*'Hilfsblatt Kostensätze Umwelt'!AA53/100","v":0},{"$f":"$BZ53*'Hilfsblatt Kostensätze Umwelt'!AB53/100","v":0},{"$f":"$CA53*'Hilfsblatt Kostensätze Umwelt'!AC53/100","v":0},null,null,null,null,null,null,null,null,"Güterzug, Diesel",{"$f":"Eingabevariablen!$C90*'Hilfsblatt Kostensätze Umwelt'!AM53/100","v":0},{"$f":"Eingabevariablen!$D90*'Hilfsblatt Kostensätze Umwelt'!AN53/100","v":0},{"$f":"Eingabevariablen!$E90*'Hilfsblatt Kostensätze Umwelt'!AO53/100","v":0},null,null,null,null,null,null,null,null,"Güterzug, Diesel",{"$f":"Eingabevariablen!$C90*'Hilfsblatt Kostensätze Umwelt'!AY53/100","v":0},{"$f":"Eingabevariablen!$D90*'Hilfsblatt Kostensätze Umwelt'!AZ53/100","v":0},{"$f":"Eingabevariablen!$E90*'Hilfsblatt Kostensätze Umwelt'!BA53/100","v":0},null,null,null,null,null,null,null,null,"Güterzug, Diesel",{"$f":"$BY53*'Hilfsblatt Kostensätze Umwelt'!BK53/100","v":0},{"$f":"$BZ53*'Hilfsblatt Kostensätze Umwelt'!BL53/100","v":0},{"$f":"$CA53*'Hilfsblatt Kostensätze Umwelt'!BM53/100","v":0},null,null,null,null,null,null,null,null,null,"Güterzug, Diesel",{"$f":"Eingabevariablen!C90*(1+Eingabevariablen!$C$118)","v":0},{"$f":"Eingabevariablen!D90*(1+Eingabevariablen!$C$118)","v":0},{"$f":"Eingabevariablen!E90*(1+Eingabevariablen!$C$118)","v":0}]
[null,"Güterzug, elektrisch",0,0,0,null,null,0,0,0,0,null,null,null,"Güterzug, elektrisch",{"$f":"$BY54*'Hilfsblatt Kostensätze Umwelt'!O54/100","v":0},{"$f":"$BZ54*'Hilfsblatt Kostensätze Umwelt'!P54/100","v":0},{"$f":"$CA54*'Hilfsblatt Kostensätze Umwelt'!Q54/100","v":0},null,null,null,null,null,null,null,null,"Güterzug, elektrisch",{"$f":"$BY54*'Hilfsblatt Kostensätze Umwelt'!AA54/100","v":0},{"$f":"$BZ54*'Hilfsblatt Kostensätze Umwelt'!AB54/100","v":0},{"$f":"$CA54*'Hilfsblatt Kostensätze Umwelt'!AC54/100","v":0},null,null,null,null,null,null,null,null,"Güterzug, elektrisch",{"$f":"Eingabevariablen!$C91*'Hilfsblatt Kostensätze Umwelt'!AM54/100","v":0},{"$f":"Eingabevariablen!$D91*'Hilfsblatt Kostensätze Umwelt'!AN54/100","v":0},{"$f":"Eingabevariablen!$E91*'Hilfsblatt Kostensätze Umwelt'!AO54/100","v":0},null,null,null,null,null,null,null,null,"Güterzug, elektrisch",{"$f":"Eingabevariablen!$C91*'Hilfsblatt Kostensätze Umwelt'!AY54/100","v":0},{"$f":"Eingabevariablen!$D91*'Hilfsblatt Kostensätze Umwelt'!AZ54/100","v":0},{"$f":"Eingabevariablen!$E91*'Hilfsblatt Kostensätze Umwelt'!BA54/100","v":0},null,null,null,null,null,null,null,null,"Güterzug, elektrisch",{"$f":"$BY54*'Hilfsblatt Kostensätze Umwelt'!BK54/100","v":0},{"$f":"$BZ54*'Hilfsblatt Kostensätze Umwelt'!BL54/100","v":0},{"$f":"$CA54*'Hilfsblatt Kostensätze Umwelt'!BM54/100","v":0},null,null,null,null,null,null,null,null,null,"Güterzug, elektrisch",{"$f":"Eingabevariablen!C91*(1+Eingabevariablen!$C$118)","v":0},{"$f":"Eingabevariablen!D91*(1+Eingabevariablen!$C$118)","v":0},{"$f":"Eingabevariablen!E91*(1+Eingabevariablen!$C$118)","v":0}]
[null,"Binnengüterschiff",0,null,null,null,null,0,null,null,null,null,null,null,"Binnengüterschiff",{"$f":"$BY55*'Hilfsblatt Kostensätze Umwelt'!O55/100","v":0},null,null,null,null,null,null,null,null,null,null,"Binnengüterschiff",{"$f":"$BY55*'Hilfsblatt Kostensätze Umwelt'!AA55/100","v":0},null,null,null,null,null,null,null,null,null,null,"Binnengüterschiff",{"$f":"Eingabevariablen!$C109*'Hilfsblatt Kostensätze Umwelt'!AM55/100","v":0},null,null,null,null,null,null,null,null,null,null,"Binnengüterschiff",{"$f":"Eingabevariablen!$C109*'Hilfsblatt Kostensätze Umwelt'!AY55/100","v":0},null,null,null,null,null,null,null,null,null,null,"Binnengüterschiff",{"$f":"$BY55*'Hilfsblatt Kostensätze Umwelt'!BK55/100","v":0},null,null,null,null,null,null,null,null,null,null,"Schiffsverkehr: ","Binnengüterschiff",{"$f":"Eingabevariablen!C109*(1+Eingabevariablen!$C$118)","v":0}]
[null,"Luftverkehr, Europa-/Kontinentalflug",0,null,null,null,null,0,null,null,null,null,null,null,"Luftverkehr, Europa-/Kontinentalflug",{"$f":"$BY56*'Hilfsblatt Kostensätze Umwelt'!O56/100","v":0},null,null,null,null,null,null,null,null,null,null,"Luftverkehr, Europa-/Kontinentalflug",{"$f":"$BY56*'Hilfsblatt Kostensätze Umwelt'!AA56/100","v":0},null,null,null,null,null,null,null,null,null,null,"Luftverkehr, Europa-/Kontinentalflug",{"$f":"Eingabevariablen!$C113*'Hilfsblatt Kostensätze Umwelt'!AM56/100","v":0},null,null,null,null,null,null,null,null,null,null,"Luftverkehr, Europa-/Kontinentalflug",{"$f":"Eingabevariablen!$C113*'Hilfsblatt Kostensätze Umwelt'!AY56/100","v":0},null,null,null,null,null,null,null,null,null,null,"Luftverkehr, Europa-/Kontinentalflug",{"$f":"$BY56*'Hilfsblatt Kostensätze Umwelt'!BK56/100","v":0},null,null,null,null,null,null,null,null,null,null,"Luftverkehr: ","Luftverkehr, Europa-/Kontinentalflug",{"$f":"Eingabevariablen!C113*(1+Eingabevariablen!$C$118)","v":0}]
[]
[]
[]
["B. Nach Wirkungskategorien"]
[]
["1. Luftschadstoffemissionen"]
[]
[null,"in Euro"]
[null,"Quelle:","Quelle unbekannt","Verkehr",null,"Kraftwerk/Energie","Industrie","Kleinfeuerung"]
[null,"Kosten",null,"Innerorts (Durchschnitt)","Außerorts",null,null,"Innerorts","Außerorts","Total"]
[null,"Partikel (Feinstaub) grob PM10",{"$f":"Eingabevariablen!C206*'Hilfsblatt Kostensätze Umwelt'!C69","v":0},{"$f":"Eingabevariablen!D206*'Hilfsblatt Kostensätze Umwelt'!D69","v":0},{"$f":"Eingabevariablen!E206*'Hilfsblatt Kostensätze Umwelt'!E69","v":0},{"$f":"Eingabevariablen!F206*'Hilfsblatt Kostensätze Umwelt'!F69","v":0},{"$f":"Eingabevariablen!G206*'Hilfsblatt Kostensätze Umwelt'!G69","v":0},{"$f":"Eingabevariablen!H206*'Hilfsblatt Kostensätze Umwelt'!H69","v":0},{"$f":"Eingabevariablen!I206*'Hilfsblatt Kostensätze Umwelt'!I69","v":0},{"$f":"SUM(C67:I67)","v":0}]
[null,"Partikel (Feinstaub) fein PM2.5",{"$f":"Eingabevariablen!C207*'Hilfsblatt Kostensätze Umwelt'!C70","v":0},{"$f":"Eingabevariablen!D207*'Hilfsblatt Kostensätze Umwelt'!D70","v":0},{"$f":"Eingabevariablen!E207*'Hilfsblatt Kostensätze Umwelt'!E70","v":0},{"$f":"Eingabevariablen!F207*'Hilfsblatt Kostensätze Umwelt'!F70","v":0},{"$f":"Eingabevariablen!G207*'Hilfsblatt Kostensätze Umwelt'!G70","v":0},{"$f":"Eingabevariablen!H207*'Hilfsblatt Kostensätze Umwelt'!H70","v":0},{"$f":"Eingabevariablen!I207*'Hilfsblatt Kostensätze Umwelt'!I70","v":0},{"$f":"SUM(C68:I68)","v":0}]
[null,"Stickoxide NOx",{"$f":"Eingabevariablen!C208*'Hilfsblatt Kostensätze Umwelt'!C71","v":0},{"$f":"Eingabevariablen!D208*'Hilfsblatt Kostensätze Umwelt'!D71","v":0},{"$f":"Eingabevariablen!E208*'Hilfsblatt Kostensätze Umwelt'!E71","v":0},{"$f":"Eingabevariablen!F208*'Hilfsblatt Kostensätze Umwelt'!F71","v":0},{"$f":"Eingabevariablen!G208*'Hilfsblatt Kostensätze Umwelt'!G71","v":0},{"$f":"Eingabevariablen!H208*'Hilfsblatt Kostensätze Umwelt'!H71","v":0},{"$f":"Eingabevariablen!I208*'Hilfsblatt Kostensätze Umwelt'!I71","v":0},0]
[null,"Schwefeldioxid SO2",{"$f":"Eingabevariablen!C209*'Hilfsblatt Kostensätze Umwelt'!C72","v":0},{"$f":"Eingabevariablen!D209*'Hilfsblatt Kostensätze Umwelt'!D72","v":0},{"$f":"Eingabevariablen!E209*'Hilfsblatt Kostensätze Umwelt'!E72","v":0},{"$f":"Eingabevariablen!F209*'Hilfsblatt Kostensätze Umwelt'!F72","v":0},{"$f":"Eingabevariablen!G209*'Hilfsblatt Kostensätze Umwelt'!G72","v":0},{"$f":"Eingabevariablen!H209*'Hilfsblatt Kostensätze Umwelt'!H72","v":0},{"$f":"Eingabevariablen!I209*'Hilfsblatt Kostensätze Umwelt'!I72","v":0},0]
[null,"Flüchtige Kohlenwasserstoffe NMVOC",{"$f":"Eingabevariablen!C210*'Hilfsblatt Kostensätze Umwelt'!C73","v":0},{"$f":"Eingabevariablen!D210*'Hilfsblatt Kostensätze Umwelt'!D73","v":0},{"$f":"Eingabevariablen!E210*'Hilfsblatt Kostensätze Umwelt'!E73","v":0},{"$f":"Eingabevariablen!F210*'Hilfsblatt Kostensätze Umwelt'!F73","v":0},{"$f":"Eingabevariablen!G210*'Hilfsblatt Kostensätze Umwelt'!G73","v":0},{"$f":"Eingabevariablen!H210*'Hilfsblatt Kostensätze Umwelt'!H73","v":0},{"$f":"Eingabevariablen!I210*'Hilfsblatt Kostensätze Umwelt'!I73","v":0},0]
[null,"Ammoniak NH3",{"$f":"Eingabevariablen!C211*'Hilfsblatt Kostensätze Umwelt'!C74","v":0},{"$f":"Eingabevariablen!D211*'Hilfsblatt Kostensätze Umwelt'!D74","v":0},{"$f":"Eingabevariablen!E211*'Hilfsblatt Kostensätze Umwelt'!E74","v":0},{"$f":"Eingabevariablen!F211*'Hilfsblatt Kostensätze Umwelt'!F74","v":0},{"$f":"Eingabevariablen!G211*'Hilfsblatt Kostensätze Umwelt'!G74","v":0},{"$f":"Eingabevariablen!H211*'Hilfsblatt Kostensätze Umwelt'!H74","v":0},{"$f":"Eingabevariablen!I211*'Hilfsblatt Kostensätze Umwelt'!I74","v":0},0]
[]
[]
[]
[]
["2. Treibhausgasemissionen"]
[]
[]
[null,"in Euro"]
[null,"Schadstoff","in EUR"]
[null,"Kohlendioxid (CO2)",{"$f":"Eingabevariablen!C238*'Hilfsblatt Kostensätze Umwelt'!C82","v":0}]
[null,"Methan (CH4)",{"$f":"Eingabevariablen!C239*'Hilfsblatt Kostensätze Umwelt'!C83","v":0}]
[null,"Lachgas (N2O)",{"$f":"Eingabevariablen!C240*'Hilfsblatt Kostensätze Umwelt'!C84","v":0}]
[null,"Treibhausgase total (in CO2-Äquivalent)",{"$f":"Eingabevariablen!C241*'Hilfsblatt Kostensätze Umwelt'!C85","v":0}]
[]
[]
[]
["3. Lärmemissionen"]
[]
[]
[null,"in EUR"]
[null,"Kosten pro belastete Personen je Lärmklasse \n(Dezibel-Klasse)","Quelle: Verkehr",null,null,"Quelle: unbekannt"]
[null,"Lärmbelastung (Lden (dB(A))","Strassenverkehr","Schienenverkehr","Luftverkehr"]
[null,"45 dB",{"$f":"Eingabevariablen!C250*'Hilfsblatt Kostensätze Umwelt'!C95","v":0},{"$f":"Eingabevariablen!D250*'Hilfsblatt Kostensätze Umwelt'!D95","v":0},{"$f":"Eingabevariablen!E250*'Hilfsblatt Kostensätze Umwelt'!E95","v":0},{"$f":"Eingabevariablen!F250*'Hilfsblatt Kostensätze Umwelt'!F95","v":0}]
[null,"50 dB",{"$f":"Eingabevariablen!C251*'Hilfsblatt Kostensätze Umwelt'!C96","v":0},{"$f":"Eingabevariablen!D251*'Hilfsblatt Kostensätze Umwelt'!D96","v":0},{"$f":"Eingabevariablen!E251*'Hilfsblatt Kostensätze Umwelt'!E96","v":0},{"$f":"Eingabevariablen!F251*'Hilfsblatt Kostensätze Umwelt'!F96","v":0}]
[null,"55 dB",{"$f":"Eingabevariablen!C252*'Hilfsblatt Kostensätze Umwelt'!C97","v":0},{"$f":"Eingabevariablen!D252*'Hilfsblatt Kostensätze Umwelt'!D97","v":0},{"$f":"Eingabevariablen!E252*'Hilfsblatt Kostensätze Umwelt'!E97","v":0},{"$f":"Eingabevariablen!F252*'Hilfsblatt Kostensätze Umwelt'!F97","v":0}]
[null,"60 dB",{"$f":"Eingabevariablen!C253*'Hilfsblatt Kostensätze Umwelt'!C98","v":0},{"$f":"Eingabevariablen!D253*'Hilfsblatt Kostensätze Umwelt'!D98","v":0},{"$f":"Eingabevariablen!E253*'Hilfsblatt Kostensätze Umwelt'!E98","v":0},{"$f":"Eingabevariablen!F253*'Hilfsblatt Kostensätze Umwelt'!F98","v":0}]
[null,"65 dB",{"$f":"Eingabevariablen!C254*'Hilfsblatt Kostensätze Umwelt'!C99","v":0},{"$f":"Eingabevariablen!D254*'Hilfsblatt Kostensätze Umwelt'!D99","v":0},{"$f":"Eingabevariablen!E254*'Hilfsblatt Kostensätze Umwelt'!E99","v":0},{"$f":"Eingabevariablen!F254*'Hilfsblatt Kostensätze Umwelt'!F99","v":0}]
[null,"70 dB",{"$f":"Eingabevariablen!C255*'Hilfsblatt Kostensätze Umwelt'!C100","v":0},{"$f":"Eingabevariablen!D255*'Hilfsblatt Kostensätze Umwelt'!D100","v":0},{"$f":"Eingabevariablen!E255*'Hilfsblatt Kostensätze Umwelt'!E100","v":0},{"$f":"Eingabevariablen!F255*'Hilfsblatt Kostensätze Umwelt'!F100","v":0}]
[null,"75 dB",{"$f":"Eingabevariablen!C256*'Hilfsblatt Kostensätze Umwelt'!C101","v":0},{"$f":"Eingabevariablen!D256*'Hilfsblatt Kostensätze Umwelt'!D101","v":0},{"$f":"Eingabevariablen!E256*'Hilfsblatt Kostensätze Umwelt'!E101","v":0},{"$f":"Eingabevariablen!F256*'Hilfsblatt Kostensätze Umwelt'!F101","v":0}]
[null,"80 dB",{"$f":"Eingabevariablen!C257*'Hilfsblatt Kostensätze Umwelt'!C102","v":0},{"$f":"Eingabevariablen!D257*'Hilfsblatt Kostensätze Umwelt'!D102","v":0},{"$f":"Eingabevariablen!E257*'Hilfsblatt Kostensätze Umwelt'!E102","v":0},{"$f":"Eingabevariablen!F257*'Hilfsblatt Kostensätze Umwelt'!F102","v":0}]
[null,"≥81 dB",{"$f":"Eingabevariablen!C258*'Hilfsblatt Kostensätze Umwelt'!C103","v":0},{"$f":"Eingabevariablen!D258*'Hilfsblatt Kostensätze Umwelt'!D103","v":0},{"$f":"Eingabevariablen!E258*'Hilfsblatt Kostensätze Umwelt'!E103","v":0},{"$f":"Eingabevariablen!F258*'Hilfsblatt Kostensätze Umwelt'!F103","v":0}]
[]
[]
["4. Beeinträchtigung von Ökosystemen"]
[]
[]
[]
["a. Flächenumwandlung, Verbauung natürlicher Flächen, Versiegelung"]
[null,null,"in EUR"]
[null,"Kosten der versiegelten Fläche (total)",{"$f":"Eingabevariablen!C306*10^6*'Hilfsblatt Kostensätze Umwelt'!C112","v":0},"in Euro total"]
[null,"Kosten pro Jahr",{"$f":"Eingabevariablen!C306*10^6*'Hilfsblatt Kostensätze Umwelt'!C114","v":0},"in Euro, pro Jahr"]
[]
[]
["b. Landnutzungsänderung, Nutzungsintenvisierung"]
[]
[null,"Kosten in Euro: Total bzw. pro Jahr",null,null,null,"in EUR","in EUR"]
[null,null,null,null,"Kostensatz Vollverlust, in EUR/m2 2010","Vollverlust, in EUR 2010 total","Vollverlust, in EUR 2010 pro Jahr"]
[null,"bisherige Nutzungsform",{"$f":"Eingabevariablen!$C$179:$D$179","v":"Durchschnitt Deutschland (alle Biotoptypen)"},null,{"$f":"VLOOKUP($C120,'Hilfsblatt Kostensätze Umwelt'!$B$119:$C$141,2,FALSE)","v":5.5060832022984991},{"$f":"(Eingabevariablen!$C$178)*10^6*'Hilfsblatt Ber. Umweltkosten 1'!$E120","v":0},{"$f":"-PMT('Hilfsblatt Kostensätze Umwelt'!$C$113,100,$F120)","v":0}]
[null,"neue Nutzungsform",{"$f":"Eingabevariablen!$C$180:$D$180","v":"Ackerland"},null,{"$f":"VLOOKUP($C121,'Hilfsblatt Kostensätze Umwelt'!$B$119:$C$141,2,FALSE)","v":0.62419797639422125},{"$f":"(Eingabevariablen!$C$178)*10^6*'Hilfsblatt Ber. Umweltkosten 1'!$E121","v":0},{"$f":"-PMT('Hilfsblatt Kostensätze Umwelt'!$C$113,100,$F121)","v":0}]
[null,"Delta = Kosten der Nutzungsänderung",null,null,{"$f":"E120-E121","v":4.881885225904278},{"$f":"F120-F121","v":0},{"$f":"G120-G121","v":0}]
[]
[]
[]
[]
[]
[]
[]
[]
[]
[]
[]
[]
[]
[]
[]
[]
[]
[]
[]
[]
[]
[]
[]
[]
[]
["c. Nährstoffeintrag"]
[]
[null,"Kosten pro kg Stickstoff (N)","in Euro"]
[null,"Stickstoff-Verbindungen",{"$f":"Eingabevariablen!$C$184*1000*'Hilfsblatt Kostensätze Umwelt'!$C$151","v":0},"in Euro"]
[]
["d. Schadstoffeinträge ins Meer"]
[]
[null,"Kosten Schadstoffeinträge ins Meer","in Euro"]
[null,"Stickstoffeintrag ins Meer",{"$f":"Eingabevariablen!C289*'Hilfsblatt Kostensätze Umwelt'!C156","v":0},"in Euro"]
[null,"Abfallmenge, ins Meer",{"$f":"Eingabevariablen!C290*'Hilfsblatt Kostensätze Umwelt'!C157","v":0},"in Euro"]
[null,"Ölmenge, ins Meer",{"$f":"Eingabevariablen!C291*IF(Eingabevariablen!$C$293='Hilfsblatt Kostensätze Umwelt'!J158,'Hilfsblatt Kostensätze Umwelt'!C158,'Hilfsblatt Kostensätze Umwelt'!D158)","v":0},"in Euro"]
[]
["e. Zerschneidung der Landschaft durch Verkehrswege"]
[null,null,"total","pro Jahr"]
[null,"Kosten (zusätzlicher) Verkehrsinfrastrukturen","in Euro, total","in Euro, pro Jahr"]
[null,"Straße: Autobahn, Bundesstraße",{"$f":"Eingabevariablen!$C297*'Hilfsblatt Kostensätze Umwelt'!C163","v":0},{"$f":"Eingabevariablen!$C297*'Hilfsblatt Kostensätze Umwelt'!D163","v":0}]
[null,"Straße: Hauptstraße",{"$f":"Eingabevariablen!$C298*'Hilfsblatt Kostensätze Umwelt'!C164","v":0},{"$f":"Eingabevariablen!$C298*'Hilfsblatt Kostensätze Umwelt'!D164","v":0}]
[null,"Straße: Nebenstraße",{"$f":"Eingabevariablen!$C299*'Hilfsblatt Kostensätze Umwelt'!C165","v":0},{"$f":"Eingabevariablen!$C299*'Hilfsblatt Kostensätze Umwelt'!D165","v":0}]
[null,"Schiene: mehrspurig",{"$f":"Eingabevariablen!$C300*'Hilfsblatt Kostensätze Umwelt'!C166","v":0},{"$f":"Eingabevariablen!$C300*'Hilfsblatt Kostensätze Umwelt'!D166","v":0}]
[null,"Schiene: einspurig",{"$f":"Eingabevariablen!$C301*'Hilfsblatt Kostensätze Umwelt'!C167","v":0},{"$f":"Eingabevariablen!$C301*'Hilfsblatt Kostensätze Umwelt'!D167","v":0}]
[null,"Flugplatz, Flughafen",{"$f":"Eingabevariablen!$C302*'Hilfsblatt Kostensätze Umwelt'!C168","v":0},{"$f":"Eingabevariablen!$C302*'Hilfsblatt Kostensätze Umwelt'!D168","v":0}]
[]
[]
["5. Emission toxischer Stoffe"]
[]
[]
[]
[null,"Kosten der Emission toxischer Stoffe","in Euro"]
[null,"Schwermetalle:"]
[null,"Arsen (As)",{"$f":"Eingabevariablen!C313*'Hilfsblatt Kostensätze Umwelt'!C177","v":0}]
[null,"Cadmium (Cd)",{"$f":"Eingabevariablen!C314*'Hilfsblatt Kostensätze Umwelt'!C178","v":0}]
[null,"Chrom (Cr)",{"$f":"Eingabevariablen!C315*'Hilfsblatt Kostensätze Umwelt'!C179","v":0}]
[null,"Nickel (Ni)",{"$f":"Eingabevariablen!C316*'Hilfsblatt Kostensätze Umwelt'!C180","v":0}]
[null,"Quecksilber (Hg)",{"$f":"Eingabevariablen!C317*'Hilfsblatt Kostensätze Umwelt'!C181","v":0}]
[null,"Blei (Pb)",{"$f":"Eingabevariablen!C318*'Hilfsblatt Kostensätze Umwelt'!C182","v":0}]
[null,"Langlebige organische Schadstoffe (POPs):"]
[null,"Dioxine",{"$f":"Eingabevariablen!C320*'Hilfsblatt Kostensätze Umwelt'!C184","v":0}]
[null,"Furane",{"$f":"Eingabevariablen!C321*'Hilfsblatt Kostensätze Umwelt'!C185","v":0}]
[null,"Formaldehyd",{"$f":"Eingabevariablen!C322*'Hilfsblatt Kostensätze Umwelt'!C186","v":0}]
[null,"Pflanzenschutzmittel",{"$f":"Eingabevariablen!C323*'Hilfsblatt Kostensätze Umwelt'!C187","v":0}]
[null,"Insektizide",{"$f":"Eingabevariablen!C324*'Hilfsblatt Kostensätze Umwelt'!C188","v":0}]
[]
[]
["6. Indirekte Effekte vor- und nachgelagerte Prozesse"]
[]
[]
[]
[null,"Kosten der Schadstoffemissionen","in Euro"]
[null,"Partikel (Feinstaub) PM10",{"$f":"Eingabevariablen!C330*'Hilfsblatt Kostensätze Umwelt'!C196","v":0}]
[null,"Partikel (Feinstaub) fein PM2.5",{"$f":"Eingabevariablen!C331*'Hilfsblatt Kostensätze Umwelt'!C197","v":0}]
[null,"Stickoxide NOx",{"$f":"Eingabevariablen!C332*'Hilfsblatt Kostensätze Umwelt'!C198","v":0}]
[null,"Schwefeldioxid SO2",{"$f":"Eingabevariablen!C333*'Hilfsblatt Kostensätze Umwelt'!C199","v":0}]
[null,"Flüchtige Kohlenwasserstoffe NMVOC",{"$f":"Eingabevariablen!C334*'Hilfsblatt Kostensätze Umwelt'!C200","v":0}]
[null,"Ammoniak NH3",{"$f":"Eingabevariablen!C335*'Hilfsblatt Kostensätze Umwelt'!C201","v":0}]
[null,"Kohlendioxid (CO2)",{"$f":"Eingabevariablen!C336*'Hilfsblatt Kostensätze Umwelt'!C202","v":0}]
[null,"Methan (CH4)",{"$f":"Eingabevariablen!C337*'Hilfsblatt Kostensätze Umwelt'!C203","v":0}]
[null,"Lachgas (N2O)",{"$f":"Eingabevariablen!C338*'Hilfsblatt Kostensätze Umwelt'!C204","v":0}]
[null,"Treibhausgase total (in CO2-Äquivalent)",{"$f":"Eingabevariablen!C339*'Hilfsblatt Kostensätze Umwelt'!C205","v":0}]
[null,"Stickstoff-Verbindungen",{"$f":"Eingabevariablen!C340*'Hilfsblatt Kostensätze Umwelt'!C206","v":0}]
[]
[]
["9. Unfälle"]
[]
[null,"Anzahl Unfallopfer (Verkehrsunfälle)","in Euro"]
[null,"Leichtverletzte",{"$f":"Eingabevariablen!C346*'Hilfsblatt Kostensätze Umwelt'!D219","v":0}]
[null,"Schwerverletzte",{"$f":"Eingabevariablen!C347*'Hilfsblatt Kostensätze Umwelt'!D220","v":0}]
[null,"Todesopfer",{"$f":"Eingabevariablen!C348*'Hilfsblatt Kostensätze Umwelt'!D221","v":0}]
[]
[null,"Anzahl Verkehrsunfälle","in Euro"]
[null,"Strassenverkehrsunfälle generell",{"$f":"Eingabevariablen!C351*'Hilfsblatt Kostensätze Umwelt'!E225","v":0}]
[null,"Unfälle mit Personenwagen",{"$f":"Eingabevariablen!C352*'Hilfsblatt Kostensätze Umwelt'!E226","v":0}]
[null,"Unfälle mit Motorrädern",{"$f":"Eingabevariablen!C353*'Hilfsblatt Kostensätze Umwelt'!E227","v":0}]
[null,"Unfälle mit Güterschwerverkehr",{"$f":"Eingabevariablen!C354*'Hilfsblatt Kostensätze Umwelt'!E228","v":0}]
[null,"Unfälle mit öffentl. Personenverkehr",{"$f":"Eingabevariablen!C355*'Hilfsblatt Kostensätze Umwelt'!E229","v":0}]
[null,"Unfälle mit Fahrrädern",{"$f":"Eingabevariablen!C356*'Hilfsblatt Kostensätze Umwelt'!E230","v":0}]
[null,"Unfälle mit Fussgängern",{"$f":"Eingabevariablen!C357*'Hilfsblatt Kostensätze Umwelt'!E231","v":0}]
[null,"Schienenverkehrsunfälle: Personenverkehr",{"$f":"Eingabevariablen!C358*'Hilfsblatt Kostensätze Umwelt'!E232","v":0}]
[null,"Schienenverkehrsunfälle: Güterverkehr",{"$f":"Eingabevariablen!C359*'Hilfsblatt Kostensätze Umwelt'!E233","v":0}]
[null,"Luftverkehrsunfälle (ohne Grossereignisse)",{"$f":"Eingabevariablen!C360*'Hilfsblatt Kostensätze Umwelt'!E234","v":0}]
[]
[]
[]
[]
["Gesamtübersicht: Ergebnis Umweltkosten / Umweltnutzen"]
[]
["a. Nutzen pro Jahr",null,null,null,null,null,null,null,"b. Gesamtnutzen (-kosten) (bei Landnutzungsänderungen oder Versiegelung)"]
[]
["Nutzen/Kosten aus:","Nutzen (Kosten) in 1.000 Euro","Einheit","gerundet"]
["Luftschadstoffemissionen",{"$f":"-(SUM('Hilfsblatt Ber. Umweltkosten 1'!P16:P33,'Hilfsblatt Ber. Umweltkosten 1'!S16:S29,'Hilfsblatt Ber. Umweltkosten 1'!V16:V21,'Hilfsblatt Ber. Umweltkosten 1'!Y16:Y19,'Hilfsblatt Ber. Umweltkosten 1'!P43:S56,'Hilfsblatt Ber. Umweltkosten 1'!C67:I72)/1000)","v":0},{"$f":"\"1.000 € pro \"&Eingabevariablen!$J$49","v":"1.000 € pro Jahr"},{"$f":"ROUND(B236,-2)","v":0}]
["Treibhausgasemissionen",{"$f":"-(SUM('Hilfsblatt Ber. Umweltkosten 1'!AB16:AB33,'Hilfsblatt Ber. Umweltkosten 1'!AE16:AE29,'Hilfsblatt Ber. Umweltkosten 1'!AH16:AH21,'Hilfsblatt Ber. Umweltkosten 1'!AK16:AK19,'Hilfsblatt Ber. Umweltkosten 1'!AB43:AE56,'Hilfsblatt Ber. Umweltkosten 1'!C82:C85)/1000)","v":0},{"$f":"\"1.000 € pro \"&Eingabevariablen!$J$49","v":"1.000 € pro Jahr"},{"$f":"ROUND(B237,-2)","v":0}]
["Lärmemissionen",{"$f":"-(SUM('Hilfsblatt Ber. Umweltkosten 1'!AN43:AQ56,'Hilfsblatt Ber. Umweltkosten 1'!C95:F103)/1000)","v":0},{"$f":"\"1.000 € pro \"&Eingabevariablen!$J$49","v":"1.000 € pro Jahr"},0,null,null,null,null,"Beeinträchtigung von Ökosystemen:","Nutzen (Kosten) in 1.000 Euro","Einheit"]
["Beeinträchtigung von Ökosystemen",{"$f":"-(SUM('Hilfsblatt Ber. Umweltkosten 1'!AZ43:BC56,'Hilfsblatt Ber. Umweltkosten 1'!C113,'Hilfsblatt Ber. Umweltkosten 1'!G122,'Hilfsblatt Ber. Umweltkosten 1'!C151,'Hilfsblatt Ber. Umweltkosten 1'!C156:C158,'Hilfsblatt Ber. Umweltkosten 1'!D163:D168)/1000)","v":0},{"$f":"\"1.000 € pro \"&Eingabevariablen!$J$49","v":"1.000 € pro Jahr"},0,null,null,null,null,"Versiegelung & Landnutzungsänderung",{"$f":"-ROUND((SUM('Hilfsblatt Ber. Umweltkosten 1'!C112,'Hilfsblatt Ber. Umweltkosten 1'!F122)/1000),-3)","v":0},"1.000 € total"]
["Emission toxischer Stoffe",{"$f":"-(SUM('Hilfsblatt Ber. Umweltkosten 1'!C177:C182,'Hilfsblatt Ber. Umweltkosten 1'!C184:C188)/1000)","v":0},{"$f":"\"1.000 € pro \"&Eingabevariablen!$J$49","v":"1.000 € pro Jahr"},0,null,null,null,null,null,"nicht Jahreskosten, sondern Gesamtkosten"]
["Indirekte Effekte durch vor- und nachgelagerte Prozesse",{"$f":"-(SUM('Hilfsblatt Ber. Umweltkosten 1'!BL16:BL33,'Hilfsblatt Ber. Umweltkosten 1'!BO16:BO29,'Hilfsblatt Ber. Umweltkosten 1'!BR16:BR21,'Hilfsblatt Ber. Umweltkosten 1'!BU16:BU19,'Hilfsblatt Ber. Umweltkosten 1'!BL43:BO56,'Hilfsblatt Ber. Umweltkosten 1'!C196:C206)/1000)","v":0},{"$f":"\"1.000 € pro \"&Eingabevariablen!$J$49","v":"1.000 € pro Jahr"},0]
["Gesamtkosten (-nutzen) Umwelt",{"$f":"SUM(B236:B241)","v":0},"1.000 € pro Jahr",{"$f":"SUM(D236:D241)","v":0}]
["Unfälle",{"$f":"-(SUM(C212:C214,C217:C226)/1000)","v":0},{"$f":"\"1.000 € pro \"&Eingabevariablen!$J$49","v":"1.000 € pro Jahr"},0]
["Total Umwelt und Unfälle",{"$f":"B242+B243","v":0},"1.000 € pro Jahr",{"$f":"D242+D243","v":0}]
["Bemerkung: positives Vorzeichen = Nutzen = Reduktion von Kosten; negatives Vorzeichen = zusätzliche Kosten"]
[]
[]
[]
["Ermittlung Anteil der Betroffenheit (Kosten/Nutzen) der Wirtschaft: Deckelung, Kompensation"]
[]
[]
["1. Luftschadstoffemissionen"]
[]
["Folgen, Kostenbereiche","Konkrete Kosten","Betroffenheit Wirtschaft (qual.)","Anteil Gesamtkosten",null,null,null,null,null,"Quelle","Allokation Anteil Wirtschaft","Anteil Private","Quelle"]
[null,null,null,"Partikel grob PM10","Partikel fein PM2.5","Stickoxide NOx","Schwefeldioxid SO2","Flüchtige KW: NMVOC","Ammoniak NH3"]
["Gesundheitsschäden","Medizinische Behandlungs-kosten, Spitalkosten","Grundsätzlich private Kosten, aber durch Wirtschaft mitfinanziert über Arbeitgeberbeiträge Krankenversicherung",1.2E-2,{"$f":"$D256","v":1.2E-2},{"$f":"$D256","v":1.2E-2},{"$f":"$D256","v":1.2E-2},1.2E-2,1.2E-2,"Ecoplan, ARE 2014: Ext. Kosten Verkehr Schweiz 2010, Basis Strassen-verkehr",{"$f":"7.3/(7.3+7.3+0.9)","v":0.47096774193548385},{"$f":"(7.3+0.9)/(7.3+7.3+0.9)","v":0.52903225806451604},"Aktuelle Beitrags-sätze Arbeitgeber/-nehmer"]
[null,"Produktionsausfälle infolge Krankeiten","Kosten / Nutzen vollständig bei der Wirtschaft ",2.3E-2,{"$f":"$D257","v":2.3E-2},2.3E-2,2.3E-2,2.3E-2,2.3E-2,null,1,0]
[null,"Wiederbesetungskosten bei Unternehmen (Invalidität, Tod)","Kosten / Nutzen vollständig bei der Wirtschaft",3.0000000000000001E-3,3.0000000000000001E-3,3.0000000000000001E-3,3.0000000000000001E-3,3.0000000000000001E-3,3.0000000000000001E-3,null,1,0]
[null,"Immaterielle Kosten (Schmerz, Leid)","Vollständig bei Privaten",0.96199999999999997,0.96199999999999997,0.96199999999999997,0.96199999999999997,0.96199999999999997,0.96199999999999997,null,0,1]
[null,"Total Gesundheitskosten",null,1,1,{"$f":"12600/15400","v":0.81818181818181823},{"$f":"11900/13200","v":0.90151515151515149},{"$f":"1600/1900","v":0.84210526315789469},{"$f":"18200/26900","v":0.67657992565055758},"UBA MK 2.0 (basierend auf IER 2012 bzw. NEEDS)"]
["Gebäude- und Materialschäden","Reinigungskosten, Renovations-kosten von Immobilien","Immobilien im Besitz von Unternehmen (d.h. nicht von Privaten od. dem Staat)",0,0,{"$f":"100/15400","v":6.4935064935064939E-3},{"$f":"500/13200","v":3.787878787878788E-2},0,0,null,0.40799999999999997,0.59199999999999997,"Immobilienstatistik Destatis / Zensus 2011"]
["Ernteausfälle","Entgangene Ernteerträge","Kosten fallen direkt bei der Landwirtschaft an.",0,0,{"$f":"500/15400","v":3.2467532467532464E-2},0,{"$f":"300/1900","v":0.15789473684210525},0,null,1,0]
["Biodiversitätsverluste","Ökosystemschäden, Beeinträchtigung Ökosystem-schäden","Vor allem Private betroffen. Wirtschaft primär indirekt betroffen (über verminderte Ökosystemleistungen).",0,0,{"$f":"2200/15400","v":0.14285714285714285},{"$f":"800/13200","v":6.0606060606060608E-2},0,{"$f":"8700/26900","v":0.32342007434944237},null,0,1,"bisher keine Angaben verfügbar für Anteil Wirtsch."]
[null,null,null,{"$f":"SUM(D260:D263)","v":1},{"$f":"SUM(E260:E263)","v":1},1,1,1,1]
[null,null,null,{"$f":"SUM(D256:D259)","v":1},{"$f":"SUM(E256:E259)","v":1},1,1,1,1]
[]
["Anteil Wirtschaft",null,null,{"$f":"(D256*$K256+D257*$K257+D258*$K258+D259*$K259)*D$260+D261*$K261+D262*$K262+D263*$K263","v":3.1651612903225809E-2},3.1651612903225809E-2,6.1013657310431499E-2,4.3988954056695992E-2,0.18454872665534805,2.1414845904784745E-2]
["Anteil Private",null,null,{"$f":"(D256*$L256+D257*$L257+D258*$L258+D259*$L259)*D$260+D261*$L261+D262*$L262+D263*$L263","v":0.96834838709677418},0.96834838709677418,0.9389863426895686,0.95601104594330399,0.81545127334465184,0.97858515409521529]
["Gesamttotal",null,null,{"$f":"D267+D268","v":1},{"$f":"E267+E268","v":1},1,1,0.99999999999999989,1]
[null,"Mittelwert Energie","Anteil Wirtschaft",{"$f":"0.5*D267+0.3*E267+0.2*F267","v":3.7524021784666947E-2}]
[null,null,"Anteil Private",{"$f":"0.5*D268+0.3*E268+0.2*F268","v":0.96247597821533293}]
[null,"Mittelwert Verkehr","Anteil Wirtschaft",{"$f":"0.5*D267+0.1*E267+0.3*F267+0.1*G267","v":4.1693960340734533E-2}]
[null,null,"Anteil Private",{"$f":"0.5*D268+0.1*E268+0.3*F268+0.1*G268","v":0.95830603965926553}]
[]
[]
[]
["2. Treibhausgasemissionen"]
[]
["Folgen, Kostenbereiche","Konkrete Kosten","Betroffenheit Wirtschaft (qual.)","Anteil Gesamtkosten","Anteil Wirtschaft gerundet","Anteil Private, Staat","Quelle","Anteil Wirtschaft genau"]
["Gesundheitsschäden","Medizinische Behandlungs-kosten, Spitalkosten","Grundsätzlich private Kosten, aber durch Wirtschaft mitfinanziert über Arbeitgeberbeiträge Krankenversicherung","nur gesamthaft zu bestimmen, da Vermeidungskostenansatz.\n-> Abschätzung des Anteils der Schadenskosten, die die Wirtschaft treffen.\nDie Klimaschadenskosten- modelle können Wirtschaftsanteil nicht direkt bestimmen. Aus den Ergebnissen von Stern, FUND, PAGE zeigt sich aber, dass Klimakosten  Wirtschaft und Private gleichmässig treffen, analog zur Wirtschaftsstruktur. Daher Orientierung an Wirtschaftsanteil an der Verwendung von Gütern (aus IOT Volkswirtsch. Gesamtrechnung D)",0.5,{"$f":"1-E280","v":0.5},"Anteil Wirtschaft an Güterverwendung in IOT 2011 (Revision 2014) Deutschlands. \nQuelle: Destatis 2015",0.51800000000000002]
[null,"Produktionsausfälle infolge Krankeiten","Kosten / Nutzen vollständig bei der Wirtschaft "]
[null,"Wiederbesetungskosten bei Unternehmen (Invalidität, Tod)","Kosten / Nutzen vollständig bei der Wirtschaft"]
[null,"Immaterielle Kosten (Schmerz, Leid)","Vollständig bei Privaten"]
["Biodiversitätsverluste","Ökosystemschäden, Beeinträchtigung Ökosystemleistungen","Vor allem Private betroffen. Wirtschaft eher indirekt betroffen."]
["Risiken und Gefahren (Schäden an Infrastrukturen)","Schadenskosten an Infrastrukturen, Investitionen durch Adaptionsmaßnahmen","Wirtschaft direkt betroffen, über ihre Infrastrukturen sowie das erhöhte Risiko. Insbesondere spezifische Branchen wie Verkehr, Tourismus, Landwirtschaft."]
["Einschränkung von Ökosystemleistungen z.B.:\n- Wasserverfügbarkeit\n- Nahrungsmittelproduktion","Schäden für Landwirtschaft, Tourismus; etc."]
[]
[]
[]
["3. Lärmkosten"]
[]
["Folgen, Kostenbereiche","Konkrete Kosten","Betroffenheit Wirtschaft (qual.)","Anteil Gesamtkosten",null,null,null,null,null,"Quelle","Allokation Anteil Wirtschaft","Anteil Private & Staat","Quelle"]
[null,null,null,"Strassenlärm"]
["Gesundheitsschäden","Medizinische Behandlungs-kosten, Spitalkosten","Grundsätzlich private Kosten, aber durch Wirtschaft mitfinanziert über Arbeitgeberbeiträge Krankenversicherung",4.4999999999999998E-2,null,null,null,null,null,"Ecoplan, ARE 2014: Ext. Kosten Verkehr Schweiz 2010, Basis Strassen-verkehr",{"$f":"7.3/(7.3+7.3+0.9)","v":0.47096774193548385},{"$f":"(7.3+0.9)/(7.3+7.3+0.9)","v":0.52903225806451604},"Aktuelle Beitrags-sätze Arbeitgeber/-nehmer"]
[null,"Produktionsausfälle infolge Krankeiten","Kosten / Nutzen vollständig bei der Wirtschaft ",0.01,null,null,null,null,null,null,1,0]
[null,"Wiederbesetungskosten bei Unternehmen (Invalidität, Tod)","Kosten / Nutzen vollständig bei der Wirtschaft",2E-3,null,null,null,null,null,null,1,0]
[null,"Immaterielle Kosten (Schmerz, Leid)","Vollständig bei Privaten",0.94299999999999995,null,null,null,null,null,null,0,1]
[null,"Total Gesundheitskosten",null,0.40899999999999997,null,null,null,null,null,"UBA MK 2.0 (basierend auf IER 2012 bzw. NEEDS)"]
["Verminderte Lebensqualität","Wertverluste von Immobilien","Immobilien im Besitz von Unternehmen (d.h. nicht von Privaten od. dem Staat)",0.59099999999999997,null,null,null,null,null,null,0.40799999999999997,0.59199999999999997,"Immobilienstatistik Destatis / Zensus 2011"]
[]
[]
[null,null,null,{"$f":"SUM(D298:D301)","v":1}]
[null,null,null,{"$f":"SUM(D294:D297)","v":1}]
[]
["Anteil Wirtschaft",null,null,{"$f":"(D294*$K294+D295*$K295+D296*$K296+D297*$K297)*D$298+D299*$K299+D300*$K300+D301*$K301","v":0.25470416129032258}]
["Anteil Private",null,null,{"$f":"(D294*$L294+D295*$L295+D296*$L296+D297*$L297)*D$298+D299*$L299+D300*$L300+D301*$L301","v":0.74529583870967731}]
["Gesamttotal",null,null,{"$f":"D305+D306","v":0.99999999999999989}]
[]
[]
[]
["4. Beeinträchtigung von Ökosystemen"]
[]
["Folgen, Kostenbereiche","Konkrete Kosten","Betroffenheit Wirtschaft (qual.)","Allokation Wirtschaft","Anteil Wirtschaft","Anteil Private, Staat","Quelle"]
["Beeinträchtigung von Ökosystemen","Einschränkung konkreter Ökosystemdienstleistungen, z.B.: \n- Versorgung\n- Regulation\n- Erholung","Die Wirtschaft kann indirekt betroffen sein (bzw. profitieren) über die Einschränkung von (relevanten) Ökosystemleistungen wie z.B.: \n- Verminderten Erholungseffekte: z.B. Tourismusbranche betroffen\n- Eingeschränkte Versorgungleistungen: relevant für Landwirtschaft, Nahrungsmittelbranche","Eine Allokation der Kosten auf die Wirtschaft ist nur dann möglich, wenn die einzelnen Ökosystemleistungen monetarisiert werden können. \n-> Im Moment ist dies nicht der Fall. Evtl. kann dies in Zukunft, wenn weitere wiss. Grundlagen vorliegen, bestimmt werden. \nIm Moment ist Anteil der Wirtschaft damit nicht zu ermitteln.",0,{"$f":"1-E314","v":1}]
[]
[]
[]
["5. Emission toxischer Stoffe"]
[]
["Folgen, Kostenbereiche","Konkrete Kosten","Betroffenheit Wirtschaft (qual.)","Anteil Gesamtkosten",null,null,"Quelle","Allokation Anteil Wirtschaft","Anteil Private & Staat","Quelle"]
[null,null,null,"Luft PM10","Lärm","Mittelwert"]
["Gesundheitsschäden","Medizinische Behandlungs-kosten, Spitalkosten","Grundsätzlich private Kosten, aber durch Wirtschaft mitfinanziert über Arbeitgeberbeiträge Krankenversicherung",{"$f":"D256","v":1.2E-2},{"$f":"D294","v":4.4999999999999998E-2},{"$f":"AVERAGE(D322:E322)","v":2.8499999999999998E-2},"Ecoplan, ARE 2014: Ext. Kosten Verkehr Schweiz 2010, Basis Strassen-verkehr",{"$f":"7.3/(7.3+7.3+0.9)","v":0.47096774193548385},{"$f":"(7.3+0.9)/(7.3+7.3+0.9)","v":0.52903225806451604},"Aktuelle Beitrags-sätze Arbeitgeber/-nehmer"]
[null,"Produktionsausfälle infolge Krankeiten","Kosten / Nutzen vollständig bei der Wirtschaft ",{"$f":"D257","v":2.3E-2},{"$f":"D295","v":0.01},{"$f":"AVERAGE(D323:E323)","v":1.6500000000000001E-2},null,1,0]
[null,"Wiederbesetungskosten bei Unternehmen (Invalidität, Tod)","Kosten / Nutzen vollständig bei der Wirtschaft",{"$f":"D258","v":3.0000000000000001E-3},2E-3,2.5000000000000001E-3,null,1,0]
[null,"Immaterielle Kosten (Schmerz, Leid)","Vollständig bei Privaten",{"$f":"D259","v":0.96199999999999997},0.94299999999999995,0.9524999999999999,null,0,1]
[null,null,null,{"$f":"SUM(D322:D325)","v":1},{"$f":"SUM(E322:E325)","v":1},0.99999999999999989]
["Anteil Wirtschaft",null,null,{"$f":"(F322*$H322+F323*$H323+F324*$H324+F325*$H325)","v":3.2422580645161292E-2}]
["Anteil Private",null,null,{"$f":"(F322*$I322+F323*$I323+F324*$I324+F325*$I325)","v":0.96757741935483865}]
["Gesamttotal",null,null,{"$f":"D327+D328","v":1}]
[]
[]
[]
["6. Indirekte Effekte vor- und nachgelagerte Prozesse"]
[]
["Anteil Kostenbereiche","Anteil an indirekten Kosten","Quelle","Anteil Wirtschaft","Anteil Private & Staat"]
["Anteil Klimakosten",0.92,"Ecoplan, ARE 2014: Ext. Kosten Verkehr Schweiz 2010, Basis Strassenverkehr",{"$f":"E280","v":0.5},{"$f":"1-D336","v":0.5}]
["Anteil Luftschadstoffkosten",{"$f":"1-B336","v":7.999999999999996E-2},null,{"$f":"D267","v":3.1651612903225809E-2},{"$f":"1-D337","v":0.96834838709677418}]
[]
["Anteil Wirtschaft",{"$f":"B336*D336+B337*D337","v":0.4625321290322581}]
["Anteil Private",{"$f":"B336*E336+B337*E337","v":0.53746787096774196}]
["Gesamttotal",{"$f":"B339+B340","v":1}]
[]
[]
[]
["9. Unfälle"]
[]
["Folgen, Kostenbereiche","Konkrete Kosten","Betroffenheit Wirtschaft (qual.)","Anteil Gesamtkosten","Quelle","Allokation Anteil Wirtschaft","Anteil Private & Staat","Quelle"]
[null,null,null,"Strassenverkehr"]
["Gesundheitsschäden","Medizinische Behandlungs-kosten, Spitalkosten","Grundsätzlich private Kosten, aber durch Wirtschaft mitfinanziert über Arbeitgeberbeiträge Krankenversicherung",5.7000000000000002E-2,"Ecoplan, ARE 2014: Ext. Kosten Verkehr Schweiz 2010, Basis Strassenverkehr",{"$f":"7.3/(7.3+7.3+0.9)","v":0.47096774193548385},{"$f":"(7.3+0.9)/(7.3+7.3+0.9)","v":0.52903225806451604},"Aktuelle Beitrags-sätze Arbeitgeber/-nehmer"]
[null,"Produktionsausfälle infolge Krankeiten","Kosten / Nutzen vollständig bei der Wirtschaft ",1.4999999999999999E-2,null,1,0]
[null,"Wiederbesetungskosten bei Unternehmen (Invalidität, Tod)","Kosten / Nutzen vollständig bei der Wirtschaft",1E-3,null,1,0]
[null,"Immaterielle Kosten (Schmerz, Leid)","Vollständig bei Privaten",0.70099999999999996,null,0,1]
["Sachschäden (Versicherungen, Haftpflicht",null,"Grundsätzlich private Kosten, aber durch Wirtschaft mitfinanziert über Versicherg.",0.13300000000000001,null,0.5,{"$f":"1-F353","v":0.5},"je hälftig druch Versicherg. / Wirtschaft und Private getragen"]
["Adminstrativkosten (Versicherungen)",null,"Kosten / Nutzen vollständig bei der Wirtschaft",5.6000000000000001E-2,null,1,0]
["Polizei- und Rechtsfolgekosten",null,"Vollständig bei der öffentl. Hand",3.6999999999999998E-2,null,0,1]
[]
[]
[null,null,null,{"$f":"SUM(D349:D352,D353:D355)","v":1}]
["Anteil Wirtschaft",null,null,{"$f":"(D349*$F349+D350*$F350+D351*$F351+D352*$F352+D353*$F353+D354*$F354+D355*$F355)","v":0.16534516129032259}]
["Anteil Private",null,null,{"$f":"(D349*$G349+D350*$G350+D351*$G351+D352*$G352+D353*$G353+D354*$G354+D355*$G355)","v":0.83465483870967738}]
["Gesamttotal",null,null,{"$f":"D359+D360","v":1}]
[]
[]
[]
[]
["OIOO-differenzierte Ergebnisse: Umweltkosten / Umweltnutzen Wirschaft (Deckelung) vs. Andere Kosten/Nutzen"]
[]
["a. Nutzen (Kosten) pro Jahr",null,null,null,null,null,null,"b. Nutzen (Kosten) pro Jahr gerundet"]
[null,"Nutzen (Kosten) in 1.000 Euro",null,null,null,null,null,null,"Nutzen (Kosten) in 1.000 Euro"]
["Nutzen/Kosten aus:","Wirtschaft: Deckelung","Private, Staat etc: Andere Kosten/Nutzen","Einheit","Check Total","Anteil Wirtschaft (Deckelung) in %",null,"Nutzen/Kosten aus:","Wirtschaft: Deckelung","Private, Staat etc: Andere Kosten/Nutzen","Total","Einheit","Check Total"]
["Luftschadstoffemissionen",{"$f":"-((SUM('Hilfsblatt Ber. Umweltkosten 1'!P16:P33,'Hilfsblatt Ber. Umweltkosten 1'!S16:S29,'Hilfsblatt Ber. Umweltkosten 1'!V16:V21,'Hilfsblatt Ber. Umweltkosten 1'!Y16:Y19)*$D$270+SUM('Hilfsblatt Ber. Umweltkosten 1'!P43:S56)*$D$272+(J67*D267+J68*E267+J69*F267+J70*G267+J71*H267+J72*I267))/1000)","v":0},{"$f":"-((SUM('Hilfsblatt Ber. Umweltkosten 1'!P16:P33,'Hilfsblatt Ber. Umweltkosten 1'!S16:S29,'Hilfsblatt Ber. Umweltkosten 1'!V16:V21,'Hilfsblatt Ber. Umweltkosten 1'!Y16:Y19)*$D$271+SUM('Hilfsblatt Ber. Umweltkosten 1'!P43:S56)*$D$273+(J67*D268+J68*E268+J69*F268+J70*G268+J71*H268+J72*I268))/1000)","v":0},{"$f":"\"1.000 € pro \"&Eingabevariablen!$J$49","v":"1.000 € pro Jahr"},{"$f":"B371+C371-B236","v":0},{"$f":"B371/B236","v":{"$error":"#DIV/0!"}},null,"Luftschadstoffemissionen",{"$f":"ROUND(B371,-2)","v":0},{"$f":"ROUND(C371,-2)","v":0},{"$f":"I371+J371","v":0},{"$f":"\"1.000 € pro \"&Eingabevariablen!$J$49","v":"1.000 € pro Jahr"},{"$f":"I371+J371-D236","v":0}]
["Treibhausgasemissionen",{"$f":"-((SUM('Hilfsblatt Ber. Umweltkosten 1'!AB16:AB33,'Hilfsblatt Ber. Umweltkosten 1'!AE16:AE29,'Hilfsblatt Ber. Umweltkosten 1'!AH16:AH21,'Hilfsblatt Ber. Umweltkosten 1'!AK16:AK19)*E280+SUM('Hilfsblatt Ber. Umweltkosten 1'!AB43:AE56)*E280+SUM('Hilfsblatt Ber. Umweltkosten 1'!C82:C85)*E280)/1000)","v":0},{"$f":"-((SUM('Hilfsblatt Ber. Umweltkosten 1'!AB16:AB33,'Hilfsblatt Ber. Umweltkosten 1'!AE16:AE29,'Hilfsblatt Ber. Umweltkosten 1'!AH16:AH21,'Hilfsblatt Ber. Umweltkosten 1'!AK16:AK19)*F280+SUM('Hilfsblatt Ber. Umweltkosten 1'!AB43:AE56)*F280+SUM('Hilfsblatt Ber. Umweltkosten 1'!C82:C85)*F280)/1000)","v":0},{"$f":"\"1.000 € pro \"&Eingabevariablen!$J$49","v":"1.000 € pro Jahr"},0,{"$error":"#DIV/0!"},null,"Treibhausgasemissionen",{"$f":"ROUND(B372,-2)","v":0},0,{"$f":"I372+J372","v":0},{"$f":"\"1.000 € pro \"&Eingabevariablen!$J$49","v":"1.000 € pro Jahr"},0]
["Lärmemissionen",{"$f":"-((SUM('Hilfsblatt Ber. Umweltkosten 1'!AN43:AQ56)*D305+SUM('Hilfsblatt Ber. Umweltkosten 1'!C95:F103)*D305)/1000)","v":0},{"$f":"-((SUM('Hilfsblatt Ber. Umweltkosten 1'!AN43:AQ56)*D306+SUM('Hilfsblatt Ber. Umweltkosten 1'!C95:F103)*D306)/1000)","v":0},{"$f":"\"1.000 € pro \"&Eingabevariablen!$J$49","v":"1.000 € pro Jahr"},0,{"$error":"#DIV/0!"},null,"Lärmemissionen",0,0,0,{"$f":"\"1.000 € pro \"&Eingabevariablen!$J$49","v":"1.000 € pro Jahr"},0]
["Beeinträchtigung von Ökosystemen",{"$f":"-((SUM('Hilfsblatt Ber. Umweltkosten 1'!AZ43:BC56)*E314+SUM('Hilfsblatt Ber. Umweltkosten 1'!C113,'Hilfsblatt Ber. Umweltkosten 1'!G122,'Hilfsblatt Ber. Umweltkosten 1'!C151,'Hilfsblatt Ber. Umweltkosten 1'!C156:C158,'Hilfsblatt Ber. Umweltkosten 1'!D163:D168)*E314)/1000)","v":0},{"$f":"-((SUM('Hilfsblatt Ber. Umweltkosten 1'!AZ43:BC56)*F314+SUM('Hilfsblatt Ber. Umweltkosten 1'!C113,'Hilfsblatt Ber. Umweltkosten 1'!G122,'Hilfsblatt Ber. Umweltkosten 1'!C151,'Hilfsblatt Ber. Umweltkosten 1'!C156:C158,'Hilfsblatt Ber. Umweltkosten 1'!D163:D168)*F314)/1000)","v":0},{"$f":"\"1.000 € pro \"&Eingabevariablen!$J$49","v":"1.000 € pro Jahr"},0,{"$error":"#DIV/0!"},null,"Beeinträchtigung von Ökosystemen",0,0,0,{"$f":"\"1.000 € pro \"&Eingabevariablen!$J$49","v":"1.000 € pro Jahr"},0]
["Emission toxischer Stoffe",{"$f":"-(SUM('Hilfsblatt Ber. Umweltkosten 1'!C177:C182,'Hilfsblatt Ber. Umweltkosten 1'!C184:C188)*D327/1000)","v":0},{"$f":"-(SUM('Hilfsblatt Ber. Umweltkosten 1'!C177:C182,'Hilfsblatt Ber. Umweltkosten 1'!C184:C188)*D328/1000)","v":0},{"$f":"\"1.000 € pro \"&Eingabevariablen!$J$49","v":"1.000 € pro Jahr"},0,{"$error":"#DIV/0!"},null,"Emission toxischer Stoffe",0,0,0,{"$f":"\"1.000 € pro \"&Eingabevariablen!$J$49","v":"1.000 € pro Jahr"},0]
["Indirekte Effekte durch vor- und nachgelagerte Prozesse",{"$f":"-((SUM('Hilfsblatt Ber. Umweltkosten 1'!BL16:BL33,'Hilfsblatt Ber. Umweltkosten 1'!BO16:BO29,'Hilfsblatt Ber. Umweltkosten 1'!BR16:BR21,'Hilfsblatt Ber. Umweltkosten 1'!BU16:BU19)*B339+SUM('Hilfsblatt Ber. Umweltkosten 1'!BL43:BO56)*B339+C196*D267+C197*E267+C198*F267+C199*G267+C200*H267+C201*I267+SUM('Hilfsblatt Ber. Umweltkosten 1'!C202:C205)*E280+C206*E314)/1000)","v":0},{"$f":"-((SUM('Hilfsblatt Ber. Umweltkosten 1'!BL16:BL33,'Hilfsblatt Ber. Umweltkosten 1'!BO16:BO29,'Hilfsblatt Ber. Umweltkosten 1'!BR16:BR21,'Hilfsblatt Ber. Umweltkosten 1'!BU16:BU19)*B340+SUM('Hilfsblatt Ber. Umweltkosten 1'!BL43:BO56)*B340+C196*D268+C197*E268+C198*F268+C199*G268+C200*H268+C201*I268+SUM('Hilfsblatt Ber. Umweltkosten 1'!C202:C205)*F280+C206*F314)/1000)","v":0},{"$f":"\"1.000 € pro \"&Eingabevariablen!$J$49","v":"1.000 € pro Jahr"},0,{"$error":"#DIV/0!"},null,"Indirekte Effekte durch vor- und nachgelagerte Prozesse",0,0,0,{"$f":"\"1.000 € pro \"&Eingabevariablen!$J$49","v":"1.000 € pro Jahr"},0]
["Gesamtnutzen (-kosten) Umwelt",{"$f":"SUM(B371:B376)","v":0},{"$f":"SUM(C371:C376)","v":0},"1.000 € pro Jahr",0,{"$error":"#DIV/0!"},null,"Gesamtnutzen (-kosten) Umwelt",{"$f":"SUM(I371:I376)","v":0},{"$f":"SUM(J371:J376)","v":0},{"$f":"SUM(K371:K376)","v":0},"1.000 € pro Jahr",0]
["Unfälle",{"$f":"-(SUM(C212:C214,C217:C226)*$D$359/1000)","v":0},{"$f":"-(SUM(C212:C214,C217:C226)*$D$360/1000)","v":0},{"$f":"\"1.000 € pro \"&Eingabevariablen!$J$49","v":"1.000 € pro Jahr"},0,{"$error":"#DIV/0!"},null,"Unfälle",{"$f":"ROUND(B378,-2)","v":0},0,{"$f":"I378+J378","v":0},{"$f":"\"1.000 € pro \"&Eingabevariablen!$J$49","v":"1.000 € pro Jahr"},0]
["Total Umwelt und Unfälle",{"$f":"B377+B378","v":0},{"$f":"C377+C378","v":0},"1.000 € pro Jahr",0,{"$error":"#DIV/0!"},null,"Total Umwelt und Unfälle",{"$f":"I377+I378","v":0},{"$f":"J377+J378","v":0},{"$f":"K377+K378","v":0},"1.000 € pro Jahr",0]
["Bemerkung: positives Vorzeichen = Nutzen = Reduktion von Kosten; negatives Vorzeichen = zusätzliche Kosten",null,null,null,null,null,null,"Bemerkung: positives Vorzeichen = Nutzen = Reduktion von Kosten; negatives Vorzeichen = zusätzliche Kosten"]
[]
[]
[]
["Ende des Berechnungsblattes"]

{"sheet":"Hilfsblatt Ber. Umweltkosten 2","index":12,"n_rows":384,"n_cols":80,"rows_kept":384,"cut":false,"hidden":false,"merged":[[106,0,106,4],[119,2,119,3],[120,2,120,3],[92,2,92,4],[40,2,40,5],[77,0,77,4],[89,0,89,4],[40,15,40,18],[40,27,40,30],[40,39,40,42],[40,76,40,79],[64,3,64,4],[64,7,64,8],[40,51,40,54],[40,63,40,66],[121,2,121,3],[171,0,171,4],[255,9,258,9],[259,9,262,9],[279,0,282,0],[279,3,285,3],[279,4,285,4],[279,5,285,5],[279,6,285,6],[279,7,285,7],[284,2,285,2],[191,0,191,4],[293,9,296,9],[297,9,298,9],[321,6,324,6],[335,2,336,2],[348,4,354,4]]}
[]
["Hilfsblatt: Berechnung Umweltkosten 2 (Umweltwirkung x Kostensatz)"]
[]
["Nicht veränderbar für Anwender.","Jahr: ",{"$f":"Eingabevariablen!$C$7","v":0}]
[]
[]
["Umweltwirkungen"]
[]
["A. Nach Aktivitäten, Treiber"]
[]
[]
["1. Energie","i.) Total Umweltkosten",null,null,null,null,null,null,null,null,null,null,null,null,"ii.) Kosten Luftschadstoffemissionen",null,null,null,null,null,null,null,null,null,null,null,"iii.) Kosten Treibhausgase",null,null,null,null,null,null,null,null,null,null,null,"iv.) Kosten Lärm",null,null,null,null,null,null,null,null,null,null,null,"v.) Kosten Beeinträchtigung von Ökosystemen",null,null,null,null,null,null,null,null,null,null,null,"vi.) Indirekte Kosten aus vor- und nachgelagerte Prozessen"]
[]
[]
[null,"Kosten","in EUR",null,"Kosten","in EUR",null,"Kosten","in EUR",null,"Kosten",null,"in EUR",null,"Kosten","in EUR",null,"Kosten","in EUR",null,"Kosten","in EUR",null,"Kosten","in EUR",null,"Kosten","in EUR",null,"Kosten","in EUR",null,"Kosten","in EUR",null,"Kosten","in EUR",null,"Kosten","in EUR",null,"Kosten","in EUR",null,"Kosten","in EUR",null,"Kosten","in EUR",null,"Kosten","in EUR",null,"Kosten","in EUR",null,"Kosten","in EUR",null,"Kosten","in EUR",null,"Kosten","in EUR",null,"Kosten","in EUR",null,"Kosten","in EUR",null,"Kosten","in EUR"]
[null,"Strommix Deutschland (ohne Kernkraft)",{"$f":"P16+AB16+AN16+AZ16+BL16","v":0},null,"Wärmemix Haushalte (D)",{"$f":"Eingabevariablen!$D144*'Hilfsblatt Kostensätze Umwelt'!F16/100","v":0},null,"Braunkohle",{"$f":"Eingabevariablen!$D160*'Hilfsblatt Kostensätze Umwelt'!I16","v":0},null,"Mittl. Kraftstoffmix PW (Benzin, Diesel)",null,{"$f":"Eingabevariablen!$D168*'Hilfsblatt Kostensätze Umwelt'!L16","v":0},null,"Strommix Deutschland (ohne Kernkraft)",{"$f":"Eingabevariablen!$D124*'Hilfsblatt Kostensätze Umwelt'!O16/100","v":0},null,"Wärmemix Haushalte (D)",{"$f":"Eingabevariablen!$D144*'Hilfsblatt Kostensätze Umwelt'!R16/100","v":0},null,"Braunkohle",{"$f":"Eingabevariablen!$D160*'Hilfsblatt Kostensätze Umwelt'!U16","v":0},null,"Mittl. Kraftstoffmix PW (Benzin, Diesel)",{"$f":"Eingabevariablen!$D168*'Hilfsblatt Kostensätze Umwelt'!X16","v":0},null,"Strommix Deutschland (ohne Kernkraft)",{"$f":"Eingabevariablen!$D124*'Hilfsblatt Kostensätze Umwelt'!AA16*'Hilfsblatt Kostensätze Umwelt'!$J$263/100","v":0},null,"Wärmemix Haushalte (D)",{"$f":"Eingabevariablen!$D144*'Hilfsblatt Kostensätze Umwelt'!AD16*'Hilfsblatt Kostensätze Umwelt'!$J$263/100","v":0},null,"Braunkohle",{"$f":"Eingabevariablen!$D160*'Hilfsblatt Kostensätze Umwelt'!AG16*'Hilfsblatt Kostensätze Umwelt'!$J$263","v":0},null,"Mittl. Kraftstoffmix PW (Benzin, Diesel)",{"$f":"Eingabevariablen!$D168*'Hilfsblatt Kostensätze Umwelt'!AJ16*'Hilfsblatt Kostensätze Umwelt'!$J$263","v":0},null,"Strommix Deutschland (ohne Kernkraft)",null,null,"Wärmemix Haushalte (D)",null,null,"Braunkohle",null,null,"Mittl. Kraftstoffmix PW (Benzin, Diesel)",null,null,"Strommix Deutschland (ohne Kernkraft)",null,null,"Wärmemix Haushalte (D)",null,null,"Braunkohle",null,null,"Mittl. Kraftstoffmix PW (Benzin, Diesel)",null,null,"Strommix Deutschland (ohne Kernkraft)",{"$f":"Eingabevariablen!$D124*'Hilfsblatt Kostensätze Umwelt'!BK16/100","v":0},null,"Wärmemix Haushalte (D)",{"$f":"Eingabevariablen!$D144*'Hilfsblatt Kostensätze Umwelt'!BN16/100","v":0},null,"Braunkohle",{"$f":"Eingabevariablen!$D160*'Hilfsblatt Kostensätze Umwelt'!BQ16","v":0},null,"Mittl. Kraftstoffmix PW (Benzin, Diesel)",{"$f":"Eingabevariablen!$D168*'Hilfsblatt Kostensätze Umwelt'!BT16","v":0}]
[null,"Strommix Deutschland (mit Kernkraft)",{"$f":"P17+AB17+AN17+AZ17+BL17","v":0},null,"Wärmemix Industrie (D)",{"$f":"Eingabevariablen!$D145*'Hilfsblatt Kostensätze Umwelt'!F17/100","v":0},null,"Steinkohle",{"$f":"Eingabevariablen!$D161*'Hilfsblatt Kostensätze Umwelt'!I17","v":0},null,"Benzin",null,{"$f":"Eingabevariablen!$D169*'Hilfsblatt Kostensätze Umwelt'!L17","v":0},null,"Strommix Deutschland (mit Kernkraft)",{"$f":"Eingabevariablen!$D125*'Hilfsblatt Kostensätze Umwelt'!O17/100","v":0},null,"Wärmemix Industrie (D)",{"$f":"Eingabevariablen!$D145*'Hilfsblatt Kostensätze Umwelt'!R17/100","v":0},null,"Steinkohle",{"$f":"Eingabevariablen!$D161*'Hilfsblatt Kostensätze Umwelt'!U17","v":0},null,"Benzin",{"$f":"Eingabevariablen!$D169*'Hilfsblatt Kostensätze Umwelt'!X17","v":0},null,"Strommix Deutschland (mit Kernkraft)",{"$f":"Eingabevariablen!$D125*'Hilfsblatt Kostensätze Umwelt'!AA17*'Hilfsblatt Kostensätze Umwelt'!$J$263/100","v":0},null,"Wärmemix Industrie (D)",{"$f":"Eingabevariablen!$D145*'Hilfsblatt Kostensätze Umwelt'!AD17*'Hilfsblatt Kostensätze Umwelt'!$J$263/100","v":0},null,"Steinkohle",{"$f":"Eingabevariablen!$D161*'Hilfsblatt Kostensätze Umwelt'!AG17*'Hilfsblatt Kostensätze Umwelt'!$J$263","v":0},null,"Benzin",{"$f":"Eingabevariablen!$D169*'Hilfsblatt Kostensätze Umwelt'!AJ17*'Hilfsblatt Kostensätze Umwelt'!$J$263","v":0},null,"Strommix Deutschland (mit Kernkraft)",null,null,"Wärmemix Industrie (D)",null,null,"Steinkohle",null,null,"Benzin",null,null,"Strommix Deutschland (mit Kernkraft)",null,null,"Wärmemix Industrie (D)",null,null,"Steinkohle",null,null,"Benzin",null,null,"Strommix Deutschland (mit Kernkraft)",{"$f":"Eingabevariablen!$D125*'Hilfsblatt Kostensätze Umwelt'!BK17/100","v":0},null,"Wärmemix Industrie (D)",{"$f":"Eingabevariablen!$D145*'Hilfsblatt Kostensätze Umwelt'!BN17/100","v":0},null,"Steinkohle",{"$f":"Eingabevariablen!$D161*'Hilfsblatt Kostensätze Umwelt'!BQ17","v":0},null,"Benzin",{"$f":"Eingabevariablen!$D169*'Hilfsblatt Kostensätze Umwelt'!BT17","v":0}]
[null,"Strommix Bahn DB",0,null,null,null,null,"Erdgas",{"$f":"Eingabevariablen!$D162*'Hilfsblatt Kostensätze Umwelt'!I18","v":0},null,"Diesel",null,{"$f":"Eingabevariablen!$D170*'Hilfsblatt Kostensätze Umwelt'!L18","v":0},null,"Strommix Bahn DB",{"$f":"Eingabevariablen!$D126*'Hilfsblatt Kostensätze Umwelt'!O18/100","v":0},null,null,null,null,"Erdgas",{"$f":"Eingabevariablen!$D162*'Hilfsblatt Kostensätze Umwelt'!U18","v":0},null,"Diesel",{"$f":"Eingabevariablen!$D170*'Hilfsblatt Kostensätze Umwelt'!X18","v":0},null,"Strommix Bahn DB",{"$f":"Eingabevariablen!$D126*'Hilfsblatt Kostensätze Umwelt'!AA18*'Hilfsblatt Kostensätze Umwelt'!$J$263/100","v":0},null,null,{"$f":"Eingabevariablen!$D146*'Hilfsblatt Kostensätze Umwelt'!AD18/100","v":0},null,"Erdgas",{"$f":"Eingabevariablen!$D162*'Hilfsblatt Kostensätze Umwelt'!AG18*'Hilfsblatt Kostensätze Umwelt'!$J$263","v":0},null,"Diesel",{"$f":"Eingabevariablen!$D170*'Hilfsblatt Kostensätze Umwelt'!AJ18*'Hilfsblatt Kostensätze Umwelt'!$J$263","v":0},null,"Strommix Bahn DB",null,null,null,null,null,"Erdgas",null,null,"Diesel",null,null,"Strommix Bahn DB",null,null,null,null,null,"Erdgas",null,null,"Diesel",null,null,"Strommix Bahn DB",{"$f":"Eingabevariablen!$D126*'Hilfsblatt Kostensätze Umwelt'!BK18/100","v":0},null,null,{"$f":"Eingabevariablen!$D146*'Hilfsblatt Kostensätze Umwelt'!BN18/100","v":0},null,"Erdgas",{"$f":"Eingabevariablen!$D162*'Hilfsblatt Kostensätze Umwelt'!BQ18","v":0},null,"Diesel",{"$f":"Eingabevariablen!$D170*'Hilfsblatt Kostensätze Umwelt'!BT18","v":0}]
[null,"Strommix Europa (ohne Kernkraft)",0,null,"Heizöl / Öl",{"$f":"Eingabevariablen!$D147*'Hilfsblatt Kostensätze Umwelt'!F19/100","v":0},null,"Öl, Heizöl",{"$f":"Eingabevariablen!$D163*'Hilfsblatt Kostensätze Umwelt'!I19","v":0},null,"Erdgas",null,{"$f":"Eingabevariablen!$D171*'Hilfsblatt Kostensätze Umwelt'!L19","v":0},null,"Strommix Europa (ohne Kernkraft)",{"$f":"Eingabevariablen!$D127*'Hilfsblatt Kostensätze Umwelt'!O19/100","v":0},null,"Heizöl / Öl",{"$f":"Eingabevariablen!$D147*'Hilfsblatt Kostensätze Umwelt'!R19/100","v":0},null,"Öl, Heizöl",{"$f":"Eingabevariablen!$D163*'Hilfsblatt Kostensätze Umwelt'!U19","v":0},null,"Erdgas",{"$f":"Eingabevariablen!$D171*'Hilfsblatt Kostensätze Umwelt'!X19","v":0},null,"Strommix Europa (ohne Kernkraft)",{"$f":"Eingabevariablen!$D127*'Hilfsblatt Kostensätze Umwelt'!AA19*'Hilfsblatt Kostensätze Umwelt'!$J$263/100","v":0},null,"Heizöl / Öl",{"$f":"Eingabevariablen!$D147*'Hilfsblatt Kostensätze Umwelt'!AD19*'Hilfsblatt Kostensätze Umwelt'!$J$263/100","v":0},null,"Öl, Heizöl",{"$f":"Eingabevariablen!$D163*'Hilfsblatt Kostensätze Umwelt'!AG19*'Hilfsblatt Kostensätze Umwelt'!$J$263","v":0},null,"Erdgas",{"$f":"Eingabevariablen!$D171*'Hilfsblatt Kostensätze Umwelt'!AJ19*'Hilfsblatt Kostensätze Umwelt'!$J$263","v":0},null,"Strommix Europa (ohne Kernkraft)",null,null,"Heizöl / Öl",null,null,"Öl, Heizöl",null,null,"Erdgas",null,null,"Strommix Europa (ohne Kernkraft)",null,null,"Heizöl / Öl",null,null,"Öl, Heizöl",null,null,"Erdgas",null,null,"Strommix Europa (ohne Kernkraft)",{"$f":"Eingabevariablen!$D127*'Hilfsblatt Kostensätze Umwelt'!BK19/100","v":0},null,"Heizöl / Öl",{"$f":"Eingabevariablen!$D147*'Hilfsblatt Kostensätze Umwelt'!BN19/100","v":0},null,"Öl, Heizöl",{"$f":"Eingabevariablen!$D163*'Hilfsblatt Kostensätze Umwelt'!BQ19","v":0},null,"Erdgas",{"$f":"Eingabevariablen!$D171*'Hilfsblatt Kostensätze Umwelt'!BT19","v":0}]
[null,"Strommix Europa (mit Kernkraft)",0,null,"Erdgas",{"$f":"Eingabevariablen!$D148*'Hilfsblatt Kostensätze Umwelt'!F20/100","v":0},null,"Holz (Stück)",{"$f":"Eingabevariablen!$D164*'Hilfsblatt Kostensätze Umwelt'!I20","v":0},null,null,null,null,null,"Strommix Europa (mit Kernkraft)",{"$f":"Eingabevariablen!$D128*'Hilfsblatt Kostensätze Umwelt'!O20/100","v":0},null,"Erdgas",{"$f":"Eingabevariablen!$D148*'Hilfsblatt Kostensätze Umwelt'!R20/100","v":0},null,"Holz (Stück)",{"$f":"Eingabevariablen!$D164*'Hilfsblatt Kostensätze Umwelt'!U20","v":0},null,null,null,null,"Strommix Europa (mit Kernkraft)",{"$f":"Eingabevariablen!$D128*'Hilfsblatt Kostensätze Umwelt'!AA20*'Hilfsblatt Kostensätze Umwelt'!$J$263/100","v":0},null,"Erdgas",{"$f":"Eingabevariablen!$D148*'Hilfsblatt Kostensätze Umwelt'!AD20*'Hilfsblatt Kostensätze Umwelt'!$J$263/100","v":0},null,"Holz (Stück)",{"$f":"Eingabevariablen!$D164*'Hilfsblatt Kostensätze Umwelt'!AG20*'Hilfsblatt Kostensätze Umwelt'!$J$263","v":0},null,null,null,null,"Strommix Europa (mit Kernkraft)",null,null,"Erdgas",null,null,"Holz (Stück)",null,null,null,"nicht relevant",null,"Strommix Europa (mit Kernkraft)",null,null,"Erdgas",null,null,"Holz (Stück)",null,null,null,"nicht relevant",null,"Strommix Europa (mit Kernkraft)",{"$f":"Eingabevariablen!$D128*'Hilfsblatt Kostensätze Umwelt'!BK20/100","v":0},null,"Erdgas",{"$f":"Eingabevariablen!$D148*'Hilfsblatt Kostensätze Umwelt'!BN20/100","v":0},null,"Holz (Stück)",{"$f":"Eingabevariablen!$D164*'Hilfsblatt Kostensätze Umwelt'!BQ20","v":0}]
[null,"Braunkohle",0,null,"Braunkohle, Steinkohle",{"$f":"Eingabevariablen!$D149*'Hilfsblatt Kostensätze Umwelt'!F21/100","v":0},null,"Holz (Pellets)",{"$f":"Eingabevariablen!$D165*'Hilfsblatt Kostensätze Umwelt'!I21","v":0},null,null,null,null,null,"Braunkohle",{"$f":"Eingabevariablen!$D129*'Hilfsblatt Kostensätze Umwelt'!O21/100","v":0},null,"Braunkohle, Steinkohle",{"$f":"Eingabevariablen!$D149*'Hilfsblatt Kostensätze Umwelt'!R21/100","v":0},null,"Holz (Pellets)",{"$f":"Eingabevariablen!$D165*'Hilfsblatt Kostensätze Umwelt'!U21","v":0},null,null,null,null,"Braunkohle",{"$f":"Eingabevariablen!$D129*'Hilfsblatt Kostensätze Umwelt'!AA21*'Hilfsblatt Kostensätze Umwelt'!$J$263/100","v":0},null,"Braunkohle, Steinkohle",{"$f":"Eingabevariablen!$D149*'Hilfsblatt Kostensätze Umwelt'!AD21*'Hilfsblatt Kostensätze Umwelt'!$J$263/100","v":0},null,"Holz (Pellets)",{"$f":"Eingabevariablen!$D165*'Hilfsblatt Kostensätze Umwelt'!AG21*'Hilfsblatt Kostensätze Umwelt'!$J$263","v":0},null,null,null,null,"Braunkohle",null,null,"Braunkohle, Steinkohle",null,null,"Holz (Pellets)",null,null,null,null,null,"Braunkohle",null,null,"Braunkohle, Steinkohle",null,null,"Holz (Pellets)",null,null,null,null,null,"Braunkohle",{"$f":"Eingabevariablen!$D129*'Hilfsblatt Kostensätze Umwelt'!BK21/100","v":0},null,"Braunkohle, Steinkohle",{"$f":"Eingabevariablen!$D149*'Hilfsblatt Kostensätze Umwelt'!BN21/100","v":0},null,"Holz (Pellets)",{"$f":"Eingabevariablen!$D165*'Hilfsblatt Kostensätze Umwelt'!BQ21","v":0}]
[null,"Steinkohle",0,null,"Fernwärme",{"$f":"Eingabevariablen!$D150*'Hilfsblatt Kostensätze Umwelt'!F22/100","v":0},null,null,null,null,null,null,null,null,"Steinkohle",{"$f":"Eingabevariablen!$D130*'Hilfsblatt Kostensätze Umwelt'!O22/100","v":0},null,"Fernwärme",{"$f":"Eingabevariablen!$D150*'Hilfsblatt Kostensätze Umwelt'!R22/100","v":0},null,null,null,null,null,null,null,"Steinkohle",{"$f":"Eingabevariablen!$D130*'Hilfsblatt Kostensätze Umwelt'!AA22*'Hilfsblatt Kostensätze Umwelt'!$J$263/100","v":0},null,"Fernwärme",{"$f":"Eingabevariablen!$D150*'Hilfsblatt Kostensätze Umwelt'!AD22*'Hilfsblatt Kostensätze Umwelt'!$J$263/100","v":0},null,null,null,null,null,null,null,"Steinkohle",null,null,"Fernwärme",null,null,null,"nicht relevant",null,null,null,null,"Steinkohle",null,null,"Fernwärme",null,null,null,"nicht relevant",null,null,null,null,"Steinkohle",{"$f":"Eingabevariablen!$D130*'Hilfsblatt Kostensätze Umwelt'!BK22/100","v":0},null,"Fernwärme",{"$f":"Eingabevariablen!$D150*'Hilfsblatt Kostensätze Umwelt'!BN22/100","v":0}]
[null,"Erdgas",0,null,"Holzpellets, feste Biomasse (Haushalte)",{"$f":"Eingabevariablen!$D151*'Hilfsblatt Kostensätze Umwelt'!F23/100","v":0},null,null,null,null,null,null,null,null,"Erdgas",{"$f":"Eingabevariablen!$D131*'Hilfsblatt Kostensätze Umwelt'!O23/100","v":0},null,"Holzpellets, feste Biomasse (Haushalte)",{"$f":"Eingabevariablen!$D151*'Hilfsblatt Kostensätze Umwelt'!R23/100","v":0},null,null,null,null,null,null,null,"Erdgas",{"$f":"Eingabevariablen!$D131*'Hilfsblatt Kostensätze Umwelt'!AA23*'Hilfsblatt Kostensätze Umwelt'!$J$263/100","v":0},null,"Holzpellets, feste Biomasse (Haushalte)",{"$f":"Eingabevariablen!$D151*'Hilfsblatt Kostensätze Umwelt'!AD23*'Hilfsblatt Kostensätze Umwelt'!$J$263/100","v":0},null,null,null,null,null,null,null,"Erdgas",null,null,"Holzpellets, feste Biomasse (Haushalte)",null,null,null,null,null,null,null,null,"Erdgas",null,null,"Holzpellets, feste Biomasse (Haushalte)",null,null,null,null,null,null,null,null,"Erdgas",{"$f":"Eingabevariablen!$D131*'Hilfsblatt Kostensätze Umwelt'!BK23/100","v":0},null,"Holzpellets, feste Biomasse (Haushalte)",{"$f":"Eingabevariablen!$D151*'Hilfsblatt Kostensätze Umwelt'!BN23/100","v":0}]
[null,"Öl",0,null,"Feste Biomasse / Holz (Industrie)",{"$f":"Eingabevariablen!$D152*'Hilfsblatt Kostensätze Umwelt'!F24/100","v":0},null,null,null,null,null,null,null,null,"Öl",{"$f":"Eingabevariablen!$D132*'Hilfsblatt Kostensätze Umwelt'!O24/100","v":0},null,"Feste Biomasse / Holz (Industrie)",{"$f":"Eingabevariablen!$D152*'Hilfsblatt Kostensätze Umwelt'!R24/100","v":0},null,null,null,null,null,null,null,"Öl",{"$f":"Eingabevariablen!$D132*'Hilfsblatt Kostensätze Umwelt'!AA24*'Hilfsblatt Kostensätze Umwelt'!$J$263/100","v":0},null,"Feste Biomasse / Holz (Industrie)",{"$f":"Eingabevariablen!$D152*'Hilfsblatt Kostensätze Umwelt'!AD24*'Hilfsblatt Kostensätze Umwelt'!$J$263/100","v":0},null,null,null,null,null,null,null,"Öl",null,null,"Feste Biomasse / Holz (Industrie)",null,null,null,null,null,null,null,null,"Öl",null,null,"Feste Biomasse / Holz (Industrie)",null,null,null,null,null,null,null,null,"Öl",{"$f":"Eingabevariablen!$D132*'Hilfsblatt Kostensätze Umwelt'!BK24/100","v":0},null,"Feste Biomasse / Holz (Industrie)",{"$f":"Eingabevariablen!$D152*'Hilfsblatt Kostensätze Umwelt'!BN24/100","v":0}]
[null,"Kernenergie",0,null,"Solarthermie",{"$f":"Eingabevariablen!$D153*'Hilfsblatt Kostensätze Umwelt'!F25/100","v":0},null,null,null,null,null,null,null,null,"Kernenergie",{"$f":"Eingabevariablen!$D133*'Hilfsblatt Kostensätze Umwelt'!O25/100","v":0},null,"Solarthermie",{"$f":"Eingabevariablen!$D153*'Hilfsblatt Kostensätze Umwelt'!R25/100","v":0},null,null,null,null,null,null,null,"Kernenergie",{"$f":"Eingabevariablen!$D133*'Hilfsblatt Kostensätze Umwelt'!AA25*'Hilfsblatt Kostensätze Umwelt'!$J$263/100","v":0},null,"Solarthermie",{"$f":"Eingabevariablen!$D153*'Hilfsblatt Kostensätze Umwelt'!AD25*'Hilfsblatt Kostensätze Umwelt'!$J$263/100","v":0},null,null,null,null,null,null,null,"Kernenergie",null,null,"Solarthermie",null,null,null,null,null,null,null,null,"Kernenergie",null,null,"Solarthermie",null,null,null,null,null,null,null,null,"Kernenergie",{"$f":"Eingabevariablen!$D133*'Hilfsblatt Kostensätze Umwelt'!BK25/100","v":0},null,"Solarthermie",{"$f":"Eingabevariablen!$D153*'Hilfsblatt Kostensätze Umwelt'!BN25/100","v":0}]
[null,"Wasserkraft",0,null,"Geothermie",{"$f":"Eingabevariablen!$D154*'Hilfsblatt Kostensätze Umwelt'!F26/100","v":0},null,null,null,null,null,null,null,null,"Wasserkraft",{"$f":"Eingabevariablen!$D134*'Hilfsblatt Kostensätze Umwelt'!O26/100","v":0},null,"Geothermie",{"$f":"Eingabevariablen!$D154*'Hilfsblatt Kostensätze Umwelt'!R26/100","v":0},null,null,null,null,null,null,null,"Wasserkraft",{"$f":"Eingabevariablen!$D134*'Hilfsblatt Kostensätze Umwelt'!AA26*'Hilfsblatt Kostensätze Umwelt'!$J$263/100","v":0},null,"Geothermie",{"$f":"Eingabevariablen!$D154*'Hilfsblatt Kostensätze Umwelt'!AD26*'Hilfsblatt Kostensätze Umwelt'!$J$263/100","v":0},null,null,null,null,null,null,null,"Wasserkraft",null,null,"Geothermie",null,null,null,null,null,null,null,null,"Wasserkraft",null,null,"Geothermie",null,null,null,null,null,null,null,null,"Wasserkraft",{"$f":"Eingabevariablen!$D134*'Hilfsblatt Kostensätze Umwelt'!BK26/100","v":0},null,"Geothermie",{"$f":"Eingabevariablen!$D154*'Hilfsblatt Kostensätze Umwelt'!BN26/100","v":0}]
[null,"Windenergie",0,null,"Biogas-Mix (v.a. BHKW)",{"$f":"Eingabevariablen!$D155*'Hilfsblatt Kostensätze Umwelt'!F27/100","v":0},null,null,null,null,null,null,null,null,"Windenergie",{"$f":"Eingabevariablen!$D135*'Hilfsblatt Kostensätze Umwelt'!O27/100","v":0},null,"Biogas-Mix (v.a. BHKW)",{"$f":"Eingabevariablen!$D155*'Hilfsblatt Kostensätze Umwelt'!R27/100","v":0},null,null,null,null,null,null,null,"Windenergie",{"$f":"Eingabevariablen!$D135*'Hilfsblatt Kostensätze Umwelt'!AA27*'Hilfsblatt Kostensätze Umwelt'!$J$263/100","v":0},null,"Biogas-Mix (v.a. BHKW)",{"$f":"Eingabevariablen!$D155*'Hilfsblatt Kostensätze Umwelt'!AD27*'Hilfsblatt Kostensätze Umwelt'!$J$263/100","v":0},null,null,null,null,null,null,null,"Windenergie",null,null,"Biogas-Mix (v.a. BHKW)",null,null,null,null,null,null,null,null,"Windenergie",null,null,"Biogas-Mix (v.a. BHKW)",null,null,null,null,null,null,null,null,"Windenergie",{"$f":"Eingabevariablen!$D135*'Hilfsblatt Kostensätze Umwelt'!BK27/100","v":0},null,"Biogas-Mix (v.a. BHKW)",{"$f":"Eingabevariablen!$D155*'Hilfsblatt Kostensätze Umwelt'!BN27/100","v":0}]
[null,"Photovoltaik",0,null,"Flüssige Biomasse (diverse Nutzungen)",{"$f":"Eingabevariablen!$D156*'Hilfsblatt Kostensätze Umwelt'!F28/100","v":0},null,null,null,null,null,null,null,null,"Photovoltaik",{"$f":"Eingabevariablen!$D136*'Hilfsblatt Kostensätze Umwelt'!O28/100","v":0},null,"Flüssige Biomasse (diverse Nutzungen)",{"$f":"Eingabevariablen!$D156*'Hilfsblatt Kostensätze Umwelt'!R28/100","v":0},null,null,null,null,null,null,null,"Photovoltaik",{"$f":"Eingabevariablen!$D136*'Hilfsblatt Kostensätze Umwelt'!AA28*'Hilfsblatt Kostensätze Umwelt'!$J$263/100","v":0},null,"Flüssige Biomasse (diverse Nutzungen)",{"$f":"Eingabevariablen!$D156*'Hilfsblatt Kostensätze Umwelt'!AD28*'Hilfsblatt Kostensätze Umwelt'!$J$263/100","v":0},null,null,null,null,null,null,null,"Photovoltaik",null,null,"Flüssige Biomasse (diverse Nutzungen)",null,null,null,null,null,null,null,null,"Photovoltaik",null,null,"Flüssige Biomasse (diverse Nutzungen)",null,null,null,null,null,null,null,null,"Photovoltaik",{"$f":"Eingabevariablen!$D136*'Hilfsblatt Kostensätze Umwelt'!BK28/100","v":0},null,"Flüssige Biomasse (diverse Nutzungen)",{"$f":"Eingabevariablen!$D156*'Hilfsblatt Kostensätze Umwelt'!BN28/100","v":0}]
[null,"Geothermie",0,null,"Flüssige Biomasse (Industrie)",{"$f":"Eingabevariablen!$D157*'Hilfsblatt Kostensätze Umwelt'!F29/100","v":0},null,null,null,null,null,null,null,null,"Geothermie",{"$f":"Eingabevariablen!$D137*'Hilfsblatt Kostensätze Umwelt'!O29/100","v":0},null,"Flüssige Biomasse (Industrie)",{"$f":"Eingabevariablen!$D157*'Hilfsblatt Kostensätze Umwelt'!R29/100","v":0},null,null,null,null,null,null,null,"Geothermie",{"$f":"Eingabevariablen!$D137*'Hilfsblatt Kostensätze Umwelt'!AA29*'Hilfsblatt Kostensätze Umwelt'!$J$263/100","v":0},null,"Flüssige Biomasse (Industrie)",{"$f":"Eingabevariablen!$D157*'Hilfsblatt Kostensätze Umwelt'!AD29*'Hilfsblatt Kostensätze Umwelt'!$J$263/100","v":0},null,null,null,null,null,null,null,"Geothermie",null,null,"Flüssige Biomasse (Industrie)",null,null,null,null,null,null,null,null,"Geothermie",null,null,"Flüssige Biomasse (Industrie)",null,null,null,null,null,null,null,null,"Geothermie",{"$f":"Eingabevariablen!$D137*'Hilfsblatt Kostensätze Umwelt'!BK29/100","v":0},null,"Flüssige Biomasse (Industrie)",{"$f":"Eingabevariablen!$D157*'Hilfsblatt Kostensätze Umwelt'!BN29/100","v":0}]
[null,"Feste Biomasse (v.a. Holz)",0,null,null,null,null,null,null,null,null,null,null,null,"Feste Biomasse (v.a. Holz)",{"$f":"Eingabevariablen!$D138*'Hilfsblatt Kostensätze Umwelt'!O30/100","v":0},null,null,null,null,null,null,null,null,null,null,"Feste Biomasse (v.a. Holz)",{"$f":"Eingabevariablen!$D138*'Hilfsblatt Kostensätze Umwelt'!AA30*'Hilfsblatt Kostensätze Umwelt'!$J$263/100","v":0},null,null,null,null,null,null,null,null,null,null,"Feste Biomasse (v.a. Holz)",null,null,null,"nicht relevant",null,null,null,null,null,null,null,"Feste Biomasse (v.a. Holz)",null,null,null,"nicht relevant",null,null,null,null,null,null,null,"Feste Biomasse (v.a. Holz)",{"$f":"Eingabevariablen!$D138*'Hilfsblatt Kostensätze Umwelt'!BK30/100","v":0}]
[null,"Flüssige Biomasse",0,null,null,null,null,null,null,null,null,null,null,null,"Flüssige Biomasse",{"$f":"Eingabevariablen!$D139*'Hilfsblatt Kostensätze Umwelt'!O31/100","v":0},null,null,null,null,null,null,null,null,null,null,"Flüssige Biomasse",{"$f":"Eingabevariablen!$D139*'Hilfsblatt Kostensätze Umwelt'!AA31*'Hilfsblatt Kostensätze Umwelt'!$J$263/100","v":0},null,null,null,null,null,null,null,null,null,null,"Flüssige Biomasse",null,null,null,null,null,null,null,null,null,null,null,"Flüssige Biomasse",null,null,null,null,null,null,null,null,null,null,null,"Flüssige Biomasse",{"$f":"Eingabevariablen!$D139*'Hilfsblatt Kostensätze Umwelt'!BK31/100","v":0}]
[null,"Biogas",0,null,null,null,null,null,null,null,null,null,null,null,"Biogas",{"$f":"Eingabevariablen!$D140*'Hilfsblatt Kostensätze Umwelt'!O32/100","v":0},null,null,null,null,null,null,null,null,null,null,"Biogas",{"$f":"Eingabevariablen!$D140*'Hilfsblatt Kostensätze Umwelt'!AA32*'Hilfsblatt Kostensätze Umwelt'!$J$263/100","v":0},null,null,null,null,null,null,null,null,null,null,"Biogas",null,null,null,null,null,null,null,null,null,null,null,"Biogas",null,null,null,null,null,null,null,null,null,null,null,"Biogas",{"$f":"Eingabevariablen!$D140*'Hilfsblatt Kostensätze Umwelt'!BK32/100","v":0}]
[null,"Klär- / Deponiegas",0,null,null,null,null,null,null,null,null,null,null,null,"Klär- / Deponiegas",{"$f":"Eingabevariablen!$D141*'Hilfsblatt Kostensätze Umwelt'!O33/100","v":0},null,null,null,null,null,null,null,null,null,null,"Klär- / Deponiegas",{"$f":"Eingabevariablen!$D141*'Hilfsblatt Kostensätze Umwelt'!AA33*'Hilfsblatt Kostensätze Umwelt'!$J$263/100","v":0},null,null,null,null,null,null,null,null,null,null,"Klär- / Deponiegas",null,null,null,null,null,null,null,null,null,null,null,"Klär- / Deponiegas",null,null,null,null,null,null,null,null,null,null,null,"Klär- / Deponiegas",{"$f":"Eingabevariablen!$D141*'Hilfsblatt Kostensätze Umwelt'!BK33/100","v":0}]
[null,null,null,null,null,null,null,null,null,null,null,null,null,null,null,null,null,null,null,null,null,null,null,null,null,null,null,null,null,null,null,null,null,null,null,null,null,null,null,"nicht relevant",null,null,null,null,null,null,null,null,null,null,null,"nicht relevant"]
[]
["2. Verkehr"]
[]
[]
[null,null,null,null,null,null,null,null,null,null,null,null,null,null,null,null,null,null,null,null,null,null,null,null,null,null,null,null,null,null,null,null,null,null,null,null,null,null,null,null,null,null,null,null,null,null,null,null,null,null,null,null,null,null,null,null,null,null,null,null,null,null,null,null,null,null,null,null,null,null,null,null,null,null,"\"Korrigierte\" Verkehrsmengen infolge vermindertem Kraftstoff- bzw. Energieverbrauch in zukünftigen Jahren"]
[]
[null,null,"Kosten in EUR",null,null,null,null,null,null,null,null,null,null,null,null,"Kosten in EUR",null,null,null,null,null,null,null,null,null,null,null,"Kosten in EUR",null,null,null,null,null,null,null,null,null,null,null,"Kosten in EUR",null,null,null,null,null,null,null,null,null,null,null,"Kosten in EUR",null,null,null,null,null,null,null,null,null,null,null,"Kosten in EUR",null,null,null,null,null,null,null,null,null,null,null,"i. Verkehr: Fahrzeug-km\nnach Fahrzeugkategorie","Verkehrsmenge in Fahrzeug-km\nnach Ort"]
[null,null,"Ort unbekannt\n(Ø alle Strecken)","Innerorts","Außerorts","Autobahn",null,null,null,null,null,null,null,null,null,"Ort unbekannt\n(Ø alle Strecken)","Innerorts","Außerorts","Autobahn",null,null,null,null,null,null,null,null,"Ort unbekannt\n(Ø alle Strecken)","Innerorts","Außerorts","Autobahn",null,null,null,null,null,null,null,null,"Ort unbekannt\n(Ø alle Strecken)","Innerorts","Außerorts","Autobahn",null,null,null,null,null,null,null,null,"Ort unbekannt\n(Ø alle Strecken)","Innerorts","Außerorts","Autobahn",null,null,null,null,null,null,null,null,"Ort unbekannt\n(Ø alle Strecken)","Innerorts","Außerorts","Autobahn",null,null,null,null,null,null,null,null,null,"Ort unbekannt\n(Ø alle Strecken)","Innerorts","Außerorts","Autobahn"]
[null,"PKW, Diesel",{"$f":"P43+AB43+AN43+AZ43+BL43","v":0},{"$f":"Q43+AC43+AO43+BA43+BM43","v":0},0,0,null,{"$f":"P43+AB43+AN43+AZ43+BL43-C43","v":0},{"$f":"Q43+AC43+AO43+BA43+BM43-D43","v":0},{"$f":"R43+AD43+AP43+BB43+BN43-E43","v":0},{"$f":"S43+AE43+AQ43+BC43+BO43-F43","v":0},null,null,null,"PKW, Diesel",{"$f":"$BY43*'Hilfsblatt Kostensätze Umwelt'!O43/100","v":0},{"$f":"$BZ43*'Hilfsblatt Kostensätze Umwelt'!P43/100","v":0},{"$f":"$CA43*'Hilfsblatt Kostensätze Umwelt'!Q43/100","v":0},{"$f":"$CB43*'Hilfsblatt Kostensätze Umwelt'!R43/100","v":0},null,null,null,null,null,null,null,"PKW, Diesel",{"$f":"$BY43*'Hilfsblatt Kostensätze Umwelt'!AA43/100*'Hilfsblatt Kostensätze Umwelt'!$J$263","v":0},{"$f":"$BZ43*'Hilfsblatt Kostensätze Umwelt'!AB43/100*'Hilfsblatt Kostensätze Umwelt'!$J$263","v":0},{"$f":"$CA43*'Hilfsblatt Kostensätze Umwelt'!AC43/100*'Hilfsblatt Kostensätze Umwelt'!$J$263","v":0},{"$f":"$CB43*'Hilfsblatt Kostensätze Umwelt'!AD43/100*'Hilfsblatt Kostensätze Umwelt'!$J$263","v":0},null,null,null,null,null,null,null,"PKW, Diesel",{"$f":"Eingabevariablen!$C66*'Hilfsblatt Kostensätze Umwelt'!AM43/100","v":0},{"$f":"Eingabevariablen!$D66*'Hilfsblatt Kostensätze Umwelt'!AN43/100","v":0},{"$f":"Eingabevariablen!$E66*'Hilfsblatt Kostensätze Umwelt'!AO43/100","v":0},{"$f":"Eingabevariablen!$F66*'Hilfsblatt Kostensätze Umwelt'!AP43/100","v":0},null,null,null,null,null,null,null,"PKW, Diesel",{"$f":"Eingabevariablen!$C66*'Hilfsblatt Kostensätze Umwelt'!AY43/100","v":0},{"$f":"Eingabevariablen!$D66*'Hilfsblatt Kostensätze Umwelt'!AZ43/100","v":0},{"$f":"Eingabevariablen!$E66*'Hilfsblatt Kostensätze Umwelt'!BA43/100","v":0},{"$f":"Eingabevariablen!$F66*'Hilfsblatt Kostensätze Umwelt'!BB43/100","v":0},null,null,null,null,null,null,null,"PKW, Diesel",{"$f":"$BY43*'Hilfsblatt Kostensätze Umwelt'!BK43/100","v":0},{"$f":"$BZ43*'Hilfsblatt Kostensätze Umwelt'!BL43/100","v":0},{"$f":"$CA43*'Hilfsblatt Kostensätze Umwelt'!BM43/100","v":0},{"$f":"$CB43*'Hilfsblatt Kostensätze Umwelt'!BN43/100","v":0},null,null,null,null,null,null,null,"Strassenverkehr: ","PKW, Diesel",{"$f":"Eingabevariablen!C66*(1+Eingabevariablen!$D$118)","v":0},{"$f":"Eingabevariablen!D66*(1+Eingabevariablen!$D$118)","v":0},{"$f":"Eingabevariablen!E66*(1+Eingabevariablen!$D$118)","v":0},{"$f":"Eingabevariablen!F66*(1+Eingabevariablen!$D$118)","v":0}]
[null,"PKW, Benzin",{"$f":"P44+AB44+AN44+AZ44+BL44","v":0},0,0,0,null,{"$f":"P44+AB44+AN44+AZ44+BL44-C44","v":0},0,0,0,null,null,null,"PKW, Benzin",{"$f":"$BY44*'Hilfsblatt Kostensätze Umwelt'!O44/100","v":0},{"$f":"$BZ44*'Hilfsblatt Kostensätze Umwelt'!P44/100","v":0},{"$f":"$CA44*'Hilfsblatt Kostensätze Umwelt'!Q44/100","v":0},{"$f":"$CB44*'Hilfsblatt Kostensätze Umwelt'!R44/100","v":0},null,null,null,null,null,null,null,"PKW, Benzin",{"$f":"$BY44*'Hilfsblatt Kostensätze Umwelt'!AA44/100*'Hilfsblatt Kostensätze Umwelt'!$J$263","v":0},{"$f":"$BZ44*'Hilfsblatt Kostensätze Umwelt'!AB44/100*'Hilfsblatt Kostensätze Umwelt'!$J$263","v":0},{"$f":"$CA44*'Hilfsblatt Kostensätze Umwelt'!AC44/100*'Hilfsblatt Kostensätze Umwelt'!$J$263","v":0},{"$f":"$CB44*'Hilfsblatt Kostensätze Umwelt'!AD44/100*'Hilfsblatt Kostensätze Umwelt'!$J$263","v":0},null,null,null,null,null,null,null,"PKW, Benzin",{"$f":"Eingabevariablen!$C67*'Hilfsblatt Kostensätze Umwelt'!AM44/100","v":0},{"$f":"Eingabevariablen!$D67*'Hilfsblatt Kostensätze Umwelt'!AN44/100","v":0},{"$f":"Eingabevariablen!$E67*'Hilfsblatt Kostensätze Umwelt'!AO44/100","v":0},{"$f":"Eingabevariablen!$F67*'Hilfsblatt Kostensätze Umwelt'!AP44/100","v":0},null,null,null,null,null,null,null,"PKW, Benzin",{"$f":"Eingabevariablen!$C67*'Hilfsblatt Kostensätze Umwelt'!AY44/100","v":0},{"$f":"Eingabevariablen!$D67*'Hilfsblatt Kostensätze Umwelt'!AZ44/100","v":0},{"$f":"Eingabevariablen!$E67*'Hilfsblatt Kostensätze Umwelt'!BA44/100","v":0},{"$f":"Eingabevariablen!$F67*'Hilfsblatt Kostensätze Umwelt'!BB44/100","v":0},null,null,null,null,null,null,null,"PKW, Benzin",{"$f":"$BY44*'Hilfsblatt Kostensätze Umwelt'!BK44/100","v":0},{"$f":"$BZ44*'Hilfsblatt Kostensätze Umwelt'!BL44/100","v":0},{"$f":"$CA44*'Hilfsblatt Kostensätze Umwelt'!BM44/100","v":0},{"$f":"$CB44*'Hilfsblatt Kostensätze Umwelt'!BN44/100","v":0},null,null,null,null,null,null,null,null,"PKW, Benzin",{"$f":"Eingabevariablen!C67*(1+Eingabevariablen!$D$118)","v":0},{"$f":"Eingabevariablen!D67*(1+Eingabevariablen!$D$118)","v":0},{"$f":"Eingabevariablen!E67*(1+Eingabevariablen!$D$118)","v":0},{"$f":"Eingabevariablen!F67*(1+Eingabevariablen!$D$118)","v":0}]
[null,"Leichte Nutzfahrzeuge, Diesel",0,0,0,0,null,0,0,0,0,null,null,null,"Leichte Nutzfahrzeuge, Diesel",{"$f":"$BY45*'Hilfsblatt Kostensätze Umwelt'!O45/100","v":0},{"$f":"$BZ45*'Hilfsblatt Kostensätze Umwelt'!P45/100","v":0},{"$f":"$CA45*'Hilfsblatt Kostensätze Umwelt'!Q45/100","v":0},{"$f":"$CB45*'Hilfsblatt Kostensätze Umwelt'!R45/100","v":0},null,null,null,null,null,null,null,"Leichte Nutzfahrzeuge, Diesel",{"$f":"$BY45*'Hilfsblatt Kostensätze Umwelt'!AA45/100*'Hilfsblatt Kostensätze Umwelt'!$J$263","v":0},{"$f":"$BZ45*'Hilfsblatt Kostensätze Umwelt'!AB45/100*'Hilfsblatt Kostensätze Umwelt'!$J$263","v":0},{"$f":"$CA45*'Hilfsblatt Kostensätze Umwelt'!AC45/100*'Hilfsblatt Kostensätze Umwelt'!$J$263","v":0},{"$f":"$CB45*'Hilfsblatt Kostensätze Umwelt'!AD45/100*'Hilfsblatt Kostensätze Umwelt'!$J$263","v":0},null,null,null,null,null,null,null,"Leichte Nutzfahrzeuge, Diesel",{"$f":"Eingabevariablen!$C68*'Hilfsblatt Kostensätze Umwelt'!AM45/100","v":0},{"$f":"Eingabevariablen!$D68*'Hilfsblatt Kostensätze Umwelt'!AN45/100","v":0},{"$f":"Eingabevariablen!$E68*'Hilfsblatt Kostensätze Umwelt'!AO45/100","v":0},{"$f":"Eingabevariablen!$F68*'Hilfsblatt Kostensätze Umwelt'!AP45/100","v":0},null,null,null,null,null,null,null,"Leichte Nutzfahrzeuge, Diesel",{"$f":"Eingabevariablen!$C68*'Hilfsblatt Kostensätze Umwelt'!AY45/100","v":0},{"$f":"Eingabevariablen!$D68*'Hilfsblatt Kostensätze Umwelt'!AZ45/100","v":0},{"$f":"Eingabevariablen!$E68*'Hilfsblatt Kostensätze Umwelt'!BA45/100","v":0},{"$f":"Eingabevariablen!$F68*'Hilfsblatt Kostensätze Umwelt'!BB45/100","v":0},null,null,null,null,null,null,null,"Leichte Nutzfahrzeuge, Diesel",{"$f":"$BY45*'Hilfsblatt Kostensätze Umwelt'!BK45/100","v":0},{"$f":"$BZ45*'Hilfsblatt Kostensätze Umwelt'!BL45/100","v":0},{"$f":"$CA45*'Hilfsblatt Kostensätze Umwelt'!BM45/100","v":0},{"$f":"$CB45*'Hilfsblatt Kostensätze Umwelt'!BN45/100","v":0},null,null,null,null,null,null,null,null,"Leichte Nutzfahrzeuge, Diesel",{"$f":"Eingabevariablen!C68*(1+Eingabevariablen!$D$118)","v":0},{"$f":"Eingabevariablen!D68*(1+Eingabevariablen!$D$118)","v":0},{"$f":"Eingabevariablen!E68*(1+Eingabevariablen!$D$118)","v":0},{"$f":"Eingabevariablen!F68*(1+Eingabevariablen!$D$118)","v":0}]
[null,"Leichte Nutzfahrzeuge, Benzin",0,0,0,0,null,0,0,0,0,null,null,null,"Leichte Nutzfahrzeuge, Benzin",{"$f":"$BY46*'Hilfsblatt Kostensätze Umwelt'!O46/100","v":0},{"$f":"$BZ46*'Hilfsblatt Kostensätze Umwelt'!P46/100","v":0},{"$f":"$CA46*'Hilfsblatt Kostensätze Umwelt'!Q46/100","v":0},{"$f":"$CB46*'Hilfsblatt Kostensätze Umwelt'!R46/100","v":0},null,null,null,null,null,null,null,"Leichte Nutzfahrzeuge, Benzin",{"$f":"$BY46*'Hilfsblatt Kostensätze Umwelt'!AA46/100*'Hilfsblatt Kostensätze Umwelt'!$J$263","v":0},{"$f":"$BZ46*'Hilfsblatt Kostensätze Umwelt'!AB46/100*'Hilfsblatt Kostensätze Umwelt'!$J$263","v":0},{"$f":"$CA46*'Hilfsblatt Kostensätze Umwelt'!AC46/100*'Hilfsblatt Kostensätze Umwelt'!$J$263","v":0},{"$f":"$CB46*'Hilfsblatt Kostensätze Umwelt'!AD46/100*'Hilfsblatt Kostensätze Umwelt'!$J$263","v":0},null,null,null,null,null,null,null,"Leichte Nutzfahrzeuge, Benzin",{"$f":"Eingabevariablen!$C69*'Hilfsblatt Kostensätze Umwelt'!AM46/100","v":0},{"$f":"Eingabevariablen!$D69*'Hilfsblatt Kostensätze Umwelt'!AN46/100","v":0},{"$f":"Eingabevariablen!$E69*'Hilfsblatt Kostensätze Umwelt'!AO46/100","v":0},{"$f":"Eingabevariablen!$F69*'Hilfsblatt Kostensätze Umwelt'!AP46/100","v":0},null,null,null,null,null,null,null,"Leichte Nutzfahrzeuge, Benzin",{"$f":"Eingabevariablen!$C69*'Hilfsblatt Kostensätze Umwelt'!AY46/100","v":0},{"$f":"Eingabevariablen!$D69*'Hilfsblatt Kostensätze Umwelt'!AZ46/100","v":0},{"$f":"Eingabevariablen!$E69*'Hilfsblatt Kostensätze Umwelt'!BA46/100","v":0},{"$f":"Eingabevariablen!$F69*'Hilfsblatt Kostensätze Umwelt'!BB46/100","v":0},null,null,null,null,null,null,null,"Leichte Nutzfahrzeuge, Benzin",{"$f":"$BY46*'Hilfsblatt Kostensätze Umwelt'!BK46/100","v":0},{"$f":"$BZ46*'Hilfsblatt Kostensätze Umwelt'!BL46/100","v":0},{"$f":"$CA46*'Hilfsblatt Kostensätze Umwelt'!BM46/100","v":0},{"$f":"$CB46*'Hilfsblatt Kostensätze Umwelt'!BN46/100","v":0},null,null,null,null,null,null,null,null,"Leichte Nutzfahrzeuge, Benzin",{"$f":"Eingabevariablen!C69*(1+Eingabevariablen!$D$118)","v":0},{"$f":"Eingabevariablen!D69*(1+Eingabevariablen!$D$118)","v":0},{"$f":"Eingabevariablen!E69*(1+Eingabevariablen!$D$118)","v":0},{"$f":"Eingabevariablen!F69*(1+Eingabevariablen!$D$118)","v":0}]
[null,"Schwere Nutzfahrzeuge, Diesel",0,0,0,0,null,0,0,0,0,null,null,null,"Schwere Nutzfahrzeuge, Diesel",{"$f":"$BY47*'Hilfsblatt Kostensätze Umwelt'!O47/100","v":0},{"$f":"$BZ47*'Hilfsblatt Kostensätze Umwelt'!P47/100","v":0},{"$f":"$CA47*'Hilfsblatt Kostensätze Umwelt'!Q47/100","v":0},{"$f":"$CB47*'Hilfsblatt Kostensätze Umwelt'!R47/100","v":0},null,null,null,null,null,null,null,"Schwere Nutzfahrzeuge, Diesel",{"$f":"$BY47*'Hilfsblatt Kostensätze Umwelt'!AA47/100*'Hilfsblatt Kostensätze Umwelt'!$J$263","v":0},{"$f":"$BZ47*'Hilfsblatt Kostensätze Umwelt'!AB47/100*'Hilfsblatt Kostensätze Umwelt'!$J$263","v":0},{"$f":"$CA47*'Hilfsblatt Kostensätze Umwelt'!AC47/100*'Hilfsblatt Kostensätze Umwelt'!$J$263","v":0},{"$f":"$CB47*'Hilfsblatt Kostensätze Umwelt'!AD47/100*'Hilfsblatt Kostensätze Umwelt'!$J$263","v":0},null,null,null,null,null,null,null,"Schwere Nutzfahrzeuge, Diesel",{"$f":"Eingabevariablen!$C70*'Hilfsblatt Kostensätze Umwelt'!AM47/100","v":0},{"$f":"Eingabevariablen!$D70*'Hilfsblatt Kostensätze Umwelt'!AN47/100","v":0},{"$f":"Eingabevariablen!$E70*'Hilfsblatt Kostensätze Umwelt'!AO47/100","v":0},{"$f":"Eingabevariablen!$F70*'Hilfsblatt Kostensätze Umwelt'!AP47/100","v":0},null,null,null,null,null,null,null,"Schwere Nutzfahrzeuge, Diesel",{"$f":"Eingabevariablen!$C70*'Hilfsblatt Kostensätze Umwelt'!AY47/100","v":0},{"$f":"Eingabevariablen!$D70*'Hilfsblatt Kostensätze Umwelt'!AZ47/100","v":0},{"$f":"Eingabevariablen!$E70*'Hilfsblatt Kostensätze Umwelt'!BA47/100","v":0},{"$f":"Eingabevariablen!$F70*'Hilfsblatt Kostensätze Umwelt'!BB47/100","v":0},null,null,null,null,null,null,null,"Schwere Nutzfahrzeuge, Diesel",{"$f":"$BY47*'Hilfsblatt Kostensätze Umwelt'!BK47/100","v":0},{"$f":"$BZ47*'Hilfsblatt Kostensätze Umwelt'!BL47/100","v":0},{"$f":"$CA47*'Hilfsblatt Kostensätze Umwelt'!BM47/100","v":0},{"$f":"$CB47*'Hilfsblatt Kostensätze Umwelt'!BN47/100","v":0},null,null,null,null,null,null,null,null,"Schwere Nutzfahrzeuge, Diesel",{"$f":"Eingabevariablen!C70*(1+Eingabevariablen!$D$118)","v":0},{"$f":"Eingabevariablen!D70*(1+Eingabevariablen!$D$118)","v":0},{"$f":"Eingabevariablen!E70*(1+Eingabevariablen!$D$118)","v":0},{"$f":"Eingabevariablen!F70*(1+Eingabevariablen!$D$118)","v":0}]
[null,"Bus, Diesel",0,0,0,0,null,0,0,0,0,null,null,null,"Bus, Diesel",{"$f":"$BY48*'Hilfsblatt Kostensätze Umwelt'!O48/100","v":0},{"$f":"$BZ48*'Hilfsblatt Kostensätze Umwelt'!P48/100","v":0},{"$f":"$CA48*'Hilfsblatt Kostensätze Umwelt'!Q48/100","v":0},{"$f":"$CB48*'Hilfsblatt Kostensätze Umwelt'!R48/100","v":0},null,null,null,null,null,null,null,"Bus, Diesel",{"$f":"$BY48*'Hilfsblatt Kostensätze Umwelt'!AA48/100*'Hilfsblatt Kostensätze Umwelt'!$J$263","v":0},{"$f":"$BZ48*'Hilfsblatt Kostensätze Umwelt'!AB48/100*'Hilfsblatt Kostensätze Umwelt'!$J$263","v":0},{"$f":"$CA48*'Hilfsblatt Kostensätze Umwelt'!AC48/100*'Hilfsblatt Kostensätze Umwelt'!$J$263","v":0},{"$f":"$CB48*'Hilfsblatt Kostensätze Umwelt'!AD48/100*'Hilfsblatt Kostensätze Umwelt'!$J$263","v":0},null,null,null,null,null,null,null,"Bus, Diesel",{"$f":"Eingabevariablen!$C71*'Hilfsblatt Kostensätze Umwelt'!AM48/100","v":0},{"$f":"Eingabevariablen!$D71*'Hilfsblatt Kostensätze Umwelt'!AN48/100","v":0},{"$f":"Eingabevariablen!$E71*'Hilfsblatt Kostensätze Umwelt'!AO48/100","v":0},{"$f":"Eingabevariablen!$F71*'Hilfsblatt Kostensätze Umwelt'!AP48/100","v":0},null,null,null,null,null,null,null,"Bus, Diesel",{"$f":"Eingabevariablen!$C71*'Hilfsblatt Kostensätze Umwelt'!AY48/100","v":0},{"$f":"Eingabevariablen!$D71*'Hilfsblatt Kostensätze Umwelt'!AZ48/100","v":0},{"$f":"Eingabevariablen!$E71*'Hilfsblatt Kostensätze Umwelt'!BA48/100","v":0},{"$f":"Eingabevariablen!$F71*'Hilfsblatt Kostensätze Umwelt'!BB48/100","v":0},null,null,null,null,null,null,null,"Bus, Diesel",{"$f":"$BY48*'Hilfsblatt Kostensätze Umwelt'!BK48/100","v":0},{"$f":"$BZ48*'Hilfsblatt Kostensätze Umwelt'!BL48/100","v":0},{"$f":"$CA48*'Hilfsblatt Kostensätze Umwelt'!BM48/100","v":0},{"$f":"$CB48*'Hilfsblatt Kostensätze Umwelt'!BN48/100","v":0},null,null,null,null,null,null,null,null,"Bus, Diesel",{"$f":"Eingabevariablen!C71*(1+Eingabevariablen!$D$118)","v":0},{"$f":"Eingabevariablen!D71*(1+Eingabevariablen!$D$118)","v":0},{"$f":"Eingabevariablen!E71*(1+Eingabevariablen!$D$118)","v":0},{"$f":"Eingabevariablen!F71*(1+Eingabevariablen!$D$118)","v":0}]
[null,"Krafträder, Benzin 4-Takt",0,0,0,0,null,0,0,0,0,null,null,null,"Krafträder, Benzin 4-Takt",{"$f":"$BY49*'Hilfsblatt Kostensätze Umwelt'!O49/100","v":0},{"$f":"$BZ49*'Hilfsblatt Kostensätze Umwelt'!P49/100","v":0},{"$f":"$CA49*'Hilfsblatt Kostensätze Umwelt'!Q49/100","v":0},{"$f":"$CB49*'Hilfsblatt Kostensätze Umwelt'!R49/100","v":0},null,null,null,null,null,null,null,"Krafträder, Benzin 4-Takt",{"$f":"$BY49*'Hilfsblatt Kostensätze Umwelt'!AA49/100*'Hilfsblatt Kostensätze Umwelt'!$J$263","v":0},{"$f":"$BZ49*'Hilfsblatt Kostensätze Umwelt'!AB49/100*'Hilfsblatt Kostensätze Umwelt'!$J$263","v":0},{"$f":"$CA49*'Hilfsblatt Kostensätze Umwelt'!AC49/100*'Hilfsblatt Kostensätze Umwelt'!$J$263","v":0},{"$f":"$CB49*'Hilfsblatt Kostensätze Umwelt'!AD49/100*'Hilfsblatt Kostensätze Umwelt'!$J$263","v":0},null,null,null,null,null,null,null,"Krafträder, Benzin 4-Takt",{"$f":"Eingabevariablen!$C72*'Hilfsblatt Kostensätze Umwelt'!AM49/100","v":0},{"$f":"Eingabevariablen!$D72*'Hilfsblatt Kostensätze Umwelt'!AN49/100","v":0},{"$f":"Eingabevariablen!$E72*'Hilfsblatt Kostensätze Umwelt'!AO49/100","v":0},{"$f":"Eingabevariablen!$F72*'Hilfsblatt Kostensätze Umwelt'!AP49/100","v":0},null,null,null,null,null,null,null,"Krafträder, Benzin 4-Takt",{"$f":"Eingabevariablen!$C72*'Hilfsblatt Kostensätze Umwelt'!AY49/100","v":0},{"$f":"Eingabevariablen!$D72*'Hilfsblatt Kostensätze Umwelt'!AZ49/100","v":0},{"$f":"Eingabevariablen!$E72*'Hilfsblatt Kostensätze Umwelt'!BA49/100","v":0},{"$f":"Eingabevariablen!$F72*'Hilfsblatt Kostensätze Umwelt'!BB49/100","v":0},null,null,null,null,null,null,null,"Krafträder, Benzin 4-Takt",{"$f":"$BY49*'Hilfsblatt Kostensätze Umwelt'!BK49/100","v":0},{"$f":"$BZ49*'Hilfsblatt Kostensätze Umwelt'!BL49/100","v":0},{"$f":"$CA49*'Hilfsblatt Kostensätze Umwelt'!BM49/100","v":0},{"$f":"$CB49*'Hilfsblatt Kostensätze Umwelt'!BN49/100","v":0},null,null,null,null,null,null,null,null,"Krafträder, Benzin 4-Takt",{"$f":"Eingabevariablen!C72*(1+Eingabevariablen!$D$118)","v":0},{"$f":"Eingabevariablen!D72*(1+Eingabevariablen!$D$118)","v":0},{"$f":"Eingabevariablen!E72*(1+Eingabevariablen!$D$118)","v":0},{"$f":"Eingabevariablen!F72*(1+Eingabevariablen!$D$118)","v":0}]
[null,"Krafträder, Benzin 2-Takt",0,0,0,0,null,0,0,0,0,null,null,null,"Krafträder, Benzin 2-Takt",{"$f":"$BY50*'Hilfsblatt Kostensätze Umwelt'!O50/100","v":0},{"$f":"$BZ50*'Hilfsblatt Kostensätze Umwelt'!P50/100","v":0},{"$f":"$CA50*'Hilfsblatt Kostensätze Umwelt'!Q50/100","v":0},{"$f":"$CB50*'Hilfsblatt Kostensätze Umwelt'!R50/100","v":0},null,null,null,null,null,null,null,"Krafträder, Benzin 2-Takt",{"$f":"$BY50*'Hilfsblatt Kostensätze Umwelt'!AA50/100*'Hilfsblatt Kostensätze Umwelt'!$J$263","v":0},{"$f":"$BZ50*'Hilfsblatt Kostensätze Umwelt'!AB50/100*'Hilfsblatt Kostensätze Umwelt'!$J$263","v":0},{"$f":"$CA50*'Hilfsblatt Kostensätze Umwelt'!AC50/100*'Hilfsblatt Kostensätze Umwelt'!$J$263","v":0},{"$f":"$CB50*'Hilfsblatt Kostensätze Umwelt'!AD50/100*'Hilfsblatt Kostensätze Umwelt'!$J$263","v":0},null,null,null,null,null,null,null,"Krafträder, Benzin 2-Takt",{"$f":"Eingabevariablen!$C73*'Hilfsblatt Kostensätze Umwelt'!AM50/100","v":0},{"$f":"Eingabevariablen!$D73*'Hilfsblatt Kostensätze Umwelt'!AN50/100","v":0},{"$f":"Eingabevariablen!$E73*'Hilfsblatt Kostensätze Umwelt'!AO50/100","v":0},{"$f":"Eingabevariablen!$F73*'Hilfsblatt Kostensätze Umwelt'!AP50/100","v":0},null,null,null,null,null,null,null,"Krafträder, Benzin 2-Takt",{"$f":"Eingabevariablen!$C73*'Hilfsblatt Kostensätze Umwelt'!AY50/100","v":0},{"$f":"Eingabevariablen!$D73*'Hilfsblatt Kostensätze Umwelt'!AZ50/100","v":0},{"$f":"Eingabevariablen!$E73*'Hilfsblatt Kostensätze Umwelt'!BA50/100","v":0},{"$f":"Eingabevariablen!$F73*'Hilfsblatt Kostensätze Umwelt'!BB50/100","v":0},null,null,null,null,null,null,null,"Krafträder, Benzin 2-Takt",{"$f":"$BY50*'Hilfsblatt Kostensätze Umwelt'!BK50/100","v":0},{"$f":"$BZ50*'Hilfsblatt Kostensätze Umwelt'!BL50/100","v":0},{"$f":"$CA50*'Hilfsblatt Kostensätze Umwelt'!BM50/100","v":0},{"$f":"$CB50*'Hilfsblatt Kostensätze Umwelt'!BN50/100","v":0},null,null,null,null,null,null,null,null,"Krafträder, Benzin 2-Takt",{"$f":"Eingabevariablen!C73*(1+Eingabevariablen!$D$118)","v":0},{"$f":"Eingabevariablen!D73*(1+Eingabevariablen!$D$118)","v":0},{"$f":"Eingabevariablen!E73*(1+Eingabevariablen!$D$118)","v":0},{"$f":"Eingabevariablen!F73*(1+Eingabevariablen!$D$118)","v":0}]
[null,"Personenzug, Diesel",0,0,0,null,null,0,0,0,0,null,null,null,"Personenzug, Diesel",{"$f":"$BY51*'Hilfsblatt Kostensätze Umwelt'!O51/100","v":0},{"$f":"$BZ51*'Hilfsblatt Kostensätze Umwelt'!P51/100","v":0},{"$f":"$CA51*'Hilfsblatt Kostensätze Umwelt'!Q51/100","v":0},null,null,null,null,null,null,null,null,"Personenzug, Diesel",{"$f":"$BY51*'Hilfsblatt Kostensätze Umwelt'!AA51/100*'Hilfsblatt Kostensätze Umwelt'!$J$263","v":0},{"$f":"$BZ51*'Hilfsblatt Kostensätze Umwelt'!AB51/100*'Hilfsblatt Kostensätze Umwelt'!$J$263","v":0},{"$f":"$CA51*'Hilfsblatt Kostensätze Umwelt'!AC51/100*'Hilfsblatt Kostensätze Umwelt'!$J$263","v":0},null,null,null,null,null,null,null,null,"Personenzug, Diesel",{"$f":"Eingabevariablen!$C95*'Hilfsblatt Kostensätze Umwelt'!AM51/100","v":0},{"$f":"Eingabevariablen!$D95*'Hilfsblatt Kostensätze Umwelt'!AN51/100","v":0},{"$f":"Eingabevariablen!$E95*'Hilfsblatt Kostensätze Umwelt'!AO51/100","v":0},null,null,null,null,null,null,null,null,"Personenzug, Diesel",{"$f":"Eingabevariablen!$C95*'Hilfsblatt Kostensätze Umwelt'!AY51/100","v":0},{"$f":"Eingabevariablen!$D95*'Hilfsblatt Kostensätze Umwelt'!AZ51/100","v":0},{"$f":"Eingabevariablen!$E95*'Hilfsblatt Kostensätze Umwelt'!BA51/100","v":0},null,null,null,null,null,null,null,null,"Personenzug, Diesel",{"$f":"$BY51*'Hilfsblatt Kostensätze Umwelt'!BK51/100","v":0},{"$f":"$BZ51*'Hilfsblatt Kostensätze Umwelt'!BL51/100","v":0},{"$f":"$CA51*'Hilfsblatt Kostensätze Umwelt'!BM51/100","v":0},null,null,null,null,null,null,null,null,"Schienenverkehr: ","Personenzug, Diesel",{"$f":"Eingabevariablen!C95*(1+Eingabevariablen!$D$118)","v":0},{"$f":"Eingabevariablen!D95*(1+Eingabevariablen!$D$118)","v":0},{"$f":"Eingabevariablen!E95*(1+Eingabevariablen!$D$118)","v":0}]
[null,"Personenzug, elektrisch",0,0,0,null,null,0,0,0,0,null,null,null,"Personenzug, elektrisch",{"$f":"$BY52*'Hilfsblatt Kostensätze Umwelt'!O52/100","v":0},{"$f":"$BZ52*'Hilfsblatt Kostensätze Umwelt'!P52/100","v":0},{"$f":"$CA52*'Hilfsblatt Kostensätze Umwelt'!Q52/100","v":0},null,null,null,null,null,null,null,null,"Personenzug, elektrisch",{"$f":"$BY52*'Hilfsblatt Kostensätze Umwelt'!AA52/100*'Hilfsblatt Kostensätze Umwelt'!$J$263","v":0},{"$f":"$BZ52*'Hilfsblatt Kostensätze Umwelt'!AB52/100*'Hilfsblatt Kostensätze Umwelt'!$J$263","v":0},{"$f":"$CA52*'Hilfsblatt Kostensätze Umwelt'!AC52/100*'Hilfsblatt Kostensätze Umwelt'!$J$263","v":0},null,null,null,null,null,null,null,null,"Personenzug, elektrisch",{"$f":"Eingabevariablen!$C96*'Hilfsblatt Kostensätze Umwelt'!AM52/100","v":0},{"$f":"Eingabevariablen!$D96*'Hilfsblatt Kostensätze Umwelt'!AN52/100","v":0},{"$f":"Eingabevariablen!$E96*'Hilfsblatt Kostensätze Umwelt'!AO52/100","v":0},null,null,null,null,null,null,null,null,"Personenzug, elektrisch",{"$f":"Eingabevariablen!$C96*'Hilfsblatt Kostensätze Umwelt'!AY52/100","v":0},{"$f":"Eingabevariablen!$D96*'Hilfsblatt Kostensätze Umwelt'!AZ52/100","v":0},{"$f":"Eingabevariablen!$E96*'Hilfsblatt Kostensätze Umwelt'!BA52/100","v":0},null,null,null,null,null,null,null,null,"Personenzug, elektrisch",{"$f":"$BY52*'Hilfsblatt Kostensätze Umwelt'!BK52/100","v":0},{"$f":"$BZ52*'Hilfsblatt Kostensätze Umwelt'!BL52/100","v":0},{"$f":"$CA52*'Hilfsblatt Kostensätze Umwelt'!BM52/100","v":0},null,null,null,null,null,null,null,null,null,"Personenzug, elektrisch",{"$f":"Eingabevariablen!C96*(1+Eingabevariablen!$D$118)","v":0},{"$f":"Eingabevariablen!D96*(1+Eingabevariablen!$D$118)","v":0},{"$f":"Eingabevariablen!E96*(1+Eingabevariablen!$D$118)","v":0}]
[null,"Güterzug, Diesel",0,0,0,null,null,0,0,0,0,null,null,null,"Güterzug, Diesel",{"$f":"$BY53*'Hilfsblatt Kostensätze Umwelt'!O53/100","v":0},{"$f":"$BZ53*'Hilfsblatt Kostensätze Umwelt'!P53/100","v":0},{"$f":"$CA53*'Hilfsblatt Kostensätze Umwelt'!Q53/100","v":0},null,null,null,null,null,null,null,null,"Güterzug, Diesel",{"$f":"$BY53*'Hilfsblatt Kostensätze Umwelt'!AA53/100*'Hilfsblatt Kostensätze Umwelt'!$J$263","v":0},{"$f":"$BZ53*'Hilfsblatt Kostensätze Umwelt'!AB53/100*'Hilfsblatt Kostensätze Umwelt'!$J$263","v":0},{"$f":"$CA53*'Hilfsblatt Kostensätze Umwelt'!AC53/100*'Hilfsblatt Kostensätze Umwelt'!$J$263","v":0},null,null,null,null,null,null,null,null,"Güterzug, Diesel",{"$f":"Eingabevariablen!$C97*'Hilfsblatt Kostensätze Umwelt'!AM53/100","v":0},{"$f":"Eingabevariablen!$D97*'Hilfsblatt Kostensätze Umwelt'!AN53/100","v":0},{"$f":"Eingabevariablen!$E97*'Hilfsblatt Kostensätze Umwelt'!AO53/100","v":0},null,null,null,null,null,null,null,null,"Güterzug, Diesel",{"$f":"Eingabevariablen!$C97*'Hilfsblatt Kostensätze Umwelt'!AY53/100","v":0},{"$f":"Eingabevariablen!$D97*'Hilfsblatt Kostensätze Umwelt'!AZ53/100","v":0},{"$f":"Eingabevariablen!$E97*'Hilfsblatt Kostensätze Umwelt'!BA53/100","v":0},null,null,null,null,null,null,null,null,"Güterzug, Diesel",{"$f":"$BY53*'Hilfsblatt Kostensätze Umwelt'!BK53/100","v":0},{"$f":"$BZ53*'Hilfsblatt Kostensätze Umwelt'!BL53/100","v":0},{"$f":"$CA53*'Hilfsblatt Kostensätze Umwelt'!BM53/100","v":0},null,null,null,null,null,null,null,null,null,"Güterzug, Diesel",{"$f":"Eingabevariablen!C97*(1+Eingabevariablen!$D$118)","v":0},{"$f":"Eingabevariablen!D97*(1+Eingabevariablen!$D$118)","v":0},{"$f":"Eingabevariablen!E97*(1+Eingabevariablen!$D$118)","v":0}]
[null,"Güterzug, elektrisch",0,0,0,null,null,0,0,0,0,null,null,null,"Güterzug, elektrisch",{"$f":"$BY54*'Hilfsblatt Kostensätze Umwelt'!O54/100","v":0},{"$f":"$BZ54*'Hilfsblatt Kostensätze Umwelt'!P54/100","v":0},{"$f":"$CA54*'Hilfsblatt Kostensätze Umwelt'!Q54/100","v":0},null,null,null,null,null,null,null,null,"Güterzug, elektrisch",{"$f":"$BY54*'Hilfsblatt Kostensätze Umwelt'!AA54/100*'Hilfsblatt Kostensätze Umwelt'!$J$263","v":0},{"$f":"$BZ54*'Hilfsblatt Kostensätze Umwelt'!AB54/100*'Hilfsblatt Kostensätze Umwelt'!$J$263","v":0},{"$f":"$CA54*'Hilfsblatt Kostensätze Umwelt'!AC54/100*'Hilfsblatt Kostensätze Umwelt'!$J$263","v":0},null,null,null,null,null,null,null,null,"Güterzug, elektrisch",{"$f":"Eingabevariablen!$C98*'Hilfsblatt Kostensätze Umwelt'!AM54/100","v":0},{"$f":"Eingabevariablen!$D98*'Hilfsblatt Kostensätze Umwelt'!AN54/100","v":0},{"$f":"Eingabevariablen!$E98*'Hilfsblatt Kostensätze Umwelt'!AO54/100","v":0},null,null,null,null,null,null,null,null,"Güterzug, elektrisch",{"$f":"Eingabevariablen!$C98*'Hilfsblatt Kostensätze Umwelt'!AY54/100","v":0},{"$f":"Eingabevariablen!$D98*'Hilfsblatt Kostensätze Umwelt'!AZ54/100","v":0},{"$f":"Eingabevariablen!$E98*'Hilfsblatt Kostensätze Umwelt'!BA54/100","v":0},null,null,null,null,null,null,null,null,"Güterzug, elektrisch",{"$f":"$BY54*'Hilfsblatt Kostensätze Umwelt'!BK54/100","v":0},{"$f":"$BZ54*'Hilfsblatt Kostensätze Umwelt'!BL54/100","v":0},{"$f":"$CA54*'Hilfsblatt Kostensätze Umwelt'!BM54/100","v":0},null,null,null,null,null,null,null,null,null,"Güterzug, elektrisch",{"$f":"Eingabevariablen!C98*(1+Eingabevariablen!$D$118)","v":0},{"$f":"Eingabevariablen!D98*(1+Eingabevariablen!$D$118)","v":0},{"$f":"Eingabevariablen!E98*(1+Eingabevariablen!$D$118)","v":0}]
[null,"Binnengüterschiff",0,null,null,null,null,0,null,null,null,null,null,null,"Binnengüterschiff",{"$f":"$BY55*'Hilfsblatt Kostensätze Umwelt'!O55/100","v":0},null,null,null,null,null,null,null,null,null,null,"Binnengüterschiff",{"$f":"$BY55*'Hilfsblatt Kostensätze Umwelt'!AA55/100*'Hilfsblatt Kostensätze Umwelt'!$J$263","v":0},null,null,null,null,null,null,null,null,null,null,"Binnengüterschiff",{"$f":"Eingabevariablen!$D109*'Hilfsblatt Kostensätze Umwelt'!AM55/100","v":0},null,null,null,null,null,null,null,null,null,null,"Binnengüterschiff",{"$f":"Eingabevariablen!$D109*'Hilfsblatt Kostensätze Umwelt'!AY55/100","v":0},null,null,null,null,null,null,null,null,null,null,"Binnengüterschiff",{"$f":"$BY55*'Hilfsblatt Kostensätze Umwelt'!BK55/100","v":0},null,null,null,null,null,null,null,null,null,null,"Schiffsverkehr: ","Binnengüterschiff",{"$f":"Eingabevariablen!D109*(1+Eingabevariablen!$D$118)","v":0}]
[null,"Luftverkehr, Europa-/Kontinentalflug",0,null,null,null,null,0,null,null,null,null,null,null,"Luftverkehr, Europa-/Kontinentalflug",{"$f":"$BY56*'Hilfsblatt Kostensätze Umwelt'!O56/100","v":0},null,null,null,null,null,null,null,null,null,null,"Luftverkehr, Europa-/Kontinentalflug",{"$f":"$BY56*'Hilfsblatt Kostensätze Umwelt'!AA56/100*'Hilfsblatt Kostensätze Umwelt'!$J$263","v":0},null,null,null,null,null,null,null,null,null,null,"Luftverkehr, Europa-/Kontinentalflug",{"$f":"Eingabevariablen!$D113*'Hilfsblatt Kostensätze Umwelt'!AM56/100","v":0},null,null,null,null,null,null,null,null,null,null,"Luftverkehr, Europa-/Kontinentalflug",{"$f":"Eingabevariablen!$D113*'Hilfsblatt Kostensätze Umwelt'!AY56/100","v":0},null,null,null,null,null,null,null,null,null,null,"Luftverkehr, Europa-/Kontinentalflug",{"$f":"$BY56*'Hilfsblatt Kostensätze Umwelt'!BK56/100","v":0},null,null,null,null,null,null,null,null,null,null,"Luftverkehr: ","Luftverkehr, Europa-/Kontinentalflug",{"$f":"Eingabevariablen!D113*(1+Eingabevariablen!$D$118)","v":0}]
[]
[]
[]
["B. Nach Wirkungskategorien"]
[]
["1. Luftschadstoffemissionen"]
[]
[null,"in Euro"]
[null,"Quelle:","Quelle unbekannt","Verkehr",null,"Kraftwerk/Energie","Industrie","Kleinfeuerung"]
[null,"Kosten",null,"Innerorts (Durchschnitt)","Außerorts",null,null,"Innerorts","Außerorts","Total"]
[null,"Partikel (Feinstaub) grob PM10",{"$f":"Eingabevariablen!C216*'Hilfsblatt Kostensätze Umwelt'!C69","v":0},{"$f":"Eingabevariablen!D216*'Hilfsblatt Kostensätze Umwelt'!D69","v":0},{"$f":"Eingabevariablen!E216*'Hilfsblatt Kostensätze Umwelt'!E69","v":0},{"$f":"Eingabevariablen!F216*'Hilfsblatt Kostensätze Umwelt'!F69","v":0},{"$f":"Eingabevariablen!G216*'Hilfsblatt Kostensätze Umwelt'!G69","v":0},{"$f":"Eingabevariablen!H216*'Hilfsblatt Kostensätze Umwelt'!H69","v":0},{"$f":"Eingabevariablen!I216*'Hilfsblatt Kostensätze Umwelt'!I69","v":0},{"$f":"SUM(C67:I67)","v":0}]
[null,"Partikel (Feinstaub) fein PM2.5",{"$f":"Eingabevariablen!C217*'Hilfsblatt Kostensätze Umwelt'!C70","v":0},{"$f":"Eingabevariablen!D217*'Hilfsblatt Kostensätze Umwelt'!D70","v":0},{"$f":"Eingabevariablen!E217*'Hilfsblatt Kostensätze Umwelt'!E70","v":0},{"$f":"Eingabevariablen!F217*'Hilfsblatt Kostensätze Umwelt'!F70","v":0},{"$f":"Eingabevariablen!G217*'Hilfsblatt Kostensätze Umwelt'!G70","v":0},{"$f":"Eingabevariablen!H217*'Hilfsblatt Kostensätze Umwelt'!H70","v":0},{"$f":"Eingabevariablen!I217*'Hilfsblatt Kostensätze Umwelt'!I70","v":0},{"$f":"SUM(C68:I68)","v":0}]
[null,"Stickoxide NOx",{"$f":"Eingabevariablen!C218*'Hilfsblatt Kostensätze Umwelt'!C71","v":0},{"$f":"Eingabevariablen!D218*'Hilfsblatt Kostensätze Umwelt'!D71","v":0},{"$f":"Eingabevariablen!E218*'Hilfsblatt Kostensätze Umwelt'!E71","v":0},{"$f":"Eingabevariablen!F218*'Hilfsblatt Kostensätze Umwelt'!F71","v":0},{"$f":"Eingabevariablen!G218*'Hilfsblatt Kostensätze Umwelt'!G71","v":0},{"$f":"Eingabevariablen!H218*'Hilfsblatt Kostensätze Umwelt'!H71","v":0},{"$f":"Eingabevariablen!I218*'Hilfsblatt Kostensätze Umwelt'!I71","v":0},0]
[null,"Schwefeldioxid SO2",{"$f":"Eingabevariablen!C219*'Hilfsblatt Kostensätze Umwelt'!C72","v":0},{"$f":"Eingabevariablen!D219*'Hilfsblatt Kostensätze Umwelt'!D72","v":0},{"$f":"Eingabevariablen!E219*'Hilfsblatt Kostensätze Umwelt'!E72","v":0},{"$f":"Eingabevariablen!F219*'Hilfsblatt Kostensätze Umwelt'!F72","v":0},{"$f":"Eingabevariablen!G219*'Hilfsblatt Kostensätze Umwelt'!G72","v":0},{"$f":"Eingabevariablen!H219*'Hilfsblatt Kostensätze Umwelt'!H72","v":0},{"$f":"Eingabevariablen!I219*'Hilfsblatt Kostensätze Umwelt'!I72","v":0},0]
[null,"Flüchtige Kohlenwasserstoffe NMVOC",{"$f":"Eingabevariablen!C220*'Hilfsblatt Kostensätze Umwelt'!C73","v":0},{"$f":"Eingabevariablen!D220*'Hilfsblatt Kostensätze Umwelt'!D73","v":0},{"$f":"Eingabevariablen!E220*'Hilfsblatt Kostensätze Umwelt'!E73","v":0},{"$f":"Eingabevariablen!F220*'Hilfsblatt Kostensätze Umwelt'!F73","v":0},{"$f":"Eingabevariablen!G220*'Hilfsblatt Kostensätze Umwelt'!G73","v":0},{"$f":"Eingabevariablen!H220*'Hilfsblatt Kostensätze Umwelt'!H73","v":0},{"$f":"Eingabevariablen!I220*'Hilfsblatt Kostensätze Umwelt'!I73","v":0},0]
[null,"Ammoniak NH3",{"$f":"Eingabevariablen!C221*'Hilfsblatt Kostensätze Umwelt'!C74","v":0},{"$f":"Eingabevariablen!D221*'Hilfsblatt Kostensätze Umwelt'!D74","v":0},{"$f":"Eingabevariablen!E221*'Hilfsblatt Kostensätze Umwelt'!E74","v":0},{"$f":"Eingabevariablen!F221*'Hilfsblatt Kostensätze Umwelt'!F74","v":0},{"$f":"Eingabevariablen!G221*'Hilfsblatt Kostensätze Umwelt'!G74","v":0},{"$f":"Eingabevariablen!H221*'Hilfsblatt Kostensätze Umwelt'!H74","v":0},{"$f":"Eingabevariablen!I221*'Hilfsblatt Kostensätze Umwelt'!I74","v":0},0]
[]
[]
[]
[]
["2. Treibhausgasemissionen"]
[]
[]
[null,"in Euro"]
[null,"Schadstoff","in EUR"]
[null,"Kohlendioxid (CO2)",{"$f":"Eingabevariablen!D238*'Hilfsblatt Kostensätze Umwelt'!D82","v":0}]
[null,"Methan (CH4)",{"$f":"Eingabevariablen!D239*'Hilfsblatt Kostensätze Umwelt'!D83","v":0}]
[null,"Lachgas (N2O)",{"$f":"Eingabevariablen!D240*'Hilfsblatt Kostensätze Umwelt'!D84","v":0}]
[null,"Treibhausgase total (in CO2-Äquivalent)",{"$f":"Eingabevariablen!D241*'Hilfsblatt Kostensätze Umwelt'!D85","v":0}]
[]
[]
[]
["3. Lärmemissionen"]
[]
[]
[null,"in EUR"]
[null,"Kosten pro belastete Personen je Lärmklasse \n(Dezibel-Klasse)","Quelle: Verkehr",null,null,"Quelle: unbekannt"]
[null,"Lärmbelastung (Lden (dB(A))","Strassenverkehr","Schienenverkehr","Luftverkehr"]
[null,"45 dB",{"$f":"Eingabevariablen!C262*'Hilfsblatt Kostensätze Umwelt'!C95","v":0},{"$f":"Eingabevariablen!D262*'Hilfsblatt Kostensätze Umwelt'!D95","v":0},{"$f":"Eingabevariablen!E262*'Hilfsblatt Kostensätze Umwelt'!E95","v":0},{"$f":"Eingabevariablen!F262*'Hilfsblatt Kostensätze Umwelt'!F95","v":0}]
[null,"50 dB",{"$f":"Eingabevariablen!C263*'Hilfsblatt Kostensätze Umwelt'!C96","v":0},{"$f":"Eingabevariablen!D263*'Hilfsblatt Kostensätze Umwelt'!D96","v":0},{"$f":"Eingabevariablen!E263*'Hilfsblatt Kostensätze Umwelt'!E96","v":0},{"$f":"Eingabevariablen!F263*'Hilfsblatt Kostensätze Umwelt'!F96","v":0}]
[null,"55 dB",{"$f":"Eingabevariablen!C264*'Hilfsblatt Kostensätze Umwelt'!C97","v":0},{"$f":"Eingabevariablen!D264*'Hilfsblatt Kostensätze Umwelt'!D97","v":0},{"$f":"Eingabevariablen!E264*'Hilfsblatt Kostensätze Umwelt'!E97","v":0},{"$f":"Eingabevariablen!F264*'Hilfsblatt Kostensätze Umwelt'!F97","v":0}]
[null,"60 dB",{"$f":"Eingabevariablen!C265*'Hilfsblatt Kostensätze Umwelt'!C98","v":0},{"$f":"Eingabevariablen!D265*'Hilfsblatt Kostensätze Umwelt'!D98","v":0},{"$f":"Eingabevariablen!E265*'Hilfsblatt Kostensätze Umwelt'!E98","v":0},{"$f":"Eingabevariablen!F265*'Hilfsblatt Kostensätze Umwelt'!F98","v":0}]
[null,"65 dB",{"$f":"Eingabevariablen!C266*'Hilfsblatt Kostensätze Umwelt'!C99","v":0},{"$f":"Eingabevariablen!D266*'Hilfsblatt Kostensätze Umwelt'!D99","v":0},{"$f":"Eingabevariablen!E266*'Hilfsblatt Kostensätze Umwelt'!E99","v":0},{"$f":"Eingabevariablen!F266*'Hilfsblatt Kostensätze Umwelt'!F99","v":0}]
[null,"70 dB",{"$f":"Eingabevariablen!C267*'Hilfsblatt Kostensätze Umwelt'!C100","v":0},{"$f":"Eingabevariablen!D267*'Hilfsblatt Kostensätze Umwelt'!D100","v":0},{"$f":"Eingabevariablen!E267*'Hilfsblatt Kostensätze Umwelt'!E100","v":0},{"$f":"Eingabevariablen!F267*'Hilfsblatt Kostensätze Umwelt'!F100","v":0}]
[null,"75 dB",{"$f":"Eingabevariablen!C268*'Hilfsblatt Kostensätze Umwelt'!C101","v":0},{"$f":"Eingabevariablen!D268*'Hilfsblatt Kostensätze Umwelt'!D101","v":0},{"$f":"Eingabevariablen!E268*'Hilfsblatt Kostensätze Umwelt'!E101","v":0},{"$f":"Eingabevariablen!F268*'Hilfsblatt Kostensätze Umwelt'!F101","v":0}]
[null,"80 dB",{"$f":"Eingabevariablen!C269*'Hilfsblatt Kostensätze Umwelt'!C102","v":0},{"$f":"Eingabevariablen!D269*'Hilfsblatt Kostensätze Umwelt'!D102","v":0},{"$f":"Eingabevariablen!E269*'Hilfsblatt Kostensätze Umwelt'!E102","v":0},{"$f":"Eingabevariablen!F269*'Hilfsblatt Kostensätze Umwelt'!F102","v":0}]
[null,"≥81 dB",{"$f":"Eingabevariablen!C270*'Hilfsblatt Kostensätze Umwelt'!C103","v":0},{"$f":"Eingabevariablen!D270*'Hilfsblatt Kostensätze Umwelt'!D103","v":0},{"$f":"Eingabevariablen!E270*'Hilfsblatt Kostensätze Umwelt'!E103","v":0},{"$f":"Eingabevariablen!F270*'Hilfsblatt Kostensätze Umwelt'!F103","v":0}]
[]
[]
["4. Beeinträchtigung von Ökosystemen"]
[]
[]
[]
["a. Flächenumwandlung, Verbauung natürlicher Flächen, Versiegelung"]
[null,null,"in EUR"]
[null,"Kosten der versiegelten Fläche (total)",{"$f":"Eingabevariablen!D306*10^6*'Hilfsblatt Kostensätze Umwelt'!C112","v":0},"in Euro total"]
[null,"Kosten pro Jahr",{"$f":"Eingabevariablen!D306*10^6*'Hilfsblatt Kostensätze Umwelt'!C114","v":0},"in Euro, pro Jahr"]
[]
[]
["b. Landnutzungsänderung, Nutzungsintenvisierung"]
[]
[null,"Kosten in Euro: Total bzw. pro Jahr",null,null,null,"in EUR","in EUR"]
[null,null,null,null,"Kostensatz Vollverlust, in EUR/m2 2010","Vollverlust, in EUR 2010 total","Vollverlust, in EUR 2010 pro Jahr"]
[null,"bisherige Nutzungsform",{"$f":"Eingabevariablen!$C$179:$D$179","v":"Durchschnitt Deutschland (alle Biotoptypen)"},null,{"$f":"VLOOKUP($C120,'Hilfsblatt Kostensätze Umwelt'!$B$119:$C$141,2,FALSE)","v":5.5060832022984991},{"$f":"(Eingabevariablen!$D$178)*10^6*'Hilfsblatt Ber. Umweltkosten 2'!$E120","v":0},{"$f":"-PMT('Hilfsblatt Kostensätze Umwelt'!$C$113,100,$F120)","v":0}]
[null,"neue Nutzungsform",{"$f":"Eingabevariablen!$C$180:$D$180","v":"Ackerland"},null,{"$f":"VLOOKUP($C121,'Hilfsblatt Kostensätze Umwelt'!$B$119:$C$141,2,FALSE)","v":0.62419797639422125},{"$f":"(Eingabevariablen!$D$178)*10^6*'Hilfsblatt Ber. Umweltkosten 2'!$E121","v":0},{"$f":"-PMT('Hilfsblatt Kostensätze Umwelt'!$C$113,100,$F121)","v":0}]
[null,"Delta = Kosten der Nutzungsänderung",null,null,{"$f":"E120-E121","v":4.881885225904278},{"$f":"F120-F121","v":0},{"$f":"G120-G121","v":0}]
[]
[]
[]
[]
[]
[]
[]
[]
[]
[]
[]
[]
[]
[]
[]
[]
[]
[]
[]
[]
[]
[]
[]
[]
[]
["c. Nährstoffeintrag"]
[]
[null,"Kosten pro kg Stickstoff (N)","in Euro"]
[null,"Stickstoff-Verbindungen",{"$f":"Eingabevariablen!$D$184*1000*'Hilfsblatt Kostensätze Umwelt'!$C$151","v":0},"in Euro"]
[]
["d. Schadstoffeinträge ins Meer"]
[]
[null,"Kosten Schadstoffeinträge ins Meer","in Euro"]
[null,"Stickstoffeintrag ins Meer",{"$f":"Eingabevariablen!D289*'Hilfsblatt Kostensätze Umwelt'!C156","v":0},"in Euro"]
[null,"Abfallmenge, ins Meer",{"$f":"Eingabevariablen!D290*'Hilfsblatt Kostensätze Umwelt'!C157","v":0},"in Euro"]
[null,"Ölmenge, ins Meer",{"$f":"Eingabevariablen!D291*IF(Eingabevariablen!$C$293='Hilfsblatt Kostensätze Umwelt'!J158,'Hilfsblatt Kostensätze Umwelt'!C158,'Hilfsblatt Kostensätze Umwelt'!D158)","v":0},"in Euro"]
[]
["e. Zerschneidung der Landschaft durch Verkehrswege"]
[null,null,"total","pro Jahr"]
[null,"Kosten (zusätzlicher) Verkehrsinfrastrukturen","in Euro, total","in Euro, pro Jahr"]
[null,"Straße: Autobahn, Bundesstraße",{"$f":"Eingabevariablen!$D297*'Hilfsblatt Kostensätze Umwelt'!C163","v":0},{"$f":"Eingabevariablen!$D297*'Hilfsblatt Kostensätze Umwelt'!D163","v":0}]
[null,"Straße: Hauptstraße",{"$f":"Eingabevariablen!$D298*'Hilfsblatt Kostensätze Umwelt'!C164","v":0},{"$f":"Eingabevariablen!$D298*'Hilfsblatt Kostensätze Umwelt'!D164","v":0}]
[null,"Straße: Nebenstraße",{"$f":"Eingabevariablen!$D299*'Hilfsblatt Kostensätze Umwelt'!C165","v":0},{"$f":"Eingabevariablen!$D299*'Hilfsblatt Kostensätze Umwelt'!D165","v":0}]
[null,"Schiene: mehrspurig",{"$f":"Eingabevariablen!$D300*'Hilfsblatt Kostensätze Umwelt'!C166","v":0},{"$f":"Eingabevariablen!$D300*'Hilfsblatt Kostensätze Umwelt'!D166","v":0}]
[null,"Schiene: einspurig",{"$f":"Eingabevariablen!$D301*'Hilfsblatt Kostensätze Umwelt'!C167","v":0},{"$f":"Eingabevariablen!$D301*'Hilfsblatt Kostensätze Umwelt'!D167","v":0}]
[null,"Flugplatz, Flughafen",{"$f":"Eingabevariablen!$D302*'Hilfsblatt Kostensätze Umwelt'!C168","v":0},{"$f":"Eingabevariablen!$D302*'Hilfsblatt Kostensätze Umwelt'!D168","v":0}]
[]
[]
["5. Emission toxischer Stoffe"]
[]
[]
[]
[null,"Kosten der Emission toxischer Stoffe","in Euro"]
[null,"Schwermetalle:"]
[null,"Arsen (As)",{"$f":"Eingabevariablen!D313*'Hilfsblatt Kostensätze Umwelt'!C177","v":0}]
[null,"Cadmium (Cd)",{"$f":"Eingabevariablen!D314*'Hilfsblatt Kostensätze Umwelt'!C178","v":0}]
[null,"Chrom (Cr)",{"$f":"Eingabevariablen!D315*'Hilfsblatt Kostensätze Umwelt'!C179","v":0}]
[null,"Nickel (Ni)",{"$f":"Eingabevariablen!D316*'Hilfsblatt Kostensätze Umwelt'!C180","v":0}]
[null,"Quecksilber (Hg)",{"$f":"Eingabevariablen!D317*'Hilfsblatt Kostensätze Umwelt'!C181","v":0}]
[null,"Blei (Pb)",{"$f":"Eingabevariablen!D318*'Hilfsblatt Kostensätze Umwelt'!C182","v":0}]
[null,"Langlebige organische Schadstoffe (POPs):"]
[null,"Dioxine",{"$f":"Eingabevariablen!D320*'Hilfsblatt Kostensätze Umwelt'!C184","v":0}]
[null,"Furane",{"$f":"Eingabevariablen!D321*'Hilfsblatt Kostensätze Umwelt'!C185","v":0}]
[null,"Formaldehyd",{"$f":"Eingabevariablen!D322*'Hilfsblatt Kostensätze Umwelt'!C186","v":0}]
[null,"Pflanzenschutzmittel",{"$f":"Eingabevariablen!D323*'Hilfsblatt Kostensätze Umwelt'!C187","v":0}]
[null,"Insektizide",{"$f":"Eingabevariablen!D324*'Hilfsblatt Kostensätze Umwelt'!C188","v":0}]
[]
[]
["6. Indirekte Effekte vor- und nachgelagerte Prozesse"]
[]
[]
[]
[null,"Kosten der Schadstoffemissionen","in Euro"]
[null,"Partikel (Feinstaub) PM10",{"$f":"Eingabevariablen!D330*'Hilfsblatt Kostensätze Umwelt'!C196","v":0}]
[null,"Partikel (Feinstaub) fein PM2.5",{"$f":"Eingabevariablen!D331*'Hilfsblatt Kostensätze Umwelt'!C197","v":0}]
[null,"Stickoxide NOx",{"$f":"Eingabevariablen!D332*'Hilfsblatt Kostensätze Umwelt'!C198","v":0}]
[null,"Schwefeldioxid SO2",{"$f":"Eingabevariablen!D333*'Hilfsblatt Kostensätze Umwelt'!C199","v":0}]
[null,"Flüchtige Kohlenwasserstoffe NMVOC",{"$f":"Eingabevariablen!D334*'Hilfsblatt Kostensätze Umwelt'!C200","v":0}]
[null,"Ammoniak NH3",{"$f":"Eingabevariablen!D335*'Hilfsblatt Kostensätze Umwelt'!C201","v":0}]
[null,"Kohlendioxid (CO2)",{"$f":"Eingabevariablen!D336*'Hilfsblatt Kostensätze Umwelt'!D202","v":0}]
[null,"Methan (CH4)",{"$f":"Eingabevariablen!D337*'Hilfsblatt Kostensätze Umwelt'!D203","v":0}]
[null,"Lachgas (N2O)",{"$f":"Eingabevariablen!D338*'Hilfsblatt Kostensätze Umwelt'!D204","v":0}]
[null,"Treibhausgase total (in CO2-Äquivalent)",{"$f":"Eingabevariablen!D339*'Hilfsblatt Kostensätze Umwelt'!D205","v":0}]
[null,"Stickstoff-Verbindungen",{"$f":"Eingabevariablen!D340*'Hilfsblatt Kostensätze Umwelt'!C206","v":0}]
[]
[]
["9. Unfälle"]
[]
[null,"Anzahl Unfallopfer (Verkehrsunfälle)","in Euro"]
[null,"Leichtverletzte",{"$f":"Eingabevariablen!D346*'Hilfsblatt Kostensätze Umwelt'!D219","v":0}]
[null,"Schwerverletzte",{"$f":"Eingabevariablen!D347*'Hilfsblatt Kostensätze Umwelt'!D220","v":0}]
[null,"Todesopfer",{"$f":"Eingabevariablen!D348*'Hilfsblatt Kostensätze Umwelt'!D221","v":0}]
[]
[null,"Anzahl Verkehrsunfälle","in Euro"]
[null,"Strassenverkehrsunfälle generell",{"$f":"Eingabevariablen!D351*'Hilfsblatt Kostensätze Umwelt'!E225","v":0}]
[null,"Unfälle mit Personenwagen",{"$f":"Eingabevariablen!D352*'Hilfsblatt Kostensätze Umwelt'!E226","v":0}]
[null,"Unfälle mit Motorrädern",{"$f":"Eingabevariablen!D353*'Hilfsblatt Kostensätze Umwelt'!E227","v":0}]
[null,"Unfälle mit Güterschwerverkehr",{"$f":"Eingabevariablen!D354*'Hilfsblatt Kostensätze Umwelt'!E228","v":0}]
[null,"Unfälle mit öffentl. Personenverkehr",{"$f":"Eingabevariablen!D355*'Hilfsblatt Kostensätze Umwelt'!E229","v":0}]
[null,"Unfälle mit Fahrrädern",{"$f":"Eingabevariablen!D356*'Hilfsblatt Kostensätze Umwelt'!E230","v":0}]
[null,"Unfälle mit Fussgängern",{"$f":"Eingabevariablen!D357*'Hilfsblatt Kostensätze Umwelt'!E231","v":0}]
[null,"Schienenverkehrsunfälle: Personenverkehr",{"$f":"Eingabevariablen!D358*'Hilfsblatt Kostensätze Umwelt'!E232","v":0}]
[null,"Schienenverkehrsunfälle: Güterverkehr",{"$f":"Eingabevariablen!D359*'Hilfsblatt Kostensätze Umwelt'!E233","v":0}]
[null,"Luftverkehrsunfälle (ohne Grossereignisse)",{"$f":"Eingabevariablen!D360*'Hilfsblatt Kostensätze Umwelt'!E234","v":0}]
[]
[]
[]
[]
["Gesamtübersicht: Ergebnis Umweltkosten / Umweltnutzen"]
[]
["a. Nutzen pro Jahr",null,null,null,null,null,null,null,"b. Gesamtnutzen (-kosten) (bei Landnutzungsänderungen oder Versiegelung)"]
[]
["Nutzen/Kosten aus:","Nutzen (Kosten) in 1.000 Euro","Einheit","gerundet"]
["Luftschadstoffemissionen",{"$f":"-(SUM('Hilfsblatt Ber. Umweltkosten 2'!P16:P33,'Hilfsblatt Ber. Umweltkosten 2'!S16:S29,'Hilfsblatt Ber. Umweltkosten 2'!V16:V21,'Hilfsblatt Ber. Umweltkosten 2'!Y16:Y19,'Hilfsblatt Ber. Umweltkosten 2'!P43:S56,'Hilfsblatt Ber. Umweltkosten 2'!C67:I72)/1000)","v":0},{"$f":"\"1.000 € pro \"&Eingabevariablen!$J$49","v":"1.000 € pro Jahr"},{"$f":"ROUND(B236,-2)","v":0}]
["Treibhausgasemissionen",{"$f":"-(SUM('Hilfsblatt Ber. Umweltkosten 2'!AB16:AB33,'Hilfsblatt Ber. Umweltkosten 2'!AE16:AE29,'Hilfsblatt Ber. Umweltkosten 2'!AH16:AH21,'Hilfsblatt Ber. Umweltkosten 2'!AK16:AK19,'Hilfsblatt Ber. Umweltkosten 2'!AB43:AE56,'Hilfsblatt Ber. Umweltkosten 2'!C82:C85)/1000)","v":0},{"$f":"\"1.000 € pro \"&Eingabevariablen!$J$49","v":"1.000 € pro Jahr"},{"$f":"ROUND(B237,-2)","v":0}]
["Lärmemissionen",{"$f":"-(SUM('Hilfsblatt Ber. Umweltkosten 2'!AN43:AQ56,'Hilfsblatt Ber. Umweltkosten 2'!C95:F103)/1000)","v":0},{"$f":"\"1.000 € pro \"&Eingabevariablen!$J$49","v":"1.000 € pro Jahr"},0,null,null,null,null,"Beeinträchtigung von Ökosystemen:","Nutzen (Kosten) in 1.000 Euro","Einheit"]
["Beeinträchtigung von Ökosystemen",{"$f":"-(SUM('Hilfsblatt Ber. Umweltkosten 2'!AZ43:BC56,'Hilfsblatt Ber. Umweltkosten 2'!C113,'Hilfsblatt Ber. Umweltkosten 2'!G122,'Hilfsblatt Ber. Umweltkosten 2'!C151,'Hilfsblatt Ber. Umweltkosten 2'!C156:C158,'Hilfsblatt Ber. Umweltkosten 2'!D163:D168)/1000)","v":0},{"$f":"\"1.000 € pro \"&Eingabevariablen!$J$49","v":"1.000 € pro Jahr"},0,null,null,null,null,"Versiegelung & Landnutzungsänderung",{"$f":"-ROUND((SUM('Hilfsblatt Ber. Umweltkosten 2'!C112,'Hilfsblatt Ber. Umweltkosten 2'!F122)/1000),-3)","v":0},"1.000 € total"]
["Emission toxischer Stoffe",{"$f":"-(SUM('Hilfsblatt Ber. Umweltkosten 2'!C177:C182,'Hilfsblatt Ber. Umweltkosten 2'!C184:C188)/1000)","v":0},{"$f":"\"1.000 € pro \"&Eingabevariablen!$J$49","v":"1.000 € pro Jahr"},0,null,null,null,null,null,"nicht Jahreskosten, sondern Gesamtkosten"]
["Indirekte Effekte durch vor- und nachgelagerte Prozesse",{"$f":"-(SUM('Hilfsblatt Ber. Umweltkosten 2'!BL16:BL33,'Hilfsblatt Ber. Umweltkosten 2'!BO16:BO29,'Hilfsblatt Ber. Umweltkosten 2'!BR16:BR21,'Hilfsblatt Ber. Umweltkosten 2'!BU16:BU19,'Hilfsblatt Ber. Umweltkosten 2'!BL43:BO56,'Hilfsblatt Ber. Umweltkosten 2'!C196:C206)/1000)","v":0},{"$f":"\"1.000 € pro \"&Eingabevariablen!$J$49","v":"1.000 € pro Jahr"},0]
["Gesamtkosten (-nutzen) Umwelt",{"$f":"SUM(B236:B241)","v":0},"1.000 € pro Jahr",{"$f":"SUM(D236:D241)","v":0}]
["Unfälle",{"$f":"-(SUM(C212:C214,C217:C226)/1000)","v":0},{"$f":"\"1.000 € pro \"&Eingabevariablen!$J$49","v":"1.000 € pro Jahr"},0]
["Total Umwelt und Unfälle",{"$f":"B242+B243","v":0},"1.000 € pro Jahr",{"$f":"D242+D243","v":0}]
["Bemerkung: positives Vorzeichen = Nutzen = Reduktion von Kosten; negatives Vorzeichen = zusätzliche Kosten"]
[]
[]
[]
["Ermittlung Anteil der Betroffenheit (Kosten/Nutzen) der Wirtschaft: Deckelung, Kompensation"]
[]
[]
["1. Luftschadstoffemissionen"]
[]
["Folgen, Kostenbereiche","Konkrete Kosten","Betroffenheit Wirtschaft (qual.)","Anteil Gesamtkosten",null,null,null,null,null,"Quelle","Allokation Anteil Wirtschaft","Anteil Private","Quelle"]
[null,null,null,"Partikel grob PM10","Partikel fein PM2.5","Stickoxide NOx","Schwefeldioxid SO2","Flüchtige KW: NMVOC","Ammoniak NH3"]
["Gesundheitsschäden","Medizinische Behandlungs-kosten, Spitalkosten","Grundsätzlich private Kosten, aber durch Wirtschaft mitfinanziert über Arbeitgeberbeiträge Krankenversicherung",1.2E-2,{"$f":"$D256","v":1.2E-2},{"$f":"$D256","v":1.2E-2},{"$f":"$D256","v":1.2E-2},1.2E-2,1.2E-2,"Ecoplan, ARE 2014: Ext. Kosten Verkehr Schweiz 2010, Basis Strassen-verkehr",{"$f":"7.3/(7.3+7.3+0.9)","v":0.47096774193548385},{"$f":"(7.3+0.9)/(7.3+7.3+0.9)","v":0.52903225806451604},"Aktuelle Beitrags-sätze Arbeitgeber/-nehmer"]
[null,"Produktionsausfälle infolge Krankeiten","Kosten / Nutzen vollständig bei der Wirtschaft ",2.3E-2,{"$f":"$D257","v":2.3E-2},2.3E-2,2.3E-2,2.3E-2,2.3E-2,null,1,0]
[null,"Wiederbesetungskosten bei Unternehmen (Invalidität, Tod)","Kosten / Nutzen vollständig bei der Wirtschaft",3.0000000000000001E-3,3.0000000000000001E-3,3.0000000000000001E-3,3.0000000000000001E-3,3.0000000000000001E-3,3.0000000000000001E-3,null,1,0]
[null,"Immaterielle Kosten (Schmerz, Leid)","Vollständig bei Privaten",0.96199999999999997,0.96199999999999997,0.96199999999999997,0.96199999999999997,0.96199999999999997,0.96199999999999997,null,0,1]
[null,"Total Gesundheitskosten",null,1,1,{"$f":"12600/15400","v":0.81818181818181823},{"$f":"11900/13200","v":0.90151515151515149},{"$f":"1600/1900","v":0.84210526315789469},{"$f":"18200/26900","v":0.67657992565055758},"UBA MK 2.0 (basierend auf IER 2012 bzw. NEEDS)"]
["Gebäude- und Materialschäden","Reinigungskosten, Renovations-kosten von Immobilien","Immobilien im Besitz von Unternehmen (d.h. nicht von Privaten od. dem Staat)",0,0,{"$f":"100/15400","v":6.4935064935064939E-3},{"$f":"500/13200","v":3.787878787878788E-2},0,0,null,0.40799999999999997,0.59199999999999997,"Immobilienstatistik Destatis / Zensus 2011"]
["Ernteausfälle","Entgangene Ernteerträge","Kosten fallen direkt bei der Landwirtschaft an.",0,0,{"$f":"500/15400","v":3.2467532467532464E-2},0,{"$f":"300/1900","v":0.15789473684210525},0,null,1,0]
["Biodiversitätsverluste","Ökosystemschäden, Beeinträchtigung Ökosystem-schäden","Vor allem Private betroffen. Wirtschaft primär indirekt betroffen (über verminderte Ökosystemleistungen).",0,0,{"$f":"2200/15400","v":0.14285714285714285},{"$f":"800/13200","v":6.0606060606060608E-2},0,{"$f":"8700/26900","v":0.32342007434944237},null,0,1,"bisher keine Angaben verfügbar für Anteil Wirtsch."]
[null,null,null,{"$f":"SUM(D260:D263)","v":1},{"$f":"SUM(E260:E263)","v":1},1,1,1,1]
[null,null,null,{"$f":"SUM(D256:D259)","v":1},{"$f":"SUM(E256:E259)","v":1},1,1,1,1]
[]
["Anteil Wirtschaft",null,null,{"$f":"(D256*$K256+D257*$K257+D258*$K258+D259*$K259)*D$260+D261*$K261+D262*$K262+D263*$K263","v":3.1651612903225809E-2},3.1651612903225809E-2,6.1013657310431499E-2,4.3988954056695992E-2,0.18454872665534805,2.1414845904784745E-2]
["Anteil Private",null,null,{"$f":"(D256*$L256+D257*$L257+D258*$L258+D259*$L259)*D$260+D261*$L261+D262*$L262+D263*$L263","v":0.96834838709677418},0.96834838709677418,0.9389863426895686,0.95601104594330399,0.81545127334465184,0.97858515409521529]
["Gesamttotal",null,null,{"$f":"D267+D268","v":1},{"$f":"E267+E268","v":1},1,1,0.99999999999999989,1]
[null,"Mittelwert Energie","Anteil Wirtschaft",{"$f":"0.5*D267+0.3*E267+0.2*F267","v":3.7524021784666947E-2}]
[null,null,"Anteil Private",{"$f":"0.5*D268+0.3*E268+0.2*F268","v":0.96247597821533293}]
[null,"Mittelwert Verkehr","Anteil Wirtschaft",{"$f":"0.5*D267+0.1*E267+0.3*F267+0.1*G267","v":4.1693960340734533E-2}]
[null,null,"Anteil Private",{"$f":"0.5*D268+0.1*E268+0.3*F268+0.1*G268","v":0.95830603965926553}]
[]
[]
[]
["2. Treibhausgasemissionen"]
[]
["Folgen, Kostenbereiche","Konkrete Kosten","Betroffenheit Wirtschaft (qual.)","Anteil Gesamtkosten","Anteil Wirtschaft gerundet","Anteil Private, Staat","Quelle","Anteil Wirtschaft genau"]
["Gesundheitsschäden","Medizinische Behandlungs-kosten, Spitalkosten","Grundsätzlich private Kosten, aber durch Wirtschaft mitfinanziert über Arbeitgeberbeiträge Krankenversicherung","nur gesamthaft zu bestimmen, da Vermeidungskostenansatz.\n-> Abschätzung des Anteils der Schadenskosten, die die Wirtschaft treffen.\nDie Klimaschadenskosten- modelle können Wirtschaftsanteil nicht direkt bestimmen. Aus den Ergebnissen von Stern, FUND, PAGE zeigt sich aber, dass Klimakosten  Wirtschaft und Private gleichmässig treffen, analog zur Wirtschaftsstruktur. Daher Orientierung an Wirtschaftsanteil an der Verwendung von Gütern (aus IOT Volkswirtsch. Gesamtrechnung D)",0.5,{"$f":"1-E280","v":0.5},"Anteil Wirtschaft an Güterverwendung in IOT 2011 (Revision 2014) Deutschlands. \nQuelle: Destatis 2015",0.51800000000000002]
[null,"Produktionsausfälle infolge Krankeiten","Kosten / Nutzen vollständig bei der Wirtschaft "]
[null,"Wiederbesetungskosten bei Unternehmen (Invalidität, Tod)","Kosten / Nutzen vollständig bei der Wirtschaft"]
[null,"Immaterielle Kosten (Schmerz, Leid)","Vollständig bei Privaten"]
["Biodiversitätsverluste","Ökosystemschäden, Beeinträchtigung Ökosystemleistungen","Vor allem Private betroffen. Wirtschaft eher indirekt betroffen."]
["Risiken und Gefahren (Schäden an Infrastrukturen)","Schadenskosten an Infrastrukturen, Investitionen durch Adaptionsmaßnahmen","Wirtschaft direkt betroffen, über ihre Infrastrukturen sowie das erhöhte Risiko. Insbesondere spezifische Branchen wie Verkehr, Tourismus, Landwirtschaft."]
["Einschränkung von Ökosystemleistungen z.B.:\n- Wasserverfügbarkeit\n- Nahrungsmittelproduktion","Schäden für Landwirtschaft, Tourismus; etc."]
[]
[]
[]
["3. Lärmkosten"]
[]
["Folgen, Kostenbereiche","Konkrete Kosten","Betroffenheit Wirtschaft (qual.)","Anteil Gesamtkosten",null,null,null,null,null,"Quelle","Allokation Anteil Wirtschaft","Anteil Private & Staat","Quelle"]
[null,null,null,"Strassenlärm"]
["Gesundheitsschäden","Medizinische Behandlungs-kosten, Spitalkosten","Grundsätzlich private Kosten, aber durch Wirtschaft mitfinanziert über Arbeitgeberbeiträge Krankenversicherung",4.4999999999999998E-2,null,null,null,null,null,"Ecoplan, ARE 2014: Ext. Kosten Verkehr Schweiz 2010, Basis Strassen-verkehr",{"$f":"7.3/(7.3+7.3+0.9)","v":0.47096774193548385},{"$f":"(7.3+0.9)/(7.3+7.3+0.9)","v":0.52903225806451604},"Aktuelle Beitrags-sätze Arbeitgeber/-nehmer"]
[null,"Produktionsausfälle infolge Krankeiten","Kosten / Nutzen vollständig bei der Wirtschaft ",0.01,null,null,null,null,null,null,1,0]
[null,"Wiederbesetungskosten bei Unternehmen (Invalidität, Tod)","Kosten / Nutzen vollständig bei der Wirtschaft",2E-3,null,null,null,null,null,null,1,0]
[null,"Immaterielle Kosten (Schmerz, Leid)","Vollständig bei Privaten",0.94299999999999995,null,null,null,null,null,null,0,1]
[null,"Total Gesundheitskosten",null,0.40899999999999997,null,null,null,null,null,"UBA MK 2.0 (basierend auf IER 2012 bzw. NEEDS)"]
["Verminderte Lebensqualität","Wertverluste von Immobilien","Immobilien im Besitz von Unternehmen (d.h. nicht von Privaten od. dem Staat)",0.59099999999999997,null,null,null,null,null,null,0.40799999999999997,0.59199999999999997,"Immobilienstatistik Destatis / Zensus 2011"]
[]
[]
[null,null,null,{"$f":"SUM(D298:D301)","v":1}]
[null,null,null,{"$f":"SUM(D294:D297)","v":1}]
[]
["Anteil Wirtschaft",null,null,{"$f":"(D294*$K294+D295*$K295+D296*$K296+D297*$K297)*D$298+D299*$K299+D300*$K300+D301*$K301","v":0.25470416129032258}]
["Anteil Private",null,null,{"$f":"(D294*$L294+D295*$L295+D296*$L296+D297*$L297)*D$298+D299*$L299+D300*$L300+D301*$L301","v":0.74529583870967731}]
["Gesamttotal",null,null,{"$f":"D305+D306","v":0.99999999999999989}]
[]
[]
[]
["4. Beeinträchtigung von Ökosystemen"]
[]
["Folgen, Kostenbereiche","Konkrete Kosten","Betroffenheit Wirtschaft (qual.)","Allokation Wirtschaft","Anteil Wirtschaft","Anteil Private, Staat","Quelle"]
["Beeinträchtigung von Ökosystemen","Einschränkung konkreter Ökosystemdienstleistungen, z.B.: \n- Versorgung\n- Regulation\n- Erholung","Die Wirtschaft kann indirekt betroffen sein (bzw. profitieren) über die Einschränkung von (relevanten) Ökosystemleistungen wie z.B.: \n- Verminderten Erholungseffekte: z.B. Tourismusbranche betroffen\n- Eingeschränkte Versorgungleistungen: relevant für Landwirtschaft, Nahrungsmittelbranche","Eine Allokation der Kosten auf die Wirtschaft ist nur dann möglich, wenn die einzelnen Ökosystemleistungen monetarisiert werden können. \n-> Im Moment ist dies nicht der Fall. Evtl. kann dies in Zukunft, wenn weitere wiss. Grundlagen vorliegen, bestimmt werden. \nIm Moment ist Anteil der Wirtschaft damit nicht zu ermitteln.",0,{"$f":"1-E314","v":1}]
[]
[]
[]
["5. Emission toxischer Stoffe"]
[]
["Folgen, Kostenbereiche","Konkrete Kosten","Betroffenheit Wirtschaft (qual.)","Anteil Gesamtkosten",null,null,"Quelle","Allokation Anteil Wirtschaft","Anteil Private & Staat","Quelle"]
[null,null,null,"Luft PM10","Lärm","Mittelwert"]
["Gesundheitsschäden","Medizinische Behandlungs-kosten, Spitalkosten","Grundsätzlich private Kosten, aber durch Wirtschaft mitfinanziert über Arbeitgeberbeiträge Krankenversicherung",{"$f":"D256","v":1.2E-2},{"$f":"D294","v":4.4999999999999998E-2},{"$f":"AVERAGE(D322:E322)","v":2.8499999999999998E-2},"Ecoplan, ARE 2014: Ext. Kosten Verkehr Schweiz 2010, Basis Strassen-verkehr",{"$f":"7.3/(7.3+7.3+0.9)","v":0.47096774193548385},{"$f":"(7.3+0.9)/(7.3+7.3+0.9)","v":0.52903225806451604},"Aktuelle Beitrags-sätze Arbeitgeber/-nehmer"]
[null,"Produktionsausfälle infolge Krankeiten","Kosten / Nutzen vollständig bei der Wirtschaft ",{"$f":"D257","v":2.3E-2},{"$f":"D295","v":0.01},{"$f":"AVERAGE(D323:E323)","v":1.6500000000000001E-2},null,1,0]
[null,"Wiederbesetungskosten bei Unternehmen (Invalidität, Tod)","Kosten / Nutzen vollständig bei der Wirtschaft",{"$f":"D258","v":3.0000000000000001E-3},2E-3,2.5000000000000001E-3,null,1,0]
[null,"Immaterielle Kosten (Schmerz, Leid)","Vollständig bei Privaten",{"$f":"D259","v":0.96199999999999997},0.94299999999999995,0.9524999999999999,null,0,1]
[null,null,null,{"$f":"SUM(D322:D325)","v":1},{"$f":"SUM(E322:E325)","v":1},0.99999999999999989]
["Anteil Wirtschaft",null,null,{"$f":"(F322*$H322+F323*$H323+F324*$H324+F325*$H325)","v":3.2422580645161292E-2}]
["Anteil Private",null,null,{"$f":"(F322*$I322+F323*$I323+F324*$I324+F325*$I325)","v":0.96757741935483865}]
["Gesamttotal",null,null,{"$f":"D327+D328","v":1}]
[]
[]
[]
["6. Indirekte Effekte vor- und nachgelagerte Prozesse"]
[]
["Anteil Kostenbereiche","Anteil an indirekten Kosten","Quelle","Anteil Wirtschaft","Anteil Private & Staat"]
["Anteil Klimakosten",0.92,"Ecoplan, ARE 2014: Ext. Kosten Verkehr Schweiz 2010, Basis Strassenverkehr",{"$f":"E280","v":0.5},{"$f":"1-D336","v":0.5}]
["Anteil Luftschadstoffkosten",{"$f":"1-B336","v":7.999999999999996E-2},null,{"$f":"D267","v":3.1651612903225809E-2},{"$f":"1-D337","v":0.96834838709677418}]
[]
["Anteil Wirtschaft",{"$f":"B336*D336+B337*D337","v":0.4625321290322581}]
["Anteil Private",{"$f":"B336*E336+B337*E337","v":0.53746787096774196}]
["Gesamttotal",{"$f":"B339+B340","v":1}]
[]
[]
[]
["9. Unfälle"]
[]
["Folgen, Kostenbereiche","Konkrete Kosten","Betroffenheit Wirtschaft (qual.)","Anteil Gesamtkosten","Quelle","Allokation Anteil Wirtschaft","Anteil Private & Staat","Quelle"]
[null,null,null,"Strassenverkehr"]
["Gesundheitsschäden","Medizinische Behandlungs-kosten, Spitalkosten","Grundsätzlich private Kosten, aber durch Wirtschaft mitfinanziert über Arbeitgeberbeiträge Krankenversicherung",5.7000000000000002E-2,"Ecoplan, ARE 2014: Ext. Kosten Verkehr Schweiz 2010, Basis Strassenverkehr",{"$f":"7.3/(7.3+7.3+0.9)","v":0.47096774193548385},{"$f":"(7.3+0.9)/(7.3+7.3+0.9)","v":0.52903225806451604},"Aktuelle Beitrags-sätze Arbeitgeber/-nehmer"]
[null,"Produktionsausfälle infolge Krankeiten","Kosten / Nutzen vollständig bei der Wirtschaft ",1.4999999999999999E-2,null,1,0]
[null,"Wiederbesetungskosten bei Unternehmen (Invalidität, Tod)","Kosten / Nutzen vollständig bei der Wirtschaft",1E-3,null,1,0]
[null,"Immaterielle Kosten (Schmerz, Leid)","Vollständig bei Privaten",0.70099999999999996,null,0,1]
["Sachschäden (Versicherungen, Haftpflicht",null,"Grundsätzlich private Kosten, aber durch Wirtschaft mitfinanziert über Versicherg.",0.13300000000000001,null,0.5,{"$f":"1-F353","v":0.5},"je hälftig druch Versicherg. / Wirtschaft und Private getragen"]
["Adminstrativkosten (Versicherungen)",null,"Kosten / Nutzen vollständig bei der Wirtschaft",5.6000000000000001E-2,null,1,0]
["Polizei- und Rechtsfolgekosten",null,"Vollständig bei der öffentl. Hand",3.6999999999999998E-2,null,0,1]
[]
[]
[null,null,null,{"$f":"SUM(D349:D352,D353:D355)","v":1}]
["Anteil Wirtschaft",null,null,{"$f":"(D349*$F349+D350*$F350+D351*$F351+D352*$F352+D353*$F353+D354*$F354+D355*$F355)","v":0.16534516129032259}]
["Anteil Private",null,null,{"$f":"(D349*$G349+D350*$G350+D351*$G351+D352*$G352+D353*$G353+D354*$G354+D355*$G355)","v":0.83465483870967738}]
["Gesamttotal",null,null,{"$f":"D359+D360","v":1}]
[]
[]
[]
[]
["OIOO-differenzierte Ergebnisse: Umweltkosten / Umweltnutzen Wirschaft (Deckelung) vs. Andere Kosten/Nutzen"]
[]
["a. Nutzen (Kosten) pro Jahr",null,null,null,null,null,null,"b. Nutzen (Kosten) pro Jahr gerundet"]
[null,"Nutzen (Kosten) in 1.000 Euro",null,null,null,null,null,null,"Nutzen (Kosten) in 1.000 Euro"]
["Nutzen/Kosten aus:","Wirtschaft: Deckelung","Private, Staat etc: Andere Kosten/Nutzen","Einheit","Check Total","Anteil Wirtschaft (Deckelung) in %",null,"Nutzen/Kosten aus:","Wirtschaft: Deckelung","Private, Staat etc: Andere Kosten/Nutzen","Total","Einheit","Check Total"]
["Luftschadstoffemissionen",{"$f":"-((SUM('Hilfsblatt Ber. Umweltkosten 2'!P16:P33,'Hilfsblatt Ber. Umweltkosten 2'!S16:S29,'Hilfsblatt Ber. Umweltkosten 2'!V16:V21,'Hilfsblatt Ber. Umweltkosten 2'!Y16:Y19)*$D$270+SUM('Hilfsblatt Ber. Umweltkosten 2'!P43:S56)*$D$272+(J67*D267+J68*E267+J69*F267+J70*G267+J71*H267+J72*I267))/1000)","v":0},{"$f":"-((SUM('Hilfsblatt Ber. Umweltkosten 2'!P16:P33,'Hilfsblatt Ber. Umweltkosten 2'!S16:S29,'Hilfsblatt Ber. Umweltkosten 2'!V16:V21,'Hilfsblatt Ber. Umweltkosten 2'!Y16:Y19)*$D$271+SUM('Hilfsblatt Ber. Umweltkosten 2'!P43:S56)*$D$273+(J67*D268+J68*E268+J69*F268+J70*G268+J71*H268+J72*I268))/1000)","v":0},{"$f":"\"1.000 € pro \"&Eingabevariablen!$J$49","v":"1.000 € pro Jahr"},{"$f":"B371+C371-B236","v":0},{"$f":"B371/B236","v":{"$error":"#DIV/0!"}},null,"Luftschadstoffemissionen",{"$f":"ROUND(B371,-2)","v":0},{"$f":"ROUND(C371,-2)","v":0},{"$f":"I371+J371","v":0},{"$f":"\"1.000 € pro \"&Eingabevariablen!$J$49","v":"1.000 € pro Jahr"},{"$f":"I371+J371-D236","v":0}]
["Treibhausgasemissionen",{"$f":"-((SUM('Hilfsblatt Ber. Umweltkosten 2'!AB16:AB33,'Hilfsblatt Ber. Umweltkosten 2'!AE16:AE29,'Hilfsblatt Ber. Umweltkosten 2'!AH16:AH21,'Hilfsblatt Ber. Umweltkosten 2'!AK16:AK19)*E280+SUM('Hilfsblatt Ber. Umweltkosten 2'!AB43:AE56)*E280+SUM('Hilfsblatt Ber. Umweltkosten 2'!C82:C85)*E280)/1000)","v":0},{"$f":"-((SUM('Hilfsblatt Ber. Umweltkosten 2'!AB16:AB33,'Hilfsblatt Ber. Umweltkosten 2'!AE16:AE29,'Hilfsblatt Ber. Umweltkosten 2'!AH16:AH21,'Hilfsblatt Ber. Umweltkosten 2'!AK16:AK19)*F280+SUM('Hilfsblatt Ber. Umweltkosten 2'!AB43:AE56)*F280+SUM('Hilfsblatt Ber. Umweltkosten 2'!C82:C85)*F280)/1000)","v":0},{"$f":"\"1.000 € pro \"&Eingabevariablen!$J$49","v":"1.000 € pro Jahr"},0,{"$error":"#DIV/0!"},null,"Treibhausgasemissionen",{"$f":"ROUND(B372,-2)","v":0},0,{"$f":"I372+J372","v":0},{"$f":"\"1.000 € pro \"&Eingabevariablen!$J$49","v":"1.000 € pro Jahr"},0]
["Lärmemissionen",{"$f":"-((SUM('Hilfsblatt Ber. Umweltkosten 2'!AN43:AQ56)*D305+SUM('Hilfsblatt Ber. Umweltkosten 2'!C95:F103)*D305)/1000)","v":0},{"$f":"-((SUM('Hilfsblatt Ber. Umweltkosten 2'!AN43:AQ56)*D306+SUM('Hilfsblatt Ber. Umweltkosten 2'!C95:F103)*D306)/1000)","v":0},{"$f":"\"1.000 € pro \"&Eingabevariablen!$J$49","v":"1.000 € pro Jahr"},0,{"$error":"#DIV/0!"},null,"Lärmemissionen",0,0,0,{"$f":"\"1.000 € pro \"&Eingabevariablen!$J$49","v":"1.000 € pro Jahr"},0]
["Beeinträchtigung von Ökosystemen",{"$f":"-((SUM('Hilfsblatt Ber. Umweltkosten 2'!AZ43:BC56)*E314+SUM('Hilfsblatt Ber. Umweltkosten 2'!C113,'Hilfsblatt Ber. Umweltkosten 2'!G122,'Hilfsblatt Ber. Umweltkosten 2'!C151,'Hilfsblatt Ber. Umweltkosten 2'!C156:C158,'Hilfsblatt Ber. Umweltkosten 2'!D163:D168)*E314)/1000)","v":0},{"$f":"-((SUM('Hilfsblatt Ber. Umweltkosten 2'!AZ43:BC56)*F314+SUM('Hilfsblatt Ber. Umweltkosten 2'!C113,'Hilfsblatt Ber. Umweltkosten 2'!G122,'Hilfsblatt Ber. Umweltkosten 2'!C151,'Hilfsblatt Ber. Umweltkosten 2'!C156:C158,'Hilfsblatt Ber. Umweltkosten 2'!D163:D168)*F314)/1000)","v":0},{"$f":"\"1.000 € pro \"&Eingabevariablen!$J$49","v":"1.000 € pro Jahr"},0,{"$error":"#DIV/0!"},null,"Beeinträchtigung von Ökosystemen",0,0,0,{"$f":"\"1.000 € pro \"&Eingabevariablen!$J$49","v":"1.000 € pro Jahr"},0]
["Emission toxischer Stoffe",{"$f":"-(SUM('Hilfsblatt Ber. Umweltkosten 2'!C177:C182,'Hilfsblatt Ber. Umweltkosten 2'!C184:C188)*D327/1000)","v":0},{"$f":"-(SUM('Hilfsblatt Ber. Umweltkosten 2'!C177:C182,'Hilfsblatt Ber. Umweltkosten 2'!C184:C188)*D328/1000)","v":0},{"$f":"\"1.000 € pro \"&Eingabevariablen!$J$49","v":"1.000 € pro Jahr"},0,{"$error":"#DIV/0!"},null,"Emission toxischer Stoffe",0,0,0,{"$f":"\"1.000 € pro \"&Eingabevariablen!$J$49","v":"1.000 € pro Jahr"},0]
["Indirekte Effekte durch vor- und nachgelagerte Prozesse",{"$f":"-((SUM('Hilfsblatt Ber. Umweltkosten 2'!BL16:BL33,'Hilfsblatt Ber. Umweltkosten 2'!BO16:BO29,'Hilfsblatt Ber. Umweltkosten 2'!BR16:BR21,'Hilfsblatt Ber. Umweltkosten 2'!BU16:BU19)*B339+SUM('Hilfsblatt Ber. Umweltkosten 2'!BL43:BO56)*B339+C196*D267+C197*E267+C198*F267+C199*G267+C200*H267+C201*I267+SUM('Hilfsblatt Ber. Umweltkosten 2'!C202:C205)*E280+C206*E314)/1000)","v":0},{"$f":"-((SUM('Hilfsblatt Ber. Umweltkosten 2'!BL16:BL33,'Hilfsblatt Ber. Umweltkosten 2'!BO16:BO29,'Hilfsblatt Ber. Umweltkosten 2'!BR16:BR21,'Hilfsblatt Ber. Umweltkosten 2'!BU16:BU19)*B340+SUM('Hilfsblatt Ber. Umweltkosten 2'!BL43:BO56)*B340+C196*D268+C197*E268+C198*F268+C199*G268+C200*H268+C201*I268+SUM('Hilfsblatt Ber. Umweltkosten 2'!C202:C205)*F280+C206*F314)/1000)","v":0},{"$f":"\"1.000 € pro \"&Eingabevariablen!$J$49","v":"1.000 € pro Jahr"},0,{"$error":"#DIV/0!"},null,"Indirekte Effekte durch vor- und nachgelagerte Prozesse",0,0,0,{"$f":"\"1.000 € pro \"&Eingabevariablen!$J$49","v":"1.000 € pro Jahr"},0]
["Gesamtnutzen (-kosten) Umwelt",{"$f":"SUM(B371:B376)","v":0},{"$f":"SUM(C371:C376)","v":0},"1.000 € pro Jahr",0,{"$error":"#DIV/0!"},null,"Gesamtnutzen (-kosten) Umwelt",{"$f":"SUM(I371:I376)","v":0},{"$f":"SUM(J371:J376)","v":0},{"$f":"SUM(K371:K376)","v":0},"1.000 € pro Jahr",0]
["Unfälle",{"$f":"-(SUM(C212:C214,C217:C226)*$D$359/1000)","v":0},{"$f":"-(SUM(C212:C214,C217:C226)*$D$360/1000)","v":0},{"$f":"\"1.000 € pro \"&Eingabevariablen!$J$49","v":"1.000 € pro Jahr"},0,{"$error":"#DIV/0!"},null,"Unfälle",{"$f":"ROUND(B378,-2)","v":0},0,{"$f":"I378+J378","v":0},{"$f":"\"1.000 € pro \"&Eingabevariablen!$J$49","v":"1.000 € pro Jahr"},0]
["Total Umwelt und Unfälle",{"$f":"B377+B378","v":0},{"$f":"C377+C378","v":0},"1.000 € pro Jahr",0,{"$error":"#DIV/0!"},null,"Total Umwelt und Unfälle",{"$f":"I377+I378","v":0},{"$f":"J377+J378","v":0},{"$f":"K377+K378","v":0},"1.000 € pro Jahr",0]
["Bemerkung: positives Vorzeichen = Nutzen = Reduktion von Kosten; negatives Vorzeichen = zusätzliche Kosten",null,null,null,null,null,null,"Bemerkung: positives Vorzeichen = Nutzen = Reduktion von Kosten; negatives Vorzeichen = zusätzliche Kosten"]
[]
[]
[]
["Ende des Berechnungsblattes"]

{"sheet":"Hilfsblatt Ber. Umweltkosten 3","index":13,"n_rows":384,"n_cols":80,"rows_kept":384,"cut":false,"hidden":false,"merged":[[293,9,296,9],[297,9,298,9],[321,6,324,6],[335,2,336,2],[348,4,354,4],[121,2,121,3],[171,0,171,4],[255,9,258,9],[259,9,262,9],[279,0,282,0],[279,3,285,3],[279,4,285,4],[279,5,285,5],[279,6,285,6],[279,7,285,7],[284,2,285,2],[191,0,191,4],[40,15,40,18],[40,27,40,30],[40,39,40,42],[40,76,40,79],[64,3,64,4],[64,7,64,8],[40,51,40,54],[40,63,40,66],[106,0,106,4],[119,2,119,3],[120,2,120,3],[92,2,92,4],[40,2,40,5],[77,0,77,4],[89,0,89,4]]}
[]
["Hilfsblatt: Berechnung Umweltkosten 3 (Umweltwirkung x Kostensatz)"]
[]
["Nicht veränderbar für Anwender.","Jahr: ",{"$f":"Eingabevariablen!$D$7","v":0}]
[]
[]
["Umweltwirkungen"]
[]
["A. Nach Aktivitäten, Treiber"]
[]
[]
["1. Energie","i.) Total Umweltkosten",null,null,null,null,null,null,null,null,null,null,null,null,"ii.) Kosten Luftschadstoffemissionen",null,null,null,null,null,null,null,null,null,null,null,"iii.) Kosten Treibhausgase",null,null,null,null,null,null,null,null,null,null,null,"iv.) Kosten Lärm",null,null,null,null,null,null,null,null,null,null,null,"v.) Kosten Beeinträchtigung von Ökosystemen",null,null,null,null,null,null,null,null,null,null,null,"vi.) Indirekte Kosten aus vor- und nachgelagerte Prozessen"]
[]
[]
[null,"Kosten","in EUR",null,"Kosten","in EUR",null,"Kosten","in EUR",null,"Kosten",null,"in EUR",null,"Kosten","in EUR",null,"Kosten","in EUR",null,"Kosten","in EUR",null,"Kosten","in EUR",null,"Kosten","in EUR",null,"Kosten","in EUR",null,"Kosten","in EUR",null,"Kosten","in EUR",null,"Kosten","in EUR",null,"Kosten","in EUR",null,"Kosten","in EUR",null,"Kosten","in EUR",null,"Kosten","in EUR",null,"Kosten","in EUR",null,"Kosten","in EUR",null,"Kosten","in EUR",null,"Kosten","in EUR",null,"Kosten","in EUR",null,"Kosten","in EUR",null,"Kosten","in EUR"]
[null,"Strommix Deutschland (ohne Kernkraft)",{"$f":"P16+AB16+AN16+AZ16+BL16","v":0},null,"Wärmemix Haushalte (D)",{"$f":"Eingabevariablen!$E144*'Hilfsblatt Kostensätze Umwelt'!F16/100","v":0},null,"Braunkohle",{"$f":"Eingabevariablen!$E160*'Hilfsblatt Kostensätze Umwelt'!I16","v":0},null,"Mittl. Kraftstoffmix PW (Benzin, Diesel)",null,{"$f":"Eingabevariablen!$E168*'Hilfsblatt Kostensätze Umwelt'!L16","v":0},null,"Strommix Deutschland (ohne Kernkraft)",{"$f":"Eingabevariablen!$E124*'Hilfsblatt Kostensätze Umwelt'!O16/100","v":0},null,"Wärmemix Haushalte (D)",{"$f":"Eingabevariablen!$E144*'Hilfsblatt Kostensätze Umwelt'!R16/100","v":0},null,"Braunkohle",{"$f":"Eingabevariablen!$E160*'Hilfsblatt Kostensätze Umwelt'!U16","v":0},null,"Mittl. Kraftstoffmix PW (Benzin, Diesel)",{"$f":"Eingabevariablen!$E168*'Hilfsblatt Kostensätze Umwelt'!X16","v":0},null,"Strommix Deutschland (ohne Kernkraft)",{"$f":"Eingabevariablen!$E124*'Hilfsblatt Kostensätze Umwelt'!AA16*'Hilfsblatt Kostensätze Umwelt'!$K$263/100","v":0},null,"Wärmemix Haushalte (D)",{"$f":"Eingabevariablen!$E144*'Hilfsblatt Kostensätze Umwelt'!AD16*'Hilfsblatt Kostensätze Umwelt'!$K$263/100","v":0},null,"Braunkohle",{"$f":"Eingabevariablen!$E160*'Hilfsblatt Kostensätze Umwelt'!AG16*'Hilfsblatt Kostensätze Umwelt'!$K$263","v":0},null,"Mittl. Kraftstoffmix PW (Benzin, Diesel)",{"$f":"Eingabevariablen!$E168*'Hilfsblatt Kostensätze Umwelt'!AJ16*'Hilfsblatt Kostensätze Umwelt'!$K$263","v":0},null,"Strommix Deutschland (ohne Kernkraft)",null,null,"Wärmemix Haushalte (D)",null,null,"Braunkohle",null,null,"Mittl. Kraftstoffmix PW (Benzin, Diesel)",null,null,"Strommix Deutschland (ohne Kernkraft)",null,null,"Wärmemix Haushalte (D)",null,null,"Braunkohle",null,null,"Mittl. Kraftstoffmix PW (Benzin, Diesel)",null,null,"Strommix Deutschland (ohne Kernkraft)",{"$f":"Eingabevariablen!$E124*'Hilfsblatt Kostensätze Umwelt'!BK16/100","v":0},null,"Wärmemix Haushalte (D)",{"$f":"Eingabevariablen!$E144*'Hilfsblatt Kostensätze Umwelt'!BN16/100","v":0},null,"Braunkohle",{"$f":"Eingabevariablen!$E160*'Hilfsblatt Kostensätze Umwelt'!BQ16","v":0},null,"Mittl. Kraftstoffmix PW (Benzin, Diesel)",{"$f":"Eingabevariablen!$E168*'Hilfsblatt Kostensätze Umwelt'!BT16","v":0}]
[null,"Strommix Deutschland (mit Kernkraft)",{"$f":"P17+AB17+AN17+AZ17+BL17","v":0},null,"Wärmemix Industrie (D)",{"$f":"Eingabevariablen!$E145*'Hilfsblatt Kostensätze Umwelt'!F17/100","v":0},null,"Steinkohle",{"$f":"Eingabevariablen!$E161*'Hilfsblatt Kostensätze Umwelt'!I17","v":0},null,"Benzin",null,{"$f":"Eingabevariablen!$E169*'Hilfsblatt Kostensätze Umwelt'!L17","v":0},null,"Strommix Deutschland (mit Kernkraft)",{"$f":"Eingabevariablen!$E125*'Hilfsblatt Kostensätze Umwelt'!O17/100","v":0},null,"Wärmemix Industrie (D)",{"$f":"Eingabevariablen!$E145*'Hilfsblatt Kostensätze Umwelt'!R17/100","v":0},null,"Steinkohle",{"$f":"Eingabevariablen!$E161*'Hilfsblatt Kostensätze Umwelt'!U17","v":0},null,"Benzin",{"$f":"Eingabevariablen!$E169*'Hilfsblatt Kostensätze Umwelt'!X17","v":0},null,"Strommix Deutschland (mit Kernkraft)",{"$f":"Eingabevariablen!$E125*'Hilfsblatt Kostensätze Umwelt'!AA17*'Hilfsblatt Kostensätze Umwelt'!$K$263/100","v":0},null,"Wärmemix Industrie (D)",{"$f":"Eingabevariablen!$E145*'Hilfsblatt Kostensätze Umwelt'!AD17*'Hilfsblatt Kostensätze Umwelt'!$K$263/100","v":0},null,"Steinkohle",{"$f":"Eingabevariablen!$E161*'Hilfsblatt Kostensätze Umwelt'!AG17*'Hilfsblatt Kostensätze Umwelt'!$K$263","v":0},null,"Benzin",{"$f":"Eingabevariablen!$E169*'Hilfsblatt Kostensätze Umwelt'!AJ17*'Hilfsblatt Kostensätze Umwelt'!$K$263","v":0},null,"Strommix Deutschland (mit Kernkraft)",null,null,"Wärmemix Industrie (D)",null,null,"Steinkohle",null,null,"Benzin",null,null,"Strommix Deutschland (mit Kernkraft)",null,null,"Wärmemix Industrie (D)",null,null,"Steinkohle",null,null,"Benzin",null,null,"Strommix Deutschland (mit Kernkraft)",{"$f":"Eingabevariablen!$E125*'Hilfsblatt Kostensätze Umwelt'!BK17/100","v":0},null,"Wärmemix Industrie (D)",{"$f":"Eingabevariablen!$E145*'Hilfsblatt Kostensätze Umwelt'!BN17/100","v":0},null,"Steinkohle",{"$f":"Eingabevariablen!$E161*'Hilfsblatt Kostensätze Umwelt'!BQ17","v":0},null,"Benzin",{"$f":"Eingabevariablen!$E169*'Hilfsblatt Kostensätze Umwelt'!BT17","v":0}]
[null,"Strommix Bahn DB",0,null,null,null,null,"Erdgas",{"$f":"Eingabevariablen!$E162*'Hilfsblatt Kostensätze Umwelt'!I18","v":0},null,"Diesel",null,{"$f":"Eingabevariablen!$E170*'Hilfsblatt Kostensätze Umwelt'!L18","v":0},null,"Strommix Bahn DB",{"$f":"Eingabevariablen!$E126*'Hilfsblatt Kostensätze Umwelt'!O18/100","v":0},null,null,null,null,"Erdgas",{"$f":"Eingabevariablen!$E162*'Hilfsblatt Kostensätze Umwelt'!U18","v":0},null,"Diesel",{"$f":"Eingabevariablen!$E170*'Hilfsblatt Kostensätze Umwelt'!X18","v":0},null,"Strommix Bahn DB",{"$f":"Eingabevariablen!$E126*'Hilfsblatt Kostensätze Umwelt'!AA18*'Hilfsblatt Kostensätze Umwelt'!$K$263/100","v":0},null,null,null,null,"Erdgas",{"$f":"Eingabevariablen!$E162*'Hilfsblatt Kostensätze Umwelt'!AG18*'Hilfsblatt Kostensätze Umwelt'!$K$263","v":0},null,"Diesel",{"$f":"Eingabevariablen!$E170*'Hilfsblatt Kostensätze Umwelt'!AJ18*'Hilfsblatt Kostensätze Umwelt'!$K$263","v":0},null,"Strommix Bahn DB",null,null,null,null,null,"Erdgas",null,null,"Diesel",null,null,"Strommix Bahn DB",null,null,null,null,null,"Erdgas",null,null,"Diesel",null,null,"Strommix Bahn DB",{"$f":"Eingabevariablen!$E126*'Hilfsblatt Kostensätze Umwelt'!BK18/100","v":0},null,null,{"$f":"Eingabevariablen!$E146*'Hilfsblatt Kostensätze Umwelt'!BN18/100","v":0},null,"Erdgas",{"$f":"Eingabevariablen!$E162*'Hilfsblatt Kostensätze Umwelt'!BQ18","v":0},null,"Diesel",{"$f":"Eingabevariablen!$E170*'Hilfsblatt Kostensätze Umwelt'!BT18","v":0}]
[null,"Strommix Europa (ohne Kernkraft)",0,null,"Heizöl / Öl",{"$f":"Eingabevariablen!$E147*'Hilfsblatt Kostensätze Umwelt'!F19/100","v":0},null,"Öl, Heizöl",{"$f":"Eingabevariablen!$E163*'Hilfsblatt Kostensätze Umwelt'!I19","v":0},null,"Erdgas",null,{"$f":"Eingabevariablen!$E171*'Hilfsblatt Kostensätze Umwelt'!L19","v":0},null,"Strommix Europa (ohne Kernkraft)",{"$f":"Eingabevariablen!$E127*'Hilfsblatt Kostensätze Umwelt'!O19/100","v":0},null,"Heizöl / Öl",{"$f":"Eingabevariablen!$E147*'Hilfsblatt Kostensätze Umwelt'!R19/100","v":0},null,"Öl, Heizöl",{"$f":"Eingabevariablen!$E163*'Hilfsblatt Kostensätze Umwelt'!U19","v":0},null,"Erdgas",{"$f":"Eingabevariablen!$E171*'Hilfsblatt Kostensätze Umwelt'!X19","v":0},null,"Strommix Europa (ohne Kernkraft)",{"$f":"Eingabevariablen!$E127*'Hilfsblatt Kostensätze Umwelt'!AA19*'Hilfsblatt Kostensätze Umwelt'!$K$263/100","v":0},null,"Heizöl / Öl",{"$f":"Eingabevariablen!$E147*'Hilfsblatt Kostensätze Umwelt'!AD19*'Hilfsblatt Kostensätze Umwelt'!$K$263/100","v":0},null,"Öl, Heizöl",{"$f":"Eingabevariablen!$E163*'Hilfsblatt Kostensätze Umwelt'!AG19*'Hilfsblatt Kostensätze Umwelt'!$K$263","v":0},null,"Erdgas",{"$f":"Eingabevariablen!$E171*'Hilfsblatt Kostensätze Umwelt'!AJ19*'Hilfsblatt Kostensätze Umwelt'!$K$263","v":0},null,"Strommix Europa (ohne Kernkraft)",null,null,"Heizöl / Öl",null,null,"Öl, Heizöl",null,null,"Erdgas",null,null,"Strommix Europa (ohne Kernkraft)",null,null,"Heizöl / Öl",null,null,"Öl, Heizöl",null,null,"Erdgas",null,null,"Strommix Europa (ohne Kernkraft)",{"$f":"Eingabevariablen!$E127*'Hilfsblatt Kostensätze Umwelt'!BK19/100","v":0},null,"Heizöl / Öl",{"$f":"Eingabevariablen!$E147*'Hilfsblatt Kostensätze Umwelt'!BN19/100","v":0},null,"Öl, Heizöl",{"$f":"Eingabevariablen!$E163*'Hilfsblatt Kostensätze Umwelt'!BQ19","v":0},null,"Erdgas",{"$f":"Eingabevariablen!$E171*'Hilfsblatt Kostensätze Umwelt'!BT19","v":0}]
[null,"Strommix Europa (mit Kernkraft)",0,null,"Erdgas",{"$f":"Eingabevariablen!$E148*'Hilfsblatt Kostensätze Umwelt'!F20/100","v":0},null,"Holz (Stück)",{"$f":"Eingabevariablen!$E164*'Hilfsblatt Kostensätze Umwelt'!I20","v":0},null,null,null,null,null,"Strommix Europa (mit Kernkraft)",{"$f":"Eingabevariablen!$E128*'Hilfsblatt Kostensätze Umwelt'!O20/100","v":0},null,"Erdgas",{"$f":"Eingabevariablen!$E148*'Hilfsblatt Kostensätze Umwelt'!R20/100","v":0},null,"Holz (Stück)",{"$f":"Eingabevariablen!$E164*'Hilfsblatt Kostensätze Umwelt'!U20","v":0},null,null,null,null,"Strommix Europa (mit Kernkraft)",{"$f":"Eingabevariablen!$E128*'Hilfsblatt Kostensätze Umwelt'!AA20*'Hilfsblatt Kostensätze Umwelt'!$K$263/100","v":0},null,"Erdgas",{"$f":"Eingabevariablen!$E148*'Hilfsblatt Kostensätze Umwelt'!AD20*'Hilfsblatt Kostensätze Umwelt'!$K$263/100","v":0},null,"Holz (Stück)",{"$f":"Eingabevariablen!$E164*'Hilfsblatt Kostensätze Umwelt'!AG20*'Hilfsblatt Kostensätze Umwelt'!$K$263","v":0},null,null,null,null,"Strommix Europa (mit Kernkraft)",null,null,"Erdgas",null,null,"Holz (Stück)",null,null,null,"nicht relevant",null,"Strommix Europa (mit Kernkraft)",null,null,"Erdgas",null,null,"Holz (Stück)",null,null,null,"nicht relevant",null,"Strommix Europa (mit Kernkraft)",{"$f":"Eingabevariablen!$E128*'Hilfsblatt Kostensätze Umwelt'!BK20/100","v":0},null,"Erdgas",{"$f":"Eingabevariablen!$E148*'Hilfsblatt Kostensätze Umwelt'!BN20/100","v":0},null,"Holz (Stück)",{"$f":"Eingabevariablen!$E164*'Hilfsblatt Kostensätze Umwelt'!BQ20","v":0}]
[null,"Braunkohle",0,null,"Braunkohle, Steinkohle",{"$f":"Eingabevariablen!$E149*'Hilfsblatt Kostensätze Umwelt'!F21/100","v":0},null,"Holz (Pellets)",{"$f":"Eingabevariablen!$E165*'Hilfsblatt Kostensätze Umwelt'!I21","v":0},null,null,null,null,null,"Braunkohle",{"$f":"Eingabevariablen!$E129*'Hilfsblatt Kostensätze Umwelt'!O21/100","v":0},null,"Braunkohle, Steinkohle",{"$f":"Eingabevariablen!$E149*'Hilfsblatt Kostensätze Umwelt'!R21/100","v":0},null,"Holz (Pellets)",{"$f":"Eingabevariablen!$E165*'Hilfsblatt Kostensätze Umwelt'!U21","v":0},null,null,null,null,"Braunkohle",{"$f":"Eingabevariablen!$E129*'Hilfsblatt Kostensätze Umwelt'!AA21*'Hilfsblatt Kostensätze Umwelt'!$K$263/100","v":0},null,"Braunkohle, Steinkohle",{"$f":"Eingabevariablen!$E149*'Hilfsblatt Kostensätze Umwelt'!AD21*'Hilfsblatt Kostensätze Umwelt'!$K$263/100","v":0},null,"Holz (Pellets)",{"$f":"Eingabevariablen!$E165*'Hilfsblatt Kostensätze Umwelt'!AG21*'Hilfsblatt Kostensätze Umwelt'!$K$263","v":0},null,null,null,null,"Braunkohle",null,null,"Braunkohle, Steinkohle",null,null,"Holz (Pellets)",null,null,null,null,null,"Braunkohle",null,null,"Braunkohle, Steinkohle",null,null,"Holz (Pellets)",null,null,null,null,null,"Braunkohle",{"$f":"Eingabevariablen!$E129*'Hilfsblatt Kostensätze Umwelt'!BK21/100","v":0},null,"Braunkohle, Steinkohle",{"$f":"Eingabevariablen!$E149*'Hilfsblatt Kostensätze Umwelt'!BN21/100","v":0},null,"Holz (Pellets)",{"$f":"Eingabevariablen!$E165*'Hilfsblatt Kostensätze Umwelt'!BQ21","v":0}]
[null,"Steinkohle",0,null,"Fernwärme",{"$f":"Eingabevariablen!$E150*'Hilfsblatt Kostensätze Umwelt'!F22/100","v":0},null,null,null,null,null,null,null,null,"Steinkohle",{"$f":"Eingabevariablen!$E130*'Hilfsblatt Kostensätze Umwelt'!O22/100","v":0},null,"Fernwärme",{"$f":"Eingabevariablen!$E150*'Hilfsblatt Kostensätze Umwelt'!R22/100","v":0},null,null,null,null,null,null,null,"Steinkohle",{"$f":"Eingabevariablen!$E130*'Hilfsblatt Kostensätze Umwelt'!AA22*'Hilfsblatt Kostensätze Umwelt'!$K$263/100","v":0},null,"Fernwärme",{"$f":"Eingabevariablen!$E150*'Hilfsblatt Kostensätze Umwelt'!AD22*'Hilfsblatt Kostensätze Umwelt'!$K$263/100","v":0},null,null,null,null,null,null,null,"Steinkohle",null,null,"Fernwärme",null,null,null,"nicht relevant",null,null,null,null,"Steinkohle",null,null,"Fernwärme",null,null,null,"nicht relevant",null,null,null,null,"Steinkohle",{"$f":"Eingabevariablen!$E130*'Hilfsblatt Kostensätze Umwelt'!BK22/100","v":0},null,"Fernwärme",{"$f":"Eingabevariablen!$E150*'Hilfsblatt Kostensätze Umwelt'!BN22/100","v":0}]
[null,"Erdgas",0,null,"Holzpellets, feste Biomasse (Haushalte)",{"$f":"Eingabevariablen!$E151*'Hilfsblatt Kostensätze Umwelt'!F23/100","v":0},null,null,null,null,null,null,null,null,"Erdgas",{"$f":"Eingabevariablen!$E131*'Hilfsblatt Kostensätze Umwelt'!O23/100","v":0},null,"Holzpellets, feste Biomasse (Haushalte)",{"$f":"Eingabevariablen!$E151*'Hilfsblatt Kostensätze Umwelt'!R23/100","v":0},null,null,null,null,null,null,null,"Erdgas",{"$f":"Eingabevariablen!$E131*'Hilfsblatt Kostensätze Umwelt'!AA23*'Hilfsblatt Kostensätze Umwelt'!$K$263/100","v":0},null,"Holzpellets, feste Biomasse (Haushalte)",{"$f":"Eingabevariablen!$E151*'Hilfsblatt Kostensätze Umwelt'!AD23*'Hilfsblatt Kostensätze Umwelt'!$K$263/100","v":0},null,null,null,null,null,null,null,"Erdgas",null,null,"Holzpellets, feste Biomasse (Haushalte)",null,null,null,null,null,null,null,null,"Erdgas",null,null,"Holzpellets, feste Biomasse (Haushalte)",null,null,null,null,null,null,null,null,"Erdgas",{"$f":"Eingabevariablen!$E131*'Hilfsblatt Kostensätze Umwelt'!BK23/100","v":0},null,"Holzpellets, feste Biomasse (Haushalte)",{"$f":"Eingabevariablen!$E151*'Hilfsblatt Kostensätze Umwelt'!BN23/100","v":0}]
[null,"Öl",0,null,"Feste Biomasse / Holz (Industrie)",{"$f":"Eingabevariablen!$E152*'Hilfsblatt Kostensätze Umwelt'!F24/100","v":0},null,null,null,null,null,null,null,null,"Öl",{"$f":"Eingabevariablen!$E132*'Hilfsblatt Kostensätze Umwelt'!O24/100","v":0},null,"Feste Biomasse / Holz (Industrie)",{"$f":"Eingabevariablen!$E152*'Hilfsblatt Kostensätze Umwelt'!R24/100","v":0},null,null,null,null,null,null,null,"Öl",{"$f":"Eingabevariablen!$E132*'Hilfsblatt Kostensätze Umwelt'!AA24*'Hilfsblatt Kostensätze Umwelt'!$K$263/100","v":0},null,"Feste Biomasse / Holz (Industrie)",{"$f":"Eingabevariablen!$E152*'Hilfsblatt Kostensätze Umwelt'!AD24*'Hilfsblatt Kostensätze Umwelt'!$K$263/100","v":0},null,null,null,null,null,null,null,"Öl",null,null,"Feste Biomasse / Holz (Industrie)",null,null,null,null,null,null,null,null,"Öl",null,null,"Feste Biomasse / Holz (Industrie)",null,null,null,null,null,null,null,null,"Öl",{"$f":"Eingabevariablen!$E132*'Hilfsblatt Kostensätze Umwelt'!BK24/100","v":0},null,"Feste Biomasse / Holz (Industrie)",{"$f":"Eingabevariablen!$E152*'Hilfsblatt Kostensätze Umwelt'!BN24/100","v":0}]
[null,"Kernenergie",0,null,"Solarthermie",{"$f":"Eingabevariablen!$E153*'Hilfsblatt Kostensätze Umwelt'!F25/100","v":0},null,null,null,null,null,null,null,null,"Kernenergie",{"$f":"Eingabevariablen!$E133*'Hilfsblatt Kostensätze Umwelt'!O25/100","v":0},null,"Solarthermie",{"$f":"Eingabevariablen!$E153*'Hilfsblatt Kostensätze Umwelt'!R25/100","v":0},null,null,null,null,null,null,null,"Kernenergie",{"$f":"Eingabevariablen!$E133*'Hilfsblatt Kostensätze Umwelt'!AA25*'Hilfsblatt Kostensätze Umwelt'!$K$263/100","v":0},null,"Solarthermie",{"$f":"Eingabevariablen!$E153*'Hilfsblatt Kostensätze Umwelt'!AD25*'Hilfsblatt Kostensätze Umwelt'!$K$263/100","v":0},null,null,null,null,null,null,null,"Kernenergie",null,null,"Solarthermie",null,null,null,null,null,null,null,null,"Kernenergie",null,null,"Solarthermie",null,null,null,null,null,null,null,null,"Kernenergie",{"$f":"Eingabevariablen!$E133*'Hilfsblatt Kostensätze Umwelt'!BK25/100","v":0},null,"Solarthermie",{"$f":"Eingabevariablen!$E153*'Hilfsblatt Kostensätze Umwelt'!BN25/100","v":0}]
[null,"Wasserkraft",0,null,"Geothermie",{"$f":"Eingabevariablen!$E154*'Hilfsblatt Kostensätze Umwelt'!F26/100","v":0},null,null,null,null,null,null,null,null,"Wasserkraft",{"$f":"Eingabevariablen!$E134*'Hilfsblatt Kostensätze Umwelt'!O26/100","v":0},null,"Geothermie",{"$f":"Eingabevariablen!$E154*'Hilfsblatt Kostensätze Umwelt'!R26/100","v":0},null,null,null,null,null,null,null,"Wasserkraft",{"$f":"Eingabevariablen!$E134*'Hilfsblatt Kostensätze Umwelt'!AA26*'Hilfsblatt Kostensätze Umwelt'!$K$263/100","v":0},null,"Geothermie",{"$f":"Eingabevariablen!$E154*'Hilfsblatt Kostensätze Umwelt'!AD26*'Hilfsblatt Kostensätze Umwelt'!$K$263/100","v":0},null,null,null,null,null,null,null,"Wasserkraft",null,null,"Geothermie",null,null,null,null,null,null,null,null,"Wasserkraft",null,null,"Geothermie",null,null,null,null,null,null,null,null,"Wasserkraft",{"$f":"Eingabevariablen!$E134*'Hilfsblatt Kostensätze Umwelt'!BK26/100","v":0},null,"Geothermie",{"$f":"Eingabevariablen!$E154*'Hilfsblatt Kostensätze Umwelt'!BN26/100","v":0}]
[null,"Windenergie",0,null,"Biogas-Mix (v.a. BHKW)",{"$f":"Eingabevariablen!$E155*'Hilfsblatt Kostensätze Umwelt'!F27/100","v":0},null,null,null,null,null,null,null,null,"Windenergie",{"$f":"Eingabevariablen!$E135*'Hilfsblatt Kostensätze Umwelt'!O27/100","v":0},null,"Biogas-Mix (v.a. BHKW)",{"$f":"Eingabevariablen!$E155*'Hilfsblatt Kostensätze Umwelt'!R27/100","v":0},null,null,null,null,null,null,null,"Windenergie",{"$f":"Eingabevariablen!$E135*'Hilfsblatt Kostensätze Umwelt'!AA27*'Hilfsblatt Kostensätze Umwelt'!$K$263/100","v":0},null,"Biogas-Mix (v.a. BHKW)",{"$f":"Eingabevariablen!$E155*'Hilfsblatt Kostensätze Umwelt'!AD27*'Hilfsblatt Kostensätze Umwelt'!$K$263/100","v":0},null,null,null,null,null,null,null,"Windenergie",null,null,"Biogas-Mix (v.a. BHKW)",null,null,null,null,null,null,null,null,"Windenergie",null,null,"Biogas-Mix (v.a. BHKW)",null,null,null,null,null,null,null,null,"Windenergie",{"$f":"Eingabevariablen!$E135*'Hilfsblatt Kostensätze Umwelt'!BK27/100","v":0},null,"Biogas-Mix (v.a. BHKW)",{"$f":"Eingabevariablen!$E155*'Hilfsblatt Kostensätze Umwelt'!BN27/100","v":0}]
[null,"Photovoltaik",0,null,"Flüssige Biomasse (diverse Nutzungen)",{"$f":"Eingabevariablen!$E156*'Hilfsblatt Kostensätze Umwelt'!F28/100","v":0},null,null,null,null,null,null,null,null,"Photovoltaik",{"$f":"Eingabevariablen!$E136*'Hilfsblatt Kostensätze Umwelt'!O28/100","v":0},null,"Flüssige Biomasse (diverse Nutzungen)",{"$f":"Eingabevariablen!$E156*'Hilfsblatt Kostensätze Umwelt'!R28/100","v":0},null,null,null,null,null,null,null,"Photovoltaik",{"$f":"Eingabevariablen!$E136*'Hilfsblatt Kostensätze Umwelt'!AA28*'Hilfsblatt Kostensätze Umwelt'!$K$263/100","v":0},null,"Flüssige Biomasse (diverse Nutzungen)",{"$f":"Eingabevariablen!$E156*'Hilfsblatt Kostensätze Umwelt'!AD28*'Hilfsblatt Kostensätze Umwelt'!$K$263/100","v":0},null,null,null,null,null,null,null,"Photovoltaik",null,null,"Flüssige Biomasse (diverse Nutzungen)",null,null,null,null,null,null,null,null,"Photovoltaik",null,null,"Flüssige Biomasse (diverse Nutzungen)",null,null,null,null,null,null,null,null,"Photovoltaik",{"$f":"Eingabevariablen!$E136*'Hilfsblatt Kostensätze Umwelt'!BK28/100","v":0},null,"Flüssige Biomasse (diverse Nutzungen)",{"$f":"Eingabevariablen!$E156*'Hilfsblatt Kostensätze Umwelt'!BN28/100","v":0}]
[null,"Geothermie",0,null,"Flüssige Biomasse (Industrie)",{"$f":"Eingabevariablen!$E157*'Hilfsblatt Kostensätze Umwelt'!F29/100","v":0},null,null,null,null,null,null,null,null,"Geothermie",{"$f":"Eingabevariablen!$E137*'Hilfsblatt Kostensätze Umwelt'!O29/100","v":0},null,"Flüssige Biomasse (Industrie)",{"$f":"Eingabevariablen!$E157*'Hilfsblatt Kostensätze Umwelt'!R29/100","v":0},null,null,null,null,null,null,null,"Geothermie",{"$f":"Eingabevariablen!$E137*'Hilfsblatt Kostensätze Umwelt'!AA29*'Hilfsblatt Kostensätze Umwelt'!$K$263/100","v":0},null,"Flüssige Biomasse (Industrie)",{"$f":"Eingabevariablen!$E157*'Hilfsblatt Kostensätze Umwelt'!AD29*'Hilfsblatt Kostensätze Umwelt'!$K$263/100","v":0},null,null,null,null,null,null,null,"Geothermie",null,null,"Flüssige Biomasse (Industrie)",null,null,null,null,null,null,null,null,"Geothermie",null,null,"Flüssige Biomasse (Industrie)",null,null,null,null,null,null,null,null,"Geothermie",{"$f":"Eingabevariablen!$E137*'Hilfsblatt Kostensätze Umwelt'!BK29/100","v":0},null,"Flüssige Biomasse (Industrie)",{"$f":"Eingabevariablen!$E157*'Hilfsblatt Kostensätze Umwelt'!BN29/100","v":0}]
[null,"Feste Biomasse (v.a. Holz)",0,null,null,null,null,null,null,null,null,null,null,null,"Feste Biomasse (v.a. Holz)",{"$f":"Eingabevariablen!$E138*'Hilfsblatt Kostensätze Umwelt'!O30/100","v":0},null,null,null,null,null,null,null,null,null,null,"Feste Biomasse (v.a. Holz)",{"$f":"Eingabevariablen!$E138*'Hilfsblatt Kostensätze Umwelt'!AA30*'Hilfsblatt Kostensätze Umwelt'!$K$263/100","v":0},null,null,null,null,null,null,null,null,null,null,"Feste Biomasse (v.a. Holz)",null,null,null,"nicht relevant",null,null,null,null,null,null,null,"Feste Biomasse (v.a. Holz)",null,null,null,"nicht relevant",null,null,null,null,null,null,null,"Feste Biomasse (v.a. Holz)",{"$f":"Eingabevariablen!$E138*'Hilfsblatt Kostensätze Umwelt'!BK30/100","v":0}]
[null,"Flüssige Biomasse",0,null,null,null,null,null,null,null,null,null,null,null,"Flüssige Biomasse",{"$f":"Eingabevariablen!$E139*'Hilfsblatt Kostensätze Umwelt'!O31/100","v":0},null,null,null,null,null,null,null,null,null,null,"Flüssige Biomasse",{"$f":"Eingabevariablen!$E139*'Hilfsblatt Kostensätze Umwelt'!AA31*'Hilfsblatt Kostensätze Umwelt'!$K$263/100","v":0},null,null,null,null,null,null,null,null,null,null,"Flüssige Biomasse",null,null,null,null,null,null,null,null,null,null,null,"Flüssige Biomasse",null,null,null,null,null,null,null,null,null,null,null,"Flüssige Biomasse",{"$f":"Eingabevariablen!$E139*'Hilfsblatt Kostensätze Umwelt'!BK31/100","v":0}]
[null,"Biogas",0,null,null,null,null,null,null,null,null,null,null,null,"Biogas",{"$f":"Eingabevariablen!$E140*'Hilfsblatt Kostensätze Umwelt'!O32/100","v":0},null,null,null,null,null,null,null,null,null,null,"Biogas",{"$f":"Eingabevariablen!$E140*'Hilfsblatt Kostensätze Umwelt'!AA32*'Hilfsblatt Kostensätze Umwelt'!$K$263/100","v":0},null,null,null,null,null,null,null,null,null,null,"Biogas",null,null,null,null,null,null,null,null,null,null,null,"Biogas",null,null,null,null,null,null,null,null,null,null,null,"Biogas",{"$f":"Eingabevariablen!$E140*'Hilfsblatt Kostensätze Umwelt'!BK32/100","v":0}]
[null,"Klär- / Deponiegas",0,null,null,null,null,null,null,null,null,null,null,null,"Klär- / Deponiegas",{"$f":"Eingabevariablen!$E141*'Hilfsblatt Kostensätze Umwelt'!O33/100","v":0},null,null,null,null,null,null,null,null,null,null,"Klär- / Deponiegas",{"$f":"Eingabevariablen!$E141*'Hilfsblatt Kostensätze Umwelt'!AA33*'Hilfsblatt Kostensätze Umwelt'!$K$263/100","v":0},null,null,null,null,null,null,null,null,null,null,"Klär- / Deponiegas",null,null,null,null,null,null,null,null,null,null,null,"Klär- / Deponiegas",null,null,null,null,null,null,null,null,null,null,null,"Klär- / Deponiegas",{"$f":"Eingabevariablen!$E141*'Hilfsblatt Kostensätze Umwelt'!BK33/100","v":0}]
[null,null,null,null,null,null,null,null,null,null,null,null,null,null,null,null,null,null,null,null,null,null,null,null,null,null,null,null,null,null,null,null,null,null,null,null,null,null,null,"nicht relevant",null,null,null,null,null,null,null,null,null,null,null,"nicht relevant"]
[]
["2. Verkehr"]
[]
[]
[null,null,null,null,null,null,null,null,null,null,null,null,null,null,null,null,null,null,null,null,null,null,null,null,null,null,null,null,null,null,null,null,null,null,null,null,null,null,null,null,null,null,null,null,null,null,null,null,null,null,null,null,null,null,null,null,null,null,null,null,null,null,null,null,null,null,null,null,null,null,null,null,null,null,"\"Korrigierte\" Verkehrsmengen infolge vermindertem Kraftstoff- bzw. Energieverbrauch in zukünftigen Jahren"]
[]
[null,null,"Kosten in EUR",null,null,null,null,null,null,null,null,null,null,null,null,"Kosten in EUR",null,null,null,null,null,null,null,null,null,null,null,"Kosten in EUR",null,null,null,null,null,null,null,null,null,null,null,"Kosten in EUR",null,null,null,null,null,null,null,null,null,null,null,"Kosten in EUR",null,null,null,null,null,null,null,null,null,null,null,"Kosten in EUR",null,null,null,null,null,null,null,null,null,null,null,"i. Verkehr: Fahrzeug-km\nnach Fahrzeugkategorie","Verkehrsmenge in Fahrzeug-km\nnach Ort"]
[null,null,"Ort unbekannt\n(Ø alle Strecken)","Innerorts","Außerorts","Autobahn",null,null,null,null,null,null,null,null,null,"Ort unbekannt\n(Ø alle Strecken)","Innerorts","Außerorts","Autobahn",null,null,null,null,null,null,null,null,"Ort unbekannt\n(Ø alle Strecken)","Innerorts","Außerorts","Autobahn",null,null,null,null,null,null,null,null,"Ort unbekannt\n(Ø alle Strecken)","Innerorts","Außerorts","Autobahn",null,null,null,null,null,null,null,null,"Ort unbekannt\n(Ø alle Strecken)","Innerorts","Außerorts","Autobahn",null,null,null,null,null,null,null,null,"Ort unbekannt\n(Ø alle Strecken)","Innerorts","Außerorts","Autobahn",null,null,null,null,null,null,null,null,null,"Ort unbekannt\n(Ø alle Strecken)","Innerorts","Außerorts","Autobahn"]
[null,"PKW, Diesel",{"$f":"P43+AB43+AN43+AZ43+BL43","v":0},{"$f":"Q43+AC43+AO43+BA43+BM43","v":0},0,0,null,{"$f":"P43+AB43+AN43+AZ43+BL43-C43","v":0},{"$f":"Q43+AC43+AO43+BA43+BM43-D43","v":0},{"$f":"R43+AD43+AP43+BB43+BN43-E43","v":0},{"$f":"S43+AE43+AQ43+BC43+BO43-F43","v":0},null,null,null,"PKW, Diesel",{"$f":"$BY43*'Hilfsblatt Kostensätze Umwelt'!O43/100","v":0},{"$f":"$BZ43*'Hilfsblatt Kostensätze Umwelt'!P43/100","v":0},{"$f":"$CA43*'Hilfsblatt Kostensätze Umwelt'!Q43/100","v":0},{"$f":"$CB43*'Hilfsblatt Kostensätze Umwelt'!R43/100","v":0},null,null,null,null,null,null,null,"PKW, Diesel",{"$f":"$BY43*'Hilfsblatt Kostensätze Umwelt'!AA43/100*'Hilfsblatt Kostensätze Umwelt'!$K$263","v":0},{"$f":"$BZ43*'Hilfsblatt Kostensätze Umwelt'!AB43/100*'Hilfsblatt Kostensätze Umwelt'!$K$263","v":0},{"$f":"$CA43*'Hilfsblatt Kostensätze Umwelt'!AC43/100*'Hilfsblatt Kostensätze Umwelt'!$K$263","v":0},{"$f":"$CB43*'Hilfsblatt Kostensätze Umwelt'!AD43/100*'Hilfsblatt Kostensätze Umwelt'!$K$263","v":0},null,null,null,null,null,null,null,"PKW, Diesel",{"$f":"Eingabevariablen!$C77*'Hilfsblatt Kostensätze Umwelt'!AM43/100","v":0},{"$f":"Eingabevariablen!$D77*'Hilfsblatt Kostensätze Umwelt'!AN43/100","v":0},{"$f":"Eingabevariablen!$E77*'Hilfsblatt Kostensätze Umwelt'!AO43/100","v":0},{"$f":"Eingabevariablen!$F77*'Hilfsblatt Kostensätze Umwelt'!AP43/100","v":0},null,null,null,null,null,null,null,"PKW, Diesel",{"$f":"Eingabevariablen!$C77*'Hilfsblatt Kostensätze Umwelt'!AY43/100","v":0},{"$f":"Eingabevariablen!$D77*'Hilfsblatt Kostensätze Umwelt'!AZ43/100","v":0},{"$f":"Eingabevariablen!$E77*'Hilfsblatt Kostensätze Umwelt'!BA43/100","v":0},{"$f":"Eingabevariablen!$F77*'Hilfsblatt Kostensätze Umwelt'!BB43/100","v":0},null,null,null,null,null,null,null,"PKW, Diesel",{"$f":"$BY43*'Hilfsblatt Kostensätze Umwelt'!BK43/100","v":0},{"$f":"$BZ43*'Hilfsblatt Kostensätze Umwelt'!BL43/100","v":0},{"$f":"$CA43*'Hilfsblatt Kostensätze Umwelt'!BM43/100","v":0},{"$f":"$CB43*'Hilfsblatt Kostensätze Umwelt'!BN43/100","v":0},null,null,null,null,null,null,null,"Strassenverkehr: ","PKW, Diesel",{"$f":"Eingabevariablen!C77*(1+Eingabevariablen!$E$118)","v":0},{"$f":"Eingabevariablen!D77*(1+Eingabevariablen!$E$118)","v":0},{"$f":"Eingabevariablen!E77*(1+Eingabevariablen!$E$118)","v":0},{"$f":"Eingabevariablen!F77*(1+Eingabevariablen!$E$118)","v":0}]
[null,"PKW, Benzin",{"$f":"P44+AB44+AN44+AZ44+BL44","v":0},0,0,0,null,{"$f":"P44+AB44+AN44+AZ44+BL44-C44","v":0},0,0,0,null,null,null,"PKW, Benzin",{"$f":"$BY44*'Hilfsblatt Kostensätze Umwelt'!O44/100","v":0},{"$f":"$BZ44*'Hilfsblatt Kostensätze Umwelt'!P44/100","v":0},{"$f":"$CA44*'Hilfsblatt Kostensätze Umwelt'!Q44/100","v":0},{"$f":"$CB44*'Hilfsblatt Kostensätze Umwelt'!R44/100","v":0},null,null,null,null,null,null,null,"PKW, Benzin",{"$f":"$BY44*'Hilfsblatt Kostensätze Umwelt'!AA44/100*'Hilfsblatt Kostensätze Umwelt'!$K$263","v":0},{"$f":"$BZ44*'Hilfsblatt Kostensätze Umwelt'!AB44/100*'Hilfsblatt Kostensätze Umwelt'!$K$263","v":0},{"$f":"$CA44*'Hilfsblatt Kostensätze Umwelt'!AC44/100*'Hilfsblatt Kostensätze Umwelt'!$K$263","v":0},{"$f":"$CB44*'Hilfsblatt Kostensätze Umwelt'!AD44/100*'Hilfsblatt Kostensätze Umwelt'!$K$263","v":0},null,null,null,null,null,null,null,"PKW, Benzin",{"$f":"Eingabevariablen!$C78*'Hilfsblatt Kostensätze Umwelt'!AM44/100","v":0},{"$f":"Eingabevariablen!$D78*'Hilfsblatt Kostensätze Umwelt'!AN44/100","v":0},{"$f":"Eingabevariablen!$E78*'Hilfsblatt Kostensätze Umwelt'!AO44/100","v":0},{"$f":"Eingabevariablen!$F78*'Hilfsblatt Kostensätze Umwelt'!AP44/100","v":0},null,null,null,null,null,null,null,"PKW, Benzin",{"$f":"Eingabevariablen!$C78*'Hilfsblatt Kostensätze Umwelt'!AY44/100","v":0},{"$f":"Eingabevariablen!$D78*'Hilfsblatt Kostensätze Umwelt'!AZ44/100","v":0},{"$f":"Eingabevariablen!$E78*'Hilfsblatt Kostensätze Umwelt'!BA44/100","v":0},{"$f":"Eingabevariablen!$F78*'Hilfsblatt Kostensätze Umwelt'!BB44/100","v":0},null,null,null,null,null,null,null,"PKW, Benzin",{"$f":"$BY44*'Hilfsblatt Kostensätze Umwelt'!BK44/100","v":0},{"$f":"$BZ44*'Hilfsblatt Kostensätze Umwelt'!BL44/100","v":0},{"$f":"$CA44*'Hilfsblatt Kostensätze Umwelt'!BM44/100","v":0},{"$f":"$CB44*'Hilfsblatt Kostensätze Umwelt'!BN44/100","v":0},null,null,null,null,null,null,null,null,"PKW, Benzin",{"$f":"Eingabevariablen!C78*(1+Eingabevariablen!$E$118)","v":0},{"$f":"Eingabevariablen!D78*(1+Eingabevariablen!$E$118)","v":0},{"$f":"Eingabevariablen!E78*(1+Eingabevariablen!$E$118)","v":0},{"$f":"Eingabevariablen!F78*(1+Eingabevariablen!$E$118)","v":0}]
[null,"Leichte Nutzfahrzeuge, Diesel",0,0,0,0,null,0,0,0,0,null,null,null,"Leichte Nutzfahrzeuge, Diesel",{"$f":"$BY45*'Hilfsblatt Kostensätze Umwelt'!O45/100","v":0},{"$f":"$BZ45*'Hilfsblatt Kostensätze Umwelt'!P45/100","v":0},{"$f":"$CA45*'Hilfsblatt Kostensätze Umwelt'!Q45/100","v":0},{"$f":"$CB45*'Hilfsblatt Kostensätze Umwelt'!R45/100","v":0},null,null,null,null,null,null,null,"Leichte Nutzfahrzeuge, Diesel",{"$f":"$BY45*'Hilfsblatt Kostensätze Umwelt'!AA45/100*'Hilfsblatt Kostensätze Umwelt'!$K$263","v":0},{"$f":"$BZ45*'Hilfsblatt Kostensätze Umwelt'!AB45/100*'Hilfsblatt Kostensätze Umwelt'!$K$263","v":0},{"$f":"$CA45*'Hilfsblatt Kostensätze Umwelt'!AC45/100*'Hilfsblatt Kostensätze Umwelt'!$K$263","v":0},{"$f":"$CB45*'Hilfsblatt Kostensätze Umwelt'!AD45/100*'Hilfsblatt Kostensätze Umwelt'!$K$263","v":0},null,null,null,null,null,null,null,"Leichte Nutzfahrzeuge, Diesel",{"$f":"Eingabevariablen!$C79*'Hilfsblatt Kostensätze Umwelt'!AM45/100","v":0},{"$f":"Eingabevariablen!$D79*'Hilfsblatt Kostensätze Umwelt'!AN45/100","v":0},{"$f":"Eingabevariablen!$E79*'Hilfsblatt Kostensätze Umwelt'!AO45/100","v":0},{"$f":"Eingabevariablen!$F79*'Hilfsblatt Kostensätze Umwelt'!AP45/100","v":0},null,null,null,null,null,null,null,"Leichte Nutzfahrzeuge, Diesel",{"$f":"Eingabevariablen!$C79*'Hilfsblatt Kostensätze Umwelt'!AY45/100","v":0},{"$f":"Eingabevariablen!$D79*'Hilfsblatt Kostensätze Umwelt'!AZ45/100","v":0},{"$f":"Eingabevariablen!$E79*'Hilfsblatt Kostensätze Umwelt'!BA45/100","v":0},{"$f":"Eingabevariablen!$F79*'Hilfsblatt Kostensätze Umwelt'!BB45/100","v":0},null,null,null,null,null,null,null,"Leichte Nutzfahrzeuge, Diesel",{"$f":"$BY45*'Hilfsblatt Kostensätze Umwelt'!BK45/100","v":0},{"$f":"$BZ45*'Hilfsblatt Kostensätze Umwelt'!BL45/100","v":0},{"$f":"$CA45*'Hilfsblatt Kostensätze Umwelt'!BM45/100","v":0},{"$f":"$CB45*'Hilfsblatt Kostensätze Umwelt'!BN45/100","v":0},null,null,null,null,null,null,null,null,"Leichte Nutzfahrzeuge, Diesel",{"$f":"Eingabevariablen!C79*(1+Eingabevariablen!$E$118)","v":0},{"$f":"Eingabevariablen!D79*(1+Eingabevariablen!$E$118)","v":0},{"$f":"Eingabevariablen!E79*(1+Eingabevariablen!$E$118)","v":0},{"$f":"Eingabevariablen!F79*(1+Eingabevariablen!$E$118)","v":0}]
[null,"Leichte Nutzfahrzeuge, Benzin",0,0,0,0,null,0,0,0,0,null,null,null,"Leichte Nutzfahrzeuge, Benzin",{"$f":"$BY46*'Hilfsblatt Kostensätze Umwelt'!O46/100","v":0},{"$f":"$BZ46*'Hilfsblatt Kostensätze Umwelt'!P46/100","v":0},{"$f":"$CA46*'Hilfsblatt Kostensätze Umwelt'!Q46/100","v":0},{"$f":"$CB46*'Hilfsblatt Kostensätze Umwelt'!R46/100","v":0},null,null,null,null,null,null,null,"Leichte Nutzfahrzeuge, Benzin",{"$f":"$BY46*'Hilfsblatt Kostensätze Umwelt'!AA46/100*'Hilfsblatt Kostensätze Umwelt'!$K$263","v":0},{"$f":"$BZ46*'Hilfsblatt Kostensätze Umwelt'!AB46/100*'Hilfsblatt Kostensätze Umwelt'!$K$263","v":0},{"$f":"$CA46*'Hilfsblatt Kostensätze Umwelt'!AC46/100*'Hilfsblatt Kostensätze Umwelt'!$K$263","v":0},{"$f":"$CB46*'Hilfsblatt Kostensätze Umwelt'!AD46/100*'Hilfsblatt Kostensätze Umwelt'!$K$263","v":0},null,null,null,null,null,null,null,"Leichte Nutzfahrzeuge, Benzin",{"$f":"Eingabevariablen!$C80*'Hilfsblatt Kostensätze Umwelt'!AM46/100","v":0},{"$f":"Eingabevariablen!$D80*'Hilfsblatt Kostensätze Umwelt'!AN46/100","v":0},{"$f":"Eingabevariablen!$E80*'Hilfsblatt Kostensätze Umwelt'!AO46/100","v":0},{"$f":"Eingabevariablen!$F80*'Hilfsblatt Kostensätze Umwelt'!AP46/100","v":0},null,null,null,null,null,null,null,"Leichte Nutzfahrzeuge, Benzin",{"$f":"Eingabevariablen!$C80*'Hilfsblatt Kostensätze Umwelt'!AY46/100","v":0},{"$f":"Eingabevariablen!$D80*'Hilfsblatt Kostensätze Umwelt'!AZ46/100","v":0},{"$f":"Eingabevariablen!$E80*'Hilfsblatt Kostensätze Umwelt'!BA46/100","v":0},{"$f":"Eingabevariablen!$F80*'Hilfsblatt Kostensätze Umwelt'!BB46/100","v":0},null,null,null,null,null,null,null,"Leichte Nutzfahrzeuge, Benzin",{"$f":"$BY46*'Hilfsblatt Kostensätze Umwelt'!BK46/100","v":0},{"$f":"$BZ46*'Hilfsblatt Kostensätze Umwelt'!BL46/100","v":0},{"$f":"$CA46*'Hilfsblatt Kostensätze Umwelt'!BM46/100","v":0},{"$f":"$CB46*'Hilfsblatt Kostensätze Umwelt'!BN46/100","v":0},null,null,null,null,null,null,null,null,"Leichte Nutzfahrzeuge, Benzin",{"$f":"Eingabevariablen!C80*(1+Eingabevariablen!$E$118)","v":0},{"$f":"Eingabevariablen!D80*(1+Eingabevariablen!$E$118)","v":0},{"$f":"Eingabevariablen!E80*(1+Eingabevariablen!$E$118)","v":0},{"$f":"Eingabevariablen!F80*(1+Eingabevariablen!$E$118)","v":0}]
[null,"Schwere Nutzfahrzeuge, Diesel",0,0,0,0,null,0,0,0,0,null,null,null,"Schwere Nutzfahrzeuge, Diesel",{"$f":"$BY47*'Hilfsblatt Kostensätze Umwelt'!O47/100","v":0},{"$f":"$BZ47*'Hilfsblatt Kostensätze Umwelt'!P47/100","v":0},{"$f":"$CA47*'Hilfsblatt Kostensätze Umwelt'!Q47/100","v":0},{"$f":"$CB47*'Hilfsblatt Kostensätze Umwelt'!R47/100","v":0},null,null,null,null,null,null,null,"Schwere Nutzfahrzeuge, Diesel",{"$f":"$BY47*'Hilfsblatt Kostensätze Umwelt'!AA47/100*'Hilfsblatt Kostensätze Umwelt'!$K$263","v":0},{"$f":"$BZ47*'Hilfsblatt Kostensätze Umwelt'!AB47/100*'Hilfsblatt Kostensätze Umwelt'!$K$263","v":0},{"$f":"$CA47*'Hilfsblatt Kostensätze Umwelt'!AC47/100*'Hilfsblatt Kostensätze Umwelt'!$K$263","v":0},{"$f":"$CB47*'Hilfsblatt Kostensätze Umwelt'!AD47/100*'Hilfsblatt Kostensätze Umwelt'!$K$263","v":0},null,null,null,null,null,null,null,"Schwere Nutzfahrzeuge, Diesel",{"$f":"Eingabevariablen!$C81*'Hilfsblatt Kostensätze Umwelt'!AM47/100","v":0},{"$f":"Eingabevariablen!$D81*'Hilfsblatt Kostensätze Umwelt'!AN47/100","v":0},{"$f":"Eingabevariablen!$E81*'Hilfsblatt Kostensätze Umwelt'!AO47/100","v":0},{"$f":"Eingabevariablen!$F81*'Hilfsblatt Kostensätze Umwelt'!AP47/100","v":0},null,null,null,null,null,null,null,"Schwere Nutzfahrzeuge, Diesel",{"$f":"Eingabevariablen!$C81*'Hilfsblatt Kostensätze Umwelt'!AY47/100","v":0},{"$f":"Eingabevariablen!$D81*'Hilfsblatt Kostensätze Umwelt'!AZ47/100","v":0},{"$f":"Eingabevariablen!$E81*'Hilfsblatt Kostensätze Umwelt'!BA47/100","v":0},{"$f":"Eingabevariablen!$F81*'Hilfsblatt Kostensätze Umwelt'!BB47/100","v":0},null,null,null,null,null,null,null,"Schwere Nutzfahrzeuge, Diesel",{"$f":"$BY47*'Hilfsblatt Kostensätze Umwelt'!BK47/100","v":0},{"$f":"$BZ47*'Hilfsblatt Kostensätze Umwelt'!BL47/100","v":0},{"$f":"$CA47*'Hilfsblatt Kostensätze Umwelt'!BM47/100","v":0},{"$f":"$CB47*'Hilfsblatt Kostensätze Umwelt'!BN47/100","v":0},null,null,null,null,null,null,null,null,"Schwere Nutzfahrzeuge, Diesel",{"$f":"Eingabevariablen!C81*(1+Eingabevariablen!$E$118)","v":0},{"$f":"Eingabevariablen!D81*(1+Eingabevariablen!$E$118)","v":0},{"$f":"Eingabevariablen!E81*(1+Eingabevariablen!$E$118)","v":0},{"$f":"Eingabevariablen!F81*(1+Eingabevariablen!$E$118)","v":0}]
[null,"Bus, Diesel",0,0,0,0,null,0,0,0,0,null,null,null,"Bus, Diesel",{"$f":"$BY48*'Hilfsblatt Kostensätze Umwelt'!O48/100","v":0},{"$f":"$BZ48*'Hilfsblatt Kostensätze Umwelt'!P48/100","v":0},{"$f":"$CA48*'Hilfsblatt Kostensätze Umwelt'!Q48/100","v":0},{"$f":"$CB48*'Hilfsblatt Kostensätze Umwelt'!R48/100","v":0},null,null,null,null,null,null,null,"Bus, Diesel",{"$f":"$BY48*'Hilfsblatt Kostensätze Umwelt'!AA48/100*'Hilfsblatt Kostensätze Umwelt'!$K$263","v":0},{"$f":"$BZ48*'Hilfsblatt Kostensätze Umwelt'!AB48/100*'Hilfsblatt Kostensätze Umwelt'!$K$263","v":0},{"$f":"$CA48*'Hilfsblatt Kostensätze Umwelt'!AC48/100*'Hilfsblatt Kostensätze Umwelt'!$K$263","v":0},{"$f":"$CB48*'Hilfsblatt Kostensätze Umwelt'!AD48/100*'Hilfsblatt Kostensätze Umwelt'!$K$263","v":0},null,null,null,null,null,null,null,"Bus, Diesel",{"$f":"Eingabevariablen!$C82*'Hilfsblatt Kostensätze Umwelt'!AM48/100","v":0},{"$f":"Eingabevariablen!$D82*'Hilfsblatt Kostensätze Umwelt'!AN48/100","v":0},{"$f":"Eingabevariablen!$E82*'Hilfsblatt Kostensätze Umwelt'!AO48/100","v":0},{"$f":"Eingabevariablen!$F82*'Hilfsblatt Kostensätze Umwelt'!AP48/100","v":0},null,null,null,null,null,null,null,"Bus, Diesel",{"$f":"Eingabevariablen!$C82*'Hilfsblatt Kostensätze Umwelt'!AY48/100","v":0},{"$f":"Eingabevariablen!$D82*'Hilfsblatt Kostensätze Umwelt'!AZ48/100","v":0},{"$f":"Eingabevariablen!$E82*'Hilfsblatt Kostensätze Umwelt'!BA48/100","v":0},{"$f":"Eingabevariablen!$F82*'Hilfsblatt Kostensätze Umwelt'!BB48/100","v":0},null,null,null,null,null,null,null,"Bus, Diesel",{"$f":"$BY48*'Hilfsblatt Kostensätze Umwelt'!BK48/100","v":0},{"$f":"$BZ48*'Hilfsblatt Kostensätze Umwelt'!BL48/100","v":0},{"$f":"$CA48*'Hilfsblatt Kostensätze Umwelt'!BM48/100","v":0},{"$f":"$CB48*'Hilfsblatt Kostensätze Umwelt'!BN48/100","v":0},null,null,null,null,null,null,null,null,"Bus, Diesel",{"$f":"Eingabevariablen!C82*(1+Eingabevariablen!$E$118)","v":0},{"$f":"Eingabevariablen!D82*(1+Eingabevariablen!$E$118)","v":0},{"$f":"Eingabevariablen!E82*(1+Eingabevariablen!$E$118)","v":0},{"$f":"Eingabevariablen!F82*(1+Eingabevariablen!$E$118)","v":0}]
[null,"Krafträder, Benzin 4-Takt",0,0,0,0,null,0,0,0,0,null,null,null,"Krafträder, Benzin 4-Takt",{"$f":"$BY49*'Hilfsblatt Kostensätze Umwelt'!O49/100","v":0},{"$f":"$BZ49*'Hilfsblatt Kostensätze Umwelt'!P49/100","v":0},{"$f":"$CA49*'Hilfsblatt Kostensätze Umwelt'!Q49/100","v":0},{"$f":"$CB49*'Hilfsblatt Kostensätze Umwelt'!R49/100","v":0},null,null,null,null,null,null,null,"Krafträder, Benzin 4-Takt",{"$f":"$BY49*'Hilfsblatt Kostensätze Umwelt'!AA49/100*'Hilfsblatt Kostensätze Umwelt'!$K$263","v":0},{"$f":"$BZ49*'Hilfsblatt Kostensätze Umwelt'!AB49/100*'Hilfsblatt Kostensätze Umwelt'!$K$263","v":0},{"$f":"$CA49*'Hilfsblatt Kostensätze Umwelt'!AC49/100*'Hilfsblatt Kostensätze Umwelt'!$K$263","v":0},{"$f":"$CB49*'Hilfsblatt Kostensätze Umwelt'!AD49/100*'Hilfsblatt Kostensätze Umwelt'!$K$263","v":0},null,null,null,null,null,null,null,"Krafträder, Benzin 4-Takt",{"$f":"Eingabevariablen!$C83*'Hilfsblatt Kostensätze Umwelt'!AM49/100","v":0},{"$f":"Eingabevariablen!$D83*'Hilfsblatt Kostensätze Umwelt'!AN49/100","v":0},{"$f":"Eingabevariablen!$E83*'Hilfsblatt Kostensätze Umwelt'!AO49/100","v":0},{"$f":"Eingabevariablen!$F83*'Hilfsblatt Kostensätze Umwelt'!AP49/100","v":0},null,null,null,null,null,null,null,"Krafträder, Benzin 4-Takt",{"$f":"Eingabevariablen!$C83*'Hilfsblatt Kostensätze Umwelt'!AY49/100","v":0},{"$f":"Eingabevariablen!$D83*'Hilfsblatt Kostensätze Umwelt'!AZ49/100","v":0},{"$f":"Eingabevariablen!$E83*'Hilfsblatt Kostensätze Umwelt'!BA49/100","v":0},{"$f":"Eingabevariablen!$F83*'Hilfsblatt Kostensätze Umwelt'!BB49/100","v":0},null,null,null,null,null,null,null,"Krafträder, Benzin 4-Takt",{"$f":"$BY49*'Hilfsblatt Kostensätze Umwelt'!BK49/100","v":0},{"$f":"$BZ49*'Hilfsblatt Kostensätze Umwelt'!BL49/100","v":0},{"$f":"$CA49*'Hilfsblatt Kostensätze Umwelt'!BM49/100","v":0},{"$f":"$CB49*'Hilfsblatt Kostensätze Umwelt'!BN49/100","v":0},null,null,null,null,null,null,null,null,"Krafträder, Benzin 4-Takt",{"$f":"Eingabevariablen!C83*(1+Eingabevariablen!$E$118)","v":0},{"$f":"Eingabevariablen!D83*(1+Eingabevariablen!$E$118)","v":0},{"$f":"Eingabevariablen!E83*(1+Eingabevariablen!$E$118)","v":0},{"$f":"Eingabevariablen!F83*(1+Eingabevariablen!$E$118)","v":0}]
[null,"Krafträder, Benzin 2-Takt",0,0,0,0,null,0,0,0,0,null,null,null,"Krafträder, Benzin 2-Takt",{"$f":"$BY50*'Hilfsblatt Kostensätze Umwelt'!O50/100","v":0},{"$f":"$BZ50*'Hilfsblatt Kostensätze Umwelt'!P50/100","v":0},{"$f":"$CA50*'Hilfsblatt Kostensätze Umwelt'!Q50/100","v":0},{"$f":"$CB50*'Hilfsblatt Kostensätze Umwelt'!R50/100","v":0},null,null,null,null,null,null,null,"Krafträder, Benzin 2-Takt",{"$f":"$BY50*'Hilfsblatt Kostensätze Umwelt'!AA50/100*'Hilfsblatt Kostensätze Umwelt'!$K$263","v":0},{"$f":"$BZ50*'Hilfsblatt Kostensätze Umwelt'!AB50/100*'Hilfsblatt Kostensätze Umwelt'!$K$263","v":0},{"$f":"$CA50*'Hilfsblatt Kostensätze Umwelt'!AC50/100*'Hilfsblatt Kostensätze Umwelt'!$K$263","v":0},{"$f":"$CB50*'Hilfsblatt Kostensätze Umwelt'!AD50/100*'Hilfsblatt Kostensätze Umwelt'!$K$263","v":0},null,null,null,null,null,null,null,"Krafträder, Benzin 2-Takt",{"$f":"Eingabevariablen!$C84*'Hilfsblatt Kostensätze Umwelt'!AM50/100","v":0},{"$f":"Eingabevariablen!$D84*'Hilfsblatt Kostensätze Umwelt'!AN50/100","v":0},{"$f":"Eingabevariablen!$E84*'Hilfsblatt Kostensätze Umwelt'!AO50/100","v":0},{"$f":"Eingabevariablen!$F84*'Hilfsblatt Kostensätze Umwelt'!AP50/100","v":0},null,null,null,null,null,null,null,"Krafträder, Benzin 2-Takt",{"$f":"Eingabevariablen!$C84*'Hilfsblatt Kostensätze Umwelt'!AY50/100","v":0},{"$f":"Eingabevariablen!$D84*'Hilfsblatt Kostensätze Umwelt'!AZ50/100","v":0},{"$f":"Eingabevariablen!$E84*'Hilfsblatt Kostensätze Umwelt'!BA50/100","v":0},{"$f":"Eingabevariablen!$F84*'Hilfsblatt Kostensätze Umwelt'!BB50/100","v":0},null,null,null,null,null,null,null,"Krafträder, Benzin 2-Takt",{"$f":"$BY50*'Hilfsblatt Kostensätze Umwelt'!BK50/100","v":0},{"$f":"$BZ50*'Hilfsblatt Kostensätze Umwelt'!BL50/100","v":0},{"$f":"$CA50*'Hilfsblatt Kostensätze Umwelt'!BM50/100","v":0},{"$f":"$CB50*'Hilfsblatt Kostensätze Umwelt'!BN50/100","v":0},null,null,null,null,null,null,null,null,"Krafträder, Benzin 2-Takt",{"$f":"Eingabevariablen!C84*(1+Eingabevariablen!$E$118)","v":0},{"$f":"Eingabevariablen!D84*(1+Eingabevariablen!$E$118)","v":0},{"$f":"Eingabevariablen!E84*(1+Eingabevariablen!$E$118)","v":0},{"$f":"Eingabevariablen!F84*(1+Eingabevariablen!$E$118)","v":0}]
[null,"Personenzug, Diesel",0,0,0,null,null,0,0,0,0,null,null,null,"Personenzug, Diesel",{"$f":"$BY51*'Hilfsblatt Kostensätze Umwelt'!O51/100","v":0},{"$f":"$BZ51*'Hilfsblatt Kostensätze Umwelt'!P51/100","v":0},{"$f":"$CA51*'Hilfsblatt Kostensätze Umwelt'!Q51/100","v":0},null,null,null,null,null,null,null,null,"Personenzug, Diesel",{"$f":"$BY51*'Hilfsblatt Kostensätze Umwelt'!AA51/100*'Hilfsblatt Kostensätze Umwelt'!$K$263","v":0},{"$f":"$BZ51*'Hilfsblatt Kostensätze Umwelt'!AB51/100*'Hilfsblatt Kostensätze Umwelt'!$K$263","v":0},{"$f":"$CA51*'Hilfsblatt Kostensätze Umwelt'!AC51/100*'Hilfsblatt Kostensätze Umwelt'!$K$263","v":0},null,null,null,null,null,null,null,null,"Personenzug, Diesel",{"$f":"Eingabevariablen!$C102*'Hilfsblatt Kostensätze Umwelt'!AM51/100","v":0},{"$f":"Eingabevariablen!$D102*'Hilfsblatt Kostensätze Umwelt'!AN51/100","v":0},{"$f":"Eingabevariablen!$E102*'Hilfsblatt Kostensätze Umwelt'!AO51/100","v":0},null,null,null,null,null,null,null,null,"Personenzug, Diesel",{"$f":"Eingabevariablen!$C102*'Hilfsblatt Kostensätze Umwelt'!AY51/100","v":0},{"$f":"Eingabevariablen!$D102*'Hilfsblatt Kostensätze Umwelt'!AZ51/100","v":0},{"$f":"Eingabevariablen!$E102*'Hilfsblatt Kostensätze Umwelt'!BA51/100","v":0},null,null,null,null,null,null,null,null,"Personenzug, Diesel",{"$f":"$BY51*'Hilfsblatt Kostensätze Umwelt'!BK51/100","v":0},{"$f":"$BZ51*'Hilfsblatt Kostensätze Umwelt'!BL51/100","v":0},{"$f":"$CA51*'Hilfsblatt Kostensätze Umwelt'!BM51/100","v":0},null,null,null,null,null,null,null,null,"Schienenverkehr: ","Personenzug, Diesel",{"$f":"Eingabevariablen!C102*(1+Eingabevariablen!$E$118)","v":0},{"$f":"Eingabevariablen!D102*(1+Eingabevariablen!$E$118)","v":0},{"$f":"Eingabevariablen!E102*(1+Eingabevariablen!$E$118)","v":0}]
[null,"Personenzug, elektrisch",0,0,0,null,null,0,0,0,0,null,null,null,"Personenzug, elektrisch",{"$f":"$BY52*'Hilfsblatt Kostensätze Umwelt'!O52/100","v":0},{"$f":"$BZ52*'Hilfsblatt Kostensätze Umwelt'!P52/100","v":0},{"$f":"$CA52*'Hilfsblatt Kostensätze Umwelt'!Q52/100","v":0},null,null,null,null,null,null,null,null,"Personenzug, elektrisch",{"$f":"$BY52*'Hilfsblatt Kostensätze Umwelt'!AA52/100*'Hilfsblatt Kostensätze Umwelt'!$K$263","v":0},{"$f":"$BZ52*'Hilfsblatt Kostensätze Umwelt'!AB52/100*'Hilfsblatt Kostensätze Umwelt'!$K$263","v":0},{"$f":"$CA52*'Hilfsblatt Kostensätze Umwelt'!AC52/100*'Hilfsblatt Kostensätze Umwelt'!$K$263","v":0},null,null,null,null,null,null,null,null,"Personenzug, elektrisch",{"$f":"Eingabevariablen!$C103*'Hilfsblatt Kostensätze Umwelt'!AM52/100","v":0},{"$f":"Eingabevariablen!$D103*'Hilfsblatt Kostensätze Umwelt'!AN52/100","v":0},{"$f":"Eingabevariablen!$E103*'Hilfsblatt Kostensätze Umwelt'!AO52/100","v":0},null,null,null,null,null,null,null,null,"Personenzug, elektrisch",{"$f":"Eingabevariablen!$C103*'Hilfsblatt Kostensätze Umwelt'!AY52/100","v":0},{"$f":"Eingabevariablen!$D103*'Hilfsblatt Kostensätze Umwelt'!AZ52/100","v":0},{"$f":"Eingabevariablen!$E103*'Hilfsblatt Kostensätze Umwelt'!BA52/100","v":0},null,null,null,null,null,null,null,null,"Personenzug, elektrisch",{"$f":"$BY52*'Hilfsblatt Kostensätze Umwelt'!BK52/100","v":0},{"$f":"$BZ52*'Hilfsblatt Kostensätze Umwelt'!BL52/100","v":0},{"$f":"$CA52*'Hilfsblatt Kostensätze Umwelt'!BM52/100","v":0},null,null,null,null,null,null,null,null,null,"Personenzug, elektrisch",{"$f":"Eingabevariablen!C103*(1+Eingabevariablen!$E$118)","v":0},{"$f":"Eingabevariablen!D103*(1+Eingabevariablen!$E$118)","v":0},{"$f":"Eingabevariablen!E103*(1+Eingabevariablen!$E$118)","v":0}]
[null,"Güterzug, Diesel",0,0,0,null,null,0,0,0,0,null,null,null,"Güterzug, Diesel",{"$f":"$BY53*'Hilfsblatt Kostensätze Umwelt'!O53/100","v":0},{"$f":"$BZ53*'Hilfsblatt Kostensätze Umwelt'!P53/100","v":0},{"$f":"$CA53*'Hilfsblatt Kostensätze Umwelt'!Q53/100","v":0},null,null,null,null,null,null,null,null,"Güterzug, Diesel",{"$f":"$BY53*'Hilfsblatt Kostensätze Umwelt'!AA53/100*'Hilfsblatt Kostensätze Umwelt'!$K$263","v":0},{"$f":"$BZ53*'Hilfsblatt Kostensätze Umwelt'!AB53/100*'Hilfsblatt Kostensätze Umwelt'!$K$263","v":0},{"$f":"$CA53*'Hilfsblatt Kostensätze Umwelt'!AC53/100*'Hilfsblatt Kostensätze Umwelt'!$K$263","v":0},null,null,null,null,null,null,null,null,"Güterzug, Diesel",{"$f":"Eingabevariablen!$C104*'Hilfsblatt Kostensätze Umwelt'!AM53/100","v":0},{"$f":"Eingabevariablen!$D104*'Hilfsblatt Kostensätze Umwelt'!AN53/100","v":0},{"$f":"Eingabevariablen!$E104*'Hilfsblatt Kostensätze Umwelt'!AO53/100","v":0},null,null,null,null,null,null,null,null,"Güterzug, Diesel",{"$f":"Eingabevariablen!$C104*'Hilfsblatt Kostensätze Umwelt'!AY53/100","v":0},{"$f":"Eingabevariablen!$D104*'Hilfsblatt Kostensätze Umwelt'!AZ53/100","v":0},{"$f":"Eingabevariablen!$E104*'Hilfsblatt Kostensätze Umwelt'!BA53/100","v":0},null,null,null,null,null,null,null,null,"Güterzug, Diesel",{"$f":"$BY53*'Hilfsblatt Kostensätze Umwelt'!BK53/100","v":0},{"$f":"$BZ53*'Hilfsblatt Kostensätze Umwelt'!BL53/100","v":0},{"$f":"$CA53*'Hilfsblatt Kostensätze Umwelt'!BM53/100","v":0},null,null,null,null,null,null,null,null,null,"Güterzug, Diesel",{"$f":"Eingabevariablen!C104*(1+Eingabevariablen!$E$118)","v":0},{"$f":"Eingabevariablen!D104*(1+Eingabevariablen!$E$118)","v":0},{"$f":"Eingabevariablen!E104*(1+Eingabevariablen!$E$118)","v":0}]
[null,"Güterzug, elektrisch",0,0,0,null,null,0,0,0,0,null,null,null,"Güterzug, elektrisch",{"$f":"$BY54*'Hilfsblatt Kostensätze Umwelt'!O54/100","v":0},{"$f":"$BZ54*'Hilfsblatt Kostensätze Umwelt'!P54/100","v":0},{"$f":"$CA54*'Hilfsblatt Kostensätze Umwelt'!Q54/100","v":0},null,null,null,null,null,null,null,null,"Güterzug, elektrisch",{"$f":"$BY54*'Hilfsblatt Kostensätze Umwelt'!AA54/100*'Hilfsblatt Kostensätze Umwelt'!$K$263","v":0},{"$f":"$BZ54*'Hilfsblatt Kostensätze Umwelt'!AB54/100*'Hilfsblatt Kostensätze Umwelt'!$K$263","v":0},{"$f":"$CA54*'Hilfsblatt Kostensätze Umwelt'!AC54/100*'Hilfsblatt Kostensätze Umwelt'!$K$263","v":0},null,null,null,null,null,null,null,null,"Güterzug, elektrisch",{"$f":"Eingabevariablen!$C105*'Hilfsblatt Kostensätze Umwelt'!AM54/100","v":0},{"$f":"Eingabevariablen!$D105*'Hilfsblatt Kostensätze Umwelt'!AN54/100","v":0},{"$f":"Eingabevariablen!$E105*'Hilfsblatt Kostensätze Umwelt'!AO54/100","v":0},null,null,null,null,null,null,null,null,"Güterzug, elektrisch",{"$f":"Eingabevariablen!$C105*'Hilfsblatt Kostensätze Umwelt'!AY54/100","v":0},{"$f":"Eingabevariablen!$D105*'Hilfsblatt Kostensätze Umwelt'!AZ54/100","v":0},{"$f":"Eingabevariablen!$E105*'Hilfsblatt Kostensätze Umwelt'!BA54/100","v":0},null,null,null,null,null,null,null,null,"Güterzug, elektrisch",{"$f":"$BY54*'Hilfsblatt Kostensätze Umwelt'!BK54/100","v":0},{"$f":"$BZ54*'Hilfsblatt Kostensätze Umwelt'!BL54/100","v":0},{"$f":"$CA54*'Hilfsblatt Kostensätze Umwelt'!BM54/100","v":0},null,null,null,null,null,null,null,null,null,"Güterzug, elektrisch",{"$f":"Eingabevariablen!C105*(1+Eingabevariablen!$E$118)","v":0},{"$f":"Eingabevariablen!D105*(1+Eingabevariablen!$E$118)","v":0},{"$f":"Eingabevariablen!E105*(1+Eingabevariablen!$E$118)","v":0}]
[null,"Binnengüterschiff",0,null,null,null,null,0,null,null,null,null,null,null,"Binnengüterschiff",{"$f":"$BY55*'Hilfsblatt Kostensätze Umwelt'!O55/100","v":0},null,null,null,null,null,null,null,null,null,null,"Binnengüterschiff",{"$f":"$BY55*'Hilfsblatt Kostensätze Umwelt'!AA55/100*'Hilfsblatt Kostensätze Umwelt'!$K$263","v":0},null,null,null,null,null,null,null,null,null,null,"Binnengüterschiff",{"$f":"Eingabevariablen!$E109*'Hilfsblatt Kostensätze Umwelt'!AM55/100","v":0},null,null,null,null,null,null,null,null,null,null,"Binnengüterschiff",{"$f":"Eingabevariablen!$E109*'Hilfsblatt Kostensätze Umwelt'!AY55/100","v":0},null,null,null,null,null,null,null,null,null,null,"Binnengüterschiff",{"$f":"$BY55*'Hilfsblatt Kostensätze Umwelt'!BK55/100","v":0},null,null,null,null,null,null,null,null,null,null,"Schiffsverkehr: ","Binnengüterschiff",{"$f":"Eingabevariablen!E109*(1+Eingabevariablen!$E$118)","v":0}]
[null,"Luftverkehr, Europa-/Kontinentalflug",0,null,null,null,null,0,null,null,null,null,null,null,"Luftverkehr, Europa-/Kontinentalflug",{"$f":"$BY56*'Hilfsblatt Kostensätze Umwelt'!O56/100","v":0},null,null,null,null,null,null,null,null,null,null,"Luftverkehr, Europa-/Kontinentalflug",{"$f":"$BY56*'Hilfsblatt Kostensätze Umwelt'!AA56/100*'Hilfsblatt Kostensätze Umwelt'!$K$263","v":0},null,null,null,null,null,null,null,null,null,null,"Luftverkehr, Europa-/Kontinentalflug",{"$f":"Eingabevariablen!$E113*'Hilfsblatt Kostensätze Umwelt'!AM56/100","v":0},null,null,null,null,null,null,null,null,null,null,"Luftverkehr, Europa-/Kontinentalflug",{"$f":"Eingabevariablen!$E113*'Hilfsblatt Kostensätze Umwelt'!AY56/100","v":0},null,null,null,null,null,null,null,null,null,null,"Luftverkehr, Europa-/Kontinentalflug",{"$f":"$BY56*'Hilfsblatt Kostensätze Umwelt'!BK56/100","v":0},null,null,null,null,null,null,null,null,null,null,"Luftverkehr: ","Luftverkehr, Europa-/Kontinentalflug",{"$f":"Eingabevariablen!E113*(1+Eingabevariablen!$E$118)","v":0}]
[]
[]
[]
["B. Nach Wirkungskategorien"]
[]
["1. Luftschadstoffemissionen"]
[]
[null,"in Euro"]
[null,"Quelle:","Quelle unbekannt","Verkehr",null,"Kraftwerk/Energie","Industrie","Kleinfeuerung"]
[null,"Kosten",null,"Innerorts (Durchschnitt)","Außerorts",null,null,"Innerorts","Außerorts","Total"]
[null,"Partikel (Feinstaub) grob PM10",{"$f":"Eingabevariablen!C226*'Hilfsblatt Kostensätze Umwelt'!C69","v":0},{"$f":"Eingabevariablen!D226*'Hilfsblatt Kostensätze Umwelt'!D69","v":0},{"$f":"Eingabevariablen!E226*'Hilfsblatt Kostensätze Umwelt'!E69","v":0},{"$f":"Eingabevariablen!F226*'Hilfsblatt Kostensätze Umwelt'!F69","v":0},{"$f":"Eingabevariablen!G226*'Hilfsblatt Kostensätze Umwelt'!G69","v":0},{"$f":"Eingabevariablen!H226*'Hilfsblatt Kostensätze Umwelt'!H69","v":0},{"$f":"Eingabevariablen!I226*'Hilfsblatt Kostensätze Umwelt'!I69","v":0},{"$f":"SUM(C67:I67)","v":0}]
[null,"Partikel (Feinstaub) fein PM2.5",{"$f":"Eingabevariablen!C227*'Hilfsblatt Kostensätze Umwelt'!C70","v":0},{"$f":"Eingabevariablen!D227*'Hilfsblatt Kostensätze Umwelt'!D70","v":0},{"$f":"Eingabevariablen!E227*'Hilfsblatt Kostensätze Umwelt'!E70","v":0},{"$f":"Eingabevariablen!F227*'Hilfsblatt Kostensätze Umwelt'!F70","v":0},{"$f":"Eingabevariablen!G227*'Hilfsblatt Kostensätze Umwelt'!G70","v":0},{"$f":"Eingabevariablen!H227*'Hilfsblatt Kostensätze Umwelt'!H70","v":0},{"$f":"Eingabevariablen!I227*'Hilfsblatt Kostensätze Umwelt'!I70","v":0},{"$f":"SUM(C68:I68)","v":0}]
[null,"Stickoxide NOx",{"$f":"Eingabevariablen!C228*'Hilfsblatt Kostensätze Umwelt'!C71","v":0},{"$f":"Eingabevariablen!D228*'Hilfsblatt Kostensätze Umwelt'!D71","v":0},{"$f":"Eingabevariablen!E228*'Hilfsblatt Kostensätze Umwelt'!E71","v":0},{"$f":"Eingabevariablen!F228*'Hilfsblatt Kostensätze Umwelt'!F71","v":0},{"$f":"Eingabevariablen!G228*'Hilfsblatt Kostensätze Umwelt'!G71","v":0},{"$f":"Eingabevariablen!H228*'Hilfsblatt Kostensätze Umwelt'!H71","v":0},{"$f":"Eingabevariablen!I228*'Hilfsblatt Kostensätze Umwelt'!I71","v":0},0]
[null,"Schwefeldioxid SO2",{"$f":"Eingabevariablen!C229*'Hilfsblatt Kostensätze Umwelt'!C72","v":0},{"$f":"Eingabevariablen!D229*'Hilfsblatt Kostensätze Umwelt'!D72","v":0},{"$f":"Eingabevariablen!E229*'Hilfsblatt Kostensätze Umwelt'!E72","v":0},{"$f":"Eingabevariablen!F229*'Hilfsblatt Kostensätze Umwelt'!F72","v":0},{"$f":"Eingabevariablen!G229*'Hilfsblatt Kostensätze Umwelt'!G72","v":0},{"$f":"Eingabevariablen!H229*'Hilfsblatt Kostensätze Umwelt'!H72","v":0},{"$f":"Eingabevariablen!I229*'Hilfsblatt Kostensätze Umwelt'!I72","v":0},0]
[null,"Flüchtige Kohlenwasserstoffe NMVOC",{"$f":"Eingabevariablen!C230*'Hilfsblatt Kostensätze Umwelt'!C73","v":0},{"$f":"Eingabevariablen!D230*'Hilfsblatt Kostensätze Umwelt'!D73","v":0},{"$f":"Eingabevariablen!E230*'Hilfsblatt Kostensätze Umwelt'!E73","v":0},{"$f":"Eingabevariablen!F230*'Hilfsblatt Kostensätze Umwelt'!F73","v":0},{"$f":"Eingabevariablen!G230*'Hilfsblatt Kostensätze Umwelt'!G73","v":0},{"$f":"Eingabevariablen!H230*'Hilfsblatt Kostensätze Umwelt'!H73","v":0},{"$f":"Eingabevariablen!I230*'Hilfsblatt Kostensätze Umwelt'!I73","v":0},0]
[null,"Ammoniak NH3",{"$f":"Eingabevariablen!C231*'Hilfsblatt Kostensätze Umwelt'!C74","v":0},{"$f":"Eingabevariablen!D231*'Hilfsblatt Kostensätze Umwelt'!D74","v":0},{"$f":"Eingabevariablen!E231*'Hilfsblatt Kostensätze Umwelt'!E74","v":0},{"$f":"Eingabevariablen!F231*'Hilfsblatt Kostensätze Umwelt'!F74","v":0},{"$f":"Eingabevariablen!G231*'Hilfsblatt Kostensätze Umwelt'!G74","v":0},{"$f":"Eingabevariablen!H231*'Hilfsblatt Kostensätze Umwelt'!H74","v":0},{"$f":"Eingabevariablen!I231*'Hilfsblatt Kostensätze Umwelt'!I74","v":0},0]
[]
[]
[]
[]
["2. Treibhausgasemissionen"]
[]
[]
[null,"in Euro"]
[null,"Schadstoff","in EUR"]
[null,"Kohlendioxid (CO2)",{"$f":"Eingabevariablen!E238*'Hilfsblatt Kostensätze Umwelt'!E82","v":0}]
[null,"Methan (CH4)",{"$f":"Eingabevariablen!E239*'Hilfsblatt Kostensätze Umwelt'!E83","v":0}]
[null,"Lachgas (N2O)",{"$f":"Eingabevariablen!E240*'Hilfsblatt Kostensätze Umwelt'!E84","v":0}]
[null,"Treibhausgase total (in CO2-Äquivalent)",{"$f":"Eingabevariablen!E241*'Hilfsblatt Kostensätze Umwelt'!E85","v":0}]
[]
[]
[]
["3. Lärmemissionen"]
[]
[]
[null,"in EUR"]
[null,"Kosten pro belastete Personen je Lärmklasse \n(Dezibel-Klasse)","Quelle: Verkehr",null,null,"Quelle: unbekannt"]
[null,"Lärmbelastung (Lden (dB(A))","Strassenverkehr","Schienenverkehr","Luftverkehr"]
[null,"45 dB",{"$f":"Eingabevariablen!C274*'Hilfsblatt Kostensätze Umwelt'!C95","v":0},{"$f":"Eingabevariablen!D274*'Hilfsblatt Kostensätze Umwelt'!D95","v":0},{"$f":"Eingabevariablen!E274*'Hilfsblatt Kostensätze Umwelt'!E95","v":0},{"$f":"Eingabevariablen!F274*'Hilfsblatt Kostensätze Umwelt'!F95","v":0}]
[null,"50 dB",{"$f":"Eingabevariablen!C275*'Hilfsblatt Kostensätze Umwelt'!C96","v":0},{"$f":"Eingabevariablen!D275*'Hilfsblatt Kostensätze Umwelt'!D96","v":0},{"$f":"Eingabevariablen!E275*'Hilfsblatt Kostensätze Umwelt'!E96","v":0},{"$f":"Eingabevariablen!F275*'Hilfsblatt Kostensätze Umwelt'!F96","v":0}]
[null,"55 dB",{"$f":"Eingabevariablen!C276*'Hilfsblatt Kostensätze Umwelt'!C97","v":0},{"$f":"Eingabevariablen!D276*'Hilfsblatt Kostensätze Umwelt'!D97","v":0},{"$f":"Eingabevariablen!E276*'Hilfsblatt Kostensätze Umwelt'!E97","v":0},{"$f":"Eingabevariablen!F276*'Hilfsblatt Kostensätze Umwelt'!F97","v":0}]
[null,"60 dB",{"$f":"Eingabevariablen!C277*'Hilfsblatt Kostensätze Umwelt'!C98","v":0},{"$f":"Eingabevariablen!D277*'Hilfsblatt Kostensätze Umwelt'!D98","v":0},{"$f":"Eingabevariablen!E277*'Hilfsblatt Kostensätze Umwelt'!E98","v":0},{"$f":"Eingabevariablen!F277*'Hilfsblatt Kostensätze Umwelt'!F98","v":0}]
[null,"65 dB",{"$f":"Eingabevariablen!C278*'Hilfsblatt Kostensätze Umwelt'!C99","v":0},{"$f":"Eingabevariablen!D278*'Hilfsblatt Kostensätze Umwelt'!D99","v":0},{"$f":"Eingabevariablen!E278*'Hilfsblatt Kostensätze Umwelt'!E99","v":0},{"$f":"Eingabevariablen!F278*'Hilfsblatt Kostensätze Umwelt'!F99","v":0}]
[null,"70 dB",{"$f":"Eingabevariablen!C279*'Hilfsblatt Kostensätze Umwelt'!C100","v":0},{"$f":"Eingabevariablen!D279*'Hilfsblatt Kostensätze Umwelt'!D100","v":0},{"$f":"Eingabevariablen!E279*'Hilfsblatt Kostensätze Umwelt'!E100","v":0},{"$f":"Eingabevariablen!F279*'Hilfsblatt Kostensätze Umwelt'!F100","v":0}]
[null,"75 dB",{"$f":"Eingabevariablen!C280*'Hilfsblatt Kostensätze Umwelt'!C101","v":0},{"$f":"Eingabevariablen!D280*'Hilfsblatt Kostensätze Umwelt'!D101","v":0},{"$f":"Eingabevariablen!E280*'Hilfsblatt Kostensätze Umwelt'!E101","v":0},{"$f":"Eingabevariablen!F280*'Hilfsblatt Kostensätze Umwelt'!F101","v":0}]
[null,"80 dB",{"$f":"Eingabevariablen!C281*'Hilfsblatt Kostensätze Umwelt'!C102","v":0},{"$f":"Eingabevariablen!D281*'Hilfsblatt Kostensätze Umwelt'!D102","v":0},{"$f":"Eingabevariablen!E281*'Hilfsblatt Kostensätze Umwelt'!E102","v":0},{"$f":"Eingabevariablen!F281*'Hilfsblatt Kostensätze Umwelt'!F102","v":0}]
[null,"≥81 dB",{"$f":"Eingabevariablen!C282*'Hilfsblatt Kostensätze Umwelt'!C103","v":0},{"$f":"Eingabevariablen!D282*'Hilfsblatt Kostensätze Umwelt'!D103","v":0},{"$f":"Eingabevariablen!E282*'Hilfsblatt Kostensätze Umwelt'!E103","v":0},{"$f":"Eingabevariablen!F282*'Hilfsblatt Kostensätze Umwelt'!F103","v":0}]
[]
[]
["4. Beeinträchtigung von Ökosystemen"]
[]
[]
[]
["a. Flächenumwandlung, Verbauung natürlicher Flächen, Versiegelung"]
[null,null,"in EUR"]
[null,"Kosten der versiegelten Fläche (total)",{"$f":"Eingabevariablen!E306*10^6*'Hilfsblatt Kostensätze Umwelt'!C112","v":0},"in Euro total"]
[null,"Kosten pro Jahr",{"$f":"Eingabevariablen!E306*10^6*'Hilfsblatt Kostensätze Umwelt'!C114","v":0},"in Euro, pro Jahr"]
[]
[]
["b. Landnutzungsänderung, Nutzungsintenvisierung"]
[]
[null,"Kosten in Euro: Total bzw. pro Jahr",null,null,null,"in EUR","in EUR"]
[null,null,null,null,"Kostensatz Vollverlust, in EUR/m2 2010","Vollverlust, in EUR 2010 total","Vollverlust, in EUR 2010 pro Jahr"]
[null,"bisherige Nutzungsform",{"$f":"Eingabevariablen!$C$179:$D$179","v":"Durchschnitt Deutschland (alle Biotoptypen)"},null,{"$f":"VLOOKUP($C120,'Hilfsblatt Kostensätze Umwelt'!$B$119:$C$141,2,FALSE)","v":5.5060832022984991},{"$f":"(Eingabevariablen!$E$178)*10^6*'Hilfsblatt Ber. Umweltkosten 3'!$E120","v":0},{"$f":"-PMT('Hilfsblatt Kostensätze Umwelt'!$C$113,100,$F120)","v":0}]
[null,"neue Nutzungsform",{"$f":"Eingabevariablen!$C$180:$D$180","v":"Ackerland"},null,{"$f":"VLOOKUP($C121,'Hilfsblatt Kostensätze Umwelt'!$B$119:$C$141,2,FALSE)","v":0.62419797639422125},{"$f":"(Eingabevariablen!$E$178)*10^6*'Hilfsblatt Ber. Umweltkosten 3'!$E121","v":0},{"$f":"-PMT('Hilfsblatt Kostensätze Umwelt'!$C$113,100,$F121)","v":0}]
[null,"Delta = Kosten der Nutzungsänderung",null,null,{"$f":"E120-E121","v":4.881885225904278},{"$f":"F120-F121","v":0},{"$f":"G120-G121","v":0}]
[]
[]
[]
[]
[]
[]
[]
[]
[]
[]
[]
[]
[]
[]
[]
[]
[]
[]
[]
[]
[]
[]
[]
[]
[]
["c. Nährstoffeintrag"]
[]
[null,"Kosten pro kg Stickstoff (N)","in Euro"]
[null,"Stickstoff-Verbindungen",{"$f":"Eingabevariablen!$E$184*1000*'Hilfsblatt Kostensätze Umwelt'!$C$151","v":0},"in Euro"]
[]
["d. Schadstoffeinträge ins Meer"]
[]
[null,"Kosten Schadstoffeinträge ins Meer","in Euro"]
[null,"Stickstoffeintrag ins Meer",{"$f":"Eingabevariablen!E289*'Hilfsblatt Kostensätze Umwelt'!C156","v":0},"in Euro"]
[null,"Abfallmenge, ins Meer",{"$f":"Eingabevariablen!E290*'Hilfsblatt Kostensätze Umwelt'!C157","v":0},"in Euro"]
[null,"Ölmenge, ins Meer",{"$f":"Eingabevariablen!E291*IF(Eingabevariablen!$C$293='Hilfsblatt Kostensätze Umwelt'!J158,'Hilfsblatt Kostensätze Umwelt'!C158,'Hilfsblatt Kostensätze Umwelt'!D158)","v":0},"in Euro"]
[]
["e. Zerschneidung der Landschaft durch Verkehrswege"]
[null,null,"total","pro Jahr"]
[null,"Kosten (zusätzlicher) Verkehrsinfrastrukturen","in Euro, total","in Euro, pro Jahr"]
[null,"Straße: Autobahn, Bundesstraße",{"$f":"Eingabevariablen!$E297*'Hilfsblatt Kostensätze Umwelt'!C163","v":0},{"$f":"Eingabevariablen!$E297*'Hilfsblatt Kostensätze Umwelt'!D163","v":0}]
[null,"Straße: Hauptstraße",{"$f":"Eingabevariablen!$E298*'Hilfsblatt Kostensätze Umwelt'!C164","v":0},{"$f":"Eingabevariablen!$E298*'Hilfsblatt Kostensätze Umwelt'!D164","v":0}]
[null,"Straße: Nebenstraße",{"$f":"Eingabevariablen!$E299*'Hilfsblatt Kostensätze Umwelt'!C165","v":0},{"$f":"Eingabevariablen!$E299*'Hilfsblatt Kostensätze Umwelt'!D165","v":0}]
[null,"Schiene: mehrspurig",{"$f":"Eingabevariablen!$E300*'Hilfsblatt Kostensätze Umwelt'!C166","v":0},{"$f":"Eingabevariablen!$E300*'Hilfsblatt Kostensätze Umwelt'!D166","v":0}]
[null,"Schiene: einspurig",{"$f":"Eingabevariablen!$E301*'Hilfsblatt Kostensätze Umwelt'!C167","v":0},{"$f":"Eingabevariablen!$E301*'Hilfsblatt Kostensätze Umwelt'!D167","v":0}]
[null,"Flugplatz, Flughafen",{"$f":"Eingabevariablen!$E302*'Hilfsblatt Kostensätze Umwelt'!C168","v":0},{"$f":"Eingabevariablen!$E302*'Hilfsblatt Kostensätze Umwelt'!D168","v":0}]
[]
[]
["5. Emission toxischer Stoffe"]
[]
[]
[]
[null,"Kosten der Emission toxischer Stoffe","in Euro"]
[null,"Schwermetalle:"]
[null,"Arsen (As)",{"$f":"Eingabevariablen!E313*'Hilfsblatt Kostensätze Umwelt'!C177","v":0}]
[null,"Cadmium (Cd)",{"$f":"Eingabevariablen!E314*'Hilfsblatt Kostensätze Umwelt'!C178","v":0}]
[null,"Chrom (Cr)",{"$f":"Eingabevariablen!E315*'Hilfsblatt Kostensätze Umwelt'!C179","v":0}]
[null,"Nickel (Ni)",{"$f":"Eingabevariablen!E316*'Hilfsblatt Kostensätze Umwelt'!C180","v":0}]
[null,"Quecksilber (Hg)",{"$f":"Eingabevariablen!E317*'Hilfsblatt Kostensätze Umwelt'!C181","v":0}]
[null,"Blei (Pb)",{"$f":"Eingabevariablen!E318*'Hilfsblatt Kostensätze Umwelt'!C182","v":0}]
[null,"Langlebige organische Schadstoffe (POPs):"]
[null,"Dioxine",{"$f":"Eingabevariablen!E320*'Hilfsblatt Kostensätze Umwelt'!C184","v":0}]
[null,"Furane",{"$f":"Eingabevariablen!E321*'Hilfsblatt Kostensätze Umwelt'!C185","v":0}]
[null,"Formaldehyd",{"$f":"Eingabevariablen!E322*'Hilfsblatt Kostensätze Umwelt'!C186","v":0}]
[null,"Pflanzenschutzmittel",{"$f":"Eingabevariablen!E323*'Hilfsblatt Kostensätze Umwelt'!C187","v":0}]
[null,"Insektizide",{"$f":"Eingabevariablen!E324*'Hilfsblatt Kostensätze Umwelt'!C188","v":0}]
[]
[]
["6. Indirekte Effekte vor- und nachgelagerte Prozesse"]
[]
[]
[]
[null,"Kosten der Schadstoffemissionen","in Euro"]
[null,"Partikel (Feinstaub) PM10",{"$f":"Eingabevariablen!E330*'Hilfsblatt Kostensätze Umwelt'!C196","v":0}]
[null,"Partikel (Feinstaub) fein PM2.5",{"$f":"Eingabevariablen!E331*'Hilfsblatt Kostensätze Umwelt'!C197","v":0}]
[null,"Stickoxide NOx",{"$f":"Eingabevariablen!E332*'Hilfsblatt Kostensätze Umwelt'!C198","v":0}]
[null,"Schwefeldioxid SO2",{"$f":"Eingabevariablen!E333*'Hilfsblatt Kostensätze Umwelt'!C199","v":0}]
[null,"Flüchtige Kohlenwasserstoffe NMVOC",{"$f":"Eingabevariablen!E334*'Hilfsblatt Kostensätze Umwelt'!C200","v":0}]
[null,"Ammoniak NH3",{"$f":"Eingabevariablen!E335*'Hilfsblatt Kostensätze Umwelt'!C201","v":0}]
[null,"Kohlendioxid (CO2)",{"$f":"Eingabevariablen!E336*'Hilfsblatt Kostensätze Umwelt'!E202","v":0}]
[null,"Methan (CH4)",{"$f":"Eingabevariablen!E337*'Hilfsblatt Kostensätze Umwelt'!E203","v":0}]
[null,"Lachgas (N2O)",{"$f":"Eingabevariablen!E338*'Hilfsblatt Kostensätze Umwelt'!E204","v":0}]
[null,"Treibhausgase total (in CO2-Äquivalent)",{"$f":"Eingabevariablen!E339*'Hilfsblatt Kostensätze Umwelt'!E205","v":0}]
[null,"Stickstoff-Verbindungen",{"$f":"Eingabevariablen!E340*'Hilfsblatt Kostensätze Umwelt'!C206","v":0}]
[]
[]
["9. Unfälle"]
[]
[null,"Anzahl Unfallopfer (Verkehrsunfälle)","in Euro"]
[null,"Leichtverletzte",{"$f":"Eingabevariablen!E346*'Hilfsblatt Kostensätze Umwelt'!D219","v":0}]
[null,"Schwerverletzte",{"$f":"Eingabevariablen!E347*'Hilfsblatt Kostensätze Umwelt'!D220","v":0}]
[null,"Todesopfer",{"$f":"Eingabevariablen!E348*'Hilfsblatt Kostensätze Umwelt'!D221","v":0}]
[]
[null,"Anzahl Verkehrsunfälle","in Euro"]
[null,"Strassenverkehrsunfälle generell",{"$f":"Eingabevariablen!E351*'Hilfsblatt Kostensätze Umwelt'!E225","v":0}]
[null,"Unfälle mit Personenwagen",{"$f":"Eingabevariablen!E352*'Hilfsblatt Kostensätze Umwelt'!E226","v":0}]
[null,"Unfälle mit Motorrädern",{"$f":"Eingabevariablen!E353*'Hilfsblatt Kostensätze Umwelt'!E227","v":0}]
[null,"Unfälle mit Güterschwerverkehr",{"$f":"Eingabevariablen!E354*'Hilfsblatt Kostensätze Umwelt'!E228","v":0}]
[null,"Unfälle mit öffentl. Personenverkehr",{"$f":"Eingabevariablen!E355*'Hilfsblatt Kostensätze Umwelt'!E229","v":0}]
[null,"Unfälle mit Fahrrädern",{"$f":"Eingabevariablen!E356*'Hilfsblatt Kostensätze Umwelt'!E230","v":0}]
[null,"Unfälle mit Fussgängern",{"$f":"Eingabevariablen!E357*'Hilfsblatt Kostensätze Umwelt'!E231","v":0}]
[null,"Schienenverkehrsunfälle: Personenverkehr",{"$f":"Eingabevariablen!E358*'Hilfsblatt Kostensätze Umwelt'!E232","v":0}]
[null,"Schienenverkehrsunfälle: Güterverkehr",{"$f":"Eingabevariablen!E359*'Hilfsblatt Kostensätze Umwelt'!E233","v":0}]
[null,"Luftverkehrsunfälle (ohne Grossereignisse)",{"$f":"Eingabevariablen!E360*'Hilfsblatt Kostensätze Umwelt'!E234","v":0}]
[]
[]
[]
[]
["Gesamtübersicht: Ergebnis Umweltkosten / Umweltnutzen"]
[]
["a. Nutzen pro Jahr",null,null,null,null,null,null,null,"b. Gesamtnutzen (-kosten) (bei Landnutzungsänderungen oder Versiegelung)"]
[]
["Nutzen/Kosten aus:","Nutzen (Kosten) in 1.000 Euro","Einheit","gerundet"]
["Luftschadstoffemissionen",{"$f":"-(SUM('Hilfsblatt Ber. Umweltkosten 3'!P16:P33,'Hilfsblatt Ber. Umweltkosten 3'!S16:S29,'Hilfsblatt Ber. Umweltkosten 3'!V16:V21,'Hilfsblatt Ber. Umweltkosten 3'!Y16:Y19,'Hilfsblatt Ber. Umweltkosten 3'!P43:S56,'Hilfsblatt Ber. Umweltkosten 3'!C67:I72)/1000)","v":0},{"$f":"\"1.000 € pro \"&Eingabevariablen!$J$49","v":"1.000 € pro Jahr"},{"$f":"ROUND(B236,-2)","v":0}]
["Treibhausgasemissionen",{"$f":"-(SUM('Hilfsblatt Ber. Umweltkosten 3'!AB16:AB33,'Hilfsblatt Ber. Umweltkosten 3'!AE16:AE29,'Hilfsblatt Ber. Umweltkosten 3'!AH16:AH21,'Hilfsblatt Ber. Umweltkosten 3'!AK16:AK19,'Hilfsblatt Ber. Umweltkosten 3'!AB43:AE56,'Hilfsblatt Ber. Umweltkosten 3'!C82:C85)/1000)","v":0},{"$f":"\"1.000 € pro \"&Eingabevariablen!$J$49","v":"1.000 € pro Jahr"},{"$f":"ROUND(B237,-2)","v":0}]
["Lärmemissionen",{"$f":"-(SUM('Hilfsblatt Ber. Umweltkosten 3'!AN43:AQ56,'Hilfsblatt Ber. Umweltkosten 3'!C95:F103)/1000)","v":0},{"$f":"\"1.000 € pro \"&Eingabevariablen!$J$49","v":"1.000 € pro Jahr"},0,null,null,null,null,"Beeinträchtigung von Ökosystemen:","Nutzen (Kosten) in 1.000 Euro","Einheit"]
["Beeinträchtigung von Ökosystemen",{"$f":"-(SUM('Hilfsblatt Ber. Umweltkosten 3'!AZ43:BC56,'Hilfsblatt Ber. Umweltkosten 3'!C113,'Hilfsblatt Ber. Umweltkosten 3'!G122,'Hilfsblatt Ber. Umweltkosten 3'!C151,'Hilfsblatt Ber. Umweltkosten 3'!C156:C158,'Hilfsblatt Ber. Umweltkosten 3'!D163:D168)/1000)","v":0},{"$f":"\"1.000 € pro \"&Eingabevariablen!$J$49","v":"1.000 € pro Jahr"},0,null,null,null,null,"Versiegelung & Landnutzungsänderung",{"$f":"-ROUND((SUM('Hilfsblatt Ber. Umweltkosten 3'!C112,'Hilfsblatt Ber. Umweltkosten 3'!F122)/1000),-3)","v":0},"1.000 € total"]
["Emission toxischer Stoffe",{"$f":"-(SUM('Hilfsblatt Ber. Umweltkosten 3'!C177:C182,'Hilfsblatt Ber. Umweltkosten 3'!C184:C188)/1000)","v":0},{"$f":"\"1.000 € pro \"&Eingabevariablen!$J$49","v":"1.000 € pro Jahr"},0,null,null,null,null,null,"nicht Jahreskosten, sondern Gesamtkosten"]
["Indirekte Effekte durch vor- und nachgelagerte Prozesse",{"$f":"-(SUM('Hilfsblatt Ber. Umweltkosten 3'!BL16:BL33,'Hilfsblatt Ber. Umweltkosten 3'!BO16:BO29,'Hilfsblatt Ber. Umweltkosten 3'!BR16:BR21,'Hilfsblatt Ber. Umweltkosten 3'!BU16:BU19,'Hilfsblatt Ber. Umweltkosten 3'!BL43:BO56,'Hilfsblatt Ber. Umweltkosten 3'!C196:C206)/1000)","v":0},{"$f":"\"1.000 € pro \"&Eingabevariablen!$J$49","v":"1.000 € pro Jahr"},0]
["Gesamtkosten (-nutzen) Umwelt",{"$f":"SUM(B236:B241)","v":0},"1.000 € pro Jahr",{"$f":"SUM(D236:D241)","v":0}]
["Unfälle",{"$f":"-(SUM(C212:C214,C217:C226)/1000)","v":0},{"$f":"\"1.000 € pro \"&Eingabevariablen!$J$49","v":"1.000 € pro Jahr"},0]
["Total Umwelt und Unfälle",{"$f":"B242+B243","v":0},"1.000 € pro Jahr",{"$f":"D242+D243","v":0}]
["Bemerkung: positives Vorzeichen = Nutzen = Reduktion von Kosten; negatives Vorzeichen = zusätzliche Kosten"]
[]
[]
[]
["Ermittlung Anteil der Betroffenheit (Kosten/Nutzen) der Wirtschaft: Deckelung, Kompensation"]
[]
[]
["1. Luftschadstoffemissionen"]
[]
["Folgen, Kostenbereiche","Konkrete Kosten","Betroffenheit Wirtschaft (qual.)","Anteil Gesamtkosten",null,null,null,null,null,"Quelle","Allokation Anteil Wirtschaft","Anteil Private","Quelle"]
[null,null,null,"Partikel grob PM10","Partikel fein PM2.5","Stickoxide NOx","Schwefeldioxid SO2","Flüchtige KW: NMVOC","Ammoniak NH3"]
["Gesundheitsschäden","Medizinische Behandlungs-kosten, Spitalkosten","Grundsätzlich private Kosten, aber durch Wirtschaft mitfinanziert über Arbeitgeberbeiträge Krankenversicherung",1.2E-2,{"$f":"$D256","v":1.2E-2},{"$f":"$D256","v":1.2E-2},{"$f":"$D256","v":1.2E-2},1.2E-2,1.2E-2,"Ecoplan, ARE 2014: Ext. Kosten Verkehr Schweiz 2010, Basis Strassen-verkehr",{"$f":"7.3/(7.3+7.3+0.9)","v":0.47096774193548385},{"$f":"(7.3+0.9)/(7.3+7.3+0.9)","v":0.52903225806451604},"Aktuelle Beitrags-sätze Arbeitgeber/-nehmer"]
[null,"Produktionsausfälle infolge Krankeiten","Kosten / Nutzen vollständig bei der Wirtschaft ",2.3E-2,{"$f":"$D257","v":2.3E-2},2.3E-2,2.3E-2,2.3E-2,2.3E-2,null,1,0]
[null,"Wiederbesetungskosten bei Unternehmen (Invalidität, Tod)","Kosten / Nutzen vollständig bei der Wirtschaft",3.0000000000000001E-3,3.0000000000000001E-3,3.0000000000000001E-3,3.0000000000000001E-3,3.0000000000000001E-3,3.0000000000000001E-3,null,1,0]
[null,"Immaterielle Kosten (Schmerz, Leid)","Vollständig bei Privaten",0.96199999999999997,0.96199999999999997,0.96199999999999997,0.96199999999999997,0.96199999999999997,0.96199999999999997,null,0,1]
[null,"Total Gesundheitskosten",null,1,1,{"$f":"12600/15400","v":0.81818181818181823},{"$f":"11900/13200","v":0.90151515151515149},{"$f":"1600/1900","v":0.84210526315789469},{"$f":"18200/26900","v":0.67657992565055758},"UBA MK 2.0 (basierend auf IER 2012 bzw. NEEDS)"]
["Gebäude- und Materialschäden","Reinigungskosten, Renovations-kosten von Immobilien","Immobilien im Besitz von Unternehmen (d.h. nicht von Privaten od. dem Staat)",0,0,{"$f":"100/15400","v":6.4935064935064939E-3},{"$f":"500/13200","v":3.787878787878788E-2},0,0,null,0.40799999999999997,0.59199999999999997,"Immobilienstatistik Destatis / Zensus 2011"]
["Ernteausfälle","Entgangene Ernteerträge","Kosten fallen direkt bei der Landwirtschaft an.",0,0,{"$f":"500/15400","v":3.2467532467532464E-2},0,{"$f":"300/1900","v":0.15789473684210525},0,null,1,0]
["Biodiversitätsverluste","Ökosystemschäden, Beeinträchtigung Ökosystem-schäden","Vor allem Private betroffen. Wirtschaft primär indirekt betroffen (über verminderte Ökosystemleistungen).",0,0,{"$f":"2200/15400","v":0.14285714285714285},{"$f":"800/13200","v":6.0606060606060608E-2},0,{"$f":"8700/26900","v":0.32342007434944237},null,0,1,"bisher keine Angaben verfügbar für Anteil Wirtsch."]
[null,null,null,{"$f":"SUM(D260:D263)","v":1},{"$f":"SUM(E260:E263)","v":1},1,1,1,1]
[null,null,null,{"$f":"SUM(D256:D259)","v":1},{"$f":"SUM(E256:E259)","v":1},1,1,1,1]
[]
["Anteil Wirtschaft",null,null,{"$f":"(D256*$K256+D257*$K257+D258*$K258+D259*$K259)*D$260+D261*$K261+D262*$K262+D263*$K263","v":3.1651612903225809E-2},3.1651612903225809E-2,6.1013657310431499E-2,4.3988954056695992E-2,0.18454872665534805,2.1414845904784745E-2]
["Anteil Private",null,null,{"$f":"(D256*$L256+D257*$L257+D258*$L258+D259*$L259)*D$260+D261*$L261+D262*$L262+D263*$L263","v":0.96834838709677418},0.96834838709677418,0.9389863426895686,0.95601104594330399,0.81545127334465184,0.97858515409521529]
["Gesamttotal",null,null,{"$f":"D267+D268","v":1},{"$f":"E267+E268","v":1},1,1,0.99999999999999989,1]
[null,"Mittelwert Energie","Anteil Wirtschaft",{"$f":"0.5*D267+0.3*E267+0.2*F267","v":3.7524021784666947E-2}]
[null,null,"Anteil Private",{"$f":"0.5*D268+0.3*E268+0.2*F268","v":0.96247597821533293}]
[null,"Mittelwert Verkehr","Anteil Wirtschaft",{"$f":"0.5*D267+0.1*E267+0.3*F267+0.1*G267","v":4.1693960340734533E-2}]
[null,null,"Anteil Private",{"$f":"0.5*D268+0.1*E268+0.3*F268+0.1*G268","v":0.95830603965926553}]
[]
[]
[]
["2. Treibhausgasemissionen"]
[]
["Folgen, Kostenbereiche","Konkrete Kosten","Betroffenheit Wirtschaft (qual.)","Anteil Gesamtkosten","Anteil Wirtschaft gerundet","Anteil Private, Staat","Quelle","Anteil Wirtschaft genau"]
["Gesundheitsschäden","Medizinische Behandlungs-kosten, Spitalkosten","Grundsätzlich private Kosten, aber durch Wirtschaft mitfinanziert über Arbeitgeberbeiträge Krankenversicherung","nur gesamthaft zu bestimmen, da Vermeidungskostenansatz.\n-> Abschätzung des Anteils der Schadenskosten, die die Wirtschaft treffen.\nDie Klimaschadenskosten- modelle können Wirtschaftsanteil nicht direkt bestimmen. Aus den Ergebnissen von Stern, FUND, PAGE zeigt sich aber, dass Klimakosten  Wirtschaft und Private gleichmässig treffen, analog zur Wirtschaftsstruktur. Daher Orientierung an Wirtschaftsanteil an der Verwendung von Gütern (aus IOT Volkswirtsch. Gesamtrechnung D)",0.5,{"$f":"1-E280","v":0.5},"Anteil Wirtschaft an Güterverwendung in IOT 2011 (Revision 2014) Deutschlands. \nQuelle: Destatis 2015",0.51800000000000002]
[null,"Produktionsausfälle infolge Krankeiten","Kosten / Nutzen vollständig bei der Wirtschaft "]
[null,"Wiederbesetungskosten bei Unternehmen (Invalidität, Tod)","Kosten / Nutzen vollständig bei der Wirtschaft"]
[null,"Immaterielle Kosten (Schmerz, Leid)","Vollständig bei Privaten"]
["Biodiversitätsverluste","Ökosystemschäden, Beeinträchtigung Ökosystemleistungen","Vor allem Private betroffen. Wirtschaft eher indirekt betroffen."]
["Risiken und Gefahren (Schäden an Infrastrukturen)","Schadenskosten an Infrastrukturen, Investitionen durch Adaptionsmaßnahmen","Wirtschaft direkt betroffen, über ihre Infrastrukturen sowie das erhöhte Risiko. Insbesondere spezifische Branchen wie Verkehr, Tourismus, Landwirtschaft."]
["Einschränkung von Ökosystemleistungen z.B.:\n- Wasserverfügbarkeit\n- Nahrungsmittelproduktion","Schäden für Landwirtschaft, Tourismus; etc."]
[]
[]
[]
["3. Lärmkosten"]
[]
["Folgen, Kostenbereiche","Konkrete Kosten","Betroffenheit Wirtschaft (qual.)","Anteil Gesamtkosten",null,null,null,null,null,"Quelle","Allokation Anteil Wirtschaft","Anteil Private & Staat","Quelle"]
[null,null,null,"Strassenlärm"]
["Gesundheitsschäden","Medizinische Behandlungs-kosten, Spitalkosten","Grundsätzlich private Kosten, aber durch Wirtschaft mitfinanziert über Arbeitgeberbeiträge Krankenversicherung",4.4999999999999998E-2,null,null,null,null,null,"Ecoplan, ARE 2014: Ext. Kosten Verkehr Schweiz 2010, Basis Strassen-verkehr",{"$f":"7.3/(7.3+7.3+0.9)","v":0.47096774193548385},{"$f":"(7.3+0.9)/(7.3+7.3+0.9)","v":0.52903225806451604},"Aktuelle Beitrags-sätze Arbeitgeber/-nehmer"]
[null,"Produktionsausfälle infolge Krankeiten","Kosten / Nutzen vollständig bei der Wirtschaft ",0.01,null,null,null,null,null,null,1,0]
[null,"Wiederbesetungskosten bei Unternehmen (Invalidität, Tod)","Kosten / Nutzen vollständig bei der Wirtschaft",2E-3,null,null,null,null,null,null,1,0]
[null,"Immaterielle Kosten (Schmerz, Leid)","Vollständig bei Privaten",0.94299999999999995,null,null,null,null,null,null,0,1]
[null,"Total Gesundheitskosten",null,0.40899999999999997,null,null,null,null,null,"UBA MK 2.0 (basierend auf IER 2012 bzw. NEEDS)"]
["Verminderte Lebensqualität","Wertverluste von Immobilien","Immobilien im Besitz von Unternehmen (d.h. nicht von Privaten od. dem Staat)",0.59099999999999997,null,null,null,null,null,null,0.40799999999999997,0.59199999999999997,"Immobilienstatistik Destatis / Zensus 2011"]
[]
[]
[null,null,null,{"$f":"SUM(D298:D301)","v":1}]
[null,null,null,{"$f":"SUM(D294:D297)","v":1}]
[]
["Anteil Wirtschaft",null,null,{"$f":"(D294*$K294+D295*$K295+D296*$K296+D297*$K297)*D$298+D299*$K299+D300*$K300+D301*$K301","v":0.25470416129032258}]
["Anteil Private",null,null,{"$f":"(D294*$L294+D295*$L295+D296*$L296+D297*$L297)*D$298+D299*$L299+D300*$L300+D301*$L301","v":0.74529583870967731}]
["Gesamttotal",null,null,{"$f":"D305+D306","v":0.99999999999999989}]
[]
[]
[]
["4. Beeinträchtigung von Ökosystemen"]
[]
["Folgen, Kostenbereiche","Konkrete Kosten","Betroffenheit Wirtschaft (qual.)","Allokation Wirtschaft","Anteil Wirtschaft","Anteil Private, Staat","Quelle"]
["Beeinträchtigung von Ökosystemen","Einschränkung konkreter Ökosystemdienstleistungen, z.B.: \n- Versorgung\n- Regulation\n- Erholung","Die Wirtschaft kann indirekt betroffen sein (bzw. profitieren) über die Einschränkung von (relevanten) Ökosystemleistungen wie z.B.: \n- Verminderten Erholungseffekte: z.B. Tourismusbranche betroffen\n- Eingeschränkte Versorgungleistungen: relevant für Landwirtschaft, Nahrungsmittelbranche","Eine Allokation der Kosten auf die Wirtschaft ist nur dann möglich, wenn die einzelnen Ökosystemleistungen monetarisiert werden können. \n-> Im Moment ist dies nicht der Fall. Evtl. kann dies in Zukunft, wenn weitere wiss. Grundlagen vorliegen, bestimmt werden. \nIm Moment ist Anteil der Wirtschaft damit nicht zu ermitteln.",0,{"$f":"1-E314","v":1}]
[]
[]
[]
["5. Emission toxischer Stoffe"]
[]
["Folgen, Kostenbereiche","Konkrete Kosten","Betroffenheit Wirtschaft (qual.)","Anteil Gesamtkosten",null,null,"Quelle","Allokation Anteil Wirtschaft","Anteil Private & Staat","Quelle"]
[null,null,null,"Luft PM10","Lärm","Mittelwert"]
["Gesundheitsschäden","Medizinische Behandlungs-kosten, Spitalkosten","Grundsätzlich private Kosten, aber durch Wirtschaft mitfinanziert über Arbeitgeberbeiträge Krankenversicherung",{"$f":"D256","v":1.2E-2},{"$f":"D294","v":4.4999999999999998E-2},{"$f":"AVERAGE(D322:E322)","v":2.8499999999999998E-2},"Ecoplan, ARE 2014: Ext. Kosten Verkehr Schweiz 2010, Basis Strassen-verkehr",{"$f":"7.3/(7.3+7.3+0.9)","v":0.47096774193548385},{"$f":"(7.3+0.9)/(7.3+7.3+0.9)","v":0.52903225806451604},"Aktuelle Beitrags-sätze Arbeitgeber/-nehmer"]
[null,"Produktionsausfälle infolge Krankeiten","Kosten / Nutzen vollständig bei der Wirtschaft ",{"$f":"D257","v":2.3E-2},{"$f":"D295","v":0.01},{"$f":"AVERAGE(D323:E323)","v":1.6500000000000001E-2},null,1,0]
[null,"Wiederbesetungskosten bei Unternehmen (Invalidität, Tod)","Kosten / Nutzen vollständig bei der Wirtschaft",{"$f":"D258","v":3.0000000000000001E-3},2E-3,2.5000000000000001E-3,null,1,0]
[null,"Immaterielle Kosten (Schmerz, Leid)","Vollständig bei Privaten",{"$f":"D259","v":0.96199999999999997},0.94299999999999995,0.9524999999999999,null,0,1]
[null,null,null,{"$f":"SUM(D322:D325)","v":1},{"$f":"SUM(E322:E325)","v":1},0.99999999999999989]
["Anteil Wirtschaft",null,null,{"$f":"(F322*$H322+F323*$H323+F324*$H324+F325*$H325)","v":3.2422580645161292E-2}]
["Anteil Private",null,null,{"$f":"(F322*$I322+F323*$I323+F324*$I324+F325*$I325)","v":0.96757741935483865}]
["Gesamttotal",null,null,{"$f":"D327+D328","v":1}]
[]
[]
[]
["6. Indirekte Effekte vor- und nachgelagerte Prozesse"]
[]
["Anteil Kostenbereiche","Anteil an indirekten Kosten","Quelle","Anteil Wirtschaft","Anteil Private & Staat"]
["Anteil Klimakosten",0.92,"Ecoplan, ARE 2014: Ext. Kosten Verkehr Schweiz 2010, Basis Strassenverkehr",{"$f":"E280","v":0.5},{"$f":"1-D336","v":0.5}]
["Anteil Luftschadstoffkosten",{"$f":"1-B336","v":7.999999999999996E-2},null,{"$f":"D267","v":3.1651612903225809E-2},{"$f":"1-D337","v":0.96834838709677418}]
[]
["Anteil Wirtschaft",{"$f":"B336*D336+B337*D337","v":0.4625321290322581}]
["Anteil Private",{"$f":"B336*E336+B337*E337","v":0.53746787096774196}]
["Gesamttotal",{"$f":"B339+B340","v":1}]
[]
[]
[]
["9. Unfälle"]
[]
["Folgen, Kostenbereiche","Konkrete Kosten","Betroffenheit Wirtschaft (qual.)","Anteil Gesamtkosten","Quelle","Allokation Anteil Wirtschaft","Anteil Private & Staat","Quelle"]
[null,null,null,"Strassenverkehr"]
["Gesundheitsschäden","Medizinische Behandlungs-kosten, Spitalkosten","Grundsätzlich private Kosten, aber durch Wirtschaft mitfinanziert über Arbeitgeberbeiträge Krankenversicherung",5.7000000000000002E-2,"Ecoplan, ARE 2014: Ext. Kosten Verkehr Schweiz 2010, Basis Strassenverkehr",{"$f":"7.3/(7.3+7.3+0.9)","v":0.47096774193548385},{"$f":"(7.3+0.9)/(7.3+7.3+0.9)","v":0.52903225806451604},"Aktuelle Beitrags-sätze Arbeitgeber/-nehmer"]
[null,"Produktionsausfälle infolge Krankeiten","Kosten / Nutzen vollständig bei der Wirtschaft ",1.4999999999999999E-2,null,1,0]
[null,"Wiederbesetungskosten bei Unternehmen (Invalidität, Tod)","Kosten / Nutzen vollständig bei der Wirtschaft",1E-3,null,1,0]
[null,"Immaterielle Kosten (Schmerz, Leid)","Vollständig bei Privaten",0.70099999999999996,null,0,1]
["Sachschäden (Versicherungen, Haftpflicht",null,"Grundsätzlich private Kosten, aber durch Wirtschaft mitfinanziert über Versicherg.",0.13300000000000001,null,0.5,{"$f":"1-F353","v":0.5},"je hälftig druch Versicherg. / Wirtschaft und Private getragen"]
["Adminstrativkosten (Versicherungen)",null,"Kosten / Nutzen vollständig bei der Wirtschaft",5.6000000000000001E-2,null,1,0]
["Polizei- und Rechtsfolgekosten",null,"Vollständig bei der öffentl. Hand",3.6999999999999998E-2,null,0,1]
[]
[]
[null,null,null,{"$f":"SUM(D349:D352,D353:D355)","v":1}]
["Anteil Wirtschaft",null,null,{"$f":"(D349*$F349+D350*$F350+D351*$F351+D352*$F352+D353*$F353+D354*$F354+D355*$F355)","v":0.16534516129032259}]
["Anteil Private",null,null,{"$f":"(D349*$G349+D350*$G350+D351*$G351+D352*$G352+D353*$G353+D354*$G354+D355*$G355)","v":0.83465483870967738}]
["Gesamttotal",null,null,{"$f":"D359+D360","v":1}]
[]
[]
[]
[]
["OIOO-differenzierte Ergebnisse: Umweltkosten / Umweltnutzen Wirschaft (Deckelung) vs. Andere Kosten/Nutzen"]
[]
["a. Nutzen (Kosten) pro Jahr",null,null,null,null,null,null,"b. Nutzen (Kosten) pro Jahr gerundet"]
[null,"Nutzen (Kosten) in 1.000 Euro",null,null,null,null,null,null,"Nutzen (Kosten) in 1.000 Euro"]
["Nutzen/Kosten aus:","Wirtschaft: Deckelung","Private, Staat etc: Andere Kosten/Nutzen","Einheit","Check Total","Anteil Wirtschaft (Deckelung) in %",null,"Nutzen/Kosten aus:","Wirtschaft: Deckelung","Private, Staat etc: Andere Kosten/Nutzen","Total","Einheit","Check Total"]
["Luftschadstoffemissionen",{"$f":"-((SUM('Hilfsblatt Ber. Umweltkosten 3'!P16:P33,'Hilfsblatt Ber. Umweltkosten 3'!S16:S29,'Hilfsblatt Ber. Umweltkosten 3'!V16:V21,'Hilfsblatt Ber. Umweltkosten 3'!Y16:Y19)*$D$270+SUM('Hilfsblatt Ber. Umweltkosten 3'!P43:S56)*$D$272+(J67*D267+J68*E267+J69*F267+J70*G267+J71*H267+J72*I267))/1000)","v":0},{"$f":"-((SUM('Hilfsblatt Ber. Umweltkosten 3'!P16:P33,'Hilfsblatt Ber. Umweltkosten 3'!S16:S29,'Hilfsblatt Ber. Umweltkosten 3'!V16:V21,'Hilfsblatt Ber. Umweltkosten 3'!Y16:Y19)*$D$271+SUM('Hilfsblatt Ber. Umweltkosten 3'!P43:S56)*$D$273+(J67*D268+J68*E268+J69*F268+J70*G268+J71*H268+J72*I268))/1000)","v":0},{"$f":"\"1.000 € pro \"&Eingabevariablen!$J$49","v":"1.000 € pro Jahr"},{"$f":"B371+C371-B236","v":0},{"$f":"B371/B236","v":{"$error":"#DIV/0!"}},null,"Luftschadstoffemissionen",{"$f":"ROUND(B371,-2)","v":0},{"$f":"ROUND(C371,-2)","v":0},{"$f":"I371+J371","v":0},{"$f":"\"1.000 € pro \"&Eingabevariablen!$J$49","v":"1.000 € pro Jahr"},{"$f":"I371+J371-D236","v":0}]
["Treibhausgasemissionen",{"$f":"-((SUM('Hilfsblatt Ber. Umweltkosten 3'!AB16:AB33,'Hilfsblatt Ber. Umweltkosten 3'!AE16:AE29,'Hilfsblatt Ber. Umweltkosten 3'!AH16:AH21,'Hilfsblatt Ber. Umweltkosten 3'!AK16:AK19)*E280+SUM('Hilfsblatt Ber. Umweltkosten 3'!AB43:AE56)*E280+SUM('Hilfsblatt Ber. Umweltkosten 3'!C82:C85)*E280)/1000)","v":0},{"$f":"-((SUM('Hilfsblatt Ber. Umweltkosten 3'!AB16:AB33,'Hilfsblatt Ber. Umweltkosten 3'!AE16:AE29,'Hilfsblatt Ber. Umweltkosten 3'!AH16:AH21,'Hilfsblatt Ber. Umweltkosten 3'!AK16:AK19)*F280+SUM('Hilfsblatt Ber. Umweltkosten 3'!AB43:AE56)*F280+SUM('Hilfsblatt Ber. Umweltkosten 3'!C82:C85)*F280)/1000)","v":0},{"$f":"\"1.000 € pro \"&Eingabevariablen!$J$49","v":"1.000 € pro Jahr"},0,{"$error":"#DIV/0!"},null,"Treibhausgasemissionen",{"$f":"ROUND(B372,-2)","v":0},0,{"$f":"I372+J372","v":0},{"$f":"\"1.000 € pro \"&Eingabevariablen!$J$49","v":"1.000 € pro Jahr"},0]
["Lärmemissionen",{"$f":"-((SUM('Hilfsblatt Ber. Umweltkosten 3'!AN43:AQ56)*D305+SUM('Hilfsblatt Ber. Umweltkosten 3'!C95:F103)*D305)/1000)","v":0},{"$f":"-((SUM('Hilfsblatt Ber. Umweltkosten 3'!AN43:AQ56)*D306+SUM('Hilfsblatt Ber. Umweltkosten 3'!C95:F103)*D306)/1000)","v":0},{"$f":"\"1.000 € pro \"&Eingabevariablen!$J$49","v":"1.000 € pro Jahr"},0,{"$error":"#DIV/0!"},null,"Lärmemissionen",0,0,0,{"$f":"\"1.000 € pro \"&Eingabevariablen!$J$49","v":"1.000 € pro Jahr"},0]
["Beeinträchtigung von Ökosystemen",{"$f":"-((SUM('Hilfsblatt Ber. Umweltkosten 3'!AZ43:BC56)*E314+SUM('Hilfsblatt Ber. Umweltkosten 3'!C113,'Hilfsblatt Ber. Umweltkosten 3'!G122,'Hilfsblatt Ber. Umweltkosten 3'!C151,'Hilfsblatt Ber. Umweltkosten 3'!C156:C158,'Hilfsblatt Ber. Umweltkosten 3'!D163:D168)*E314)/1000)","v":0},{"$f":"-((SUM('Hilfsblatt Ber. Umweltkosten 3'!AZ43:BC56)*F314+SUM('Hilfsblatt Ber. Umweltkosten 3'!C113,'Hilfsblatt Ber. Umweltkosten 3'!G122,'Hilfsblatt Ber. Umweltkosten 3'!C151,'Hilfsblatt Ber. Umweltkosten 3'!C156:C158,'Hilfsblatt Ber. Umweltkosten 3'!D163:D168)*F314)/1000)","v":0},{"$f":"\"1.000 € pro \"&Eingabevariablen!$J$49","v":"1.000 € pro Jahr"},0,{"$error":"#DIV/0!"},null,"Beeinträchtigung von Ökosystemen",0,0,0,{"$f":"\"1.000 € pro \"&Eingabevariablen!$J$49","v":"1.000 € pro Jahr"},0]
["Emission toxischer Stoffe",{"$f":"-(SUM('Hilfsblatt Ber. Umweltkosten 3'!C177:C182,'Hilfsblatt Ber. Umweltkosten 3'!C184:C188)*D327/1000)","v":0},{"$f":"-(SUM('Hilfsblatt Ber. Umweltkosten 3'!C177:C182,'Hilfsblatt Ber. Umweltkosten 3'!C184:C188)*D328/1000)","v":0},{"$f":"\"1.000 € pro \"&Eingabevariablen!$J$49","v":"1.000 € pro Jahr"},0,{"$error":"#DIV/0!"},null,"Emission toxischer Stoffe",0,0,0,{"$f":"\"1.000 € pro \"&Eingabevariablen!$J$49","v":"1.000 € pro Jahr"},0]
["Indirekte Effekte durch vor- und nachgelagerte Prozesse",{"$f":"-((SUM('Hilfsblatt Ber. Umweltkosten 3'!BL16:BL33,'Hilfsblatt Ber. Umweltkosten 3'!BO16:BO29,'Hilfsblatt Ber. Umweltkosten 3'!BR16:BR21,'Hilfsblatt Ber. Umweltkosten 3'!BU16:BU19)*B339+SUM('Hilfsblatt Ber. Umweltkosten 3'!BL43:BO56)*B339+C196*D267+C197*E267+C198*F267+C199*G267+C200*H267+C201*I267+SUM('Hilfsblatt Ber. Umweltkosten 3'!C202:C205)*E280+C206*E314)/1000)","v":0},{"$f":"-((SUM('Hilfsblatt Ber. Umweltkosten 3'!BL16:BL33,'Hilfsblatt Ber. Umweltkosten 3'!BO16:BO29,'Hilfsblatt Ber. Umweltkosten 3'!BR16:BR21,'Hilfsblatt Ber. Umweltkosten 3'!BU16:BU19)*B340+SUM('Hilfsblatt Ber. Umweltkosten 3'!BL43:BO56)*B340+C196*D268+C197*E268+C198*F268+C199*G268+C200*H268+C201*I268+SUM('Hilfsblatt Ber. Umweltkosten 3'!C202:C205)*F280+C206*F314)/1000)","v":0},{"$f":"\"1.000 € pro \"&Eingabevariablen!$J$49","v":"1.000 € pro Jahr"},0,{"$error":"#DIV/0!"},null,"Indirekte Effekte durch vor- und nachgelagerte Prozesse",0,0,0,{"$f":"\"1.000 € pro \"&Eingabevariablen!$J$49","v":"1.000 € pro Jahr"},0]
["Gesamtnutzen (-kosten) Umwelt",{"$f":"SUM(B371:B376)","v":0},{"$f":"SUM(C371:C376)","v":0},"1.000 € pro Jahr",0,{"$error":"#DIV/0!"},null,"Gesamtnutzen (-kosten) Umwelt",{"$f":"SUM(I371:I376)","v":0},{"$f":"SUM(J371:J376)","v":0},{"$f":"SUM(K371:K376)","v":0},"1.000 € pro Jahr",0]
["Unfälle",{"$f":"-(SUM(C212:C214,C217:C226)*$D$359/1000)","v":0},{"$f":"-(SUM(C212:C214,C217:C226)*$D$360/1000)","v":0},{"$f":"\"1.000 € pro \"&Eingabevariablen!$J$49","v":"1.000 € pro Jahr"},0,{"$error":"#DIV/0!"},null,"Unfälle",{"$f":"ROUND(B378,-2)","v":0},0,{"$f":"I378+J378","v":0},{"$f":"\"1.000 € pro \"&Eingabevariablen!$J$49","v":"1.000 € pro Jahr"},0]
["Total Umwelt und Unfälle",{"$f":"B377+B378","v":0},{"$f":"C377+C378","v":0},"1.000 € pro Jahr",0,{"$error":"#DIV/0!"},null,"Total Umwelt und Unfälle",{"$f":"I377+I378","v":0},{"$f":"J377+J378","v":0},{"$f":"K377+K378","v":0},"1.000 € pro Jahr",0]
["Bemerkung: positives Vorzeichen = Nutzen = Reduktion von Kosten; negatives Vorzeichen = zusätzliche Kosten",null,null,null,null,null,null,"Bemerkung: positives Vorzeichen = Nutzen = Reduktion von Kosten; negatives Vorzeichen = zusätzliche Kosten"]
[]
[]
[]
["Ende des Berechnungsblattes"]

{"sheet":"Hilfsblatt Ber. Wirtsch Wirk 1","index":14,"n_rows":381,"n_cols":25,"rows_kept":381,"cut":false,"hidden":false,"merged":[[101,4,101,6],[101,8,101,10],[101,14,101,16],[200,4,200,18],[201,4,201,6],[201,8,201,10],[201,14,201,16],[0,4,0,18],[1,4,1,6],[1,8,1,10],[1,14,1,16],[100,4,100,18]]}
[null,null,{"$f":"Eingabevariablen!B7","v":0},null,"Wertschöpfung",null,null,null,null,null,null,null,null,null,null,null,null,null,null,"Arbeitsentgelte","Erwerbstätige","Sozialversicherungs-einnahmen","Produktsteuern"]
[null,null,null,null,"Produktionskosten",null,null,null,"Nachfrageänderungen",null,null,null,null,null,"Treibstoffverbrauch und Verkehrsmenge",null,null,"Konsumverlagerung"]
[null,null,null,{"$f":"Eingabevariablen!$A$23","v":"Branche 1"},{"$f":"Eingabevariablen!$A$24","v":"Branche 2"},{"$f":"Eingabevariablen!$A$25","v":"Branche 3"},{"$f":"Eingabevariablen!$A$26","v":"Branche 4"},{"$f":"Eingabevariablen!$A$27","v":"Branche 5"},{"$f":"Eingabevariablen!$A$31","v":"Branche 6"},{"$f":"Eingabevariablen!$A$32","v":"Branche 7"},{"$f":"Eingabevariablen!$A$33","v":"Branche 8"},{"$f":"Eingabevariablen!$A$34","v":"Branche 9"},{"$f":"Eingabevariablen!$A$35","v":"Branche 10"},"Treibstoff","Benzin ","Diesel","Verkehrsmenge","Alle Branchen ","Gesamt",null,null,null,null,null,"Gesamt (absolut)"]
[null,null,"Ausgangsbranche",{"$f":"Eingabevariablen!B23","v":0},{"$f":"Eingabevariablen!B24","v":0},{"$f":"Eingabevariablen!B25","v":0},{"$f":"Eingabevariablen!B26","v":0},{"$f":"Eingabevariablen!B27","v":0},{"$f":"Eingabevariablen!B31","v":0},{"$f":"Eingabevariablen!B32","v":0},{"$f":"Eingabevariablen!B33","v":0},{"$f":"Eingabevariablen!B34","v":0},{"$f":"Eingabevariablen!B35","v":0},"Mineralölerzeugnisse ","Mineralölerzeugnisse ","Mineralölerzeugnisse ","Mineralölerzeugnisse "]
[null,null,"Ausgangsbranche (in zusammengefassten Branchen)",{"$f":"IFERROR((VLOOKUP(D4,'Hilfsblatt Ber. Wirtsch Wirk 4'!$A$23:$B$107,2,FALSE)),\"\")","v":""},{"$f":"IFERROR((VLOOKUP(E4,'Hilfsblatt Ber. Wirtsch Wirk 4'!$A$23:$B$107,2,FALSE)),\"\")","v":""},{"$f":"IFERROR((VLOOKUP(F4,'Hilfsblatt Ber. Wirtsch Wirk 4'!$A$23:$B$107,2,FALSE)),\"\")","v":""},{"$f":"IFERROR((VLOOKUP(G4,'Hilfsblatt Ber. Wirtsch Wirk 4'!$A$23:$B$107,2,FALSE)),\"\")","v":""},{"$f":"IFERROR((VLOOKUP(H4,'Hilfsblatt Ber. Wirtsch Wirk 4'!$A$23:$B$107,2,FALSE)),\"\")","v":""},{"$f":"IFERROR((VLOOKUP(I4,'Hilfsblatt Ber. Wirtsch Wirk 4'!$A$23:$B$107,2,FALSE)),\"\")","v":""},{"$f":"IFERROR((VLOOKUP(J4,'Hilfsblatt Ber. Wirtsch Wirk 4'!$A$23:$B$107,2,FALSE)),\"\")","v":""},{"$f":"IFERROR((VLOOKUP(K4,'Hilfsblatt Ber. Wirtsch Wirk 4'!$A$23:$B$107,2,FALSE)),\"\")","v":""},{"$f":"IFERROR((VLOOKUP(L4,'Hilfsblatt Ber. Wirtsch Wirk 4'!$A$23:$B$107,2,FALSE)),\"\")","v":""},{"$f":"IFERROR((VLOOKUP(M4,'Hilfsblatt Ber. Wirtsch Wirk 4'!$A$23:$B$107,2,FALSE)),\"\")","v":""},"Kokerei- und Mineralölerzeugnisse","Kokerei- und Mineralölerzeugnisse","Kokerei- und Mineralölerzeugnisse","Kokerei- und Mineralölerzeugnisse"]
[null,null,"Herstellungskosten",{"$f":"Eingabevariablen!C23*(Eingabevariablen!F23)","v":0},{"$f":"Eingabevariablen!C24*(Eingabevariablen!F24)","v":0},{"$f":"Eingabevariablen!C25*(Eingabevariablen!F25)","v":0},{"$f":"Eingabevariablen!C26*(Eingabevariablen!F26)","v":0},{"$f":"Eingabevariablen!C27*(Eingabevariablen!F27)","v":0},{"$f":"Eingabevariablen!$C31","v":0},{"$f":"Eingabevariablen!$C32","v":0},{"$f":"Eingabevariablen!$C33","v":0},{"$f":"Eingabevariablen!$C34","v":0},{"$f":"Eingabevariablen!$C35","v":0},{"$f":"Eingabevariablen!B38*Eingabevariablen!E38","v":0},{"$f":"Eingabevariablen!B39*Eingabevariablen!E39","v":0},{"$f":"Eingabevariablen!B40*Eingabevariablen!E40","v":0},{"$f":"Eingabevariablen!B41*'Hilfsblatt Ber. Wirtsch Wirk 4'!B3*Eingabevariablen!E41","v":0},{"$f":"(1-'Hilfsblatt Ber. Wirtsch Wirk 4'!B8)*(-SUM(D6:Q6)-Eingabevariablen!B45+SUM(D7:Q7))","v":0}]
[null,null,"Produktsteuern",{"$f":"IFERROR((D6*VLOOKUP(D4,'Hilfsblatt Ber. Wirtsch Wirk 2'!$C14:$BU99,70,FALSE)/VLOOKUP(D4,'Hilfsblatt Ber. Wirtsch Wirk 2'!$C14:$BU99,71,FALSE)),0)","v":0},{"$f":"IFERROR((E6*VLOOKUP(E4,'Hilfsblatt Ber. Wirtsch Wirk 2'!$C14:$BU99,70,FALSE)/VLOOKUP(E4,'Hilfsblatt Ber. Wirtsch Wirk 2'!$C14:$BU99,71,FALSE)),0)","v":0},{"$f":"IFERROR((F6*VLOOKUP(F4,'Hilfsblatt Ber. Wirtsch Wirk 2'!$C14:$BU99,70,FALSE)/VLOOKUP(F4,'Hilfsblatt Ber. Wirtsch Wirk 2'!$C14:$BU99,71,FALSE)),0)","v":0},{"$f":"IFERROR((G6*VLOOKUP(G4,'Hilfsblatt Ber. Wirtsch Wirk 2'!$C14:$BU99,70,FALSE)/VLOOKUP(G4,'Hilfsblatt Ber. Wirtsch Wirk 2'!$C14:$BU99,71,FALSE)),0)","v":0},{"$f":"IFERROR((H6*VLOOKUP(H4,'Hilfsblatt Ber. Wirtsch Wirk 2'!$C14:$BU99,70,FALSE)/VLOOKUP(H4,'Hilfsblatt Ber. Wirtsch Wirk 2'!$C14:$BU99,71,FALSE)),0)","v":0},{"$f":"IFERROR((I6*VLOOKUP(I4,'Hilfsblatt Ber. Wirtsch Wirk 2'!$C14:$BU99,70,FALSE)/VLOOKUP(I4,'Hilfsblatt Ber. Wirtsch Wirk 2'!$C14:$BU99,71,FALSE)),0)","v":0},{"$f":"IFERROR((J6*VLOOKUP(J4,'Hilfsblatt Ber. Wirtsch Wirk 2'!$C14:$BU99,70,FALSE)/VLOOKUP(J4,'Hilfsblatt Ber. Wirtsch Wirk 2'!$C14:$BU99,71,FALSE)),0)","v":0},{"$f":"IFERROR((K6*VLOOKUP(K4,'Hilfsblatt Ber. Wirtsch Wirk 2'!$C14:$BU99,70,FALSE)/VLOOKUP(K4,'Hilfsblatt Ber. Wirtsch Wirk 2'!$C14:$BU99,71,FALSE)),0)","v":0},{"$f":"IFERROR((L6*VLOOKUP(L4,'Hilfsblatt Ber. Wirtsch Wirk 2'!$C14:$BU99,70,FALSE)/VLOOKUP(L4,'Hilfsblatt Ber. Wirtsch Wirk 2'!$C14:$BU99,71,FALSE)),0)","v":0},{"$f":"IFERROR((M6*VLOOKUP(M4,'Hilfsblatt Ber. Wirtsch Wirk 2'!$C14:$BU99,70,FALSE)/VLOOKUP(M4,'Hilfsblatt Ber. Wirtsch Wirk 2'!$C14:$BU99,71,FALSE)),0)","v":0},{"$f":"N6*VLOOKUP(N4,'Hilfsblatt Ber. Wirtsch Wirk 2'!$C14:$BU99,70,FALSE)/VLOOKUP(N4,'Hilfsblatt Ber. Wirtsch Wirk 2'!$C14:$BU99,71,FALSE)","v":0},{"$f":"O6*VLOOKUP(O4,'Hilfsblatt Ber. Wirtsch Wirk 2'!$C14:$BU99,70,FALSE)/VLOOKUP(O4,'Hilfsblatt Ber. Wirtsch Wirk 2'!$C14:$BU99,71,FALSE)","v":0},{"$f":"P6*VLOOKUP(P4,'Hilfsblatt Ber. Wirtsch Wirk 2'!$C14:$BU99,70,FALSE)/VLOOKUP(P4,'Hilfsblatt Ber. Wirtsch Wirk 2'!$C14:$BU99,71,FALSE)","v":0},{"$f":"Q6*VLOOKUP(Q4,'Hilfsblatt Ber. Wirtsch Wirk 2'!$C14:$BU99,70,FALSE)/VLOOKUP(Q4,'Hilfsblatt Ber. Wirtsch Wirk 2'!$C14:$BU99,71,FALSE)","v":0}]
[]
[null,null,"Alle Branchen",{"$f":"SUM(D10:D81)","v":0},0,0,0,0,0,0,0,0,0,0,0,0,0,0,0,0,0,0,0,null,{"$f":"ABS($S9)","v":0}]
[5,{"$f":"'Hilfsblatt Ber. Wirtsch Wirk 3'!B15","v":"01"},{"$f":"'Hilfsblatt Ber. Wirtsch Wirk 3'!C15","v":"Erzeugnisse der Landwirtschaft, Jagd und Dienstleistungen"},{"$f":"IFERROR((D$6*(HLOOKUP(D$5,'Hilfsblatt Ber. Wirtsch Wirk 3'!$D$11:$BW$96,$A10,FALSE)+IF(D$5=$C10,HLOOKUP(D$5,'Hilfsblatt Ber. Wirtsch Wirk 3'!$D$11:$BX$96,87,FALSE),0))/100),0)","v":0},{"$f":"IFERROR((E$6*(HLOOKUP(E$5,'Hilfsblatt Ber. Wirtsch Wirk 3'!$D$11:$BW$96,$A10,FALSE)+IF(E$5=$C10,HLOOKUP(E$5,'Hilfsblatt Ber. Wirtsch Wirk 3'!$D$11:$BX$96,87,FALSE),0))/100),0)","v":0},{"$f":"IFERROR((F$6*(HLOOKUP(F$5,'Hilfsblatt Ber. Wirtsch Wirk 3'!$D$11:$BW$96,$A10,FALSE)+IF(F$5=$C10,HLOOKUP(F$5,'Hilfsblatt Ber. Wirtsch Wirk 3'!$D$11:$BX$96,87,FALSE),0))/100),0)","v":0},{"$f":"IFERROR((G$6*(HLOOKUP(G$5,'Hilfsblatt Ber. Wirtsch Wirk 3'!$D$11:$BW$96,$A10,FALSE)+IF(G$5=$C10,HLOOKUP(G$5,'Hilfsblatt Ber. Wirtsch Wirk 3'!$D$11:$BX$96,87,FALSE),0))/100),0)","v":0},{"$f":"IFERROR((H$6*(HLOOKUP(H$5,'Hilfsblatt Ber. Wirtsch Wirk 3'!$D$11:$BW$96,$A10,FALSE)+IF(H$5=$C10,HLOOKUP(H$5,'Hilfsblatt Ber. Wirtsch Wirk 3'!$D$11:$BX$96,87,FALSE),0))/100),0)","v":0},{"$f":"IFERROR((I$6*(HLOOKUP(I$5,'Hilfsblatt Ber. Wirtsch Wirk 3'!$D$11:$BW$96,$A10,FALSE)+IF(I$5=$C10,HLOOKUP(I$5,'Hilfsblatt Ber. Wirtsch Wirk 3'!$D$11:$BX$96,87,FALSE),0))/100),0)","v":0},{"$f":"IFERROR((J$6*(HLOOKUP(J$5,'Hilfsblatt Ber. Wirtsch Wirk 3'!$D$11:$BW$96,$A10,FALSE)+IF(J$5=$C10,HLOOKUP(J$5,'Hilfsblatt Ber. Wirtsch Wirk 3'!$D$11:$BX$96,87,FALSE),0))/100),0)","v":0},{"$f":"IFERROR((K$6*(HLOOKUP(K$5,'Hilfsblatt Ber. Wirtsch Wirk 3'!$D$11:$BW$96,$A10,FALSE)+IF(K$5=$C10,HLOOKUP(K$5,'Hilfsblatt Ber. Wirtsch Wirk 3'!$D$11:$BX$96,87,FALSE),0))/100),0)","v":0},{"$f":"IFERROR((L$6*(HLOOKUP(L$5,'Hilfsblatt Ber. Wirtsch Wirk 3'!$D$11:$BW$96,$A10,FALSE)+IF(L$5=$C10,HLOOKUP(L$5,'Hilfsblatt Ber. Wirtsch Wirk 3'!$D$11:$BX$96,87,FALSE),0))/100),0)","v":0},{"$f":"IFERROR((M$6*(HLOOKUP(M$5,'Hilfsblatt Ber. Wirtsch Wirk 3'!$D$11:$BW$96,$A10,FALSE)+IF(M$5=$C10,HLOOKUP(M$5,'Hilfsblatt Ber. Wirtsch Wirk 3'!$D$11:$BX$96,87,FALSE),0))/100),0)","v":0},{"$f":"IFERROR((N$6*(HLOOKUP(N$5,'Hilfsblatt Ber. Wirtsch Wirk 3'!$D$11:$BW$96,$A10,FALSE)+IF(N$5=$C10,HLOOKUP(N$5,'Hilfsblatt Ber. Wirtsch Wirk 3'!$D$11:$BX$96,87,FALSE),0))/100),0)","v":0},{"$f":"IFERROR((O$6*(HLOOKUP(O$5,'Hilfsblatt Ber. Wirtsch Wirk 3'!$D$11:$BW$96,$A10,FALSE)+IF(O$5=$C10,HLOOKUP(O$5,'Hilfsblatt Ber. Wirtsch Wirk 3'!$D$11:$BX$96,87,FALSE),0))/100),0)","v":0},{"$f":"IFERROR((P$6*(HLOOKUP(P$5,'Hilfsblatt Ber. Wirtsch Wirk 3'!$D$11:$BW$96,$A10,FALSE)+IF(P$5=$C10,HLOOKUP(P$5,'Hilfsblatt Ber. Wirtsch Wirk 3'!$D$11:$BX$96,87,FALSE),0))/100),0)","v":0},{"$f":"IFERROR((Q$6*(HLOOKUP(Q$5,'Hilfsblatt Ber. Wirtsch Wirk 3'!$D$11:$BW$96,$A10,FALSE)+IF(Q$5=$C10,HLOOKUP(Q$5,'Hilfsblatt Ber. Wirtsch Wirk 3'!$D$11:$BX$96,87,FALSE),0))/100),0)","v":0},{"$f":"R$6*('Hilfsblatt Ber. Wirtsch Wirk 3'!BX15+'Hilfsblatt Ber. Wirtsch Wirk 3'!BX15*'Hilfsblatt Ber. Wirtsch Wirk 3'!CA15/'Hilfsblatt Ber. Wirtsch Wirk 3'!CB15)/100","v":0},{"$f":"SUM(D10:R10)","v":0},{"$f":"S10*'Hilfsblatt Ber. Wirtsch Wirk 3'!BZ15/('Hilfsblatt Ber. Wirtsch Wirk 3'!CA15)","v":0},{"$f":"S10/'Hilfsblatt Ber. Wirtsch Wirk 3'!CC15","v":0},{"$f":"T10*('Hilfsblatt Ber. Wirtsch Wirk 4'!B$14/'Hilfsblatt Ber. Wirtsch Wirk 4'!B$13)","v":0},{"$f":"S10*'Hilfsblatt Ber. Wirtsch Wirk 3'!CD15","v":0},null,0]
[6,{"$f":"'Hilfsblatt Ber. Wirtsch Wirk 3'!B16","v":"02"},{"$f":"'Hilfsblatt Ber. Wirtsch Wirk 3'!C16","v":"Forstwirtschaftliche Erzeugnisse und Dienstleistungen"},{"$f":"IFERROR((D$6*(HLOOKUP(D$5,'Hilfsblatt Ber. Wirtsch Wirk 3'!$D$11:$BW$96,$A11,FALSE)+IF(D$5=$C11,HLOOKUP(D$5,'Hilfsblatt Ber. Wirtsch Wirk 3'!$D$11:$BX$96,87,FALSE),0))/100),0)","v":0},{"$f":"IFERROR((E$6*(HLOOKUP(E$5,'Hilfsblatt Ber. Wirtsch Wirk 3'!$D$11:$BW$96,$A11,FALSE)+IF(E$5=$C11,HLOOKUP(E$5,'Hilfsblatt Ber. Wirtsch Wirk 3'!$D$11:$BX$96,87,FALSE),0))/100),0)","v":0},{"$f":"IFERROR((F$6*(HLOOKUP(F$5,'Hilfsblatt Ber. Wirtsch Wirk 3'!$D$11:$BW$96,$A11,FALSE)+IF(F$5=$C11,HLOOKUP(F$5,'Hilfsblatt Ber. Wirtsch Wirk 3'!$D$11:$BX$96,87,FALSE),0))/100),0)","v":0},{"$f":"IFERROR((G$6*(HLOOKUP(G$5,'Hilfsblatt Ber. Wirtsch Wirk 3'!$D$11:$BW$96,$A11,FALSE)+IF(G$5=$C11,HLOOKUP(G$5,'Hilfsblatt Ber. Wirtsch Wirk 3'!$D$11:$BX$96,87,FALSE),0))/100),0)","v":0},{"$f":"IFERROR((H$6*(HLOOKUP(H$5,'Hilfsblatt Ber. Wirtsch Wirk 3'!$D$11:$BW$96,$A11,FALSE)+IF(H$5=$C11,HLOOKUP(H$5,'Hilfsblatt Ber. Wirtsch Wirk 3'!$D$11:$BX$96,87,FALSE),0))/100),0)","v":0},{"$f":"IFERROR((I$6*(HLOOKUP(I$5,'Hilfsblatt Ber. Wirtsch Wirk 3'!$D$11:$BW$96,$A11,FALSE)+IF(I$5=$C11,HLOOKUP(I$5,'Hilfsblatt Ber. Wirtsch Wirk 3'!$D$11:$BX$96,87,FALSE),0))/100),0)","v":0},{"$f":"IFERROR((J$6*(HLOOKUP(J$5,'Hilfsblatt Ber. Wirtsch Wirk 3'!$D$11:$BW$96,$A11,FALSE)+IF(J$5=$C11,HLOOKUP(J$5,'Hilfsblatt Ber. Wirtsch Wirk 3'!$D$11:$BX$96,87,FALSE),0))/100),0)","v":0},{"$f":"IFERROR((K$6*(HLOOKUP(K$5,'Hilfsblatt Ber. Wirtsch Wirk 3'!$D$11:$BW$96,$A11,FALSE)+IF(K$5=$C11,HLOOKUP(K$5,'Hilfsblatt Ber. Wirtsch Wirk 3'!$D$11:$BX$96,87,FALSE),0))/100),0)","v":0},{"$f":"IFERROR((L$6*(HLOOKUP(L$5,'Hilfsblatt Ber. Wirtsch Wirk 3'!$D$11:$BW$96,$A11,FALSE)+IF(L$5=$C11,HLOOKUP(L$5,'Hilfsblatt Ber. Wirtsch Wirk 3'!$D$11:$BX$96,87,FALSE),0))/100),0)","v":0},{"$f":"IFERROR((M$6*(HLOOKUP(M$5,'Hilfsblatt Ber. Wirtsch Wirk 3'!$D$11:$BW$96,$A11,FALSE)+IF(M$5=$C11,HLOOKUP(M$5,'Hilfsblatt Ber. Wirtsch Wirk 3'!$D$11:$BX$96,87,FALSE),0))/100),0)","v":0},{"$f":"IFERROR((N$6*(HLOOKUP(N$5,'Hilfsblatt Ber. Wirtsch Wirk 3'!$D$11:$BW$96,$A11,FALSE)+IF(N$5=$C11,HLOOKUP(N$5,'Hilfsblatt Ber. Wirtsch Wirk 3'!$D$11:$BX$96,87,FALSE),0))/100),0)","v":0},{"$f":"IFERROR((O$6*(HLOOKUP(O$5,'Hilfsblatt Ber. Wirtsch Wirk 3'!$D$11:$BW$96,$A11,FALSE)+IF(O$5=$C11,HLOOKUP(O$5,'Hilfsblatt Ber. Wirtsch Wirk 3'!$D$11:$BX$96,87,FALSE),0))/100),0)","v":0},{"$f":"IFERROR((P$6*(HLOOKUP(P$5,'Hilfsblatt Ber. Wirtsch Wirk 3'!$D$11:$BW$96,$A11,FALSE)+IF(P$5=$C11,HLOOKUP(P$5,'Hilfsblatt Ber. Wirtsch Wirk 3'!$D$11:$BX$96,87,FALSE),0))/100),0)","v":0},{"$f":"IFERROR((Q$6*(HLOOKUP(Q$5,'Hilfsblatt Ber. Wirtsch Wirk 3'!$D$11:$BW$96,$A11,FALSE)+IF(Q$5=$C11,HLOOKUP(Q$5,'Hilfsblatt Ber. Wirtsch Wirk 3'!$D$11:$BX$96,87,FALSE),0))/100),0)","v":0},{"$f":"R$6*('Hilfsblatt Ber. Wirtsch Wirk 3'!BX16+'Hilfsblatt Ber. Wirtsch Wirk 3'!BX16*'Hilfsblatt Ber. Wirtsch Wirk 3'!CA16/'Hilfsblatt Ber. Wirtsch Wirk 3'!CB16)/100","v":0},{"$f":"SUM(D11:R11)","v":0},{"$f":"S11*'Hilfsblatt Ber. Wirtsch Wirk 3'!BZ16/('Hilfsblatt Ber. Wirtsch Wirk 3'!CA16)","v":0},{"$f":"S11/'Hilfsblatt Ber. Wirtsch Wirk 3'!CC16","v":0},{"$f":"T11*('Hilfsblatt Ber. Wirtsch Wirk 4'!B$14/'Hilfsblatt Ber. Wirtsch Wirk 4'!B$13)","v":0},{"$f":"S11*'Hilfsblatt Ber. Wirtsch Wirk 3'!CD16","v":0},null,0]
[7,{"$f":"'Hilfsblatt Ber. Wirtsch Wirk 3'!B17","v":"03"},{"$f":"'Hilfsblatt Ber. Wirtsch Wirk 3'!C17","v":"Fische, Fischerei- und Aquakulturerzeugnisse"},{"$f":"IFERROR((D$6*(HLOOKUP(D$5,'Hilfsblatt Ber. Wirtsch Wirk 3'!$D$11:$BW$96,$A12,FALSE)+IF(D$5=$C12,HLOOKUP(D$5,'Hilfsblatt Ber. Wirtsch Wirk 3'!$D$11:$BX$96,87,FALSE),0))/100),0)","v":0},{"$f":"IFERROR((E$6*(HLOOKUP(E$5,'Hilfsblatt Ber. Wirtsch Wirk 3'!$D$11:$BW$96,$A12,FALSE)+IF(E$5=$C12,HLOOKUP(E$5,'Hilfsblatt Ber. Wirtsch Wirk 3'!$D$11:$BX$96,87,FALSE),0))/100),0)","v":0},{"$f":"IFERROR((F$6*(HLOOKUP(F$5,'Hilfsblatt Ber. Wirtsch Wirk 3'!$D$11:$BW$96,$A12,FALSE)+IF(F$5=$C12,HLOOKUP(F$5,'Hilfsblatt Ber. Wirtsch Wirk 3'!$D$11:$BX$96,87,FALSE),0))/100),0)","v":0},{"$f":"IFERROR((G$6*(HLOOKUP(G$5,'Hilfsblatt Ber. Wirtsch Wirk 3'!$D$11:$BW$96,$A12,FALSE)+IF(G$5=$C12,HLOOKUP(G$5,'Hilfsblatt Ber. Wirtsch Wirk 3'!$D$11:$BX$96,87,FALSE),0))/100),0)","v":0},{"$f":"IFERROR((H$6*(HLOOKUP(H$5,'Hilfsblatt Ber. Wirtsch Wirk 3'!$D$11:$BW$96,$A12,FALSE)+IF(H$5=$C12,HLOOKUP(H$5,'Hilfsblatt Ber. Wirtsch Wirk 3'!$D$11:$BX$96,87,FALSE),0))/100),0)","v":0},{"$f":"IFERROR((I$6*(HLOOKUP(I$5,'Hilfsblatt Ber. Wirtsch Wirk 3'!$D$11:$BW$96,$A12,FALSE)+IF(I$5=$C12,HLOOKUP(I$5,'Hilfsblatt Ber. Wirtsch Wirk 3'!$D$11:$BX$96,87,FALSE),0))/100),0)","v":0},{"$f":"IFERROR((J$6*(HLOOKUP(J$5,'Hilfsblatt Ber. Wirtsch Wirk 3'!$D$11:$BW$96,$A12,FALSE)+IF(J$5=$C12,HLOOKUP(J$5,'Hilfsblatt Ber. Wirtsch Wirk 3'!$D$11:$BX$96,87,FALSE),0))/100),0)","v":0},{"$f":"IFERROR((K$6*(HLOOKUP(K$5,'Hilfsblatt Ber. Wirtsch Wirk 3'!$D$11:$BW$96,$A12,FALSE)+IF(K$5=$C12,HLOOKUP(K$5,'Hilfsblatt Ber. Wirtsch Wirk 3'!$D$11:$BX$96,87,FALSE),0))/100),0)","v":0},{"$f":"IFERROR((L$6*(HLOOKUP(L$5,'Hilfsblatt Ber. Wirtsch Wirk 3'!$D$11:$BW$96,$A12,FALSE)+IF(L$5=$C12,HLOOKUP(L$5,'Hilfsblatt Ber. Wirtsch Wirk 3'!$D$11:$BX$96,87,FALSE),0))/100),0)","v":0},{"$f":"IFERROR((M$6*(HLOOKUP(M$5,'Hilfsblatt Ber. Wirtsch Wirk 3'!$D$11:$BW$96,$A12,FALSE)+IF(M$5=$C12,HLOOKUP(M$5,'Hilfsblatt Ber. Wirtsch Wirk 3'!$D$11:$BX$96,87,FALSE),0))/100),0)","v":0},{"$f":"IFERROR((N$6*(HLOOKUP(N$5,'Hilfsblatt Ber. Wirtsch Wirk 3'!$D$11:$BW$96,$A12,FALSE)+IF(N$5=$C12,HLOOKUP(N$5,'Hilfsblatt Ber. Wirtsch Wirk 3'!$D$11:$BX$96,87,FALSE),0))/100),0)","v":0},{"$f":"IFERROR((O$6*(HLOOKUP(O$5,'Hilfsblatt Ber. Wirtsch Wirk 3'!$D$11:$BW$96,$A12,FALSE)+IF(O$5=$C12,HLOOKUP(O$5,'Hilfsblatt Ber. Wirtsch Wirk 3'!$D$11:$BX$96,87,FALSE),0))/100),0)","v":0},{"$f":"IFERROR((P$6*(HLOOKUP(P$5,'Hilfsblatt Ber. Wirtsch Wirk 3'!$D$11:$BW$96,$A12,FALSE)+IF(P$5=$C12,HLOOKUP(P$5,'Hilfsblatt Ber. Wirtsch Wirk 3'!$D$11:$BX$96,87,FALSE),0))/100),0)","v":0},{"$f":"IFERROR((Q$6*(HLOOKUP(Q$5,'Hilfsblatt Ber. Wirtsch Wirk 3'!$D$11:$BW$96,$A12,FALSE)+IF(Q$5=$C12,HLOOKUP(Q$5,'Hilfsblatt Ber. Wirtsch Wirk 3'!$D$11:$BX$96,87,FALSE),0))/100),0)","v":0},{"$f":"R$6*('Hilfsblatt Ber. Wirtsch Wirk 3'!BX17+'Hilfsblatt Ber. Wirtsch Wirk 3'!BX17*'Hilfsblatt Ber. Wirtsch Wirk 3'!CA17/'Hilfsblatt Ber. Wirtsch Wirk 3'!CB17)/100","v":0},{"$f":"SUM(D12:R12)","v":0},{"$f":"S12*'Hilfsblatt Ber. Wirtsch Wirk 3'!BZ17/('Hilfsblatt Ber. Wirtsch Wirk 3'!CA17)","v":0},{"$f":"S12/'Hilfsblatt Ber. Wirtsch Wirk 3'!CC17","v":0},{"$f":"T12*('Hilfsblatt Ber. Wirtsch Wirk 4'!B$14/'Hilfsblatt Ber. Wirtsch Wirk 4'!B$13)","v":0},{"$f":"S12*'Hilfsblatt Ber. Wirtsch Wirk 3'!CD17","v":0},null,0]
[8,{"$f":"'Hilfsblatt Ber. Wirtsch Wirk 3'!B18","v":"05"},{"$f":"'Hilfsblatt Ber. Wirtsch Wirk 3'!C18","v":"Kohle"},{"$f":"IFERROR((D$6*(HLOOKUP(D$5,'Hilfsblatt Ber. Wirtsch Wirk 3'!$D$11:$BW$96,$A13,FALSE)+IF(D$5=$C13,HLOOKUP(D$5,'Hilfsblatt Ber. Wirtsch Wirk 3'!$D$11:$BX$96,87,FALSE),0))/100),0)","v":0},{"$f":"IFERROR((E$6*(HLOOKUP(E$5,'Hilfsblatt Ber. Wirtsch Wirk 3'!$D$11:$BW$96,$A13,FALSE)+IF(E$5=$C13,HLOOKUP(E$5,'Hilfsblatt Ber. Wirtsch Wirk 3'!$D$11:$BX$96,87,FALSE),0))/100),0)","v":0},{"$f":"IFERROR((F$6*(HLOOKUP(F$5,'Hilfsblatt Ber. Wirtsch Wirk 3'!$D$11:$BW$96,$A13,FALSE)+IF(F$5=$C13,HLOOKUP(F$5,'Hilfsblatt Ber. Wirtsch Wirk 3'!$D$11:$BX$96,87,FALSE),0))/100),0)","v":0},{"$f":"IFERROR((G$6*(HLOOKUP(G$5,'Hilfsblatt Ber. Wirtsch Wirk 3'!$D$11:$BW$96,$A13,FALSE)+IF(G$5=$C13,HLOOKUP(G$5,'Hilfsblatt Ber. Wirtsch Wirk 3'!$D$11:$BX$96,87,FALSE),0))/100),0)","v":0},{"$f":"IFERROR((H$6*(HLOOKUP(H$5,'Hilfsblatt Ber. Wirtsch Wirk 3'!$D$11:$BW$96,$A13,FALSE)+IF(H$5=$C13,HLOOKUP(H$5,'Hilfsblatt Ber. Wirtsch Wirk 3'!$D$11:$BX$96,87,FALSE),0))/100),0)","v":0},{"$f":"IFERROR((I$6*(HLOOKUP(I$5,'Hilfsblatt Ber. Wirtsch Wirk 3'!$D$11:$BW$96,$A13,FALSE)+IF(I$5=$C13,HLOOKUP(I$5,'Hilfsblatt Ber. Wirtsch Wirk 3'!$D$11:$BX$96,87,FALSE),0))/100),0)","v":0},{"$f":"IFERROR((J$6*(HLOOKUP(J$5,'Hilfsblatt Ber. Wirtsch Wirk 3'!$D$11:$BW$96,$A13,FALSE)+IF(J$5=$C13,HLOOKUP(J$5,'Hilfsblatt Ber. Wirtsch Wirk 3'!$D$11:$BX$96,87,FALSE),0))/100),0)","v":0},{"$f":"IFERROR((K$6*(HLOOKUP(K$5,'Hilfsblatt Ber. Wirtsch Wirk 3'!$D$11:$BW$96,$A13,FALSE)+IF(K$5=$C13,HLOOKUP(K$5,'Hilfsblatt Ber. Wirtsch Wirk 3'!$D$11:$BX$96,87,FALSE),0))/100),0)","v":0},{"$f":"IFERROR((L$6*(HLOOKUP(L$5,'Hilfsblatt Ber. Wirtsch Wirk 3'!$D$11:$BW$96,$A13,FALSE)+IF(L$5=$C13,HLOOKUP(L$5,'Hilfsblatt Ber. Wirtsch Wirk 3'!$D$11:$BX$96,87,FALSE),0))/100),0)","v":0},{"$f":"IFERROR((M$6*(HLOOKUP(M$5,'Hilfsblatt Ber. Wirtsch Wirk 3'!$D$11:$BW$96,$A13,FALSE)+IF(M$5=$C13,HLOOKUP(M$5,'Hilfsblatt Ber. Wirtsch Wirk 3'!$D$11:$BX$96,87,FALSE),0))/100),0)","v":0},{"$f":"IFERROR((N$6*(HLOOKUP(N$5,'Hilfsblatt Ber. Wirtsch Wirk 3'!$D$11:$BW$96,$A13,FALSE)+IF(N$5=$C13,HLOOKUP(N$5,'Hilfsblatt Ber. Wirtsch Wirk 3'!$D$11:$BX$96,87,FALSE),0))/100),0)","v":0},{"$f":"IFERROR((O$6*(HLOOKUP(O$5,'Hilfsblatt Ber. Wirtsch Wirk 3'!$D$11:$BW$96,$A13,FALSE)+IF(O$5=$C13,HLOOKUP(O$5,'Hilfsblatt Ber. Wirtsch Wirk 3'!$D$11:$BX$96,87,FALSE),0))/100),0)","v":0},{"$f":"IFERROR((P$6*(HLOOKUP(P$5,'Hilfsblatt Ber. Wirtsch Wirk 3'!$D$11:$BW$96,$A13,FALSE)+IF(P$5=$C13,HLOOKUP(P$5,'Hilfsblatt Ber. Wirtsch Wirk 3'!$D$11:$BX$96,87,FALSE),0))/100),0)","v":0},{"$f":"IFERROR((Q$6*(HLOOKUP(Q$5,'Hilfsblatt Ber. Wirtsch Wirk 3'!$D$11:$BW$96,$A13,FALSE)+IF(Q$5=$C13,HLOOKUP(Q$5,'Hilfsblatt Ber. Wirtsch Wirk 3'!$D$11:$BX$96,87,FALSE),0))/100),0)","v":0},{"$f":"R$6*('Hilfsblatt Ber. Wirtsch Wirk 3'!BX18+'Hilfsblatt Ber. Wirtsch Wirk 3'!BX18*'Hilfsblatt Ber. Wirtsch Wirk 3'!CA18/'Hilfsblatt Ber. Wirtsch Wirk 3'!CB18)/100","v":0},0,{"$f":"S13*'Hilfsblatt Ber. Wirtsch Wirk 3'!BZ18/('Hilfsblatt Ber. Wirtsch Wirk 3'!CA18)","v":0},{"$f":"S13/'Hilfsblatt Ber. Wirtsch Wirk 3'!CC18","v":0},{"$f":"T13*('Hilfsblatt Ber. Wirtsch Wirk 4'!B$14/'Hilfsblatt Ber. Wirtsch Wirk 4'!B$13)","v":0},{"$f":"S13*'Hilfsblatt Ber. Wirtsch Wirk 3'!CD18","v":0},null,0]
[9,{"$f":"'Hilfsblatt Ber. Wirtsch Wirk 3'!B19","v":"06"},{"$f":"'Hilfsblatt Ber. Wirtsch Wirk 3'!C19","v":"Erdöl und Erdgas"},{"$f":"IFERROR((D$6*(HLOOKUP(D$5,'Hilfsblatt Ber. Wirtsch Wirk 3'!$D$11:$BW$96,$A14,FALSE)+IF(D$5=$C14,HLOOKUP(D$5,'Hilfsblatt Ber. Wirtsch Wirk 3'!$D$11:$BX$96,87,FALSE),0))/100),0)","v":0},{"$f":"IFERROR((E$6*(HLOOKUP(E$5,'Hilfsblatt Ber. Wirtsch Wirk 3'!$D$11:$BW$96,$A14,FALSE)+IF(E$5=$C14,HLOOKUP(E$5,'Hilfsblatt Ber. Wirtsch Wirk 3'!$D$11:$BX$96,87,FALSE),0))/100),0)","v":0},{"$f":"IFERROR((F$6*(HLOOKUP(F$5,'Hilfsblatt Ber. Wirtsch Wirk 3'!$D$11:$BW$96,$A14,FALSE)+IF(F$5=$C14,HLOOKUP(F$5,'Hilfsblatt Ber. Wirtsch Wirk 3'!$D$11:$BX$96,87,FALSE),0))/100),0)","v":0},{"$f":"IFERROR((G$6*(HLOOKUP(G$5,'Hilfsblatt Ber. Wirtsch Wirk 3'!$D$11:$BW$96,$A14,FALSE)+IF(G$5=$C14,HLOOKUP(G$5,'Hilfsblatt Ber. Wirtsch Wirk 3'!$D$11:$BX$96,87,FALSE),0))/100),0)","v":0},{"$f":"IFERROR((H$6*(HLOOKUP(H$5,'Hilfsblatt Ber. Wirtsch Wirk 3'!$D$11:$BW$96,$A14,FALSE)+IF(H$5=$C14,HLOOKUP(H$5,'Hilfsblatt Ber. Wirtsch Wirk 3'!$D$11:$BX$96,87,FALSE),0))/100),0)","v":0},{"$f":"IFERROR((I$6*(HLOOKUP(I$5,'Hilfsblatt Ber. Wirtsch Wirk 3'!$D$11:$BW$96,$A14,FALSE)+IF(I$5=$C14,HLOOKUP(I$5,'Hilfsblatt Ber. Wirtsch Wirk 3'!$D$11:$BX$96,87,FALSE),0))/100),0)","v":0},{"$f":"IFERROR((J$6*(HLOOKUP(J$5,'Hilfsblatt Ber. Wirtsch Wirk 3'!$D$11:$BW$96,$A14,FALSE)+IF(J$5=$C14,HLOOKUP(J$5,'Hilfsblatt Ber. Wirtsch Wirk 3'!$D$11:$BX$96,87,FALSE),0))/100),0)","v":0},{"$f":"IFERROR((K$6*(HLOOKUP(K$5,'Hilfsblatt Ber. Wirtsch Wirk 3'!$D$11:$BW$96,$A14,FALSE)+IF(K$5=$C14,HLOOKUP(K$5,'Hilfsblatt Ber. Wirtsch Wirk 3'!$D$11:$BX$96,87,FALSE),0))/100),0)","v":0},{"$f":"IFERROR((L$6*(HLOOKUP(L$5,'Hilfsblatt Ber. Wirtsch Wirk 3'!$D$11:$BW$96,$A14,FALSE)+IF(L$5=$C14,HLOOKUP(L$5,'Hilfsblatt Ber. Wirtsch Wirk 3'!$D$11:$BX$96,87,FALSE),0))/100),0)","v":0},{"$f":"IFERROR((M$6*(HLOOKUP(M$5,'Hilfsblatt Ber. Wirtsch Wirk 3'!$D$11:$BW$96,$A14,FALSE)+IF(M$5=$C14,HLOOKUP(M$5,'Hilfsblatt Ber. Wirtsch Wirk 3'!$D$11:$BX$96,87,FALSE),0))/100),0)","v":0},{"$f":"IFERROR((N$6*(HLOOKUP(N$5,'Hilfsblatt Ber. Wirtsch Wirk 3'!$D$11:$BW$96,$A14,FALSE)+IF(N$5=$C14,HLOOKUP(N$5,'Hilfsblatt Ber. Wirtsch Wirk 3'!$D$11:$BX$96,87,FALSE),0))/100),0)","v":0},{"$f":"IFERROR((O$6*(HLOOKUP(O$5,'Hilfsblatt Ber. Wirtsch Wirk 3'!$D$11:$BW$96,$A14,FALSE)+IF(O$5=$C14,HLOOKUP(O$5,'Hilfsblatt Ber. Wirtsch Wirk 3'!$D$11:$BX$96,87,FALSE),0))/100),0)","v":0},{"$f":"IFERROR((P$6*(HLOOKUP(P$5,'Hilfsblatt Ber. Wirtsch Wirk 3'!$D$11:$BW$96,$A14,FALSE)+IF(P$5=$C14,HLOOKUP(P$5,'Hilfsblatt Ber. Wirtsch Wirk 3'!$D$11:$BX$96,87,FALSE),0))/100),0)","v":0},{"$f":"IFERROR((Q$6*(HLOOKUP(Q$5,'Hilfsblatt Ber. Wirtsch Wirk 3'!$D$11:$BW$96,$A14,FALSE)+IF(Q$5=$C14,HLOOKUP(Q$5,'Hilfsblatt Ber. Wirtsch Wirk 3'!$D$11:$BX$96,87,FALSE),0))/100),0)","v":0},{"$f":"R$6*('Hilfsblatt Ber. Wirtsch Wirk 3'!BX19+'Hilfsblatt Ber. Wirtsch Wirk 3'!BX19*'Hilfsblatt Ber. Wirtsch Wirk 3'!CA19/'Hilfsblatt Ber. Wirtsch Wirk 3'!CB19)/100","v":0},0,{"$f":"S14*'Hilfsblatt Ber. Wirtsch Wirk 3'!BZ19/('Hilfsblatt Ber. Wirtsch Wirk 3'!CA19)","v":0},{"$f":"S14/'Hilfsblatt Ber. Wirtsch Wirk 3'!CC19","v":0},{"$f":"T14*('Hilfsblatt Ber. Wirtsch Wirk 4'!B$14/'Hilfsblatt Ber. Wirtsch Wirk 4'!B$13)","v":0},{"$f":"S14*'Hilfsblatt Ber. Wirtsch Wirk 3'!CD19","v":0},null,0]
[10,{"$f":"'Hilfsblatt Ber. Wirtsch Wirk 3'!B20","v":"07-09"},{"$f":"'Hilfsblatt Ber. Wirtsch Wirk 3'!C20","v":"Erze, Steine u. Erden, sonst. Bergbauerzeugn. u. Dienstleistg."},{"$f":"IFERROR((D$6*(HLOOKUP(D$5,'Hilfsblatt Ber. Wirtsch Wirk 3'!$D$11:$BW$96,$A15,FALSE)+IF(D$5=$C15,HLOOKUP(D$5,'Hilfsblatt Ber. Wirtsch Wirk 3'!$D$11:$BX$96,87,FALSE),0))/100),0)","v":0},{"$f":"IFERROR((E$6*(HLOOKUP(E$5,'Hilfsblatt Ber. Wirtsch Wirk 3'!$D$11:$BW$96,$A15,FALSE)+IF(E$5=$C15,HLOOKUP(E$5,'Hilfsblatt Ber. Wirtsch Wirk 3'!$D$11:$BX$96,87,FALSE),0))/100),0)","v":0},{"$f":"IFERROR((F$6*(HLOOKUP(F$5,'Hilfsblatt Ber. Wirtsch Wirk 3'!$D$11:$BW$96,$A15,FALSE)+IF(F$5=$C15,HLOOKUP(F$5,'Hilfsblatt Ber. Wirtsch Wirk 3'!$D$11:$BX$96,87,FALSE),0))/100),0)","v":0},{"$f":"IFERROR((G$6*(HLOOKUP(G$5,'Hilfsblatt Ber. Wirtsch Wirk 3'!$D$11:$BW$96,$A15,FALSE)+IF(G$5=$C15,HLOOKUP(G$5,'Hilfsblatt Ber. Wirtsch Wirk 3'!$D$11:$BX$96,87,FALSE),0))/100),0)","v":0},{"$f":"IFERROR((H$6*(HLOOKUP(H$5,'Hilfsblatt Ber. Wirtsch Wirk 3'!$D$11:$BW$96,$A15,FALSE)+IF(H$5=$C15,HLOOKUP(H$5,'Hilfsblatt Ber. Wirtsch Wirk 3'!$D$11:$BX$96,87,FALSE),0))/100),0)","v":0},{"$f":"IFERROR((I$6*(HLOOKUP(I$5,'Hilfsblatt Ber. Wirtsch Wirk 3'!$D$11:$BW$96,$A15,FALSE)+IF(I$5=$C15,HLOOKUP(I$5,'Hilfsblatt Ber. Wirtsch Wirk 3'!$D$11:$BX$96,87,FALSE),0))/100),0)","v":0},{"$f":"IFERROR((J$6*(HLOOKUP(J$5,'Hilfsblatt Ber. Wirtsch Wirk 3'!$D$11:$BW$96,$A15,FALSE)+IF(J$5=$C15,HLOOKUP(J$5,'Hilfsblatt Ber. Wirtsch Wirk 3'!$D$11:$BX$96,87,FALSE),0))/100),0)","v":0},{"$f":"IFERROR((K$6*(HLOOKUP(K$5,'Hilfsblatt Ber. Wirtsch Wirk 3'!$D$11:$BW$96,$A15,FALSE)+IF(K$5=$C15,HLOOKUP(K$5,'Hilfsblatt Ber. Wirtsch Wirk 3'!$D$11:$BX$96,87,FALSE),0))/100),0)","v":0},{"$f":"IFERROR((L$6*(HLOOKUP(L$5,'Hilfsblatt Ber. Wirtsch Wirk 3'!$D$11:$BW$96,$A15,FALSE)+IF(L$5=$C15,HLOOKUP(L$5,'Hilfsblatt Ber. Wirtsch Wirk 3'!$D$11:$BX$96,87,FALSE),0))/100),0)","v":0},{"$f":"IFERROR((M$6*(HLOOKUP(M$5,'Hilfsblatt Ber. Wirtsch Wirk 3'!$D$11:$BW$96,$A15,FALSE)+IF(M$5=$C15,HLOOKUP(M$5,'Hilfsblatt Ber. Wirtsch Wirk 3'!$D$11:$BX$96,87,FALSE),0))/100),0)","v":0},{"$f":"IFERROR((N$6*(HLOOKUP(N$5,'Hilfsblatt Ber. Wirtsch Wirk 3'!$D$11:$BW$96,$A15,FALSE)+IF(N$5=$C15,HLOOKUP(N$5,'Hilfsblatt Ber. Wirtsch Wirk 3'!$D$11:$BX$96,87,FALSE),0))/100),0)","v":0},{"$f":"IFERROR((O$6*(HLOOKUP(O$5,'Hilfsblatt Ber. Wirtsch Wirk 3'!$D$11:$BW$96,$A15,FALSE)+IF(O$5=$C15,HLOOKUP(O$5,'Hilfsblatt Ber. Wirtsch Wirk 3'!$D$11:$BX$96,87,FALSE),0))/100),0)","v":0},{"$f":"IFERROR((P$6*(HLOOKUP(P$5,'Hilfsblatt Ber. Wirtsch Wirk 3'!$D$11:$BW$96,$A15,FALSE)+IF(P$5=$C15,HLOOKUP(P$5,'Hilfsblatt Ber. Wirtsch Wirk 3'!$D$11:$BX$96,87,FALSE),0))/100),0)","v":0},{"$f":"IFERROR((Q$6*(HLOOKUP(Q$5,'Hilfsblatt Ber. Wirtsch Wirk 3'!$D$11:$BW$96,$A15,FALSE)+IF(Q$5=$C15,HLOOKUP(Q$5,'Hilfsblatt Ber. Wirtsch Wirk 3'!$D$11:$BX$96,87,FALSE),0))/100),0)","v":0},{"$f":"R$6*('Hilfsblatt Ber. Wirtsch Wirk 3'!BX20+'Hilfsblatt Ber. Wirtsch Wirk 3'!BX20*'Hilfsblatt Ber. Wirtsch Wirk 3'!CA20/'Hilfsblatt Ber. Wirtsch Wirk 3'!CB20)/100","v":0},0,{"$f":"S15*'Hilfsblatt Ber. Wirtsch Wirk 3'!BZ20/('Hilfsblatt Ber. Wirtsch Wirk 3'!CA20)","v":0},{"$f":"S15/'Hilfsblatt Ber. Wirtsch Wirk 3'!CC20","v":0},{"$f":"T15*('Hilfsblatt Ber. Wirtsch Wirk 4'!B$14/'Hilfsblatt Ber. Wirtsch Wirk 4'!B$13)","v":0},{"$f":"S15*'Hilfsblatt Ber. Wirtsch Wirk 3'!CD20","v":0},null,0]
[11,{"$f":"'Hilfsblatt Ber. Wirtsch Wirk 3'!B21","v":"10-12"},{"$f":"'Hilfsblatt Ber. Wirtsch Wirk 3'!C21","v":"Nahrungs- und Futtermittel, Getränke, Tabakerzeugnisse"},{"$f":"IFERROR((D$6*(HLOOKUP(D$5,'Hilfsblatt Ber. Wirtsch Wirk 3'!$D$11:$BW$96,$A16,FALSE)+IF(D$5=$C16,HLOOKUP(D$5,'Hilfsblatt Ber. Wirtsch Wirk 3'!$D$11:$BX$96,87,FALSE),0))/100),0)","v":0},{"$f":"IFERROR((E$6*(HLOOKUP(E$5,'Hilfsblatt Ber. Wirtsch Wirk 3'!$D$11:$BW$96,$A16,FALSE)+IF(E$5=$C16,HLOOKUP(E$5,'Hilfsblatt Ber. Wirtsch Wirk 3'!$D$11:$BX$96,87,FALSE),0))/100),0)","v":0},{"$f":"IFERROR((F$6*(HLOOKUP(F$5,'Hilfsblatt Ber. Wirtsch Wirk 3'!$D$11:$BW$96,$A16,FALSE)+IF(F$5=$C16,HLOOKUP(F$5,'Hilfsblatt Ber. Wirtsch Wirk 3'!$D$11:$BX$96,87,FALSE),0))/100),0)","v":0},{"$f":"IFERROR((G$6*(HLOOKUP(G$5,'Hilfsblatt Ber. Wirtsch Wirk 3'!$D$11:$BW$96,$A16,FALSE)+IF(G$5=$C16,HLOOKUP(G$5,'Hilfsblatt Ber. Wirtsch Wirk 3'!$D$11:$BX$96,87,FALSE),0))/100),0)","v":0},{"$f":"IFERROR((H$6*(HLOOKUP(H$5,'Hilfsblatt Ber. Wirtsch Wirk 3'!$D$11:$BW$96,$A16,FALSE)+IF(H$5=$C16,HLOOKUP(H$5,'Hilfsblatt Ber. Wirtsch Wirk 3'!$D$11:$BX$96,87,FALSE),0))/100),0)","v":0},{"$f":"IFERROR((I$6*(HLOOKUP(I$5,'Hilfsblatt Ber. Wirtsch Wirk 3'!$D$11:$BW$96,$A16,FALSE)+IF(I$5=$C16,HLOOKUP(I$5,'Hilfsblatt Ber. Wirtsch Wirk 3'!$D$11:$BX$96,87,FALSE),0))/100),0)","v":0},{"$f":"IFERROR((J$6*(HLOOKUP(J$5,'Hilfsblatt Ber. Wirtsch Wirk 3'!$D$11:$BW$96,$A16,FALSE)+IF(J$5=$C16,HLOOKUP(J$5,'Hilfsblatt Ber. Wirtsch Wirk 3'!$D$11:$BX$96,87,FALSE),0))/100),0)","v":0},{"$f":"IFERROR((K$6*(HLOOKUP(K$5,'Hilfsblatt Ber. Wirtsch Wirk 3'!$D$11:$BW$96,$A16,FALSE)+IF(K$5=$C16,HLOOKUP(K$5,'Hilfsblatt Ber. Wirtsch Wirk 3'!$D$11:$BX$96,87,FALSE),0))/100),0)","v":0},{"$f":"IFERROR((L$6*(HLOOKUP(L$5,'Hilfsblatt Ber. Wirtsch Wirk 3'!$D$11:$BW$96,$A16,FALSE)+IF(L$5=$C16,HLOOKUP(L$5,'Hilfsblatt Ber. Wirtsch Wirk 3'!$D$11:$BX$96,87,FALSE),0))/100),0)","v":0},{"$f":"IFERROR((M$6*(HLOOKUP(M$5,'Hilfsblatt Ber. Wirtsch Wirk 3'!$D$11:$BW$96,$A16,FALSE)+IF(M$5=$C16,HLOOKUP(M$5,'Hilfsblatt Ber. Wirtsch Wirk 3'!$D$11:$BX$96,87,FALSE),0))/100),0)","v":0},{"$f":"IFERROR((N$6*(HLOOKUP(N$5,'Hilfsblatt Ber. Wirtsch Wirk 3'!$D$11:$BW$96,$A16,FALSE)+IF(N$5=$C16,HLOOKUP(N$5,'Hilfsblatt Ber. Wirtsch Wirk 3'!$D$11:$BX$96,87,FALSE),0))/100),0)","v":0},{"$f":"IFERROR((O$6*(HLOOKUP(O$5,'Hilfsblatt Ber. Wirtsch Wirk 3'!$D$11:$BW$96,$A16,FALSE)+IF(O$5=$C16,HLOOKUP(O$5,'Hilfsblatt Ber. Wirtsch Wirk 3'!$D$11:$BX$96,87,FALSE),0))/100),0)","v":0},{"$f":"IFERROR((P$6*(HLOOKUP(P$5,'Hilfsblatt Ber. Wirtsch Wirk 3'!$D$11:$BW$96,$A16,FALSE)+IF(P$5=$C16,HLOOKUP(P$5,'Hilfsblatt Ber. Wirtsch Wirk 3'!$D$11:$BX$96,87,FALSE),0))/100),0)","v":0},{"$f":"IFERROR((Q$6*(HLOOKUP(Q$5,'Hilfsblatt Ber. Wirtsch Wirk 3'!$D$11:$BW$96,$A16,FALSE)+IF(Q$5=$C16,HLOOKUP(Q$5,'Hilfsblatt Ber. Wirtsch Wirk 3'!$D$11:$BX$96,87,FALSE),0))/100),0)","v":0},{"$f":"R$6*('Hilfsblatt Ber. Wirtsch Wirk 3'!BX21+'Hilfsblatt Ber. Wirtsch Wirk 3'!BX21*'Hilfsblatt Ber. Wirtsch Wirk 3'!CA21/'Hilfsblatt Ber. Wirtsch Wirk 3'!CB21)/100","v":0},0,{"$f":"S16*'Hilfsblatt Ber. Wirtsch Wirk 3'!BZ21/('Hilfsblatt Ber. Wirtsch Wirk 3'!CA21)","v":0},{"$f":"S16/'Hilfsblatt Ber. Wirtsch Wirk 3'!CC21","v":0},{"$f":"T16*('Hilfsblatt Ber. Wirtsch Wirk 4'!B$14/'Hilfsblatt Ber. Wirtsch Wirk 4'!B$13)","v":0},{"$f":"S16*'Hilfsblatt Ber. Wirtsch Wirk 3'!CD21","v":0},null,0]
[12,{"$f":"'Hilfsblatt Ber. Wirtsch Wirk 3'!B22","v":"13-15"},{"$f":"'Hilfsblatt Ber. Wirtsch Wirk 3'!C22","v":"Textilien, Bekleidung, Leder- und Lederwaren"},{"$f":"IFERROR((D$6*(HLOOKUP(D$5,'Hilfsblatt Ber. Wirtsch Wirk 3'!$D$11:$BW$96,$A17,FALSE)+IF(D$5=$C17,HLOOKUP(D$5,'Hilfsblatt Ber. Wirtsch Wirk 3'!$D$11:$BX$96,87,FALSE),0))/100),0)","v":0},{"$f":"IFERROR((E$6*(HLOOKUP(E$5,'Hilfsblatt Ber. Wirtsch Wirk 3'!$D$11:$BW$96,$A17,FALSE)+IF(E$5=$C17,HLOOKUP(E$5,'Hilfsblatt Ber. Wirtsch Wirk 3'!$D$11:$BX$96,87,FALSE),0))/100),0)","v":0},{"$f":"IFERROR((F$6*(HLOOKUP(F$5,'Hilfsblatt Ber. Wirtsch Wirk 3'!$D$11:$BW$96,$A17,FALSE)+IF(F$5=$C17,HLOOKUP(F$5,'Hilfsblatt Ber. Wirtsch Wirk 3'!$D$11:$BX$96,87,FALSE),0))/100),0)","v":0},{"$f":"IFERROR((G$6*(HLOOKUP(G$5,'Hilfsblatt Ber. Wirtsch Wirk 3'!$D$11:$BW$96,$A17,FALSE)+IF(G$5=$C17,HLOOKUP(G$5,'Hilfsblatt Ber. Wirtsch Wirk 3'!$D$11:$BX$96,87,FALSE),0))/100),0)","v":0},{"$f":"IFERROR((H$6*(HLOOKUP(H$5,'Hilfsblatt Ber. Wirtsch Wirk 3'!$D$11:$BW$96,$A17,FALSE)+IF(H$5=$C17,HLOOKUP(H$5,'Hilfsblatt Ber. Wirtsch Wirk 3'!$D$11:$BX$96,87,FALSE),0))/100),0)","v":0},{"$f":"IFERROR((I$6*(HLOOKUP(I$5,'Hilfsblatt Ber. Wirtsch Wirk 3'!$D$11:$BW$96,$A17,FALSE)+IF(I$5=$C17,HLOOKUP(I$5,'Hilfsblatt Ber. Wirtsch Wirk 3'!$D$11:$BX$96,87,FALSE),0))/100),0)","v":0},{"$f":"IFERROR((J$6*(HLOOKUP(J$5,'Hilfsblatt Ber. Wirtsch Wirk 3'!$D$11:$BW$96,$A17,FALSE)+IF(J$5=$C17,HLOOKUP(J$5,'Hilfsblatt Ber. Wirtsch Wirk 3'!$D$11:$BX$96,87,FALSE),0))/100),0)","v":0},{"$f":"IFERROR((K$6*(HLOOKUP(K$5,'Hilfsblatt Ber. Wirtsch Wirk 3'!$D$11:$BW$96,$A17,FALSE)+IF(K$5=$C17,HLOOKUP(K$5,'Hilfsblatt Ber. Wirtsch Wirk 3'!$D$11:$BX$96,87,FALSE),0))/100),0)","v":0},{"$f":"IFERROR((L$6*(HLOOKUP(L$5,'Hilfsblatt Ber. Wirtsch Wirk 3'!$D$11:$BW$96,$A17,FALSE)+IF(L$5=$C17,HLOOKUP(L$5,'Hilfsblatt Ber. Wirtsch Wirk 3'!$D$11:$BX$96,87,FALSE),0))/100),0)","v":0},{"$f":"IFERROR((M$6*(HLOOKUP(M$5,'Hilfsblatt Ber. Wirtsch Wirk 3'!$D$11:$BW$96,$A17,FALSE)+IF(M$5=$C17,HLOOKUP(M$5,'Hilfsblatt Ber. Wirtsch Wirk 3'!$D$11:$BX$96,87,FALSE),0))/100),0)","v":0},{"$f":"IFERROR((N$6*(HLOOKUP(N$5,'Hilfsblatt Ber. Wirtsch Wirk 3'!$D$11:$BW$96,$A17,FALSE)+IF(N$5=$C17,HLOOKUP(N$5,'Hilfsblatt Ber. Wirtsch Wirk 3'!$D$11:$BX$96,87,FALSE),0))/100),0)","v":0},{"$f":"IFERROR((O$6*(HLOOKUP(O$5,'Hilfsblatt Ber. Wirtsch Wirk 3'!$D$11:$BW$96,$A17,FALSE)+IF(O$5=$C17,HLOOKUP(O$5,'Hilfsblatt Ber. Wirtsch Wirk 3'!$D$11:$BX$96,87,FALSE),0))/100),0)","v":0},{"$f":"IFERROR((P$6*(HLOOKUP(P$5,'Hilfsblatt Ber. Wirtsch Wirk 3'!$D$11:$BW$96,$A17,FALSE)+IF(P$5=$C17,HLOOKUP(P$5,'Hilfsblatt Ber. Wirtsch Wirk 3'!$D$11:$BX$96,87,FALSE),0))/100),0)","v":0},{"$f":"IFERROR((Q$6*(HLOOKUP(Q$5,'Hilfsblatt Ber. Wirtsch Wirk 3'!$D$11:$BW$96,$A17,FALSE)+IF(Q$5=$C17,HLOOKUP(Q$5,'Hilfsblatt Ber. Wirtsch Wirk 3'!$D$11:$BX$96,87,FALSE),0))/100),0)","v":0},{"$f":"R$6*('Hilfsblatt Ber. Wirtsch Wirk 3'!BX22+'Hilfsblatt Ber. Wirtsch Wirk 3'!BX22*'Hilfsblatt Ber. Wirtsch Wirk 3'!CA22/'Hilfsblatt Ber. Wirtsch Wirk 3'!CB22)/100","v":0},0,{"$f":"S17*'Hilfsblatt Ber. Wirtsch Wirk 3'!BZ22/('Hilfsblatt Ber. Wirtsch Wirk 3'!CA22)","v":0},{"$f":"S17/'Hilfsblatt Ber. Wirtsch Wirk 3'!CC22","v":0},{"$f":"T17*('Hilfsblatt Ber. Wirtsch Wirk 4'!B$14/'Hilfsblatt Ber. Wirtsch Wirk 4'!B$13)","v":0},{"$f":"S17*'Hilfsblatt Ber. Wirtsch Wirk 3'!CD22","v":0},null,0]
[13,{"$f":"'Hilfsblatt Ber. Wirtsch Wirk 3'!B23","v":"16"},{"$f":"'Hilfsblatt Ber. Wirtsch Wirk 3'!C23","v":"Holz, Holz-, Flecht-, Korb- und Korkwaren (ohne Möbel)"},{"$f":"IFERROR((D$6*(HLOOKUP(D$5,'Hilfsblatt Ber. Wirtsch Wirk 3'!$D$11:$BW$96,$A18,FALSE)+IF(D$5=$C18,HLOOKUP(D$5,'Hilfsblatt Ber. Wirtsch Wirk 3'!$D$11:$BX$96,87,FALSE),0))/100),0)","v":0},{"$f":"IFERROR((E$6*(HLOOKUP(E$5,'Hilfsblatt Ber. Wirtsch Wirk 3'!$D$11:$BW$96,$A18,FALSE)+IF(E$5=$C18,HLOOKUP(E$5,'Hilfsblatt Ber. Wirtsch Wirk 3'!$D$11:$BX$96,87,FALSE),0))/100),0)","v":0},{"$f":"IFERROR((F$6*(HLOOKUP(F$5,'Hilfsblatt Ber. Wirtsch Wirk 3'!$D$11:$BW$96,$A18,FALSE)+IF(F$5=$C18,HLOOKUP(F$5,'Hilfsblatt Ber. Wirtsch Wirk 3'!$D$11:$BX$96,87,FALSE),0))/100),0)","v":0},{"$f":"IFERROR((G$6*(HLOOKUP(G$5,'Hilfsblatt Ber. Wirtsch Wirk 3'!$D$11:$BW$96,$A18,FALSE)+IF(G$5=$C18,HLOOKUP(G$5,'Hilfsblatt Ber. Wirtsch Wirk 3'!$D$11:$BX$96,87,FALSE),0))/100),0)","v":0},{"$f":"IFERROR((H$6*(HLOOKUP(H$5,'Hilfsblatt Ber. Wirtsch Wirk 3'!$D$11:$BW$96,$A18,FALSE)+IF(H$5=$C18,HLOOKUP(H$5,'Hilfsblatt Ber. Wirtsch Wirk 3'!$D$11:$BX$96,87,FALSE),0))/100),0)","v":0},{"$f":"IFERROR((I$6*(HLOOKUP(I$5,'Hilfsblatt Ber. Wirtsch Wirk 3'!$D$11:$BW$96,$A18,FALSE)+IF(I$5=$C18,HLOOKUP(I$5,'Hilfsblatt Ber. Wirtsch Wirk 3'!$D$11:$BX$96,87,FALSE),0))/100),0)","v":0},{"$f":"IFERROR((J$6*(HLOOKUP(J$5,'Hilfsblatt Ber. Wirtsch Wirk 3'!$D$11:$BW$96,$A18,FALSE)+IF(J$5=$C18,HLOOKUP(J$5,'Hilfsblatt Ber. Wirtsch Wirk 3'!$D$11:$BX$96,87,FALSE),0))/100),0)","v":0},{"$f":"IFERROR((K$6*(HLOOKUP(K$5,'Hilfsblatt Ber. Wirtsch Wirk 3'!$D$11:$BW$96,$A18,FALSE)+IF(K$5=$C18,HLOOKUP(K$5,'Hilfsblatt Ber. Wirtsch Wirk 3'!$D$11:$BX$96,87,FALSE),0))/100),0)","v":0},{"$f":"IFERROR((L$6*(HLOOKUP(L$5,'Hilfsblatt Ber. Wirtsch Wirk 3'!$D$11:$BW$96,$A18,FALSE)+IF(L$5=$C18,HLOOKUP(L$5,'Hilfsblatt Ber. Wirtsch Wirk 3'!$D$11:$BX$96,87,FALSE),0))/100),0)","v":0},{"$f":"IFERROR((M$6*(HLOOKUP(M$5,'Hilfsblatt Ber. Wirtsch Wirk 3'!$D$11:$BW$96,$A18,FALSE)+IF(M$5=$C18,HLOOKUP(M$5,'Hilfsblatt Ber. Wirtsch Wirk 3'!$D$11:$BX$96,87,FALSE),0))/100),0)","v":0},{"$f":"IFERROR((N$6*(HLOOKUP(N$5,'Hilfsblatt Ber. Wirtsch Wirk 3'!$D$11:$BW$96,$A18,FALSE)+IF(N$5=$C18,HLOOKUP(N$5,'Hilfsblatt Ber. Wirtsch Wirk 3'!$D$11:$BX$96,87,FALSE),0))/100),0)","v":0},{"$f":"IFERROR((O$6*(HLOOKUP(O$5,'Hilfsblatt Ber. Wirtsch Wirk 3'!$D$11:$BW$96,$A18,FALSE)+IF(O$5=$C18,HLOOKUP(O$5,'Hilfsblatt Ber. Wirtsch Wirk 3'!$D$11:$BX$96,87,FALSE),0))/100),0)","v":0},{"$f":"IFERROR((P$6*(HLOOKUP(P$5,'Hilfsblatt Ber. Wirtsch Wirk 3'!$D$11:$BW$96,$A18,FALSE)+IF(P$5=$C18,HLOOKUP(P$5,'Hilfsblatt Ber. Wirtsch Wirk 3'!$D$11:$BX$96,87,FALSE),0))/100),0)","v":0},{"$f":"IFERROR((Q$6*(HLOOKUP(Q$5,'Hilfsblatt Ber. Wirtsch Wirk 3'!$D$11:$BW$96,$A18,FALSE)+IF(Q$5=$C18,HLOOKUP(Q$5,'Hilfsblatt Ber. Wirtsch Wirk 3'!$D$11:$BX$96,87,FALSE),0))/100),0)","v":0},{"$f":"R$6*('Hilfsblatt Ber. Wirtsch Wirk 3'!BX23+'Hilfsblatt Ber. Wirtsch Wirk 3'!BX23*'Hilfsblatt Ber. Wirtsch Wirk 3'!CA23/'Hilfsblatt Ber. Wirtsch Wirk 3'!CB23)/100","v":0},0,{"$f":"S18*'Hilfsblatt Ber. Wirtsch Wirk 3'!BZ23/('Hilfsblatt Ber. Wirtsch Wirk 3'!CA23)","v":0},{"$f":"S18/'Hilfsblatt Ber. Wirtsch Wirk 3'!CC23","v":0},{"$f":"T18*('Hilfsblatt Ber. Wirtsch Wirk 4'!B$14/'Hilfsblatt Ber. Wirtsch Wirk 4'!B$13)","v":0},{"$f":"S18*'Hilfsblatt Ber. Wirtsch Wirk 3'!CD23","v":0},null,0]
[14,{"$f":"'Hilfsblatt Ber. Wirtsch Wirk 3'!B24","v":"17"},{"$f":"'Hilfsblatt Ber. Wirtsch Wirk 3'!C24","v":"Papier, Pappe und Waren daraus"},{"$f":"IFERROR((D$6*(HLOOKUP(D$5,'Hilfsblatt Ber. Wirtsch Wirk 3'!$D$11:$BW$96,$A19,FALSE)+IF(D$5=$C19,HLOOKUP(D$5,'Hilfsblatt Ber. Wirtsch Wirk 3'!$D$11:$BX$96,87,FALSE),0))/100),0)","v":0},{"$f":"IFERROR((E$6*(HLOOKUP(E$5,'Hilfsblatt Ber. Wirtsch Wirk 3'!$D$11:$BW$96,$A19,FALSE)+IF(E$5=$C19,HLOOKUP(E$5,'Hilfsblatt Ber. Wirtsch Wirk 3'!$D$11:$BX$96,87,FALSE),0))/100),0)","v":0},{"$f":"IFERROR((F$6*(HLOOKUP(F$5,'Hilfsblatt Ber. Wirtsch Wirk 3'!$D$11:$BW$96,$A19,FALSE)+IF(F$5=$C19,HLOOKUP(F$5,'Hilfsblatt Ber. Wirtsch Wirk 3'!$D$11:$BX$96,87,FALSE),0))/100),0)","v":0},{"$f":"IFERROR((G$6*(HLOOKUP(G$5,'Hilfsblatt Ber. Wirtsch Wirk 3'!$D$11:$BW$96,$A19,FALSE)+IF(G$5=$C19,HLOOKUP(G$5,'Hilfsblatt Ber. Wirtsch Wirk 3'!$D$11:$BX$96,87,FALSE),0))/100),0)","v":0},{"$f":"IFERROR((H$6*(HLOOKUP(H$5,'Hilfsblatt Ber. Wirtsch Wirk 3'!$D$11:$BW$96,$A19,FALSE)+IF(H$5=$C19,HLOOKUP(H$5,'Hilfsblatt Ber. Wirtsch Wirk 3'!$D$11:$BX$96,87,FALSE),0))/100),0)","v":0},{"$f":"IFERROR((I$6*(HLOOKUP(I$5,'Hilfsblatt Ber. Wirtsch Wirk 3'!$D$11:$BW$96,$A19,FALSE)+IF(I$5=$C19,HLOOKUP(I$5,'Hilfsblatt Ber. Wirtsch Wirk 3'!$D$11:$BX$96,87,FALSE),0))/100),0)","v":0},{"$f":"IFERROR((J$6*(HLOOKUP(J$5,'Hilfsblatt Ber. Wirtsch Wirk 3'!$D$11:$BW$96,$A19,FALSE)+IF(J$5=$C19,HLOOKUP(J$5,'Hilfsblatt Ber. Wirtsch Wirk 3'!$D$11:$BX$96,87,FALSE),0))/100),0)","v":0},{"$f":"IFERROR((K$6*(HLOOKUP(K$5,'Hilfsblatt Ber. Wirtsch Wirk 3'!$D$11:$BW$96,$A19,FALSE)+IF(K$5=$C19,HLOOKUP(K$5,'Hilfsblatt Ber. Wirtsch Wirk 3'!$D$11:$BX$96,87,FALSE),0))/100),0)","v":0},{"$f":"IFERROR((L$6*(HLOOKUP(L$5,'Hilfsblatt Ber. Wirtsch Wirk 3'!$D$11:$BW$96,$A19,FALSE)+IF(L$5=$C19,HLOOKUP(L$5,'Hilfsblatt Ber. Wirtsch Wirk 3'!$D$11:$BX$96,87,FALSE),0))/100),0)","v":0},{"$f":"IFERROR((M$6*(HLOOKUP(M$5,'Hilfsblatt Ber. Wirtsch Wirk 3'!$D$11:$BW$96,$A19,FALSE)+IF(M$5=$C19,HLOOKUP(M$5,'Hilfsblatt Ber. Wirtsch Wirk 3'!$D$11:$BX$96,87,FALSE),0))/100),0)","v":0},{"$f":"IFERROR((N$6*(HLOOKUP(N$5,'Hilfsblatt Ber. Wirtsch Wirk 3'!$D$11:$BW$96,$A19,FALSE)+IF(N$5=$C19,HLOOKUP(N$5,'Hilfsblatt Ber. Wirtsch Wirk 3'!$D$11:$BX$96,87,FALSE),0))/100),0)","v":0},{"$f":"IFERROR((O$6*(HLOOKUP(O$5,'Hilfsblatt Ber. Wirtsch Wirk 3'!$D$11:$BW$96,$A19,FALSE)+IF(O$5=$C19,HLOOKUP(O$5,'Hilfsblatt Ber. Wirtsch Wirk 3'!$D$11:$BX$96,87,FALSE),0))/100),0)","v":0},{"$f":"IFERROR((P$6*(HLOOKUP(P$5,'Hilfsblatt Ber. Wirtsch Wirk 3'!$D$11:$BW$96,$A19,FALSE)+IF(P$5=$C19,HLOOKUP(P$5,'Hilfsblatt Ber. Wirtsch Wirk 3'!$D$11:$BX$96,87,FALSE),0))/100),0)","v":0},{"$f":"IFERROR((Q$6*(HLOOKUP(Q$5,'Hilfsblatt Ber. Wirtsch Wirk 3'!$D$11:$BW$96,$A19,FALSE)+IF(Q$5=$C19,HLOOKUP(Q$5,'Hilfsblatt Ber. Wirtsch Wirk 3'!$D$11:$BX$96,87,FALSE),0))/100),0)","v":0},{"$f":"R$6*('Hilfsblatt Ber. Wirtsch Wirk 3'!BX24+'Hilfsblatt Ber. Wirtsch Wirk 3'!BX24*'Hilfsblatt Ber. Wirtsch Wirk 3'!CA24/'Hilfsblatt Ber. Wirtsch Wirk 3'!CB24)/100","v":0},0,{"$f":"S19*'Hilfsblatt Ber. Wirtsch Wirk 3'!BZ24/('Hilfsblatt Ber. Wirtsch Wirk 3'!CA24)","v":0},{"$f":"S19/'Hilfsblatt Ber. Wirtsch Wirk 3'!CC24","v":0},{"$f":"T19*('Hilfsblatt Ber. Wirtsch Wirk 4'!B$14/'Hilfsblatt Ber. Wirtsch Wirk 4'!B$13)","v":0},{"$f":"S19*'Hilfsblatt Ber. Wirtsch Wirk 3'!CD24","v":0},null,0]
[15,{"$f":"'Hilfsblatt Ber. Wirtsch Wirk 3'!B25","v":"18"},{"$f":"'Hilfsblatt Ber. Wirtsch Wirk 3'!C25","v":"Druckereileistungen, bespielte Ton-, Bild- und Datenträger"},{"$f":"IFERROR((D$6*(HLOOKUP(D$5,'Hilfsblatt Ber. Wirtsch Wirk 3'!$D$11:$BW$96,$A20,FALSE)+IF(D$5=$C20,HLOOKUP(D$5,'Hilfsblatt Ber. Wirtsch Wirk 3'!$D$11:$BX$96,87,FALSE),0))/100),0)","v":0},{"$f":"IFERROR((E$6*(HLOOKUP(E$5,'Hilfsblatt Ber. Wirtsch Wirk 3'!$D$11:$BW$96,$A20,FALSE)+IF(E$5=$C20,HLOOKUP(E$5,'Hilfsblatt Ber. Wirtsch Wirk 3'!$D$11:$BX$96,87,FALSE),0))/100),0)","v":0},{"$f":"IFERROR((F$6*(HLOOKUP(F$5,'Hilfsblatt Ber. Wirtsch Wirk 3'!$D$11:$BW$96,$A20,FALSE)+IF(F$5=$C20,HLOOKUP(F$5,'Hilfsblatt Ber. Wirtsch Wirk 3'!$D$11:$BX$96,87,FALSE),0))/100),0)","v":0},{"$f":"IFERROR((G$6*(HLOOKUP(G$5,'Hilfsblatt Ber. Wirtsch Wirk 3'!$D$11:$BW$96,$A20,FALSE)+IF(G$5=$C20,HLOOKUP(G$5,'Hilfsblatt Ber. Wirtsch Wirk 3'!$D$11:$BX$96,87,FALSE),0))/100),0)","v":0},{"$f":"IFERROR((H$6*(HLOOKUP(H$5,'Hilfsblatt Ber. Wirtsch Wirk 3'!$D$11:$BW$96,$A20,FALSE)+IF(H$5=$C20,HLOOKUP(H$5,'Hilfsblatt Ber. Wirtsch Wirk 3'!$D$11:$BX$96,87,FALSE),0))/100),0)","v":0},{"$f":"IFERROR((I$6*(HLOOKUP(I$5,'Hilfsblatt Ber. Wirtsch Wirk 3'!$D$11:$BW$96,$A20,FALSE)+IF(I$5=$C20,HLOOKUP(I$5,'Hilfsblatt Ber. Wirtsch Wirk 3'!$D$11:$BX$96,87,FALSE),0))/100),0)","v":0},{"$f":"IFERROR((J$6*(HLOOKUP(J$5,'Hilfsblatt Ber. Wirtsch Wirk 3'!$D$11:$BW$96,$A20,FALSE)+IF(J$5=$C20,HLOOKUP(J$5,'Hilfsblatt Ber. Wirtsch Wirk 3'!$D$11:$BX$96,87,FALSE),0))/100),0)","v":0},{"$f":"IFERROR((K$6*(HLOOKUP(K$5,'Hilfsblatt Ber. Wirtsch Wirk 3'!$D$11:$BW$96,$A20,FALSE)+IF(K$5=$C20,HLOOKUP(K$5,'Hilfsblatt Ber. Wirtsch Wirk 3'!$D$11:$BX$96,87,FALSE),0))/100),0)","v":0},{"$f":"IFERROR((L$6*(HLOOKUP(L$5,'Hilfsblatt Ber. Wirtsch Wirk 3'!$D$11:$BW$96,$A20,FALSE)+IF(L$5=$C20,HLOOKUP(L$5,'Hilfsblatt Ber. Wirtsch Wirk 3'!$D$11:$BX$96,87,FALSE),0))/100),0)","v":0},{"$f":"IFERROR((M$6*(HLOOKUP(M$5,'Hilfsblatt Ber. Wirtsch Wirk 3'!$D$11:$BW$96,$A20,FALSE)+IF(M$5=$C20,HLOOKUP(M$5,'Hilfsblatt Ber. Wirtsch Wirk 3'!$D$11:$BX$96,87,FALSE),0))/100),0)","v":0},{"$f":"IFERROR((N$6*(HLOOKUP(N$5,'Hilfsblatt Ber. Wirtsch Wirk 3'!$D$11:$BW$96,$A20,FALSE)+IF(N$5=$C20,HLOOKUP(N$5,'Hilfsblatt Ber. Wirtsch Wirk 3'!$D$11:$BX$96,87,FALSE),0))/100),0)","v":0},{"$f":"IFERROR((O$6*(HLOOKUP(O$5,'Hilfsblatt Ber. Wirtsch Wirk 3'!$D$11:$BW$96,$A20,FALSE)+IF(O$5=$C20,HLOOKUP(O$5,'Hilfsblatt Ber. Wirtsch Wirk 3'!$D$11:$BX$96,87,FALSE),0))/100),0)","v":0},{"$f":"IFERROR((P$6*(HLOOKUP(P$5,'Hilfsblatt Ber. Wirtsch Wirk 3'!$D$11:$BW$96,$A20,FALSE)+IF(P$5=$C20,HLOOKUP(P$5,'Hilfsblatt Ber. Wirtsch Wirk 3'!$D$11:$BX$96,87,FALSE),0))/100),0)","v":0},{"$f":"IFERROR((Q$6*(HLOOKUP(Q$5,'Hilfsblatt Ber. Wirtsch Wirk 3'!$D$11:$BW$96,$A20,FALSE)+IF(Q$5=$C20,HLOOKUP(Q$5,'Hilfsblatt Ber. Wirtsch Wirk 3'!$D$11:$BX$96,87,FALSE),0))/100),0)","v":0},{"$f":"R$6*('Hilfsblatt Ber. Wirtsch Wirk 3'!BX25+'Hilfsblatt Ber. Wirtsch Wirk 3'!BX25*'Hilfsblatt Ber. Wirtsch Wirk 3'!CA25/'Hilfsblatt Ber. Wirtsch Wirk 3'!CB25)/100","v":0},0,{"$f":"S20*'Hilfsblatt Ber. Wirtsch Wirk 3'!BZ25/('Hilfsblatt Ber. Wirtsch Wirk 3'!CA25)","v":0},{"$f":"S20/'Hilfsblatt Ber. Wirtsch Wirk 3'!CC25","v":0},{"$f":"T20*('Hilfsblatt Ber. Wirtsch Wirk 4'!B$14/'Hilfsblatt Ber. Wirtsch Wirk 4'!B$13)","v":0},{"$f":"S20*'Hilfsblatt Ber. Wirtsch Wirk 3'!CD25","v":0},null,0]
[16,{"$f":"'Hilfsblatt Ber. Wirtsch Wirk 3'!B26","v":"19"},{"$f":"'Hilfsblatt Ber. Wirtsch Wirk 3'!C26","v":"Kokerei- und Mineralölerzeugnisse"},{"$f":"IFERROR((D$6*(HLOOKUP(D$5,'Hilfsblatt Ber. Wirtsch Wirk 3'!$D$11:$BW$96,$A21,FALSE)+IF(D$5=$C21,HLOOKUP(D$5,'Hilfsblatt Ber. Wirtsch Wirk 3'!$D$11:$BX$96,87,FALSE),0))/100),0)","v":0},{"$f":"IFERROR((E$6*(HLOOKUP(E$5,'Hilfsblatt Ber. Wirtsch Wirk 3'!$D$11:$BW$96,$A21,FALSE)+IF(E$5=$C21,HLOOKUP(E$5,'Hilfsblatt Ber. Wirtsch Wirk 3'!$D$11:$BX$96,87,FALSE),0))/100),0)","v":0},{"$f":"IFERROR((F$6*(HLOOKUP(F$5,'Hilfsblatt Ber. Wirtsch Wirk 3'!$D$11:$BW$96,$A21,FALSE)+IF(F$5=$C21,HLOOKUP(F$5,'Hilfsblatt Ber. Wirtsch Wirk 3'!$D$11:$BX$96,87,FALSE),0))/100),0)","v":0},{"$f":"IFERROR((G$6*(HLOOKUP(G$5,'Hilfsblatt Ber. Wirtsch Wirk 3'!$D$11:$BW$96,$A21,FALSE)+IF(G$5=$C21,HLOOKUP(G$5,'Hilfsblatt Ber. Wirtsch Wirk 3'!$D$11:$BX$96,87,FALSE),0))/100),0)","v":0},{"$f":"IFERROR((H$6*(HLOOKUP(H$5,'Hilfsblatt Ber. Wirtsch Wirk 3'!$D$11:$BW$96,$A21,FALSE)+IF(H$5=$C21,HLOOKUP(H$5,'Hilfsblatt Ber. Wirtsch Wirk 3'!$D$11:$BX$96,87,FALSE),0))/100),0)","v":0},{"$f":"IFERROR((I$6*(HLOOKUP(I$5,'Hilfsblatt Ber. Wirtsch Wirk 3'!$D$11:$BW$96,$A21,FALSE)+IF(I$5=$C21,HLOOKUP(I$5,'Hilfsblatt Ber. Wirtsch Wirk 3'!$D$11:$BX$96,87,FALSE),0))/100),0)","v":0},{"$f":"IFERROR((J$6*(HLOOKUP(J$5,'Hilfsblatt Ber. Wirtsch Wirk 3'!$D$11:$BW$96,$A21,FALSE)+IF(J$5=$C21,HLOOKUP(J$5,'Hilfsblatt Ber. Wirtsch Wirk 3'!$D$11:$BX$96,87,FALSE),0))/100),0)","v":0},{"$f":"IFERROR((K$6*(HLOOKUP(K$5,'Hilfsblatt Ber. Wirtsch Wirk 3'!$D$11:$BW$96,$A21,FALSE)+IF(K$5=$C21,HLOOKUP(K$5,'Hilfsblatt Ber. Wirtsch Wirk 3'!$D$11:$BX$96,87,FALSE),0))/100),0)","v":0},{"$f":"IFERROR((L$6*(HLOOKUP(L$5,'Hilfsblatt Ber. Wirtsch Wirk 3'!$D$11:$BW$96,$A21,FALSE)+IF(L$5=$C21,HLOOKUP(L$5,'Hilfsblatt Ber. Wirtsch Wirk 3'!$D$11:$BX$96,87,FALSE),0))/100),0)","v":0},{"$f":"IFERROR((M$6*(HLOOKUP(M$5,'Hilfsblatt Ber. Wirtsch Wirk 3'!$D$11:$BW$96,$A21,FALSE)+IF(M$5=$C21,HLOOKUP(M$5,'Hilfsblatt Ber. Wirtsch Wirk 3'!$D$11:$BX$96,87,FALSE),0))/100),0)","v":0},{"$f":"IFERROR((N$6*(HLOOKUP(N$5,'Hilfsblatt Ber. Wirtsch Wirk 3'!$D$11:$BW$96,$A21,FALSE)+IF(N$5=$C21,HLOOKUP(N$5,'Hilfsblatt Ber. Wirtsch Wirk 3'!$D$11:$BX$96,87,FALSE),0))/100),0)","v":0},{"$f":"IFERROR((O$6*(HLOOKUP(O$5,'Hilfsblatt Ber. Wirtsch Wirk 3'!$D$11:$BW$96,$A21,FALSE)+IF(O$5=$C21,HLOOKUP(O$5,'Hilfsblatt Ber. Wirtsch Wirk 3'!$D$11:$BX$96,87,FALSE),0))/100),0)","v":0},{"$f":"IFERROR((P$6*(HLOOKUP(P$5,'Hilfsblatt Ber. Wirtsch Wirk 3'!$D$11:$BW$96,$A21,FALSE)+IF(P$5=$C21,HLOOKUP(P$5,'Hilfsblatt Ber. Wirtsch Wirk 3'!$D$11:$BX$96,87,FALSE),0))/100),0)","v":0},{"$f":"IFERROR((Q$6*(HLOOKUP(Q$5,'Hilfsblatt Ber. Wirtsch Wirk 3'!$D$11:$BW$96,$A21,FALSE)+IF(Q$5=$C21,HLOOKUP(Q$5,'Hilfsblatt Ber. Wirtsch Wirk 3'!$D$11:$BX$96,87,FALSE),0))/100),0)","v":0},{"$f":"R$6*('Hilfsblatt Ber. Wirtsch Wirk 3'!BX26+'Hilfsblatt Ber. Wirtsch Wirk 3'!BX26*'Hilfsblatt Ber. Wirtsch Wirk 3'!CA26/'Hilfsblatt Ber. Wirtsch Wirk 3'!CB26)/100","v":0},0,{"$f":"S21*'Hilfsblatt Ber. Wirtsch Wirk 3'!BZ26/('Hilfsblatt Ber. Wirtsch Wirk 3'!CA26)","v":0},{"$f":"S21/'Hilfsblatt Ber. Wirtsch Wirk 3'!CC26","v":0},{"$f":"T21*('Hilfsblatt Ber. Wirtsch Wirk 4'!B$14/'Hilfsblatt Ber. Wirtsch Wirk 4'!B$13)","v":0},{"$f":"S21*'Hilfsblatt Ber. Wirtsch Wirk 3'!CD26","v":0},null,0]
[17,{"$f":"'Hilfsblatt Ber. Wirtsch Wirk 3'!B27","v":"20"},{"$f":"'Hilfsblatt Ber. Wirtsch Wirk 3'!C27","v":"Chemische Erzeugnisse "},{"$f":"IFERROR((D$6*(HLOOKUP(D$5,'Hilfsblatt Ber. Wirtsch Wirk 3'!$D$11:$BW$96,$A22,FALSE)+IF(D$5=$C22,HLOOKUP(D$5,'Hilfsblatt Ber. Wirtsch Wirk 3'!$D$11:$BX$96,87,FALSE),0))/100),0)","v":0},{"$f":"IFERROR((E$6*(HLOOKUP(E$5,'Hilfsblatt Ber. Wirtsch Wirk 3'!$D$11:$BW$96,$A22,FALSE)+IF(E$5=$C22,HLOOKUP(E$5,'Hilfsblatt Ber. Wirtsch Wirk 3'!$D$11:$BX$96,87,FALSE),0))/100),0)","v":0},{"$f":"IFERROR((F$6*(HLOOKUP(F$5,'Hilfsblatt Ber. Wirtsch Wirk 3'!$D$11:$BW$96,$A22,FALSE)+IF(F$5=$C22,HLOOKUP(F$5,'Hilfsblatt Ber. Wirtsch Wirk 3'!$D$11:$BX$96,87,FALSE),0))/100),0)","v":0},{"$f":"IFERROR((G$6*(HLOOKUP(G$5,'Hilfsblatt Ber. Wirtsch Wirk 3'!$D$11:$BW$96,$A22,FALSE)+IF(G$5=$C22,HLOOKUP(G$5,'Hilfsblatt Ber. Wirtsch Wirk 3'!$D$11:$BX$96,87,FALSE),0))/100),0)","v":0},{"$f":"IFERROR((H$6*(HLOOKUP(H$5,'Hilfsblatt Ber. Wirtsch Wirk 3'!$D$11:$BW$96,$A22,FALSE)+IF(H$5=$C22,HLOOKUP(H$5,'Hilfsblatt Ber. Wirtsch Wirk 3'!$D$11:$BX$96,87,FALSE),0))/100),0)","v":0},{"$f":"IFERROR((I$6*(HLOOKUP(I$5,'Hilfsblatt Ber. Wirtsch Wirk 3'!$D$11:$BW$96,$A22,FALSE)+IF(I$5=$C22,HLOOKUP(I$5,'Hilfsblatt Ber. Wirtsch Wirk 3'!$D$11:$BX$96,87,FALSE),0))/100),0)","v":0},{"$f":"IFERROR((J$6*(HLOOKUP(J$5,'Hilfsblatt Ber. Wirtsch Wirk 3'!$D$11:$BW$96,$A22,FALSE)+IF(J$5=$C22,HLOOKUP(J$5,'Hilfsblatt Ber. Wirtsch Wirk 3'!$D$11:$BX$96,87,FALSE),0))/100),0)","v":0},{"$f":"IFERROR((K$6*(HLOOKUP(K$5,'Hilfsblatt Ber. Wirtsch Wirk 3'!$D$11:$BW$96,$A22,FALSE)+IF(K$5=$C22,HLOOKUP(K$5,'Hilfsblatt Ber. Wirtsch Wirk 3'!$D$11:$BX$96,87,FALSE),0))/100),0)","v":0},{"$f":"IFERROR((L$6*(HLOOKUP(L$5,'Hilfsblatt Ber. Wirtsch Wirk 3'!$D$11:$BW$96,$A22,FALSE)+IF(L$5=$C22,HLOOKUP(L$5,'Hilfsblatt Ber. Wirtsch Wirk 3'!$D$11:$BX$96,87,FALSE),0))/100),0)","v":0},{"$f":"IFERROR((M$6*(HLOOKUP(M$5,'Hilfsblatt Ber. Wirtsch Wirk 3'!$D$11:$BW$96,$A22,FALSE)+IF(M$5=$C22,HLOOKUP(M$5,'Hilfsblatt Ber. Wirtsch Wirk 3'!$D$11:$BX$96,87,FALSE),0))/100),0)","v":0},{"$f":"IFERROR((N$6*(HLOOKUP(N$5,'Hilfsblatt Ber. Wirtsch Wirk 3'!$D$11:$BW$96,$A22,FALSE)+IF(N$5=$C22,HLOOKUP(N$5,'Hilfsblatt Ber. Wirtsch Wirk 3'!$D$11:$BX$96,87,FALSE),0))/100),0)","v":0},{"$f":"IFERROR((O$6*(HLOOKUP(O$5,'Hilfsblatt Ber. Wirtsch Wirk 3'!$D$11:$BW$96,$A22,FALSE)+IF(O$5=$C22,HLOOKUP(O$5,'Hilfsblatt Ber. Wirtsch Wirk 3'!$D$11:$BX$96,87,FALSE),0))/100),0)","v":0},{"$f":"IFERROR((P$6*(HLOOKUP(P$5,'Hilfsblatt Ber. Wirtsch Wirk 3'!$D$11:$BW$96,$A22,FALSE)+IF(P$5=$C22,HLOOKUP(P$5,'Hilfsblatt Ber. Wirtsch Wirk 3'!$D$11:$BX$96,87,FALSE),0))/100),0)","v":0},{"$f":"IFERROR((Q$6*(HLOOKUP(Q$5,'Hilfsblatt Ber. Wirtsch Wirk 3'!$D$11:$BW$96,$A22,FALSE)+IF(Q$5=$C22,HLOOKUP(Q$5,'Hilfsblatt Ber. Wirtsch Wirk 3'!$D$11:$BX$96,87,FALSE),0))/100),0)","v":0},{"$f":"R$6*('Hilfsblatt Ber. Wirtsch Wirk 3'!BX27+'Hilfsblatt Ber. Wirtsch Wirk 3'!BX27*'Hilfsblatt Ber. Wirtsch Wirk 3'!CA27/'Hilfsblatt Ber. Wirtsch Wirk 3'!CB27)/100","v":0},0,{"$f":"S22*'Hilfsblatt Ber. Wirtsch Wirk 3'!BZ27/('Hilfsblatt Ber. Wirtsch Wirk 3'!CA27)","v":0},{"$f":"S22/'Hilfsblatt Ber. Wirtsch Wirk 3'!CC27","v":0},{"$f":"T22*('Hilfsblatt Ber. Wirtsch Wirk 4'!B$14/'Hilfsblatt Ber. Wirtsch Wirk 4'!B$13)","v":0},{"$f":"S22*'Hilfsblatt Ber. Wirtsch Wirk 3'!CD27","v":0},null,0]
[18,{"$f":"'Hilfsblatt Ber. Wirtsch Wirk 3'!B28","v":"21"},{"$f":"'Hilfsblatt Ber. Wirtsch Wirk 3'!C28","v":"Pharmazeutische Erzeugnisse "},{"$f":"IFERROR((D$6*(HLOOKUP(D$5,'Hilfsblatt Ber. Wirtsch Wirk 3'!$D$11:$BW$96,$A23,FALSE)+IF(D$5=$C23,HLOOKUP(D$5,'Hilfsblatt Ber. Wirtsch Wirk 3'!$D$11:$BX$96,87,FALSE),0))/100),0)","v":0},{"$f":"IFERROR((E$6*(HLOOKUP(E$5,'Hilfsblatt Ber. Wirtsch Wirk 3'!$D$11:$BW$96,$A23,FALSE)+IF(E$5=$C23,HLOOKUP(E$5,'Hilfsblatt Ber. Wirtsch Wirk 3'!$D$11:$BX$96,87,FALSE),0))/100),0)","v":0},{"$f":"IFERROR((F$6*(HLOOKUP(F$5,'Hilfsblatt Ber. Wirtsch Wirk 3'!$D$11:$BW$96,$A23,FALSE)+IF(F$5=$C23,HLOOKUP(F$5,'Hilfsblatt Ber. Wirtsch Wirk 3'!$D$11:$BX$96,87,FALSE),0))/100),0)","v":0},{"$f":"IFERROR((G$6*(HLOOKUP(G$5,'Hilfsblatt Ber. Wirtsch Wirk 3'!$D$11:$BW$96,$A23,FALSE)+IF(G$5=$C23,HLOOKUP(G$5,'Hilfsblatt Ber. Wirtsch Wirk 3'!$D$11:$BX$96,87,FALSE),0))/100),0)","v":0},{"$f":"IFERROR((H$6*(HLOOKUP(H$5,'Hilfsblatt Ber. Wirtsch Wirk 3'!$D$11:$BW$96,$A23,FALSE)+IF(H$5=$C23,HLOOKUP(H$5,'Hilfsblatt Ber. Wirtsch Wirk 3'!$D$11:$BX$96,87,FALSE),0))/100),0)","v":0},{"$f":"IFERROR((I$6*(HLOOKUP(I$5,'Hilfsblatt Ber. Wirtsch Wirk 3'!$D$11:$BW$96,$A23,FALSE)+IF(I$5=$C23,HLOOKUP(I$5,'Hilfsblatt Ber. Wirtsch Wirk 3'!$D$11:$BX$96,87,FALSE),0))/100),0)","v":0},{"$f":"IFERROR((J$6*(HLOOKUP(J$5,'Hilfsblatt Ber. Wirtsch Wirk 3'!$D$11:$BW$96,$A23,FALSE)+IF(J$5=$C23,HLOOKUP(J$5,'Hilfsblatt Ber. Wirtsch Wirk 3'!$D$11:$BX$96,87,FALSE),0))/100),0)","v":0},{"$f":"IFERROR((K$6*(HLOOKUP(K$5,'Hilfsblatt Ber. Wirtsch Wirk 3'!$D$11:$BW$96,$A23,FALSE)+IF(K$5=$C23,HLOOKUP(K$5,'Hilfsblatt Ber. Wirtsch Wirk 3'!$D$11:$BX$96,87,FALSE),0))/100),0)","v":0},{"$f":"IFERROR((L$6*(HLOOKUP(L$5,'Hilfsblatt Ber. Wirtsch Wirk 3'!$D$11:$BW$96,$A23,FALSE)+IF(L$5=$C23,HLOOKUP(L$5,'Hilfsblatt Ber. Wirtsch Wirk 3'!$D$11:$BX$96,87,FALSE),0))/100),0)","v":0},{"$f":"IFERROR((M$6*(HLOOKUP(M$5,'Hilfsblatt Ber. Wirtsch Wirk 3'!$D$11:$BW$96,$A23,FALSE)+IF(M$5=$C23,HLOOKUP(M$5,'Hilfsblatt Ber. Wirtsch Wirk 3'!$D$11:$BX$96,87,FALSE),0))/100),0)","v":0},{"$f":"IFERROR((N$6*(HLOOKUP(N$5,'Hilfsblatt Ber. Wirtsch Wirk 3'!$D$11:$BW$96,$A23,FALSE)+IF(N$5=$C23,HLOOKUP(N$5,'Hilfsblatt Ber. Wirtsch Wirk 3'!$D$11:$BX$96,87,FALSE),0))/100),0)","v":0},{"$f":"IFERROR((O$6*(HLOOKUP(O$5,'Hilfsblatt Ber. Wirtsch Wirk 3'!$D$11:$BW$96,$A23,FALSE)+IF(O$5=$C23,HLOOKUP(O$5,'Hilfsblatt Ber. Wirtsch Wirk 3'!$D$11:$BX$96,87,FALSE),0))/100),0)","v":0},{"$f":"IFERROR((P$6*(HLOOKUP(P$5,'Hilfsblatt Ber. Wirtsch Wirk 3'!$D$11:$BW$96,$A23,FALSE)+IF(P$5=$C23,HLOOKUP(P$5,'Hilfsblatt Ber. Wirtsch Wirk 3'!$D$11:$BX$96,87,FALSE),0))/100),0)","v":0},{"$f":"IFERROR((Q$6*(HLOOKUP(Q$5,'Hilfsblatt Ber. Wirtsch Wirk 3'!$D$11:$BW$96,$A23,FALSE)+IF(Q$5=$C23,HLOOKUP(Q$5,'Hilfsblatt Ber. Wirtsch Wirk 3'!$D$11:$BX$96,87,FALSE),0))/100),0)","v":0},{"$f":"R$6*('Hilfsblatt Ber. Wirtsch Wirk 3'!BX28+'Hilfsblatt Ber. Wirtsch Wirk 3'!BX28*'Hilfsblatt Ber. Wirtsch Wirk 3'!CA28/'Hilfsblatt Ber. Wirtsch Wirk 3'!CB28)/100","v":0},0,{"$f":"S23*'Hilfsblatt Ber. Wirtsch Wirk 3'!BZ28/('Hilfsblatt Ber. Wirtsch Wirk 3'!CA28)","v":0},{"$f":"S23/'Hilfsblatt Ber. Wirtsch Wirk 3'!CC28","v":0},{"$f":"T23*('Hilfsblatt Ber. Wirtsch Wirk 4'!B$14/'Hilfsblatt Ber. Wirtsch Wirk 4'!B$13)","v":0},{"$f":"S23*'Hilfsblatt Ber. Wirtsch Wirk 3'!CD28","v":0},null,0]
[19,{"$f":"'Hilfsblatt Ber. Wirtsch Wirk 3'!B29","v":"22"},{"$f":"'Hilfsblatt Ber. Wirtsch Wirk 3'!C29","v":"Gummi- und Kunststoffwaren"},{"$f":"IFERROR((D$6*(HLOOKUP(D$5,'Hilfsblatt Ber. Wirtsch Wirk 3'!$D$11:$BW$96,$A24,FALSE)+IF(D$5=$C24,HLOOKUP(D$5,'Hilfsblatt Ber. Wirtsch Wirk 3'!$D$11:$BX$96,87,FALSE),0))/100),0)","v":0},{"$f":"IFERROR((E$6*(HLOOKUP(E$5,'Hilfsblatt Ber. Wirtsch Wirk 3'!$D$11:$BW$96,$A24,FALSE)+IF(E$5=$C24,HLOOKUP(E$5,'Hilfsblatt Ber. Wirtsch Wirk 3'!$D$11:$BX$96,87,FALSE),0))/100),0)","v":0},{"$f":"IFERROR((F$6*(HLOOKUP(F$5,'Hilfsblatt Ber. Wirtsch Wirk 3'!$D$11:$BW$96,$A24,FALSE)+IF(F$5=$C24,HLOOKUP(F$5,'Hilfsblatt Ber. Wirtsch Wirk 3'!$D$11:$BX$96,87,FALSE),0))/100),0)","v":0},{"$f":"IFERROR((G$6*(HLOOKUP(G$5,'Hilfsblatt Ber. Wirtsch Wirk 3'!$D$11:$BW$96,$A24,FALSE)+IF(G$5=$C24,HLOOKUP(G$5,'Hilfsblatt Ber. Wirtsch Wirk 3'!$D$11:$BX$96,87,FALSE),0))/100),0)","v":0},{"$f":"IFERROR((H$6*(HLOOKUP(H$5,'Hilfsblatt Ber. Wirtsch Wirk 3'!$D$11:$BW$96,$A24,FALSE)+IF(H$5=$C24,HLOOKUP(H$5,'Hilfsblatt Ber. Wirtsch Wirk 3'!$D$11:$BX$96,87,FALSE),0))/100),0)","v":0},{"$f":"IFERROR((I$6*(HLOOKUP(I$5,'Hilfsblatt Ber. Wirtsch Wirk 3'!$D$11:$BW$96,$A24,FALSE)+IF(I$5=$C24,HLOOKUP(I$5,'Hilfsblatt Ber. Wirtsch Wirk 3'!$D$11:$BX$96,87,FALSE),0))/100),0)","v":0},{"$f":"IFERROR((J$6*(HLOOKUP(J$5,'Hilfsblatt Ber. Wirtsch Wirk 3'!$D$11:$BW$96,$A24,FALSE)+IF(J$5=$C24,HLOOKUP(J$5,'Hilfsblatt Ber. Wirtsch Wirk 3'!$D$11:$BX$96,87,FALSE),0))/100),0)","v":0},{"$f":"IFERROR((K$6*(HLOOKUP(K$5,'Hilfsblatt Ber. Wirtsch Wirk 3'!$D$11:$BW$96,$A24,FALSE)+IF(K$5=$C24,HLOOKUP(K$5,'Hilfsblatt Ber. Wirtsch Wirk 3'!$D$11:$BX$96,87,FALSE),0))/100),0)","v":0},{"$f":"IFERROR((L$6*(HLOOKUP(L$5,'Hilfsblatt Ber. Wirtsch Wirk 3'!$D$11:$BW$96,$A24,FALSE)+IF(L$5=$C24,HLOOKUP(L$5,'Hilfsblatt Ber. Wirtsch Wirk 3'!$D$11:$BX$96,87,FALSE),0))/100),0)","v":0},{"$f":"IFERROR((M$6*(HLOOKUP(M$5,'Hilfsblatt Ber. Wirtsch Wirk 3'!$D$11:$BW$96,$A24,FALSE)+IF(M$5=$C24,HLOOKUP(M$5,'Hilfsblatt Ber. Wirtsch Wirk 3'!$D$11:$BX$96,87,FALSE),0))/100),0)","v":0},{"$f":"IFERROR((N$6*(HLOOKUP(N$5,'Hilfsblatt Ber. Wirtsch Wirk 3'!$D$11:$BW$96,$A24,FALSE)+IF(N$5=$C24,HLOOKUP(N$5,'Hilfsblatt Ber. Wirtsch Wirk 3'!$D$11:$BX$96,87,FALSE),0))/100),0)","v":0},{"$f":"IFERROR((O$6*(HLOOKUP(O$5,'Hilfsblatt Ber. Wirtsch Wirk 3'!$D$11:$BW$96,$A24,FALSE)+IF(O$5=$C24,HLOOKUP(O$5,'Hilfsblatt Ber. Wirtsch Wirk 3'!$D$11:$BX$96,87,FALSE),0))/100),0)","v":0},{"$f":"IFERROR((P$6*(HLOOKUP(P$5,'Hilfsblatt Ber. Wirtsch Wirk 3'!$D$11:$BW$96,$A24,FALSE)+IF(P$5=$C24,HLOOKUP(P$5,'Hilfsblatt Ber. Wirtsch Wirk 3'!$D$11:$BX$96,87,FALSE),0))/100),0)","v":0},{"$f":"IFERROR((Q$6*(HLOOKUP(Q$5,'Hilfsblatt Ber. Wirtsch Wirk 3'!$D$11:$BW$96,$A24,FALSE)+IF(Q$5=$C24,HLOOKUP(Q$5,'Hilfsblatt Ber. Wirtsch Wirk 3'!$D$11:$BX$96,87,FALSE),0))/100),0)","v":0},{"$f":"R$6*('Hilfsblatt Ber. Wirtsch Wirk 3'!BX29+'Hilfsblatt Ber. Wirtsch Wirk 3'!BX29*'Hilfsblatt Ber. Wirtsch Wirk 3'!CA29/'Hilfsblatt Ber. Wirtsch Wirk 3'!CB29)/100","v":0},0,{"$f":"S24*'Hilfsblatt Ber. Wirtsch Wirk 3'!BZ29/('Hilfsblatt Ber. Wirtsch Wirk 3'!CA29)","v":0},{"$f":"S24/'Hilfsblatt Ber. Wirtsch Wirk 3'!CC29","v":0},{"$f":"T24*('Hilfsblatt Ber. Wirtsch Wirk 4'!B$14/'Hilfsblatt Ber. Wirtsch Wirk 4'!B$13)","v":0},{"$f":"S24*'Hilfsblatt Ber. Wirtsch Wirk 3'!CD29","v":0},null,0]
[20,{"$f":"'Hilfsblatt Ber. Wirtsch Wirk 3'!B30","v":"23.1"},{"$f":"'Hilfsblatt Ber. Wirtsch Wirk 3'!C30","v":"Glas und Glaswaren"},{"$f":"IFERROR((D$6*(HLOOKUP(D$5,'Hilfsblatt Ber. Wirtsch Wirk 3'!$D$11:$BW$96,$A25,FALSE)+IF(D$5=$C25,HLOOKUP(D$5,'Hilfsblatt Ber. Wirtsch Wirk 3'!$D$11:$BX$96,87,FALSE),0))/100),0)","v":0},{"$f":"IFERROR((E$6*(HLOOKUP(E$5,'Hilfsblatt Ber. Wirtsch Wirk 3'!$D$11:$BW$96,$A25,FALSE)+IF(E$5=$C25,HLOOKUP(E$5,'Hilfsblatt Ber. Wirtsch Wirk 3'!$D$11:$BX$96,87,FALSE),0))/100),0)","v":0},{"$f":"IFERROR((F$6*(HLOOKUP(F$5,'Hilfsblatt Ber. Wirtsch Wirk 3'!$D$11:$BW$96,$A25,FALSE)+IF(F$5=$C25,HLOOKUP(F$5,'Hilfsblatt Ber. Wirtsch Wirk 3'!$D$11:$BX$96,87,FALSE),0))/100),0)","v":0},{"$f":"IFERROR((G$6*(HLOOKUP(G$5,'Hilfsblatt Ber. Wirtsch Wirk 3'!$D$11:$BW$96,$A25,FALSE)+IF(G$5=$C25,HLOOKUP(G$5,'Hilfsblatt Ber. Wirtsch Wirk 3'!$D$11:$BX$96,87,FALSE),0))/100),0)","v":0},{"$f":"IFERROR((H$6*(HLOOKUP(H$5,'Hilfsblatt Ber. Wirtsch Wirk 3'!$D$11:$BW$96,$A25,FALSE)+IF(H$5=$C25,HLOOKUP(H$5,'Hilfsblatt Ber. Wirtsch Wirk 3'!$D$11:$BX$96,87,FALSE),0))/100),0)","v":0},{"$f":"IFERROR((I$6*(HLOOKUP(I$5,'Hilfsblatt Ber. Wirtsch Wirk 3'!$D$11:$BW$96,$A25,FALSE)+IF(I$5=$C25,HLOOKUP(I$5,'Hilfsblatt Ber. Wirtsch Wirk 3'!$D$11:$BX$96,87,FALSE),0))/100),0)","v":0},{"$f":"IFERROR((J$6*(HLOOKUP(J$5,'Hilfsblatt Ber. Wirtsch Wirk 3'!$D$11:$BW$96,$A25,FALSE)+IF(J$5=$C25,HLOOKUP(J$5,'Hilfsblatt Ber. Wirtsch Wirk 3'!$D$11:$BX$96,87,FALSE),0))/100),0)","v":0},{"$f":"IFERROR((K$6*(HLOOKUP(K$5,'Hilfsblatt Ber. Wirtsch Wirk 3'!$D$11:$BW$96,$A25,FALSE)+IF(K$5=$C25,HLOOKUP(K$5,'Hilfsblatt Ber. Wirtsch Wirk 3'!$D$11:$BX$96,87,FALSE),0))/100),0)","v":0},{"$f":"IFERROR((L$6*(HLOOKUP(L$5,'Hilfsblatt Ber. Wirtsch Wirk 3'!$D$11:$BW$96,$A25,FALSE)+IF(L$5=$C25,HLOOKUP(L$5,'Hilfsblatt Ber. Wirtsch Wirk 3'!$D$11:$BX$96,87,FALSE),0))/100),0)","v":0},{"$f":"IFERROR((M$6*(HLOOKUP(M$5,'Hilfsblatt Ber. Wirtsch Wirk 3'!$D$11:$BW$96,$A25,FALSE)+IF(M$5=$C25,HLOOKUP(M$5,'Hilfsblatt Ber. Wirtsch Wirk 3'!$D$11:$BX$96,87,FALSE),0))/100),0)","v":0},{"$f":"IFERROR((N$6*(HLOOKUP(N$5,'Hilfsblatt Ber. Wirtsch Wirk 3'!$D$11:$BW$96,$A25,FALSE)+IF(N$5=$C25,HLOOKUP(N$5,'Hilfsblatt Ber. Wirtsch Wirk 3'!$D$11:$BX$96,87,FALSE),0))/100),0)","v":0},{"$f":"IFERROR((O$6*(HLOOKUP(O$5,'Hilfsblatt Ber. Wirtsch Wirk 3'!$D$11:$BW$96,$A25,FALSE)+IF(O$5=$C25,HLOOKUP(O$5,'Hilfsblatt Ber. Wirtsch Wirk 3'!$D$11:$BX$96,87,FALSE),0))/100),0)","v":0},{"$f":"IFERROR((P$6*(HLOOKUP(P$5,'Hilfsblatt Ber. Wirtsch Wirk 3'!$D$11:$BW$96,$A25,FALSE)+IF(P$5=$C25,HLOOKUP(P$5,'Hilfsblatt Ber. Wirtsch Wirk 3'!$D$11:$BX$96,87,FALSE),0))/100),0)","v":0},{"$f":"IFERROR((Q$6*(HLOOKUP(Q$5,'Hilfsblatt Ber. Wirtsch Wirk 3'!$D$11:$BW$96,$A25,FALSE)+IF(Q$5=$C25,HLOOKUP(Q$5,'Hilfsblatt Ber. Wirtsch Wirk 3'!$D$11:$BX$96,87,FALSE),0))/100),0)","v":0},{"$f":"R$6*('Hilfsblatt Ber. Wirtsch Wirk 3'!BX30+'Hilfsblatt Ber. Wirtsch Wirk 3'!BX30*'Hilfsblatt Ber. Wirtsch Wirk 3'!CA30/'Hilfsblatt Ber. Wirtsch Wirk 3'!CB30)/100","v":0},0,{"$f":"S25*'Hilfsblatt Ber. Wirtsch Wirk 3'!BZ30/('Hilfsblatt Ber. Wirtsch Wirk 3'!CA30)","v":0},{"$f":"S25/'Hilfsblatt Ber. Wirtsch Wirk 3'!CC30","v":0},{"$f":"T25*('Hilfsblatt Ber. Wirtsch Wirk 4'!B$14/'Hilfsblatt Ber. Wirtsch Wirk 4'!B$13)","v":0},{"$f":"S25*'Hilfsblatt Ber. Wirtsch Wirk 3'!CD30","v":0},null,0]
[21,{"$f":"'Hilfsblatt Ber. Wirtsch Wirk 3'!B31","v":"23.2-23.9"},{"$f":"'Hilfsblatt Ber. Wirtsch Wirk 3'!C31","v":"Keramik, bearbeitete Steine und Erden"},{"$f":"IFERROR((D$6*(HLOOKUP(D$5,'Hilfsblatt Ber. Wirtsch Wirk 3'!$D$11:$BW$96,$A26,FALSE)+IF(D$5=$C26,HLOOKUP(D$5,'Hilfsblatt Ber. Wirtsch Wirk 3'!$D$11:$BX$96,87,FALSE),0))/100),0)","v":0},{"$f":"IFERROR((E$6*(HLOOKUP(E$5,'Hilfsblatt Ber. Wirtsch Wirk 3'!$D$11:$BW$96,$A26,FALSE)+IF(E$5=$C26,HLOOKUP(E$5,'Hilfsblatt Ber. Wirtsch Wirk 3'!$D$11:$BX$96,87,FALSE),0))/100),0)","v":0},{"$f":"IFERROR((F$6*(HLOOKUP(F$5,'Hilfsblatt Ber. Wirtsch Wirk 3'!$D$11:$BW$96,$A26,FALSE)+IF(F$5=$C26,HLOOKUP(F$5,'Hilfsblatt Ber. Wirtsch Wirk 3'!$D$11:$BX$96,87,FALSE),0))/100),0)","v":0},{"$f":"IFERROR((G$6*(HLOOKUP(G$5,'Hilfsblatt Ber. Wirtsch Wirk 3'!$D$11:$BW$96,$A26,FALSE)+IF(G$5=$C26,HLOOKUP(G$5,'Hilfsblatt Ber. Wirtsch Wirk 3'!$D$11:$BX$96,87,FALSE),0))/100),0)","v":0},{"$f":"IFERROR((H$6*(HLOOKUP(H$5,'Hilfsblatt Ber. Wirtsch Wirk 3'!$D$11:$BW$96,$A26,FALSE)+IF(H$5=$C26,HLOOKUP(H$5,'Hilfsblatt Ber. Wirtsch Wirk 3'!$D$11:$BX$96,87,FALSE),0))/100),0)","v":0},{"$f":"IFERROR((I$6*(HLOOKUP(I$5,'Hilfsblatt Ber. Wirtsch Wirk 3'!$D$11:$BW$96,$A26,FALSE)+IF(I$5=$C26,HLOOKUP(I$5,'Hilfsblatt Ber. Wirtsch Wirk 3'!$D$11:$BX$96,87,FALSE),0))/100),0)","v":0},{"$f":"IFERROR((J$6*(HLOOKUP(J$5,'Hilfsblatt Ber. Wirtsch Wirk 3'!$D$11:$BW$96,$A26,FALSE)+IF(J$5=$C26,HLOOKUP(J$5,'Hilfsblatt Ber. Wirtsch Wirk 3'!$D$11:$BX$96,87,FALSE),0))/100),0)","v":0},{"$f":"IFERROR((K$6*(HLOOKUP(K$5,'Hilfsblatt Ber. Wirtsch Wirk 3'!$D$11:$BW$96,$A26,FALSE)+IF(K$5=$C26,HLOOKUP(K$5,'Hilfsblatt Ber. Wirtsch Wirk 3'!$D$11:$BX$96,87,FALSE),0))/100),0)","v":0},{"$f":"IFERROR((L$6*(HLOOKUP(L$5,'Hilfsblatt Ber. Wirtsch Wirk 3'!$D$11:$BW$96,$A26,FALSE)+IF(L$5=$C26,HLOOKUP(L$5,'Hilfsblatt Ber. Wirtsch Wirk 3'!$D$11:$BX$96,87,FALSE),0))/100),0)","v":0},{"$f":"IFERROR((M$6*(HLOOKUP(M$5,'Hilfsblatt Ber. Wirtsch Wirk 3'!$D$11:$BW$96,$A26,FALSE)+IF(M$5=$C26,HLOOKUP(M$5,'Hilfsblatt Ber. Wirtsch Wirk 3'!$D$11:$BX$96,87,FALSE),0))/100),0)","v":0},{"$f":"IFERROR((N$6*(HLOOKUP(N$5,'Hilfsblatt Ber. Wirtsch Wirk 3'!$D$11:$BW$96,$A26,FALSE)+IF(N$5=$C26,HLOOKUP(N$5,'Hilfsblatt Ber. Wirtsch Wirk 3'!$D$11:$BX$96,87,FALSE),0))/100),0)","v":0},{"$f":"IFERROR((O$6*(HLOOKUP(O$5,'Hilfsblatt Ber. Wirtsch Wirk 3'!$D$11:$BW$96,$A26,FALSE)+IF(O$5=$C26,HLOOKUP(O$5,'Hilfsblatt Ber. Wirtsch Wirk 3'!$D$11:$BX$96,87,FALSE),0))/100),0)","v":0},{"$f":"IFERROR((P$6*(HLOOKUP(P$5,'Hilfsblatt Ber. Wirtsch Wirk 3'!$D$11:$BW$96,$A26,FALSE)+IF(P$5=$C26,HLOOKUP(P$5,'Hilfsblatt Ber. Wirtsch Wirk 3'!$D$11:$BX$96,87,FALSE),0))/100),0)","v":0},{"$f":"IFERROR((Q$6*(HLOOKUP(Q$5,'Hilfsblatt Ber. Wirtsch Wirk 3'!$D$11:$BW$96,$A26,FALSE)+IF(Q$5=$C26,HLOOKUP(Q$5,'Hilfsblatt Ber. Wirtsch Wirk 3'!$D$11:$BX$96,87,FALSE),0))/100),0)","v":0},{"$f":"R$6*('Hilfsblatt Ber. Wirtsch Wirk 3'!BX31+'Hilfsblatt Ber. Wirtsch Wirk 3'!BX31*'Hilfsblatt Ber. Wirtsch Wirk 3'!CA31/'Hilfsblatt Ber. Wirtsch Wirk 3'!CB31)/100","v":0},0,{"$f":"S26*'Hilfsblatt Ber. Wirtsch Wirk 3'!BZ31/('Hilfsblatt Ber. Wirtsch Wirk 3'!CA31)","v":0},{"$f":"S26/'Hilfsblatt Ber. Wirtsch Wirk 3'!CC31","v":0},{"$f":"T26*('Hilfsblatt Ber. Wirtsch Wirk 4'!B$14/'Hilfsblatt Ber. Wirtsch Wirk 4'!B$13)","v":0},{"$f":"S26*'Hilfsblatt Ber. Wirtsch Wirk 3'!CD31","v":0},null,0]
[22,{"$f":"'Hilfsblatt Ber. Wirtsch Wirk 3'!B32","v":"24.1-24.3"},{"$f":"'Hilfsblatt Ber. Wirtsch Wirk 3'!C32","v":"Roheisen, Stahl, Erzeugn. der ersten Bearbeitung von Eisen und Stahl"},{"$f":"IFERROR((D$6*(HLOOKUP(D$5,'Hilfsblatt Ber. Wirtsch Wirk 3'!$D$11:$BW$96,$A27,FALSE)+IF(D$5=$C27,HLOOKUP(D$5,'Hilfsblatt Ber. Wirtsch Wirk 3'!$D$11:$BX$96,87,FALSE),0))/100),0)","v":0},{"$f":"IFERROR((E$6*(HLOOKUP(E$5,'Hilfsblatt Ber. Wirtsch Wirk 3'!$D$11:$BW$96,$A27,FALSE)+IF(E$5=$C27,HLOOKUP(E$5,'Hilfsblatt Ber. Wirtsch Wirk 3'!$D$11:$BX$96,87,FALSE),0))/100),0)","v":0},{"$f":"IFERROR((F$6*(HLOOKUP(F$5,'Hilfsblatt Ber. Wirtsch Wirk 3'!$D$11:$BW$96,$A27,FALSE)+IF(F$5=$C27,HLOOKUP(F$5,'Hilfsblatt Ber. Wirtsch Wirk 3'!$D$11:$BX$96,87,FALSE),0))/100),0)","v":0},{"$f":"IFERROR((G$6*(HLOOKUP(G$5,'Hilfsblatt Ber. Wirtsch Wirk 3'!$D$11:$BW$96,$A27,FALSE)+IF(G$5=$C27,HLOOKUP(G$5,'Hilfsblatt Ber. Wirtsch Wirk 3'!$D$11:$BX$96,87,FALSE),0))/100),0)","v":0},{"$f":"IFERROR((H$6*(HLOOKUP(H$5,'Hilfsblatt Ber. Wirtsch Wirk 3'!$D$11:$BW$96,$A27,FALSE)+IF(H$5=$C27,HLOOKUP(H$5,'Hilfsblatt Ber. Wirtsch Wirk 3'!$D$11:$BX$96,87,FALSE),0))/100),0)","v":0},{"$f":"IFERROR((I$6*(HLOOKUP(I$5,'Hilfsblatt Ber. Wirtsch Wirk 3'!$D$11:$BW$96,$A27,FALSE)+IF(I$5=$C27,HLOOKUP(I$5,'Hilfsblatt Ber. Wirtsch Wirk 3'!$D$11:$BX$96,87,FALSE),0))/100),0)","v":0},{"$f":"IFERROR((J$6*(HLOOKUP(J$5,'Hilfsblatt Ber. Wirtsch Wirk 3'!$D$11:$BW$96,$A27,FALSE)+IF(J$5=$C27,HLOOKUP(J$5,'Hilfsblatt Ber. Wirtsch Wirk 3'!$D$11:$BX$96,87,FALSE),0))/100),0)","v":0},{"$f":"IFERROR((K$6*(HLOOKUP(K$5,'Hilfsblatt Ber. Wirtsch Wirk 3'!$D$11:$BW$96,$A27,FALSE)+IF(K$5=$C27,HLOOKUP(K$5,'Hilfsblatt Ber. Wirtsch Wirk 3'!$D$11:$BX$96,87,FALSE),0))/100),0)","v":0},{"$f":"IFERROR((L$6*(HLOOKUP(L$5,'Hilfsblatt Ber. Wirtsch Wirk 3'!$D$11:$BW$96,$A27,FALSE)+IF(L$5=$C27,HLOOKUP(L$5,'Hilfsblatt Ber. Wirtsch Wirk 3'!$D$11:$BX$96,87,FALSE),0))/100),0)","v":0},{"$f":"IFERROR((M$6*(HLOOKUP(M$5,'Hilfsblatt Ber. Wirtsch Wirk 3'!$D$11:$BW$96,$A27,FALSE)+IF(M$5=$C27,HLOOKUP(M$5,'Hilfsblatt Ber. Wirtsch Wirk 3'!$D$11:$BX$96,87,FALSE),0))/100),0)","v":0},{"$f":"IFERROR((N$6*(HLOOKUP(N$5,'Hilfsblatt Ber. Wirtsch Wirk 3'!$D$11:$BW$96,$A27,FALSE)+IF(N$5=$C27,HLOOKUP(N$5,'Hilfsblatt Ber. Wirtsch Wirk 3'!$D$11:$BX$96,87,FALSE),0))/100),0)","v":0},{"$f":"IFERROR((O$6*(HLOOKUP(O$5,'Hilfsblatt Ber. Wirtsch Wirk 3'!$D$11:$BW$96,$A27,FALSE)+IF(O$5=$C27,HLOOKUP(O$5,'Hilfsblatt Ber. Wirtsch Wirk 3'!$D$11:$BX$96,87,FALSE),0))/100),0)","v":0},{"$f":"IFERROR((P$6*(HLOOKUP(P$5,'Hilfsblatt Ber. Wirtsch Wirk 3'!$D$11:$BW$96,$A27,FALSE)+IF(P$5=$C27,HLOOKUP(P$5,'Hilfsblatt Ber. Wirtsch Wirk 3'!$D$11:$BX$96,87,FALSE),0))/100),0)","v":0},{"$f":"IFERROR((Q$6*(HLOOKUP(Q$5,'Hilfsblatt Ber. Wirtsch Wirk 3'!$D$11:$BW$96,$A27,FALSE)+IF(Q$5=$C27,HLOOKUP(Q$5,'Hilfsblatt Ber. Wirtsch Wirk 3'!$D$11:$BX$96,87,FALSE),0))/100),0)","v":0},{"$f":"R$6*('Hilfsblatt Ber. Wirtsch Wirk 3'!BX32+'Hilfsblatt Ber. Wirtsch Wirk 3'!BX32*'Hilfsblatt Ber. Wirtsch Wirk 3'!CA32/'Hilfsblatt Ber. Wirtsch Wirk 3'!CB32)/100","v":0},0,{"$f":"S27*'Hilfsblatt Ber. Wirtsch Wirk 3'!BZ32/('Hilfsblatt Ber. Wirtsch Wirk 3'!CA32)","v":0},{"$f":"S27/'Hilfsblatt Ber. Wirtsch Wirk 3'!CC32","v":0},{"$f":"T27*('Hilfsblatt Ber. Wirtsch Wirk 4'!B$14/'Hilfsblatt Ber. Wirtsch Wirk 4'!B$13)","v":0},{"$f":"S27*'Hilfsblatt Ber. Wirtsch Wirk 3'!CD32","v":0},null,0]
[23,{"$f":"'Hilfsblatt Ber. Wirtsch Wirk 3'!B33","v":"24.4"},{"$f":"'Hilfsblatt Ber. Wirtsch Wirk 3'!C33","v":"NE-Metalle und Halbzeug daraus "},{"$f":"IFERROR((D$6*(HLOOKUP(D$5,'Hilfsblatt Ber. Wirtsch Wirk 3'!$D$11:$BW$96,$A28,FALSE)+IF(D$5=$C28,HLOOKUP(D$5,'Hilfsblatt Ber. Wirtsch Wirk 3'!$D$11:$BX$96,87,FALSE),0))/100),0)","v":0},{"$f":"IFERROR((E$6*(HLOOKUP(E$5,'Hilfsblatt Ber. Wirtsch Wirk 3'!$D$11:$BW$96,$A28,FALSE)+IF(E$5=$C28,HLOOKUP(E$5,'Hilfsblatt Ber. Wirtsch Wirk 3'!$D$11:$BX$96,87,FALSE),0))/100),0)","v":0},{"$f":"IFERROR((F$6*(HLOOKUP(F$5,'Hilfsblatt Ber. Wirtsch Wirk 3'!$D$11:$BW$96,$A28,FALSE)+IF(F$5=$C28,HLOOKUP(F$5,'Hilfsblatt Ber. Wirtsch Wirk 3'!$D$11:$BX$96,87,FALSE),0))/100),0)","v":0},{"$f":"IFERROR((G$6*(HLOOKUP(G$5,'Hilfsblatt Ber. Wirtsch Wirk 3'!$D$11:$BW$96,$A28,FALSE)+IF(G$5=$C28,HLOOKUP(G$5,'Hilfsblatt Ber. Wirtsch Wirk 3'!$D$11:$BX$96,87,FALSE),0))/100),0)","v":0},{"$f":"IFERROR((H$6*(HLOOKUP(H$5,'Hilfsblatt Ber. Wirtsch Wirk 3'!$D$11:$BW$96,$A28,FALSE)+IF(H$5=$C28,HLOOKUP(H$5,'Hilfsblatt Ber. Wirtsch Wirk 3'!$D$11:$BX$96,87,FALSE),0))/100),0)","v":0},{"$f":"IFERROR((I$6*(HLOOKUP(I$5,'Hilfsblatt Ber. Wirtsch Wirk 3'!$D$11:$BW$96,$A28,FALSE)+IF(I$5=$C28,HLOOKUP(I$5,'Hilfsblatt Ber. Wirtsch Wirk 3'!$D$11:$BX$96,87,FALSE),0))/100),0)","v":0},{"$f":"IFERROR((J$6*(HLOOKUP(J$5,'Hilfsblatt Ber. Wirtsch Wirk 3'!$D$11:$BW$96,$A28,FALSE)+IF(J$5=$C28,HLOOKUP(J$5,'Hilfsblatt Ber. Wirtsch Wirk 3'!$D$11:$BX$96,87,FALSE),0))/100),0)","v":0},{"$f":"IFERROR((K$6*(HLOOKUP(K$5,'Hilfsblatt Ber. Wirtsch Wirk 3'!$D$11:$BW$96,$A28,FALSE)+IF(K$5=$C28,HLOOKUP(K$5,'Hilfsblatt Ber. Wirtsch Wirk 3'!$D$11:$BX$96,87,FALSE),0))/100),0)","v":0},{"$f":"IFERROR((L$6*(HLOOKUP(L$5,'Hilfsblatt Ber. Wirtsch Wirk 3'!$D$11:$BW$96,$A28,FALSE)+IF(L$5=$C28,HLOOKUP(L$5,'Hilfsblatt Ber. Wirtsch Wirk 3'!$D$11:$BX$96,87,FALSE),0))/100),0)","v":0},{"$f":"IFERROR((M$6*(HLOOKUP(M$5,'Hilfsblatt Ber. Wirtsch Wirk 3'!$D$11:$BW$96,$A28,FALSE)+IF(M$5=$C28,HLOOKUP(M$5,'Hilfsblatt Ber. Wirtsch Wirk 3'!$D$11:$BX$96,87,FALSE),0))/100),0)","v":0},{"$f":"IFERROR((N$6*(HLOOKUP(N$5,'Hilfsblatt Ber. Wirtsch Wirk 3'!$D$11:$BW$96,$A28,FALSE)+IF(N$5=$C28,HLOOKUP(N$5,'Hilfsblatt Ber. Wirtsch Wirk 3'!$D$11:$BX$96,87,FALSE),0))/100),0)","v":0},{"$f":"IFERROR((O$6*(HLOOKUP(O$5,'Hilfsblatt Ber. Wirtsch Wirk 3'!$D$11:$BW$96,$A28,FALSE)+IF(O$5=$C28,HLOOKUP(O$5,'Hilfsblatt Ber. Wirtsch Wirk 3'!$D$11:$BX$96,87,FALSE),0))/100),0)","v":0},{"$f":"IFERROR((P$6*(HLOOKUP(P$5,'Hilfsblatt Ber. Wirtsch Wirk 3'!$D$11:$BW$96,$A28,FALSE)+IF(P$5=$C28,HLOOKUP(P$5,'Hilfsblatt Ber. Wirtsch Wirk 3'!$D$11:$BX$96,87,FALSE),0))/100),0)","v":0},{"$f":"IFERROR((Q$6*(HLOOKUP(Q$5,'Hilfsblatt Ber. Wirtsch Wirk 3'!$D$11:$BW$96,$A28,FALSE)+IF(Q$5=$C28,HLOOKUP(Q$5,'Hilfsblatt Ber. Wirtsch Wirk 3'!$D$11:$BX$96,87,FALSE),0))/100),0)","v":0},{"$f":"R$6*('Hilfsblatt Ber. Wirtsch Wirk 3'!BX33+'Hilfsblatt Ber. Wirtsch Wirk 3'!BX33*'Hilfsblatt Ber. Wirtsch Wirk 3'!CA33/'Hilfsblatt Ber. Wirtsch Wirk 3'!CB33)/100","v":0},0,{"$f":"S28*'Hilfsblatt Ber. Wirtsch Wirk 3'!BZ33/('Hilfsblatt Ber. Wirtsch Wirk 3'!CA33)","v":0},{"$f":"S28/'Hilfsblatt Ber. Wirtsch Wirk 3'!CC33","v":0},{"$f":"T28*('Hilfsblatt Ber. Wirtsch Wirk 4'!B$14/'Hilfsblatt Ber. Wirtsch Wirk 4'!B$13)","v":0},{"$f":"S28*'Hilfsblatt Ber. Wirtsch Wirk 3'!CD33","v":0},null,0]
[24,{"$f":"'Hilfsblatt Ber. Wirtsch Wirk 3'!B34","v":"24.5"},{"$f":"'Hilfsblatt Ber. Wirtsch Wirk 3'!C34","v":"Gießereierzeugnisse"},{"$f":"IFERROR((D$6*(HLOOKUP(D$5,'Hilfsblatt Ber. Wirtsch Wirk 3'!$D$11:$BW$96,$A29,FALSE)+IF(D$5=$C29,HLOOKUP(D$5,'Hilfsblatt Ber. Wirtsch Wirk 3'!$D$11:$BX$96,87,FALSE),0))/100),0)","v":0},{"$f":"IFERROR((E$6*(HLOOKUP(E$5,'Hilfsblatt Ber. Wirtsch Wirk 3'!$D$11:$BW$96,$A29,FALSE)+IF(E$5=$C29,HLOOKUP(E$5,'Hilfsblatt Ber. Wirtsch Wirk 3'!$D$11:$BX$96,87,FALSE),0))/100),0)","v":0},{"$f":"IFERROR((F$6*(HLOOKUP(F$5,'Hilfsblatt Ber. Wirtsch Wirk 3'!$D$11:$BW$96,$A29,FALSE)+IF(F$5=$C29,HLOOKUP(F$5,'Hilfsblatt Ber. Wirtsch Wirk 3'!$D$11:$BX$96,87,FALSE),0))/100),0)","v":0},{"$f":"IFERROR((G$6*(HLOOKUP(G$5,'Hilfsblatt Ber. Wirtsch Wirk 3'!$D$11:$BW$96,$A29,FALSE)+IF(G$5=$C29,HLOOKUP(G$5,'Hilfsblatt Ber. Wirtsch Wirk 3'!$D$11:$BX$96,87,FALSE),0))/100),0)","v":0},{"$f":"IFERROR((H$6*(HLOOKUP(H$5,'Hilfsblatt Ber. Wirtsch Wirk 3'!$D$11:$BW$96,$A29,FALSE)+IF(H$5=$C29,HLOOKUP(H$5,'Hilfsblatt Ber. Wirtsch Wirk 3'!$D$11:$BX$96,87,FALSE),0))/100),0)","v":0},{"$f":"IFERROR((I$6*(HLOOKUP(I$5,'Hilfsblatt Ber. Wirtsch Wirk 3'!$D$11:$BW$96,$A29,FALSE)+IF(I$5=$C29,HLOOKUP(I$5,'Hilfsblatt Ber. Wirtsch Wirk 3'!$D$11:$BX$96,87,FALSE),0))/100),0)","v":0},{"$f":"IFERROR((J$6*(HLOOKUP(J$5,'Hilfsblatt Ber. Wirtsch Wirk 3'!$D$11:$BW$96,$A29,FALSE)+IF(J$5=$C29,HLOOKUP(J$5,'Hilfsblatt Ber. Wirtsch Wirk 3'!$D$11:$BX$96,87,FALSE),0))/100),0)","v":0},{"$f":"IFERROR((K$6*(HLOOKUP(K$5,'Hilfsblatt Ber. Wirtsch Wirk 3'!$D$11:$BW$96,$A29,FALSE)+IF(K$5=$C29,HLOOKUP(K$5,'Hilfsblatt Ber. Wirtsch Wirk 3'!$D$11:$BX$96,87,FALSE),0))/100),0)","v":0},{"$f":"IFERROR((L$6*(HLOOKUP(L$5,'Hilfsblatt Ber. Wirtsch Wirk 3'!$D$11:$BW$96,$A29,FALSE)+IF(L$5=$C29,HLOOKUP(L$5,'Hilfsblatt Ber. Wirtsch Wirk 3'!$D$11:$BX$96,87,FALSE),0))/100),0)","v":0},{"$f":"IFERROR((M$6*(HLOOKUP(M$5,'Hilfsblatt Ber. Wirtsch Wirk 3'!$D$11:$BW$96,$A29,FALSE)+IF(M$5=$C29,HLOOKUP(M$5,'Hilfsblatt Ber. Wirtsch Wirk 3'!$D$11:$BX$96,87,FALSE),0))/100),0)","v":0},{"$f":"IFERROR((N$6*(HLOOKUP(N$5,'Hilfsblatt Ber. Wirtsch Wirk 3'!$D$11:$BW$96,$A29,FALSE)+IF(N$5=$C29,HLOOKUP(N$5,'Hilfsblatt Ber. Wirtsch Wirk 3'!$D$11:$BX$96,87,FALSE),0))/100),0)","v":0},{"$f":"IFERROR((O$6*(HLOOKUP(O$5,'Hilfsblatt Ber. Wirtsch Wirk 3'!$D$11:$BW$96,$A29,FALSE)+IF(O$5=$C29,HLOOKUP(O$5,'Hilfsblatt Ber. Wirtsch Wirk 3'!$D$11:$BX$96,87,FALSE),0))/100),0)","v":0},{"$f":"IFERROR((P$6*(HLOOKUP(P$5,'Hilfsblatt Ber. Wirtsch Wirk 3'!$D$11:$BW$96,$A29,FALSE)+IF(P$5=$C29,HLOOKUP(P$5,'Hilfsblatt Ber. Wirtsch Wirk 3'!$D$11:$BX$96,87,FALSE),0))/100),0)","v":0},{"$f":"IFERROR((Q$6*(HLOOKUP(Q$5,'Hilfsblatt Ber. Wirtsch Wirk 3'!$D$11:$BW$96,$A29,FALSE)+IF(Q$5=$C29,HLOOKUP(Q$5,'Hilfsblatt Ber. Wirtsch Wirk 3'!$D$11:$BX$96,87,FALSE),0))/100),0)","v":0},{"$f":"R$6*('Hilfsblatt Ber. Wirtsch Wirk 3'!BX34+'Hilfsblatt Ber. Wirtsch Wirk 3'!BX34*'Hilfsblatt Ber. Wirtsch Wirk 3'!CA34/'Hilfsblatt Ber. Wirtsch Wirk 3'!CB34)/100","v":0},0,{"$f":"S29*'Hilfsblatt Ber. Wirtsch Wirk 3'!BZ34/('Hilfsblatt Ber. Wirtsch Wirk 3'!CA34)","v":0},{"$f":"S29/'Hilfsblatt Ber. Wirtsch Wirk 3'!CC34","v":0},{"$f":"T29*('Hilfsblatt Ber. Wirtsch Wirk 4'!B$14/'Hilfsblatt Ber. Wirtsch Wirk 4'!B$13)","v":0},{"$f":"S29*'Hilfsblatt Ber. Wirtsch Wirk 3'!CD34","v":0},null,0]
[25,{"$f":"'Hilfsblatt Ber. Wirtsch Wirk 3'!B35","v":25},{"$f":"'Hilfsblatt Ber. Wirtsch Wirk 3'!C35","v":"Metallerzeugnisse "},{"$f":"IFERROR((D$6*(HLOOKUP(D$5,'Hilfsblatt Ber. Wirtsch Wirk 3'!$D$11:$BW$96,$A30,FALSE)+IF(D$5=$C30,HLOOKUP(D$5,'Hilfsblatt Ber. Wirtsch Wirk 3'!$D$11:$BX$96,87,FALSE),0))/100),0)","v":0},{"$f":"IFERROR((E$6*(HLOOKUP(E$5,'Hilfsblatt Ber. Wirtsch Wirk 3'!$D$11:$BW$96,$A30,FALSE)+IF(E$5=$C30,HLOOKUP(E$5,'Hilfsblatt Ber. Wirtsch Wirk 3'!$D$11:$BX$96,87,FALSE),0))/100),0)","v":0},{"$f":"IFERROR((F$6*(HLOOKUP(F$5,'Hilfsblatt Ber. Wirtsch Wirk 3'!$D$11:$BW$96,$A30,FALSE)+IF(F$5=$C30,HLOOKUP(F$5,'Hilfsblatt Ber. Wirtsch Wirk 3'!$D$11:$BX$96,87,FALSE),0))/100),0)","v":0},{"$f":"IFERROR((G$6*(HLOOKUP(G$5,'Hilfsblatt Ber. Wirtsch Wirk 3'!$D$11:$BW$96,$A30,FALSE)+IF(G$5=$C30,HLOOKUP(G$5,'Hilfsblatt Ber. Wirtsch Wirk 3'!$D$11:$BX$96,87,FALSE),0))/100),0)","v":0},{"$f":"IFERROR((H$6*(HLOOKUP(H$5,'Hilfsblatt Ber. Wirtsch Wirk 3'!$D$11:$BW$96,$A30,FALSE)+IF(H$5=$C30,HLOOKUP(H$5,'Hilfsblatt Ber. Wirtsch Wirk 3'!$D$11:$BX$96,87,FALSE),0))/100),0)","v":0},{"$f":"IFERROR((I$6*(HLOOKUP(I$5,'Hilfsblatt Ber. Wirtsch Wirk 3'!$D$11:$BW$96,$A30,FALSE)+IF(I$5=$C30,HLOOKUP(I$5,'Hilfsblatt Ber. Wirtsch Wirk 3'!$D$11:$BX$96,87,FALSE),0))/100),0)","v":0},{"$f":"IFERROR((J$6*(HLOOKUP(J$5,'Hilfsblatt Ber. Wirtsch Wirk 3'!$D$11:$BW$96,$A30,FALSE)+IF(J$5=$C30,HLOOKUP(J$5,'Hilfsblatt Ber. Wirtsch Wirk 3'!$D$11:$BX$96,87,FALSE),0))/100),0)","v":0},{"$f":"IFERROR((K$6*(HLOOKUP(K$5,'Hilfsblatt Ber. Wirtsch Wirk 3'!$D$11:$BW$96,$A30,FALSE)+IF(K$5=$C30,HLOOKUP(K$5,'Hilfsblatt Ber. Wirtsch Wirk 3'!$D$11:$BX$96,87,FALSE),0))/100),0)","v":0},{"$f":"IFERROR((L$6*(HLOOKUP(L$5,'Hilfsblatt Ber. Wirtsch Wirk 3'!$D$11:$BW$96,$A30,FALSE)+IF(L$5=$C30,HLOOKUP(L$5,'Hilfsblatt Ber. Wirtsch Wirk 3'!$D$11:$BX$96,87,FALSE),0))/100),0)","v":0},{"$f":"IFERROR((M$6*(HLOOKUP(M$5,'Hilfsblatt Ber. Wirtsch Wirk 3'!$D$11:$BW$96,$A30,FALSE)+IF(M$5=$C30,HLOOKUP(M$5,'Hilfsblatt Ber. Wirtsch Wirk 3'!$D$11:$BX$96,87,FALSE),0))/100),0)","v":0},{"$f":"IFERROR((N$6*(HLOOKUP(N$5,'Hilfsblatt Ber. Wirtsch Wirk 3'!$D$11:$BW$96,$A30,FALSE)+IF(N$5=$C30,HLOOKUP(N$5,'Hilfsblatt Ber. Wirtsch Wirk 3'!$D$11:$BX$96,87,FALSE),0))/100),0)","v":0},{"$f":"IFERROR((O$6*(HLOOKUP(O$5,'Hilfsblatt Ber. Wirtsch Wirk 3'!$D$11:$BW$96,$A30,FALSE)+IF(O$5=$C30,HLOOKUP(O$5,'Hilfsblatt Ber. Wirtsch Wirk 3'!$D$11:$BX$96,87,FALSE),0))/100),0)","v":0},{"$f":"IFERROR((P$6*(HLOOKUP(P$5,'Hilfsblatt Ber. Wirtsch Wirk 3'!$D$11:$BW$96,$A30,FALSE)+IF(P$5=$C30,HLOOKUP(P$5,'Hilfsblatt Ber. Wirtsch Wirk 3'!$D$11:$BX$96,87,FALSE),0))/100),0)","v":0},{"$f":"IFERROR((Q$6*(HLOOKUP(Q$5,'Hilfsblatt Ber. Wirtsch Wirk 3'!$D$11:$BW$96,$A30,FALSE)+IF(Q$5=$C30,HLOOKUP(Q$5,'Hilfsblatt Ber. Wirtsch Wirk 3'!$D$11:$BX$96,87,FALSE),0))/100),0)","v":0},{"$f":"R$6*('Hilfsblatt Ber. Wirtsch Wirk 3'!BX35+'Hilfsblatt Ber. Wirtsch Wirk 3'!BX35*'Hilfsblatt Ber. Wirtsch Wirk 3'!CA35/'Hilfsblatt Ber. Wirtsch Wirk 3'!CB35)/100","v":0},0,{"$f":"S30*'Hilfsblatt Ber. Wirtsch Wirk 3'!BZ35/('Hilfsblatt Ber. Wirtsch Wirk 3'!CA35)","v":0},{"$f":"S30/'Hilfsblatt Ber. Wirtsch Wirk 3'!CC35","v":0},{"$f":"T30*('Hilfsblatt Ber. Wirtsch Wirk 4'!B$14/'Hilfsblatt Ber. Wirtsch Wirk 4'!B$13)","v":0},{"$f":"S30*'Hilfsblatt Ber. Wirtsch Wirk 3'!CD35","v":0},null,0]
[26,{"$f":"'Hilfsblatt Ber. Wirtsch Wirk 3'!B36","v":"26"},{"$f":"'Hilfsblatt Ber. Wirtsch Wirk 3'!C36","v":"DV-geräte, elektron. u. optische Erzeugnisse"},{"$f":"IFERROR((D$6*(HLOOKUP(D$5,'Hilfsblatt Ber. Wirtsch Wirk 3'!$D$11:$BW$96,$A31,FALSE)+IF(D$5=$C31,HLOOKUP(D$5,'Hilfsblatt Ber. Wirtsch Wirk 3'!$D$11:$BX$96,87,FALSE),0))/100),0)","v":0},{"$f":"IFERROR((E$6*(HLOOKUP(E$5,'Hilfsblatt Ber. Wirtsch Wirk 3'!$D$11:$BW$96,$A31,FALSE)+IF(E$5=$C31,HLOOKUP(E$5,'Hilfsblatt Ber. Wirtsch Wirk 3'!$D$11:$BX$96,87,FALSE),0))/100),0)","v":0},{"$f":"IFERROR((F$6*(HLOOKUP(F$5,'Hilfsblatt Ber. Wirtsch Wirk 3'!$D$11:$BW$96,$A31,FALSE)+IF(F$5=$C31,HLOOKUP(F$5,'Hilfsblatt Ber. Wirtsch Wirk 3'!$D$11:$BX$96,87,FALSE),0))/100),0)","v":0},{"$f":"IFERROR((G$6*(HLOOKUP(G$5,'Hilfsblatt Ber. Wirtsch Wirk 3'!$D$11:$BW$96,$A31,FALSE)+IF(G$5=$C31,HLOOKUP(G$5,'Hilfsblatt Ber. Wirtsch Wirk 3'!$D$11:$BX$96,87,FALSE),0))/100),0)","v":0},{"$f":"IFERROR((H$6*(HLOOKUP(H$5,'Hilfsblatt Ber. Wirtsch Wirk 3'!$D$11:$BW$96,$A31,FALSE)+IF(H$5=$C31,HLOOKUP(H$5,'Hilfsblatt Ber. Wirtsch Wirk 3'!$D$11:$BX$96,87,FALSE),0))/100),0)","v":0},{"$f":"IFERROR((I$6*(HLOOKUP(I$5,'Hilfsblatt Ber. Wirtsch Wirk 3'!$D$11:$BW$96,$A31,FALSE)+IF(I$5=$C31,HLOOKUP(I$5,'Hilfsblatt Ber. Wirtsch Wirk 3'!$D$11:$BX$96,87,FALSE),0))/100),0)","v":0},{"$f":"IFERROR((J$6*(HLOOKUP(J$5,'Hilfsblatt Ber. Wirtsch Wirk 3'!$D$11:$BW$96,$A31,FALSE)+IF(J$5=$C31,HLOOKUP(J$5,'Hilfsblatt Ber. Wirtsch Wirk 3'!$D$11:$BX$96,87,FALSE),0))/100),0)","v":0},{"$f":"IFERROR((K$6*(HLOOKUP(K$5,'Hilfsblatt Ber. Wirtsch Wirk 3'!$D$11:$BW$96,$A31,FALSE)+IF(K$5=$C31,HLOOKUP(K$5,'Hilfsblatt Ber. Wirtsch Wirk 3'!$D$11:$BX$96,87,FALSE),0))/100),0)","v":0},{"$f":"IFERROR((L$6*(HLOOKUP(L$5,'Hilfsblatt Ber. Wirtsch Wirk 3'!$D$11:$BW$96,$A31,FALSE)+IF(L$5=$C31,HLOOKUP(L$5,'Hilfsblatt Ber. Wirtsch Wirk 3'!$D$11:$BX$96,87,FALSE),0))/100),0)","v":0},{"$f":"IFERROR((M$6*(HLOOKUP(M$5,'Hilfsblatt Ber. Wirtsch Wirk 3'!$D$11:$BW$96,$A31,FALSE)+IF(M$5=$C31,HLOOKUP(M$5,'Hilfsblatt Ber. Wirtsch Wirk 3'!$D$11:$BX$96,87,FALSE),0))/100),0)","v":0},{"$f":"IFERROR((N$6*(HLOOKUP(N$5,'Hilfsblatt Ber. Wirtsch Wirk 3'!$D$11:$BW$96,$A31,FALSE)+IF(N$5=$C31,HLOOKUP(N$5,'Hilfsblatt Ber. Wirtsch Wirk 3'!$D$11:$BX$96,87,FALSE),0))/100),0)","v":0},{"$f":"IFERROR((O$6*(HLOOKUP(O$5,'Hilfsblatt Ber. Wirtsch Wirk 3'!$D$11:$BW$96,$A31,FALSE)+IF(O$5=$C31,HLOOKUP(O$5,'Hilfsblatt Ber. Wirtsch Wirk 3'!$D$11:$BX$96,87,FALSE),0))/100),0)","v":0},{"$f":"IFERROR((P$6*(HLOOKUP(P$5,'Hilfsblatt Ber. Wirtsch Wirk 3'!$D$11:$BW$96,$A31,FALSE)+IF(P$5=$C31,HLOOKUP(P$5,'Hilfsblatt Ber. Wirtsch Wirk 3'!$D$11:$BX$96,87,FALSE),0))/100),0)","v":0},{"$f":"IFERROR((Q$6*(HLOOKUP(Q$5,'Hilfsblatt Ber. Wirtsch Wirk 3'!$D$11:$BW$96,$A31,FALSE)+IF(Q$5=$C31,HLOOKUP(Q$5,'Hilfsblatt Ber. Wirtsch Wirk 3'!$D$11:$BX$96,87,FALSE),0))/100),0)","v":0},{"$f":"R$6*('Hilfsblatt Ber. Wirtsch Wirk 3'!BX36+'Hilfsblatt Ber. Wirtsch Wirk 3'!BX36*'Hilfsblatt Ber. Wirtsch Wirk 3'!CA36/'Hilfsblatt Ber. Wirtsch Wirk 3'!CB36)/100","v":0},0,{"$f":"S31*'Hilfsblatt Ber. Wirtsch Wirk 3'!BZ36/('Hilfsblatt Ber. Wirtsch Wirk 3'!CA36)","v":0},{"$f":"S31/'Hilfsblatt Ber. Wirtsch Wirk 3'!CC36","v":0},{"$f":"T31*('Hilfsblatt Ber. Wirtsch Wirk 4'!B$14/'Hilfsblatt Ber. Wirtsch Wirk 4'!B$13)","v":0},{"$f":"S31*'Hilfsblatt Ber. Wirtsch Wirk 3'!CD36","v":0},null,0]
[27,{"$f":"'Hilfsblatt Ber. Wirtsch Wirk 3'!B37","v":"27"},{"$f":"'Hilfsblatt Ber. Wirtsch Wirk 3'!C37","v":"Elektrische Ausrüstungen"},{"$f":"IFERROR((D$6*(HLOOKUP(D$5,'Hilfsblatt Ber. Wirtsch Wirk 3'!$D$11:$BW$96,$A32,FALSE)+IF(D$5=$C32,HLOOKUP(D$5,'Hilfsblatt Ber. Wirtsch Wirk 3'!$D$11:$BX$96,87,FALSE),0))/100),0)","v":0},{"$f":"IFERROR((E$6*(HLOOKUP(E$5,'Hilfsblatt Ber. Wirtsch Wirk 3'!$D$11:$BW$96,$A32,FALSE)+IF(E$5=$C32,HLOOKUP(E$5,'Hilfsblatt Ber. Wirtsch Wirk 3'!$D$11:$BX$96,87,FALSE),0))/100),0)","v":0},{"$f":"IFERROR((F$6*(HLOOKUP(F$5,'Hilfsblatt Ber. Wirtsch Wirk 3'!$D$11:$BW$96,$A32,FALSE)+IF(F$5=$C32,HLOOKUP(F$5,'Hilfsblatt Ber. Wirtsch Wirk 3'!$D$11:$BX$96,87,FALSE),0))/100),0)","v":0},{"$f":"IFERROR((G$6*(HLOOKUP(G$5,'Hilfsblatt Ber. Wirtsch Wirk 3'!$D$11:$BW$96,$A32,FALSE)+IF(G$5=$C32,HLOOKUP(G$5,'Hilfsblatt Ber. Wirtsch Wirk 3'!$D$11:$BX$96,87,FALSE),0))/100),0)","v":0},{"$f":"IFERROR((H$6*(HLOOKUP(H$5,'Hilfsblatt Ber. Wirtsch Wirk 3'!$D$11:$BW$96,$A32,FALSE)+IF(H$5=$C32,HLOOKUP(H$5,'Hilfsblatt Ber. Wirtsch Wirk 3'!$D$11:$BX$96,87,FALSE),0))/100),0)","v":0},{"$f":"IFERROR((I$6*(HLOOKUP(I$5,'Hilfsblatt Ber. Wirtsch Wirk 3'!$D$11:$BW$96,$A32,FALSE)+IF(I$5=$C32,HLOOKUP(I$5,'Hilfsblatt Ber. Wirtsch Wirk 3'!$D$11:$BX$96,87,FALSE),0))/100),0)","v":0},{"$f":"IFERROR((J$6*(HLOOKUP(J$5,'Hilfsblatt Ber. Wirtsch Wirk 3'!$D$11:$BW$96,$A32,FALSE)+IF(J$5=$C32,HLOOKUP(J$5,'Hilfsblatt Ber. Wirtsch Wirk 3'!$D$11:$BX$96,87,FALSE),0))/100),0)","v":0},{"$f":"IFERROR((K$6*(HLOOKUP(K$5,'Hilfsblatt Ber. Wirtsch Wirk 3'!$D$11:$BW$96,$A32,FALSE)+IF(K$5=$C32,HLOOKUP(K$5,'Hilfsblatt Ber. Wirtsch Wirk 3'!$D$11:$BX$96,87,FALSE),0))/100),0)","v":0},{"$f":"IFERROR((L$6*(HLOOKUP(L$5,'Hilfsblatt Ber. Wirtsch Wirk 3'!$D$11:$BW$96,$A32,FALSE)+IF(L$5=$C32,HLOOKUP(L$5,'Hilfsblatt Ber. Wirtsch Wirk 3'!$D$11:$BX$96,87,FALSE),0))/100),0)","v":0},{"$f":"IFERROR((M$6*(HLOOKUP(M$5,'Hilfsblatt Ber. Wirtsch Wirk 3'!$D$11:$BW$96,$A32,FALSE)+IF(M$5=$C32,HLOOKUP(M$5,'Hilfsblatt Ber. Wirtsch Wirk 3'!$D$11:$BX$96,87,FALSE),0))/100),0)","v":0},{"$f":"IFERROR((N$6*(HLOOKUP(N$5,'Hilfsblatt Ber. Wirtsch Wirk 3'!$D$11:$BW$96,$A32,FALSE)+IF(N$5=$C32,HLOOKUP(N$5,'Hilfsblatt Ber. Wirtsch Wirk 3'!$D$11:$BX$96,87,FALSE),0))/100),0)","v":0},{"$f":"IFERROR((O$6*(HLOOKUP(O$5,'Hilfsblatt Ber. Wirtsch Wirk 3'!$D$11:$BW$96,$A32,FALSE)+IF(O$5=$C32,HLOOKUP(O$5,'Hilfsblatt Ber. Wirtsch Wirk 3'!$D$11:$BX$96,87,FALSE),0))/100),0)","v":0},{"$f":"IFERROR((P$6*(HLOOKUP(P$5,'Hilfsblatt Ber. Wirtsch Wirk 3'!$D$11:$BW$96,$A32,FALSE)+IF(P$5=$C32,HLOOKUP(P$5,'Hilfsblatt Ber. Wirtsch Wirk 3'!$D$11:$BX$96,87,FALSE),0))/100),0)","v":0},{"$f":"IFERROR((Q$6*(HLOOKUP(Q$5,'Hilfsblatt Ber. Wirtsch Wirk 3'!$D$11:$BW$96,$A32,FALSE)+IF(Q$5=$C32,HLOOKUP(Q$5,'Hilfsblatt Ber. Wirtsch Wirk 3'!$D$11:$BX$96,87,FALSE),0))/100),0)","v":0},{"$f":"R$6*('Hilfsblatt Ber. Wirtsch Wirk 3'!BX37+'Hilfsblatt Ber. Wirtsch Wirk 3'!BX37*'Hilfsblatt Ber. Wirtsch Wirk 3'!CA37/'Hilfsblatt Ber. Wirtsch Wirk 3'!CB37)/100","v":0},0,{"$f":"S32*'Hilfsblatt Ber. Wirtsch Wirk 3'!BZ37/('Hilfsblatt Ber. Wirtsch Wirk 3'!CA37)","v":0},{"$f":"S32/'Hilfsblatt Ber. Wirtsch Wirk 3'!CC37","v":0},{"$f":"T32*('Hilfsblatt Ber. Wirtsch Wirk 4'!B$14/'Hilfsblatt Ber. Wirtsch Wirk 4'!B$13)","v":0},{"$f":"S32*'Hilfsblatt Ber. Wirtsch Wirk 3'!CD37","v":0},null,0]
[28,{"$f":"'Hilfsblatt Ber. Wirtsch Wirk 3'!B38","v":"28"},{"$f":"'Hilfsblatt Ber. Wirtsch Wirk 3'!C38","v":"Maschinen"},{"$f":"IFERROR((D$6*(HLOOKUP(D$5,'Hilfsblatt Ber. Wirtsch Wirk 3'!$D$11:$BW$96,$A33,FALSE)+IF(D$5=$C33,HLOOKUP(D$5,'Hilfsblatt Ber. Wirtsch Wirk 3'!$D$11:$BX$96,87,FALSE),0))/100),0)","v":0},{"$f":"IFERROR((E$6*(HLOOKUP(E$5,'Hilfsblatt Ber. Wirtsch Wirk 3'!$D$11:$BW$96,$A33,FALSE)+IF(E$5=$C33,HLOOKUP(E$5,'Hilfsblatt Ber. Wirtsch Wirk 3'!$D$11:$BX$96,87,FALSE),0))/100),0)","v":0},{"$f":"IFERROR((F$6*(HLOOKUP(F$5,'Hilfsblatt Ber. Wirtsch Wirk 3'!$D$11:$BW$96,$A33,FALSE)+IF(F$5=$C33,HLOOKUP(F$5,'Hilfsblatt Ber. Wirtsch Wirk 3'!$D$11:$BX$96,87,FALSE),0))/100),0)","v":0},{"$f":"IFERROR((G$6*(HLOOKUP(G$5,'Hilfsblatt Ber. Wirtsch Wirk 3'!$D$11:$BW$96,$A33,FALSE)+IF(G$5=$C33,HLOOKUP(G$5,'Hilfsblatt Ber. Wirtsch Wirk 3'!$D$11:$BX$96,87,FALSE),0))/100),0)","v":0},{"$f":"IFERROR((H$6*(HLOOKUP(H$5,'Hilfsblatt Ber. Wirtsch Wirk 3'!$D$11:$BW$96,$A33,FALSE)+IF(H$5=$C33,HLOOKUP(H$5,'Hilfsblatt Ber. Wirtsch Wirk 3'!$D$11:$BX$96,87,FALSE),0))/100),0)","v":0},{"$f":"IFERROR((I$6*(HLOOKUP(I$5,'Hilfsblatt Ber. Wirtsch Wirk 3'!$D$11:$BW$96,$A33,FALSE)+IF(I$5=$C33,HLOOKUP(I$5,'Hilfsblatt Ber. Wirtsch Wirk 3'!$D$11:$BX$96,87,FALSE),0))/100),0)","v":0},{"$f":"IFERROR((J$6*(HLOOKUP(J$5,'Hilfsblatt Ber. Wirtsch Wirk 3'!$D$11:$BW$96,$A33,FALSE)+IF(J$5=$C33,HLOOKUP(J$5,'Hilfsblatt Ber. Wirtsch Wirk 3'!$D$11:$BX$96,87,FALSE),0))/100),0)","v":0},{"$f":"IFERROR((K$6*(HLOOKUP(K$5,'Hilfsblatt Ber. Wirtsch Wirk 3'!$D$11:$BW$96,$A33,FALSE)+IF(K$5=$C33,HLOOKUP(K$5,'Hilfsblatt Ber. Wirtsch Wirk 3'!$D$11:$BX$96,87,FALSE),0))/100),0)","v":0},{"$f":"IFERROR((L$6*(HLOOKUP(L$5,'Hilfsblatt Ber. Wirtsch Wirk 3'!$D$11:$BW$96,$A33,FALSE)+IF(L$5=$C33,HLOOKUP(L$5,'Hilfsblatt Ber. Wirtsch Wirk 3'!$D$11:$BX$96,87,FALSE),0))/100),0)","v":0},{"$f":"IFERROR((M$6*(HLOOKUP(M$5,'Hilfsblatt Ber. Wirtsch Wirk 3'!$D$11:$BW$96,$A33,FALSE)+IF(M$5=$C33,HLOOKUP(M$5,'Hilfsblatt Ber. Wirtsch Wirk 3'!$D$11:$BX$96,87,FALSE),0))/100),0)","v":0},{"$f":"IFERROR((N$6*(HLOOKUP(N$5,'Hilfsblatt Ber. Wirtsch Wirk 3'!$D$11:$BW$96,$A33,FALSE)+IF(N$5=$C33,HLOOKUP(N$5,'Hilfsblatt Ber. Wirtsch Wirk 3'!$D$11:$BX$96,87,FALSE),0))/100),0)","v":0},{"$f":"IFERROR((O$6*(HLOOKUP(O$5,'Hilfsblatt Ber. Wirtsch Wirk 3'!$D$11:$BW$96,$A33,FALSE)+IF(O$5=$C33,HLOOKUP(O$5,'Hilfsblatt Ber. Wirtsch Wirk 3'!$D$11:$BX$96,87,FALSE),0))/100),0)","v":0},{"$f":"IFERROR((P$6*(HLOOKUP(P$5,'Hilfsblatt Ber. Wirtsch Wirk 3'!$D$11:$BW$96,$A33,FALSE)+IF(P$5=$C33,HLOOKUP(P$5,'Hilfsblatt Ber. Wirtsch Wirk 3'!$D$11:$BX$96,87,FALSE),0))/100),0)","v":0},{"$f":"IFERROR((Q$6*(HLOOKUP(Q$5,'Hilfsblatt Ber. Wirtsch Wirk 3'!$D$11:$BW$96,$A33,FALSE)+IF(Q$5=$C33,HLOOKUP(Q$5,'Hilfsblatt Ber. Wirtsch Wirk 3'!$D$11:$BX$96,87,FALSE),0))/100),0)","v":0},{"$f":"R$6*('Hilfsblatt Ber. Wirtsch Wirk 3'!BX38+'Hilfsblatt Ber. Wirtsch Wirk 3'!BX38*'Hilfsblatt Ber. Wirtsch Wirk 3'!CA38/'Hilfsblatt Ber. Wirtsch Wirk 3'!CB38)/100","v":0},0,{"$f":"S33*'Hilfsblatt Ber. Wirtsch Wirk 3'!BZ38/('Hilfsblatt Ber. Wirtsch Wirk 3'!CA38)","v":0},{"$f":"S33/'Hilfsblatt Ber. Wirtsch Wirk 3'!CC38","v":0},{"$f":"T33*('Hilfsblatt Ber. Wirtsch Wirk 4'!B$14/'Hilfsblatt Ber. Wirtsch Wirk 4'!B$13)","v":0},{"$f":"S33*'Hilfsblatt Ber. Wirtsch Wirk 3'!CD38","v":0},null,0]
[29,{"$f":"'Hilfsblatt Ber. Wirtsch Wirk 3'!B39","v":"29"},{"$f":"'Hilfsblatt Ber. Wirtsch Wirk 3'!C39","v":"Kraftwagen und Kraftwagenteile "},{"$f":"IFERROR((D$6*(HLOOKUP(D$5,'Hilfsblatt Ber. Wirtsch Wirk 3'!$D$11:$BW$96,$A34,FALSE)+IF(D$5=$C34,HLOOKUP(D$5,'Hilfsblatt Ber. Wirtsch Wirk 3'!$D$11:$BX$96,87,FALSE),0))/100),0)","v":0},{"$f":"IFERROR((E$6*(HLOOKUP(E$5,'Hilfsblatt Ber. Wirtsch Wirk 3'!$D$11:$BW$96,$A34,FALSE)+IF(E$5=$C34,HLOOKUP(E$5,'Hilfsblatt Ber. Wirtsch Wirk 3'!$D$11:$BX$96,87,FALSE),0))/100),0)","v":0},{"$f":"IFERROR((F$6*(HLOOKUP(F$5,'Hilfsblatt Ber. Wirtsch Wirk 3'!$D$11:$BW$96,$A34,FALSE)+IF(F$5=$C34,HLOOKUP(F$5,'Hilfsblatt Ber. Wirtsch Wirk 3'!$D$11:$BX$96,87,FALSE),0))/100),0)","v":0},{"$f":"IFERROR((G$6*(HLOOKUP(G$5,'Hilfsblatt Ber. Wirtsch Wirk 3'!$D$11:$BW$96,$A34,FALSE)+IF(G$5=$C34,HLOOKUP(G$5,'Hilfsblatt Ber. Wirtsch Wirk 3'!$D$11:$BX$96,87,FALSE),0))/100),0)","v":0},{"$f":"IFERROR((H$6*(HLOOKUP(H$5,'Hilfsblatt Ber. Wirtsch Wirk 3'!$D$11:$BW$96,$A34,FALSE)+IF(H$5=$C34,HLOOKUP(H$5,'Hilfsblatt Ber. Wirtsch Wirk 3'!$D$11:$BX$96,87,FALSE),0))/100),0)","v":0},{"$f":"IFERROR((I$6*(HLOOKUP(I$5,'Hilfsblatt Ber. Wirtsch Wirk 3'!$D$11:$BW$96,$A34,FALSE)+IF(I$5=$C34,HLOOKUP(I$5,'Hilfsblatt Ber. Wirtsch Wirk 3'!$D$11:$BX$96,87,FALSE),0))/100),0)","v":0},{"$f":"IFERROR((J$6*(HLOOKUP(J$5,'Hilfsblatt Ber. Wirtsch Wirk 3'!$D$11:$BW$96,$A34,FALSE)+IF(J$5=$C34,HLOOKUP(J$5,'Hilfsblatt Ber. Wirtsch Wirk 3'!$D$11:$BX$96,87,FALSE),0))/100),0)","v":0},{"$f":"IFERROR((K$6*(HLOOKUP(K$5,'Hilfsblatt Ber. Wirtsch Wirk 3'!$D$11:$BW$96,$A34,FALSE)+IF(K$5=$C34,HLOOKUP(K$5,'Hilfsblatt Ber. Wirtsch Wirk 3'!$D$11:$BX$96,87,FALSE),0))/100),0)","v":0},{"$f":"IFERROR((L$6*(HLOOKUP(L$5,'Hilfsblatt Ber. Wirtsch Wirk 3'!$D$11:$BW$96,$A34,FALSE)+IF(L$5=$C34,HLOOKUP(L$5,'Hilfsblatt Ber. Wirtsch Wirk 3'!$D$11:$BX$96,87,FALSE),0))/100),0)","v":0},{"$f":"IFERROR((M$6*(HLOOKUP(M$5,'Hilfsblatt Ber. Wirtsch Wirk 3'!$D$11:$BW$96,$A34,FALSE)+IF(M$5=$C34,HLOOKUP(M$5,'Hilfsblatt Ber. Wirtsch Wirk 3'!$D$11:$BX$96,87,FALSE),0))/100),0)","v":0},{"$f":"IFERROR((N$6*(HLOOKUP(N$5,'Hilfsblatt Ber. Wirtsch Wirk 3'!$D$11:$BW$96,$A34,FALSE)+IF(N$5=$C34,HLOOKUP(N$5,'Hilfsblatt Ber. Wirtsch Wirk 3'!$D$11:$BX$96,87,FALSE),0))/100),0)","v":0},{"$f":"IFERROR((O$6*(HLOOKUP(O$5,'Hilfsblatt Ber. Wirtsch Wirk 3'!$D$11:$BW$96,$A34,FALSE)+IF(O$5=$C34,HLOOKUP(O$5,'Hilfsblatt Ber. Wirtsch Wirk 3'!$D$11:$BX$96,87,FALSE),0))/100),0)","v":0},{"$f":"IFERROR((P$6*(HLOOKUP(P$5,'Hilfsblatt Ber. Wirtsch Wirk 3'!$D$11:$BW$96,$A34,FALSE)+IF(P$5=$C34,HLOOKUP(P$5,'Hilfsblatt Ber. Wirtsch Wirk 3'!$D$11:$BX$96,87,FALSE),0))/100),0)","v":0},{"$f":"IFERROR((Q$6*(HLOOKUP(Q$5,'Hilfsblatt Ber. Wirtsch Wirk 3'!$D$11:$BW$96,$A34,FALSE)+IF(Q$5=$C34,HLOOKUP(Q$5,'Hilfsblatt Ber. Wirtsch Wirk 3'!$D$11:$BX$96,87,FALSE),0))/100),0)","v":0},{"$f":"R$6*('Hilfsblatt Ber. Wirtsch Wirk 3'!BX39+'Hilfsblatt Ber. Wirtsch Wirk 3'!BX39*'Hilfsblatt Ber. Wirtsch Wirk 3'!CA39/'Hilfsblatt Ber. Wirtsch Wirk 3'!CB39)/100","v":0},0,{"$f":"S34*'Hilfsblatt Ber. Wirtsch Wirk 3'!BZ39/('Hilfsblatt Ber. Wirtsch Wirk 3'!CA39)","v":0},{"$f":"S34/'Hilfsblatt Ber. Wirtsch Wirk 3'!CC39","v":0},{"$f":"T34*('Hilfsblatt Ber. Wirtsch Wirk 4'!B$14/'Hilfsblatt Ber. Wirtsch Wirk 4'!B$13)","v":0},{"$f":"S34*'Hilfsblatt Ber. Wirtsch Wirk 3'!CD39","v":0},null,0]
[30,{"$f":"'Hilfsblatt Ber. Wirtsch Wirk 3'!B40","v":"30"},{"$f":"'Hilfsblatt Ber. Wirtsch Wirk 3'!C40","v":"Sonstige Fahrzeuge"},{"$f":"IFERROR((D$6*(HLOOKUP(D$5,'Hilfsblatt Ber. Wirtsch Wirk 3'!$D$11:$BW$96,$A35,FALSE)+IF(D$5=$C35,HLOOKUP(D$5,'Hilfsblatt Ber. Wirtsch Wirk 3'!$D$11:$BX$96,87,FALSE),0))/100),0)","v":0},{"$f":"IFERROR((E$6*(HLOOKUP(E$5,'Hilfsblatt Ber. Wirtsch Wirk 3'!$D$11:$BW$96,$A35,FALSE)+IF(E$5=$C35,HLOOKUP(E$5,'Hilfsblatt Ber. Wirtsch Wirk 3'!$D$11:$BX$96,87,FALSE),0))/100),0)","v":0},{"$f":"IFERROR((F$6*(HLOOKUP(F$5,'Hilfsblatt Ber. Wirtsch Wirk 3'!$D$11:$BW$96,$A35,FALSE)+IF(F$5=$C35,HLOOKUP(F$5,'Hilfsblatt Ber. Wirtsch Wirk 3'!$D$11:$BX$96,87,FALSE),0))/100),0)","v":0},{"$f":"IFERROR((G$6*(HLOOKUP(G$5,'Hilfsblatt Ber. Wirtsch Wirk 3'!$D$11:$BW$96,$A35,FALSE)+IF(G$5=$C35,HLOOKUP(G$5,'Hilfsblatt Ber. Wirtsch Wirk 3'!$D$11:$BX$96,87,FALSE),0))/100),0)","v":0},{"$f":"IFERROR((H$6*(HLOOKUP(H$5,'Hilfsblatt Ber. Wirtsch Wirk 3'!$D$11:$BW$96,$A35,FALSE)+IF(H$5=$C35,HLOOKUP(H$5,'Hilfsblatt Ber. Wirtsch Wirk 3'!$D$11:$BX$96,87,FALSE),0))/100),0)","v":0},{"$f":"IFERROR((I$6*(HLOOKUP(I$5,'Hilfsblatt Ber. Wirtsch Wirk 3'!$D$11:$BW$96,$A35,FALSE)+IF(I$5=$C35,HLOOKUP(I$5,'Hilfsblatt Ber. Wirtsch Wirk 3'!$D$11:$BX$96,87,FALSE),0))/100),0)","v":0},{"$f":"IFERROR((J$6*(HLOOKUP(J$5,'Hilfsblatt Ber. Wirtsch Wirk 3'!$D$11:$BW$96,$A35,FALSE)+IF(J$5=$C35,HLOOKUP(J$5,'Hilfsblatt Ber. Wirtsch Wirk 3'!$D$11:$BX$96,87,FALSE),0))/100),0)","v":0},{"$f":"IFERROR((K$6*(HLOOKUP(K$5,'Hilfsblatt Ber. Wirtsch Wirk 3'!$D$11:$BW$96,$A35,FALSE)+IF(K$5=$C35,HLOOKUP(K$5,'Hilfsblatt Ber. Wirtsch Wirk 3'!$D$11:$BX$96,87,FALSE),0))/100),0)","v":0},{"$f":"IFERROR((L$6*(HLOOKUP(L$5,'Hilfsblatt Ber. Wirtsch Wirk 3'!$D$11:$BW$96,$A35,FALSE)+IF(L$5=$C35,HLOOKUP(L$5,'Hilfsblatt Ber. Wirtsch Wirk 3'!$D$11:$BX$96,87,FALSE),0))/100),0)","v":0},{"$f":"IFERROR((M$6*(HLOOKUP(M$5,'Hilfsblatt Ber. Wirtsch Wirk 3'!$D$11:$BW$96,$A35,FALSE)+IF(M$5=$C35,HLOOKUP(M$5,'Hilfsblatt Ber. Wirtsch Wirk 3'!$D$11:$BX$96,87,FALSE),0))/100),0)","v":0},{"$f":"IFERROR((N$6*(HLOOKUP(N$5,'Hilfsblatt Ber. Wirtsch Wirk 3'!$D$11:$BW$96,$A35,FALSE)+IF(N$5=$C35,HLOOKUP(N$5,'Hilfsblatt Ber. Wirtsch Wirk 3'!$D$11:$BX$96,87,FALSE),0))/100),0)","v":0},{"$f":"IFERROR((O$6*(HLOOKUP(O$5,'Hilfsblatt Ber. Wirtsch Wirk 3'!$D$11:$BW$96,$A35,FALSE)+IF(O$5=$C35,HLOOKUP(O$5,'Hilfsblatt Ber. Wirtsch Wirk 3'!$D$11:$BX$96,87,FALSE),0))/100),0)","v":0},{"$f":"IFERROR((P$6*(HLOOKUP(P$5,'Hilfsblatt Ber. Wirtsch Wirk 3'!$D$11:$BW$96,$A35,FALSE)+IF(P$5=$C35,HLOOKUP(P$5,'Hilfsblatt Ber. Wirtsch Wirk 3'!$D$11:$BX$96,87,FALSE),0))/100),0)","v":0},{"$f":"IFERROR((Q$6*(HLOOKUP(Q$5,'Hilfsblatt Ber. Wirtsch Wirk 3'!$D$11:$BW$96,$A35,FALSE)+IF(Q$5=$C35,HLOOKUP(Q$5,'Hilfsblatt Ber. Wirtsch Wirk 3'!$D$11:$BX$96,87,FALSE),0))/100),0)","v":0},{"$f":"R$6*('Hilfsblatt Ber. Wirtsch Wirk 3'!BX40+'Hilfsblatt Ber. Wirtsch Wirk 3'!BX40*'Hilfsblatt Ber. Wirtsch Wirk 3'!CA40/'Hilfsblatt Ber. Wirtsch Wirk 3'!CB40)/100","v":0},0,{"$f":"S35*'Hilfsblatt Ber. Wirtsch Wirk 3'!BZ40/('Hilfsblatt Ber. Wirtsch Wirk 3'!CA40)","v":0},{"$f":"S35/'Hilfsblatt Ber. Wirtsch Wirk 3'!CC40","v":0},{"$f":"T35*('Hilfsblatt Ber. Wirtsch Wirk 4'!B$14/'Hilfsblatt Ber. Wirtsch Wirk 4'!B$13)","v":0},{"$f":"S35*'Hilfsblatt Ber. Wirtsch Wirk 3'!CD40","v":0},null,0]
[31,{"$f":"'Hilfsblatt Ber. Wirtsch Wirk 3'!B41","v":"31-32"},{"$f":"'Hilfsblatt Ber. Wirtsch Wirk 3'!C41","v":"Herstellung von Möbeln und sonstigen Waren"},{"$f":"IFERROR((D$6*(HLOOKUP(D$5,'Hilfsblatt Ber. Wirtsch Wirk 3'!$D$11:$BW$96,$A36,FALSE)+IF(D$5=$C36,HLOOKUP(D$5,'Hilfsblatt Ber. Wirtsch Wirk 3'!$D$11:$BX$96,87,FALSE),0))/100),0)","v":0},{"$f":"IFERROR((E$6*(HLOOKUP(E$5,'Hilfsblatt Ber. Wirtsch Wirk 3'!$D$11:$BW$96,$A36,FALSE)+IF(E$5=$C36,HLOOKUP(E$5,'Hilfsblatt Ber. Wirtsch Wirk 3'!$D$11:$BX$96,87,FALSE),0))/100),0)","v":0},{"$f":"IFERROR((F$6*(HLOOKUP(F$5,'Hilfsblatt Ber. Wirtsch Wirk 3'!$D$11:$BW$96,$A36,FALSE)+IF(F$5=$C36,HLOOKUP(F$5,'Hilfsblatt Ber. Wirtsch Wirk 3'!$D$11:$BX$96,87,FALSE),0))/100),0)","v":0},{"$f":"IFERROR((G$6*(HLOOKUP(G$5,'Hilfsblatt Ber. Wirtsch Wirk 3'!$D$11:$BW$96,$A36,FALSE)+IF(G$5=$C36,HLOOKUP(G$5,'Hilfsblatt Ber. Wirtsch Wirk 3'!$D$11:$BX$96,87,FALSE),0))/100),0)","v":0},{"$f":"IFERROR((H$6*(HLOOKUP(H$5,'Hilfsblatt Ber. Wirtsch Wirk 3'!$D$11:$BW$96,$A36,FALSE)+IF(H$5=$C36,HLOOKUP(H$5,'Hilfsblatt Ber. Wirtsch Wirk 3'!$D$11:$BX$96,87,FALSE),0))/100),0)","v":0},{"$f":"IFERROR((I$6*(HLOOKUP(I$5,'Hilfsblatt Ber. Wirtsch Wirk 3'!$D$11:$BW$96,$A36,FALSE)+IF(I$5=$C36,HLOOKUP(I$5,'Hilfsblatt Ber. Wirtsch Wirk 3'!$D$11:$BX$96,87,FALSE),0))/100),0)","v":0},{"$f":"IFERROR((J$6*(HLOOKUP(J$5,'Hilfsblatt Ber. Wirtsch Wirk 3'!$D$11:$BW$96,$A36,FALSE)+IF(J$5=$C36,HLOOKUP(J$5,'Hilfsblatt Ber. Wirtsch Wirk 3'!$D$11:$BX$96,87,FALSE),0))/100),0)","v":0},{"$f":"IFERROR((K$6*(HLOOKUP(K$5,'Hilfsblatt Ber. Wirtsch Wirk 3'!$D$11:$BW$96,$A36,FALSE)+IF(K$5=$C36,HLOOKUP(K$5,'Hilfsblatt Ber. Wirtsch Wirk 3'!$D$11:$BX$96,87,FALSE),0))/100),0)","v":0},{"$f":"IFERROR((L$6*(HLOOKUP(L$5,'Hilfsblatt Ber. Wirtsch Wirk 3'!$D$11:$BW$96,$A36,FALSE)+IF(L$5=$C36,HLOOKUP(L$5,'Hilfsblatt Ber. Wirtsch Wirk 3'!$D$11:$BX$96,87,FALSE),0))/100),0)","v":0},{"$f":"IFERROR((M$6*(HLOOKUP(M$5,'Hilfsblatt Ber. Wirtsch Wirk 3'!$D$11:$BW$96,$A36,FALSE)+IF(M$5=$C36,HLOOKUP(M$5,'Hilfsblatt Ber. Wirtsch Wirk 3'!$D$11:$BX$96,87,FALSE),0))/100),0)","v":0},{"$f":"IFERROR((N$6*(HLOOKUP(N$5,'Hilfsblatt Ber. Wirtsch Wirk 3'!$D$11:$BW$96,$A36,FALSE)+IF(N$5=$C36,HLOOKUP(N$5,'Hilfsblatt Ber. Wirtsch Wirk 3'!$D$11:$BX$96,87,FALSE),0))/100),0)","v":0},{"$f":"IFERROR((O$6*(HLOOKUP(O$5,'Hilfsblatt Ber. Wirtsch Wirk 3'!$D$11:$BW$96,$A36,FALSE)+IF(O$5=$C36,HLOOKUP(O$5,'Hilfsblatt Ber. Wirtsch Wirk 3'!$D$11:$BX$96,87,FALSE),0))/100),0)","v":0},{"$f":"IFERROR((P$6*(HLOOKUP(P$5,'Hilfsblatt Ber. Wirtsch Wirk 3'!$D$11:$BW$96,$A36,FALSE)+IF(P$5=$C36,HLOOKUP(P$5,'Hilfsblatt Ber. Wirtsch Wirk 3'!$D$11:$BX$96,87,FALSE),0))/100),0)","v":0},{"$f":"IFERROR((Q$6*(HLOOKUP(Q$5,'Hilfsblatt Ber. Wirtsch Wirk 3'!$D$11:$BW$96,$A36,FALSE)+IF(Q$5=$C36,HLOOKUP(Q$5,'Hilfsblatt Ber. Wirtsch Wirk 3'!$D$11:$BX$96,87,FALSE),0))/100),0)","v":0},{"$f":"R$6*('Hilfsblatt Ber. Wirtsch Wirk 3'!BX41+'Hilfsblatt Ber. Wirtsch Wirk 3'!BX41*'Hilfsblatt Ber. Wirtsch Wirk 3'!CA41/'Hilfsblatt Ber. Wirtsch Wirk 3'!CB41)/100","v":0},0,{"$f":"S36*'Hilfsblatt Ber. Wirtsch Wirk 3'!BZ41/('Hilfsblatt Ber. Wirtsch Wirk 3'!CA41)","v":0},{"$f":"S36/'Hilfsblatt Ber. Wirtsch Wirk 3'!CC41","v":0},{"$f":"T36*('Hilfsblatt Ber. Wirtsch Wirk 4'!B$14/'Hilfsblatt Ber. Wirtsch Wirk 4'!B$13)","v":0},{"$f":"S36*'Hilfsblatt Ber. Wirtsch Wirk 3'!CD41","v":0},null,0]
[32,{"$f":"'Hilfsblatt Ber. Wirtsch Wirk 3'!B42","v":"33"},{"$f":"'Hilfsblatt Ber. Wirtsch Wirk 3'!C42","v":"Reparatur, Instandh. u. Installation v. Maschinen u. Ausrüstungen"},{"$f":"IFERROR((D$6*(HLOOKUP(D$5,'Hilfsblatt Ber. Wirtsch Wirk 3'!$D$11:$BW$96,$A37,FALSE)+IF(D$5=$C37,HLOOKUP(D$5,'Hilfsblatt Ber. Wirtsch Wirk 3'!$D$11:$BX$96,87,FALSE),0))/100),0)","v":0},{"$f":"IFERROR((E$6*(HLOOKUP(E$5,'Hilfsblatt Ber. Wirtsch Wirk 3'!$D$11:$BW$96,$A37,FALSE)+IF(E$5=$C37,HLOOKUP(E$5,'Hilfsblatt Ber. Wirtsch Wirk 3'!$D$11:$BX$96,87,FALSE),0))/100),0)","v":0},{"$f":"IFERROR((F$6*(HLOOKUP(F$5,'Hilfsblatt Ber. Wirtsch Wirk 3'!$D$11:$BW$96,$A37,FALSE)+IF(F$5=$C37,HLOOKUP(F$5,'Hilfsblatt Ber. Wirtsch Wirk 3'!$D$11:$BX$96,87,FALSE),0))/100),0)","v":0},{"$f":"IFERROR((G$6*(HLOOKUP(G$5,'Hilfsblatt Ber. Wirtsch Wirk 3'!$D$11:$BW$96,$A37,FALSE)+IF(G$5=$C37,HLOOKUP(G$5,'Hilfsblatt Ber. Wirtsch Wirk 3'!$D$11:$BX$96,87,FALSE),0))/100),0)","v":0},{"$f":"IFERROR((H$6*(HLOOKUP(H$5,'Hilfsblatt Ber. Wirtsch Wirk 3'!$D$11:$BW$96,$A37,FALSE)+IF(H$5=$C37,HLOOKUP(H$5,'Hilfsblatt Ber. Wirtsch Wirk 3'!$D$11:$BX$96,87,FALSE),0))/100),0)","v":0},{"$f":"IFERROR((I$6*(HLOOKUP(I$5,'Hilfsblatt Ber. Wirtsch Wirk 3'!$D$11:$BW$96,$A37,FALSE)+IF(I$5=$C37,HLOOKUP(I$5,'Hilfsblatt Ber. Wirtsch Wirk 3'!$D$11:$BX$96,87,FALSE),0))/100),0)","v":0},{"$f":"IFERROR((J$6*(HLOOKUP(J$5,'Hilfsblatt Ber. Wirtsch Wirk 3'!$D$11:$BW$96,$A37,FALSE)+IF(J$5=$C37,HLOOKUP(J$5,'Hilfsblatt Ber. Wirtsch Wirk 3'!$D$11:$BX$96,87,FALSE),0))/100),0)","v":0},{"$f":"IFERROR((K$6*(HLOOKUP(K$5,'Hilfsblatt Ber. Wirtsch Wirk 3'!$D$11:$BW$96,$A37,FALSE)+IF(K$5=$C37,HLOOKUP(K$5,'Hilfsblatt Ber. Wirtsch Wirk 3'!$D$11:$BX$96,87,FALSE),0))/100),0)","v":0},{"$f":"IFERROR((L$6*(HLOOKUP(L$5,'Hilfsblatt Ber. Wirtsch Wirk 3'!$D$11:$BW$96,$A37,FALSE)+IF(L$5=$C37,HLOOKUP(L$5,'Hilfsblatt Ber. Wirtsch Wirk 3'!$D$11:$BX$96,87,FALSE),0))/100),0)","v":0},{"$f":"IFERROR((M$6*(HLOOKUP(M$5,'Hilfsblatt Ber. Wirtsch Wirk 3'!$D$11:$BW$96,$A37,FALSE)+IF(M$5=$C37,HLOOKUP(M$5,'Hilfsblatt Ber. Wirtsch Wirk 3'!$D$11:$BX$96,87,FALSE),0))/100),0)","v":0},{"$f":"IFERROR((N$6*(HLOOKUP(N$5,'Hilfsblatt Ber. Wirtsch Wirk 3'!$D$11:$BW$96,$A37,FALSE)+IF(N$5=$C37,HLOOKUP(N$5,'Hilfsblatt Ber. Wirtsch Wirk 3'!$D$11:$BX$96,87,FALSE),0))/100),0)","v":0},{"$f":"IFERROR((O$6*(HLOOKUP(O$5,'Hilfsblatt Ber. Wirtsch Wirk 3'!$D$11:$BW$96,$A37,FALSE)+IF(O$5=$C37,HLOOKUP(O$5,'Hilfsblatt Ber. Wirtsch Wirk 3'!$D$11:$BX$96,87,FALSE),0))/100),0)","v":0},{"$f":"IFERROR((P$6*(HLOOKUP(P$5,'Hilfsblatt Ber. Wirtsch Wirk 3'!$D$11:$BW$96,$A37,FALSE)+IF(P$5=$C37,HLOOKUP(P$5,'Hilfsblatt Ber. Wirtsch Wirk 3'!$D$11:$BX$96,87,FALSE),0))/100),0)","v":0},{"$f":"IFERROR((Q$6*(HLOOKUP(Q$5,'Hilfsblatt Ber. Wirtsch Wirk 3'!$D$11:$BW$96,$A37,FALSE)+IF(Q$5=$C37,HLOOKUP(Q$5,'Hilfsblatt Ber. Wirtsch Wirk 3'!$D$11:$BX$96,87,FALSE),0))/100),0)","v":0},{"$f":"R$6*('Hilfsblatt Ber. Wirtsch Wirk 3'!BX42+'Hilfsblatt Ber. Wirtsch Wirk 3'!BX42*'Hilfsblatt Ber. Wirtsch Wirk 3'!CA42/'Hilfsblatt Ber. Wirtsch Wirk 3'!CB42)/100","v":0},0,{"$f":"S37*'Hilfsblatt Ber. Wirtsch Wirk 3'!BZ42/('Hilfsblatt Ber. Wirtsch Wirk 3'!CA42)","v":0},{"$f":"S37/'Hilfsblatt Ber. Wirtsch Wirk 3'!CC42","v":0},{"$f":"T37*('Hilfsblatt Ber. Wirtsch Wirk 4'!B$14/'Hilfsblatt Ber. Wirtsch Wirk 4'!B$13)","v":0},{"$f":"S37*'Hilfsblatt Ber. Wirtsch Wirk 3'!CD42","v":0},null,0]
[33,{"$f":"'Hilfsblatt Ber. Wirtsch Wirk 3'!B43","v":"35.1, 35.3"},{"$f":"'Hilfsblatt Ber. Wirtsch Wirk 3'!C43","v":"Elektr. Strom, Dienstleistg. der Elektriz.-, Wärme- und Kälteversorg."},{"$f":"IFERROR((D$6*(HLOOKUP(D$5,'Hilfsblatt Ber. Wirtsch Wirk 3'!$D$11:$BW$96,$A38,FALSE)+IF(D$5=$C38,HLOOKUP(D$5,'Hilfsblatt Ber. Wirtsch Wirk 3'!$D$11:$BX$96,87,FALSE),0))/100),0)","v":0},{"$f":"IFERROR((E$6*(HLOOKUP(E$5,'Hilfsblatt Ber. Wirtsch Wirk 3'!$D$11:$BW$96,$A38,FALSE)+IF(E$5=$C38,HLOOKUP(E$5,'Hilfsblatt Ber. Wirtsch Wirk 3'!$D$11:$BX$96,87,FALSE),0))/100),0)","v":0},{"$f":"IFERROR((F$6*(HLOOKUP(F$5,'Hilfsblatt Ber. Wirtsch Wirk 3'!$D$11:$BW$96,$A38,FALSE)+IF(F$5=$C38,HLOOKUP(F$5,'Hilfsblatt Ber. Wirtsch Wirk 3'!$D$11:$BX$96,87,FALSE),0))/100),0)","v":0},{"$f":"IFERROR((G$6*(HLOOKUP(G$5,'Hilfsblatt Ber. Wirtsch Wirk 3'!$D$11:$BW$96,$A38,FALSE)+IF(G$5=$C38,HLOOKUP(G$5,'Hilfsblatt Ber. Wirtsch Wirk 3'!$D$11:$BX$96,87,FALSE),0))/100),0)","v":0},{"$f":"IFERROR((H$6*(HLOOKUP(H$5,'Hilfsblatt Ber. Wirtsch Wirk 3'!$D$11:$BW$96,$A38,FALSE)+IF(H$5=$C38,HLOOKUP(H$5,'Hilfsblatt Ber. Wirtsch Wirk 3'!$D$11:$BX$96,87,FALSE),0))/100),0)","v":0},{"$f":"IFERROR((I$6*(HLOOKUP(I$5,'Hilfsblatt Ber. Wirtsch Wirk 3'!$D$11:$BW$96,$A38,FALSE)+IF(I$5=$C38,HLOOKUP(I$5,'Hilfsblatt Ber. Wirtsch Wirk 3'!$D$11:$BX$96,87,FALSE),0))/100),0)","v":0},{"$f":"IFERROR((J$6*(HLOOKUP(J$5,'Hilfsblatt Ber. Wirtsch Wirk 3'!$D$11:$BW$96,$A38,FALSE)+IF(J$5=$C38,HLOOKUP(J$5,'Hilfsblatt Ber. Wirtsch Wirk 3'!$D$11:$BX$96,87,FALSE),0))/100),0)","v":0},{"$f":"IFERROR((K$6*(HLOOKUP(K$5,'Hilfsblatt Ber. Wirtsch Wirk 3'!$D$11:$BW$96,$A38,FALSE)+IF(K$5=$C38,HLOOKUP(K$5,'Hilfsblatt Ber. Wirtsch Wirk 3'!$D$11:$BX$96,87,FALSE),0))/100),0)","v":0},{"$f":"IFERROR((L$6*(HLOOKUP(L$5,'Hilfsblatt Ber. Wirtsch Wirk 3'!$D$11:$BW$96,$A38,FALSE)+IF(L$5=$C38,HLOOKUP(L$5,'Hilfsblatt Ber. Wirtsch Wirk 3'!$D$11:$BX$96,87,FALSE),0))/100),0)","v":0},{"$f":"IFERROR((M$6*(HLOOKUP(M$5,'Hilfsblatt Ber. Wirtsch Wirk 3'!$D$11:$BW$96,$A38,FALSE)+IF(M$5=$C38,HLOOKUP(M$5,'Hilfsblatt Ber. Wirtsch Wirk 3'!$D$11:$BX$96,87,FALSE),0))/100),0)","v":0},{"$f":"IFERROR((N$6*(HLOOKUP(N$5,'Hilfsblatt Ber. Wirtsch Wirk 3'!$D$11:$BW$96,$A38,FALSE)+IF(N$5=$C38,HLOOKUP(N$5,'Hilfsblatt Ber. Wirtsch Wirk 3'!$D$11:$BX$96,87,FALSE),0))/100),0)","v":0},{"$f":"IFERROR((O$6*(HLOOKUP(O$5,'Hilfsblatt Ber. Wirtsch Wirk 3'!$D$11:$BW$96,$A38,FALSE)+IF(O$5=$C38,HLOOKUP(O$5,'Hilfsblatt Ber. Wirtsch Wirk 3'!$D$11:$BX$96,87,FALSE),0))/100),0)","v":0},{"$f":"IFERROR((P$6*(HLOOKUP(P$5,'Hilfsblatt Ber. Wirtsch Wirk 3'!$D$11:$BW$96,$A38,FALSE)+IF(P$5=$C38,HLOOKUP(P$5,'Hilfsblatt Ber. Wirtsch Wirk 3'!$D$11:$BX$96,87,FALSE),0))/100),0)","v":0},{"$f":"IFERROR((Q$6*(HLOOKUP(Q$5,'Hilfsblatt Ber. Wirtsch Wirk 3'!$D$11:$BW$96,$A38,FALSE)+IF(Q$5=$C38,HLOOKUP(Q$5,'Hilfsblatt Ber. Wirtsch Wirk 3'!$D$11:$BX$96,87,FALSE),0))/100),0)","v":0},{"$f":"R$6*('Hilfsblatt Ber. Wirtsch Wirk 3'!BX43+'Hilfsblatt Ber. Wirtsch Wirk 3'!BX43*'Hilfsblatt Ber. Wirtsch Wirk 3'!CA43/'Hilfsblatt Ber. Wirtsch Wirk 3'!CB43)/100","v":0},0,{"$f":"S38*'Hilfsblatt Ber. Wirtsch Wirk 3'!BZ43/('Hilfsblatt Ber. Wirtsch Wirk 3'!CA43)","v":0},{"$f":"S38/'Hilfsblatt Ber. Wirtsch Wirk 3'!CC43","v":0},{"$f":"T38*('Hilfsblatt Ber. Wirtsch Wirk 4'!B$14/'Hilfsblatt Ber. Wirtsch Wirk 4'!B$13)","v":0},{"$f":"S38*'Hilfsblatt Ber. Wirtsch Wirk 3'!CD43","v":0},null,0]
[34,{"$f":"'Hilfsblatt Ber. Wirtsch Wirk 3'!B44","v":"35.2"},{"$f":"'Hilfsblatt Ber. Wirtsch Wirk 3'!C44","v":"Industriell erzeugte Gase, Dienstleistungen der Gasversorgung"},{"$f":"IFERROR((D$6*(HLOOKUP(D$5,'Hilfsblatt Ber. Wirtsch Wirk 3'!$D$11:$BW$96,$A39,FALSE)+IF(D$5=$C39,HLOOKUP(D$5,'Hilfsblatt Ber. Wirtsch Wirk 3'!$D$11:$BX$96,87,FALSE),0))/100),0)","v":0},{"$f":"IFERROR((E$6*(HLOOKUP(E$5,'Hilfsblatt Ber. Wirtsch Wirk 3'!$D$11:$BW$96,$A39,FALSE)+IF(E$5=$C39,HLOOKUP(E$5,'Hilfsblatt Ber. Wirtsch Wirk 3'!$D$11:$BX$96,87,FALSE),0))/100),0)","v":0},{"$f":"IFERROR((F$6*(HLOOKUP(F$5,'Hilfsblatt Ber. Wirtsch Wirk 3'!$D$11:$BW$96,$A39,FALSE)+IF(F$5=$C39,HLOOKUP(F$5,'Hilfsblatt Ber. Wirtsch Wirk 3'!$D$11:$BX$96,87,FALSE),0))/100),0)","v":0},{"$f":"IFERROR((G$6*(HLOOKUP(G$5,'Hilfsblatt Ber. Wirtsch Wirk 3'!$D$11:$BW$96,$A39,FALSE)+IF(G$5=$C39,HLOOKUP(G$5,'Hilfsblatt Ber. Wirtsch Wirk 3'!$D$11:$BX$96,87,FALSE),0))/100),0)","v":0},{"$f":"IFERROR((H$6*(HLOOKUP(H$5,'Hilfsblatt Ber. Wirtsch Wirk 3'!$D$11:$BW$96,$A39,FALSE)+IF(H$5=$C39,HLOOKUP(H$5,'Hilfsblatt Ber. Wirtsch Wirk 3'!$D$11:$BX$96,87,FALSE),0))/100),0)","v":0},{"$f":"IFERROR((I$6*(HLOOKUP(I$5,'Hilfsblatt Ber. Wirtsch Wirk 3'!$D$11:$BW$96,$A39,FALSE)+IF(I$5=$C39,HLOOKUP(I$5,'Hilfsblatt Ber. Wirtsch Wirk 3'!$D$11:$BX$96,87,FALSE),0))/100),0)","v":0},{"$f":"IFERROR((J$6*(HLOOKUP(J$5,'Hilfsblatt Ber. Wirtsch Wirk 3'!$D$11:$BW$96,$A39,FALSE)+IF(J$5=$C39,HLOOKUP(J$5,'Hilfsblatt Ber. Wirtsch Wirk 3'!$D$11:$BX$96,87,FALSE),0))/100),0)","v":0},{"$f":"IFERROR((K$6*(HLOOKUP(K$5,'Hilfsblatt Ber. Wirtsch Wirk 3'!$D$11:$BW$96,$A39,FALSE)+IF(K$5=$C39,HLOOKUP(K$5,'Hilfsblatt Ber. Wirtsch Wirk 3'!$D$11:$BX$96,87,FALSE),0))/100),0)","v":0},{"$f":"IFERROR((L$6*(HLOOKUP(L$5,'Hilfsblatt Ber. Wirtsch Wirk 3'!$D$11:$BW$96,$A39,FALSE)+IF(L$5=$C39,HLOOKUP(L$5,'Hilfsblatt Ber. Wirtsch Wirk 3'!$D$11:$BX$96,87,FALSE),0))/100),0)","v":0},{"$f":"IFERROR((M$6*(HLOOKUP(M$5,'Hilfsblatt Ber. Wirtsch Wirk 3'!$D$11:$BW$96,$A39,FALSE)+IF(M$5=$C39,HLOOKUP(M$5,'Hilfsblatt Ber. Wirtsch Wirk 3'!$D$11:$BX$96,87,FALSE),0))/100),0)","v":0},{"$f":"IFERROR((N$6*(HLOOKUP(N$5,'Hilfsblatt Ber. Wirtsch Wirk 3'!$D$11:$BW$96,$A39,FALSE)+IF(N$5=$C39,HLOOKUP(N$5,'Hilfsblatt Ber. Wirtsch Wirk 3'!$D$11:$BX$96,87,FALSE),0))/100),0)","v":0},{"$f":"IFERROR((O$6*(HLOOKUP(O$5,'Hilfsblatt Ber. Wirtsch Wirk 3'!$D$11:$BW$96,$A39,FALSE)+IF(O$5=$C39,HLOOKUP(O$5,'Hilfsblatt Ber. Wirtsch Wirk 3'!$D$11:$BX$96,87,FALSE),0))/100),0)","v":0},{"$f":"IFERROR((P$6*(HLOOKUP(P$5,'Hilfsblatt Ber. Wirtsch Wirk 3'!$D$11:$BW$96,$A39,FALSE)+IF(P$5=$C39,HLOOKUP(P$5,'Hilfsblatt Ber. Wirtsch Wirk 3'!$D$11:$BX$96,87,FALSE),0))/100),0)","v":0},{"$f":"IFERROR((Q$6*(HLOOKUP(Q$5,'Hilfsblatt Ber. Wirtsch Wirk 3'!$D$11:$BW$96,$A39,FALSE)+IF(Q$5=$C39,HLOOKUP(Q$5,'Hilfsblatt Ber. Wirtsch Wirk 3'!$D$11:$BX$96,87,FALSE),0))/100),0)","v":0},{"$f":"R$6*('Hilfsblatt Ber. Wirtsch Wirk 3'!BX44+'Hilfsblatt Ber. Wirtsch Wirk 3'!BX44*'Hilfsblatt Ber. Wirtsch Wirk 3'!CA44/'Hilfsblatt Ber. Wirtsch Wirk 3'!CB44)/100","v":0},0,{"$f":"S39*'Hilfsblatt Ber. Wirtsch Wirk 3'!BZ44/('Hilfsblatt Ber. Wirtsch Wirk 3'!CA44)","v":0},{"$f":"S39/'Hilfsblatt Ber. Wirtsch Wirk 3'!CC44","v":0},{"$f":"T39*('Hilfsblatt Ber. Wirtsch Wirk 4'!B$14/'Hilfsblatt Ber. Wirtsch Wirk 4'!B$13)","v":0},{"$f":"S39*'Hilfsblatt Ber. Wirtsch Wirk 3'!CD44","v":0},null,0]
[35,{"$f":"'Hilfsblatt Ber. Wirtsch Wirk 3'!B45","v":"36"},{"$f":"'Hilfsblatt Ber. Wirtsch Wirk 3'!C45","v":"Wasser, Dienstleistungen der Wasserversorgung"},{"$f":"IFERROR((D$6*(HLOOKUP(D$5,'Hilfsblatt Ber. Wirtsch Wirk 3'!$D$11:$BW$96,$A40,FALSE)+IF(D$5=$C40,HLOOKUP(D$5,'Hilfsblatt Ber. Wirtsch Wirk 3'!$D$11:$BX$96,87,FALSE),0))/100),0)","v":0},{"$f":"IFERROR((E$6*(HLOOKUP(E$5,'Hilfsblatt Ber. Wirtsch Wirk 3'!$D$11:$BW$96,$A40,FALSE)+IF(E$5=$C40,HLOOKUP(E$5,'Hilfsblatt Ber. Wirtsch Wirk 3'!$D$11:$BX$96,87,FALSE),0))/100),0)","v":0},{"$f":"IFERROR((F$6*(HLOOKUP(F$5,'Hilfsblatt Ber. Wirtsch Wirk 3'!$D$11:$BW$96,$A40,FALSE)+IF(F$5=$C40,HLOOKUP(F$5,'Hilfsblatt Ber. Wirtsch Wirk 3'!$D$11:$BX$96,87,FALSE),0))/100),0)","v":0},{"$f":"IFERROR((G$6*(HLOOKUP(G$5,'Hilfsblatt Ber. Wirtsch Wirk 3'!$D$11:$BW$96,$A40,FALSE)+IF(G$5=$C40,HLOOKUP(G$5,'Hilfsblatt Ber. Wirtsch Wirk 3'!$D$11:$BX$96,87,FALSE),0))/100),0)","v":0},{"$f":"IFERROR((H$6*(HLOOKUP(H$5,'Hilfsblatt Ber. Wirtsch Wirk 3'!$D$11:$BW$96,$A40,FALSE)+IF(H$5=$C40,HLOOKUP(H$5,'Hilfsblatt Ber. Wirtsch Wirk 3'!$D$11:$BX$96,87,FALSE),0))/100),0)","v":0},{"$f":"IFERROR((I$6*(HLOOKUP(I$5,'Hilfsblatt Ber. Wirtsch Wirk 3'!$D$11:$BW$96,$A40,FALSE)+IF(I$5=$C40,HLOOKUP(I$5,'Hilfsblatt Ber. Wirtsch Wirk 3'!$D$11:$BX$96,87,FALSE),0))/100),0)","v":0},{"$f":"IFERROR((J$6*(HLOOKUP(J$5,'Hilfsblatt Ber. Wirtsch Wirk 3'!$D$11:$BW$96,$A40,FALSE)+IF(J$5=$C40,HLOOKUP(J$5,'Hilfsblatt Ber. Wirtsch Wirk 3'!$D$11:$BX$96,87,FALSE),0))/100),0)","v":0},{"$f":"IFERROR((K$6*(HLOOKUP(K$5,'Hilfsblatt Ber. Wirtsch Wirk 3'!$D$11:$BW$96,$A40,FALSE)+IF(K$5=$C40,HLOOKUP(K$5,'Hilfsblatt Ber. Wirtsch Wirk 3'!$D$11:$BX$96,87,FALSE),0))/100),0)","v":0},{"$f":"IFERROR((L$6*(HLOOKUP(L$5,'Hilfsblatt Ber. Wirtsch Wirk 3'!$D$11:$BW$96,$A40,FALSE)+IF(L$5=$C40,HLOOKUP(L$5,'Hilfsblatt Ber. Wirtsch Wirk 3'!$D$11:$BX$96,87,FALSE),0))/100),0)","v":0},{"$f":"IFERROR((M$6*(HLOOKUP(M$5,'Hilfsblatt Ber. Wirtsch Wirk 3'!$D$11:$BW$96,$A40,FALSE)+IF(M$5=$C40,HLOOKUP(M$5,'Hilfsblatt Ber. Wirtsch Wirk 3'!$D$11:$BX$96,87,FALSE),0))/100),0)","v":0},{"$f":"IFERROR((N$6*(HLOOKUP(N$5,'Hilfsblatt Ber. Wirtsch Wirk 3'!$D$11:$BW$96,$A40,FALSE)+IF(N$5=$C40,HLOOKUP(N$5,'Hilfsblatt Ber. Wirtsch Wirk 3'!$D$11:$BX$96,87,FALSE),0))/100),0)","v":0},{"$f":"IFERROR((O$6*(HLOOKUP(O$5,'Hilfsblatt Ber. Wirtsch Wirk 3'!$D$11:$BW$96,$A40,FALSE)+IF(O$5=$C40,HLOOKUP(O$5,'Hilfsblatt Ber. Wirtsch Wirk 3'!$D$11:$BX$96,87,FALSE),0))/100),0)","v":0},{"$f":"IFERROR((P$6*(HLOOKUP(P$5,'Hilfsblatt Ber. Wirtsch Wirk 3'!$D$11:$BW$96,$A40,FALSE)+IF(P$5=$C40,HLOOKUP(P$5,'Hilfsblatt Ber. Wirtsch Wirk 3'!$D$11:$BX$96,87,FALSE),0))/100),0)","v":0},{"$f":"IFERROR((Q$6*(HLOOKUP(Q$5,'Hilfsblatt Ber. Wirtsch Wirk 3'!$D$11:$BW$96,$A40,FALSE)+IF(Q$5=$C40,HLOOKUP(Q$5,'Hilfsblatt Ber. Wirtsch Wirk 3'!$D$11:$BX$96,87,FALSE),0))/100),0)","v":0},{"$f":"R$6*('Hilfsblatt Ber. Wirtsch Wirk 3'!BX45+'Hilfsblatt Ber. Wirtsch Wirk 3'!BX45*'Hilfsblatt Ber. Wirtsch Wirk 3'!CA45/'Hilfsblatt Ber. Wirtsch Wirk 3'!CB45)/100","v":0},0,{"$f":"S40*'Hilfsblatt Ber. Wirtsch Wirk 3'!BZ45/('Hilfsblatt Ber. Wirtsch Wirk 3'!CA45)","v":0},{"$f":"S40/'Hilfsblatt Ber. Wirtsch Wirk 3'!CC45","v":0},{"$f":"T40*('Hilfsblatt Ber. Wirtsch Wirk 4'!B$14/'Hilfsblatt Ber. Wirtsch Wirk 4'!B$13)","v":0},{"$f":"S40*'Hilfsblatt Ber. Wirtsch Wirk 3'!CD45","v":0},null,0]
[36,{"$f":"'Hilfsblatt Ber. Wirtsch Wirk 3'!B46","v":"37-39"},{"$f":"'Hilfsblatt Ber. Wirtsch Wirk 3'!C46","v":"Dienstleistg. d. Abwasser-, Abfallentsorg. u. Rückgewinnung"},{"$f":"IFERROR((D$6*(HLOOKUP(D$5,'Hilfsblatt Ber. Wirtsch Wirk 3'!$D$11:$BW$96,$A41,FALSE)+IF(D$5=$C41,HLOOKUP(D$5,'Hilfsblatt Ber. Wirtsch Wirk 3'!$D$11:$BX$96,87,FALSE),0))/100),0)","v":0},{"$f":"IFERROR((E$6*(HLOOKUP(E$5,'Hilfsblatt Ber. Wirtsch Wirk 3'!$D$11:$BW$96,$A41,FALSE)+IF(E$5=$C41,HLOOKUP(E$5,'Hilfsblatt Ber. Wirtsch Wirk 3'!$D$11:$BX$96,87,FALSE),0))/100),0)","v":0},{"$f":"IFERROR((F$6*(HLOOKUP(F$5,'Hilfsblatt Ber. Wirtsch Wirk 3'!$D$11:$BW$96,$A41,FALSE)+IF(F$5=$C41,HLOOKUP(F$5,'Hilfsblatt Ber. Wirtsch Wirk 3'!$D$11:$BX$96,87,FALSE),0))/100),0)","v":0},{"$f":"IFERROR((G$6*(HLOOKUP(G$5,'Hilfsblatt Ber. Wirtsch Wirk 3'!$D$11:$BW$96,$A41,FALSE)+IF(G$5=$C41,HLOOKUP(G$5,'Hilfsblatt Ber. Wirtsch Wirk 3'!$D$11:$BX$96,87,FALSE),0))/100),0)","v":0},{"$f":"IFERROR((H$6*(HLOOKUP(H$5,'Hilfsblatt Ber. Wirtsch Wirk 3'!$D$11:$BW$96,$A41,FALSE)+IF(H$5=$C41,HLOOKUP(H$5,'Hilfsblatt Ber. Wirtsch Wirk 3'!$D$11:$BX$96,87,FALSE),0))/100),0)","v":0},{"$f":"IFERROR((I$6*(HLOOKUP(I$5,'Hilfsblatt Ber. Wirtsch Wirk 3'!$D$11:$BW$96,$A41,FALSE)+IF(I$5=$C41,HLOOKUP(I$5,'Hilfsblatt Ber. Wirtsch Wirk 3'!$D$11:$BX$96,87,FALSE),0))/100),0)","v":0},{"$f":"IFERROR((J$6*(HLOOKUP(J$5,'Hilfsblatt Ber. Wirtsch Wirk 3'!$D$11:$BW$96,$A41,FALSE)+IF(J$5=$C41,HLOOKUP(J$5,'Hilfsblatt Ber. Wirtsch Wirk 3'!$D$11:$BX$96,87,FALSE),0))/100),0)","v":0},{"$f":"IFERROR((K$6*(HLOOKUP(K$5,'Hilfsblatt Ber. Wirtsch Wirk 3'!$D$11:$BW$96,$A41,FALSE)+IF(K$5=$C41,HLOOKUP(K$5,'Hilfsblatt Ber. Wirtsch Wirk 3'!$D$11:$BX$96,87,FALSE),0))/100),0)","v":0},{"$f":"IFERROR((L$6*(HLOOKUP(L$5,'Hilfsblatt Ber. Wirtsch Wirk 3'!$D$11:$BW$96,$A41,FALSE)+IF(L$5=$C41,HLOOKUP(L$5,'Hilfsblatt Ber. Wirtsch Wirk 3'!$D$11:$BX$96,87,FALSE),0))/100),0)","v":0},{"$f":"IFERROR((M$6*(HLOOKUP(M$5,'Hilfsblatt Ber. Wirtsch Wirk 3'!$D$11:$BW$96,$A41,FALSE)+IF(M$5=$C41,HLOOKUP(M$5,'Hilfsblatt Ber. Wirtsch Wirk 3'!$D$11:$BX$96,87,FALSE),0))/100),0)","v":0},{"$f":"IFERROR((N$6*(HLOOKUP(N$5,'Hilfsblatt Ber. Wirtsch Wirk 3'!$D$11:$BW$96,$A41,FALSE)+IF(N$5=$C41,HLOOKUP(N$5,'Hilfsblatt Ber. Wirtsch Wirk 3'!$D$11:$BX$96,87,FALSE),0))/100),0)","v":0},{"$f":"IFERROR((O$6*(HLOOKUP(O$5,'Hilfsblatt Ber. Wirtsch Wirk 3'!$D$11:$BW$96,$A41,FALSE)+IF(O$5=$C41,HLOOKUP(O$5,'Hilfsblatt Ber. Wirtsch Wirk 3'!$D$11:$BX$96,87,FALSE),0))/100),0)","v":0},{"$f":"IFERROR((P$6*(HLOOKUP(P$5,'Hilfsblatt Ber. Wirtsch Wirk 3'!$D$11:$BW$96,$A41,FALSE)+IF(P$5=$C41,HLOOKUP(P$5,'Hilfsblatt Ber. Wirtsch Wirk 3'!$D$11:$BX$96,87,FALSE),0))/100),0)","v":0},{"$f":"IFERROR((Q$6*(HLOOKUP(Q$5,'Hilfsblatt Ber. Wirtsch Wirk 3'!$D$11:$BW$96,$A41,FALSE)+IF(Q$5=$C41,HLOOKUP(Q$5,'Hilfsblatt Ber. Wirtsch Wirk 3'!$D$11:$BX$96,87,FALSE),0))/100),0)","v":0},{"$f":"R$6*('Hilfsblatt Ber. Wirtsch Wirk 3'!BX46+'Hilfsblatt Ber. Wirtsch Wirk 3'!BX46*'Hilfsblatt Ber. Wirtsch Wirk 3'!CA46/'Hilfsblatt Ber. Wirtsch Wirk 3'!CB46)/100","v":0},0,{"$f":"S41*'Hilfsblatt Ber. Wirtsch Wirk 3'!BZ46/('Hilfsblatt Ber. Wirtsch Wirk 3'!CA46)","v":0},{"$f":"S41/'Hilfsblatt Ber. Wirtsch Wirk 3'!CC46","v":0},{"$f":"T41*('Hilfsblatt Ber. Wirtsch Wirk 4'!B$14/'Hilfsblatt Ber. Wirtsch Wirk 4'!B$13)","v":0},{"$f":"S41*'Hilfsblatt Ber. Wirtsch Wirk 3'!CD46","v":0},null,{"$f":"ABS($S41)","v":0}]
[37,{"$f":"'Hilfsblatt Ber. Wirtsch Wirk 3'!B47","v":"41 "},{"$f":"'Hilfsblatt Ber. Wirtsch Wirk 3'!C47","v":"Hochbauarbeiten"},{"$f":"IFERROR((D$6*(HLOOKUP(D$5,'Hilfsblatt Ber. Wirtsch Wirk 3'!$D$11:$BW$96,$A42,FALSE)+IF(D$5=$C42,HLOOKUP(D$5,'Hilfsblatt Ber. Wirtsch Wirk 3'!$D$11:$BX$96,87,FALSE),0))/100),0)","v":0},{"$f":"IFERROR((E$6*(HLOOKUP(E$5,'Hilfsblatt Ber. Wirtsch Wirk 3'!$D$11:$BW$96,$A42,FALSE)+IF(E$5=$C42,HLOOKUP(E$5,'Hilfsblatt Ber. Wirtsch Wirk 3'!$D$11:$BX$96,87,FALSE),0))/100),0)","v":0},{"$f":"IFERROR((F$6*(HLOOKUP(F$5,'Hilfsblatt Ber. Wirtsch Wirk 3'!$D$11:$BW$96,$A42,FALSE)+IF(F$5=$C42,HLOOKUP(F$5,'Hilfsblatt Ber. Wirtsch Wirk 3'!$D$11:$BX$96,87,FALSE),0))/100),0)","v":0},{"$f":"IFERROR((G$6*(HLOOKUP(G$5,'Hilfsblatt Ber. Wirtsch Wirk 3'!$D$11:$BW$96,$A42,FALSE)+IF(G$5=$C42,HLOOKUP(G$5,'Hilfsblatt Ber. Wirtsch Wirk 3'!$D$11:$BX$96,87,FALSE),0))/100),0)","v":0},{"$f":"IFERROR((H$6*(HLOOKUP(H$5,'Hilfsblatt Ber. Wirtsch Wirk 3'!$D$11:$BW$96,$A42,FALSE)+IF(H$5=$C42,HLOOKUP(H$5,'Hilfsblatt Ber. Wirtsch Wirk 3'!$D$11:$BX$96,87,FALSE),0))/100),0)","v":0},{"$f":"IFERROR((I$6*(HLOOKUP(I$5,'Hilfsblatt Ber. Wirtsch Wirk 3'!$D$11:$BW$96,$A42,FALSE)+IF(I$5=$C42,HLOOKUP(I$5,'Hilfsblatt Ber. Wirtsch Wirk 3'!$D$11:$BX$96,87,FALSE),0))/100),0)","v":0},{"$f":"IFERROR((J$6*(HLOOKUP(J$5,'Hilfsblatt Ber. Wirtsch Wirk 3'!$D$11:$BW$96,$A42,FALSE)+IF(J$5=$C42,HLOOKUP(J$5,'Hilfsblatt Ber. Wirtsch Wirk 3'!$D$11:$BX$96,87,FALSE),0))/100),0)","v":0},{"$f":"IFERROR((K$6*(HLOOKUP(K$5,'Hilfsblatt Ber. Wirtsch Wirk 3'!$D$11:$BW$96,$A42,FALSE)+IF(K$5=$C42,HLOOKUP(K$5,'Hilfsblatt Ber. Wirtsch Wirk 3'!$D$11:$BX$96,87,FALSE),0))/100),0)","v":0},{"$f":"IFERROR((L$6*(HLOOKUP(L$5,'Hilfsblatt Ber. Wirtsch Wirk 3'!$D$11:$BW$96,$A42,FALSE)+IF(L$5=$C42,HLOOKUP(L$5,'Hilfsblatt Ber. Wirtsch Wirk 3'!$D$11:$BX$96,87,FALSE),0))/100),0)","v":0},{"$f":"IFERROR((M$6*(HLOOKUP(M$5,'Hilfsblatt Ber. Wirtsch Wirk 3'!$D$11:$BW$96,$A42,FALSE)+IF(M$5=$C42,HLOOKUP(M$5,'Hilfsblatt Ber. Wirtsch Wirk 3'!$D$11:$BX$96,87,FALSE),0))/100),0)","v":0},{"$f":"IFERROR((N$6*(HLOOKUP(N$5,'Hilfsblatt Ber. Wirtsch Wirk 3'!$D$11:$BW$96,$A42,FALSE)+IF(N$5=$C42,HLOOKUP(N$5,'Hilfsblatt Ber. Wirtsch Wirk 3'!$D$11:$BX$96,87,FALSE),0))/100),0)","v":0},{"$f":"IFERROR((O$6*(HLOOKUP(O$5,'Hilfsblatt Ber. Wirtsch Wirk 3'!$D$11:$BW$96,$A42,FALSE)+IF(O$5=$C42,HLOOKUP(O$5,'Hilfsblatt Ber. Wirtsch Wirk 3'!$D$11:$BX$96,87,FALSE),0))/100),0)","v":0},{"$f":"IFERROR((P$6*(HLOOKUP(P$5,'Hilfsblatt Ber. Wirtsch Wirk 3'!$D$11:$BW$96,$A42,FALSE)+IF(P$5=$C42,HLOOKUP(P$5,'Hilfsblatt Ber. Wirtsch Wirk 3'!$D$11:$BX$96,87,FALSE),0))/100),0)","v":0},{"$f":"IFERROR((Q$6*(HLOOKUP(Q$5,'Hilfsblatt Ber. Wirtsch Wirk 3'!$D$11:$BW$96,$A42,FALSE)+IF(Q$5=$C42,HLOOKUP(Q$5,'Hilfsblatt Ber. Wirtsch Wirk 3'!$D$11:$BX$96,87,FALSE),0))/100),0)","v":0},{"$f":"R$6*('Hilfsblatt Ber. Wirtsch Wirk 3'!BX47+'Hilfsblatt Ber. Wirtsch Wirk 3'!BX47*'Hilfsblatt Ber. Wirtsch Wirk 3'!CA47/'Hilfsblatt Ber. Wirtsch Wirk 3'!CB47)/100","v":0},0,{"$f":"S42*'Hilfsblatt Ber. Wirtsch Wirk 3'!BZ47/('Hilfsblatt Ber. Wirtsch Wirk 3'!CA47)","v":0},{"$f":"S42/'Hilfsblatt Ber. Wirtsch Wirk 3'!CC47","v":0},{"$f":"T42*('Hilfsblatt Ber. Wirtsch Wirk 4'!B$14/'Hilfsblatt Ber. Wirtsch Wirk 4'!B$13)","v":0},{"$f":"S42*'Hilfsblatt Ber. Wirtsch Wirk 3'!CD47","v":0},null,0]
[38,{"$f":"'Hilfsblatt Ber. Wirtsch Wirk 3'!B48","v":"42"},{"$f":"'Hilfsblatt Ber. Wirtsch Wirk 3'!C48","v":"Tiefbauarbeiten"},{"$f":"IFERROR((D$6*(HLOOKUP(D$5,'Hilfsblatt Ber. Wirtsch Wirk 3'!$D$11:$BW$96,$A43,FALSE)+IF(D$5=$C43,HLOOKUP(D$5,'Hilfsblatt Ber. Wirtsch Wirk 3'!$D$11:$BX$96,87,FALSE),0))/100),0)","v":0},{"$f":"IFERROR((E$6*(HLOOKUP(E$5,'Hilfsblatt Ber. Wirtsch Wirk 3'!$D$11:$BW$96,$A43,FALSE)+IF(E$5=$C43,HLOOKUP(E$5,'Hilfsblatt Ber. Wirtsch Wirk 3'!$D$11:$BX$96,87,FALSE),0))/100),0)","v":0},{"$f":"IFERROR((F$6*(HLOOKUP(F$5,'Hilfsblatt Ber. Wirtsch Wirk 3'!$D$11:$BW$96,$A43,FALSE)+IF(F$5=$C43,HLOOKUP(F$5,'Hilfsblatt Ber. Wirtsch Wirk 3'!$D$11:$BX$96,87,FALSE),0))/100),0)","v":0},{"$f":"IFERROR((G$6*(HLOOKUP(G$5,'Hilfsblatt Ber. Wirtsch Wirk 3'!$D$11:$BW$96,$A43,FALSE)+IF(G$5=$C43,HLOOKUP(G$5,'Hilfsblatt Ber. Wirtsch Wirk 3'!$D$11:$BX$96,87,FALSE),0))/100),0)","v":0},{"$f":"IFERROR((H$6*(HLOOKUP(H$5,'Hilfsblatt Ber. Wirtsch Wirk 3'!$D$11:$BW$96,$A43,FALSE)+IF(H$5=$C43,HLOOKUP(H$5,'Hilfsblatt Ber. Wirtsch Wirk 3'!$D$11:$BX$96,87,FALSE),0))/100),0)","v":0},{"$f":"IFERROR((I$6*(HLOOKUP(I$5,'Hilfsblatt Ber. Wirtsch Wirk 3'!$D$11:$BW$96,$A43,FALSE)+IF(I$5=$C43,HLOOKUP(I$5,'Hilfsblatt Ber. Wirtsch Wirk 3'!$D$11:$BX$96,87,FALSE),0))/100),0)","v":0},{"$f":"IFERROR((J$6*(HLOOKUP(J$5,'Hilfsblatt Ber. Wirtsch Wirk 3'!$D$11:$BW$96,$A43,FALSE)+IF(J$5=$C43,HLOOKUP(J$5,'Hilfsblatt Ber. Wirtsch Wirk 3'!$D$11:$BX$96,87,FALSE),0))/100),0)","v":0},{"$f":"IFERROR((K$6*(HLOOKUP(K$5,'Hilfsblatt Ber. Wirtsch Wirk 3'!$D$11:$BW$96,$A43,FALSE)+IF(K$5=$C43,HLOOKUP(K$5,'Hilfsblatt Ber. Wirtsch Wirk 3'!$D$11:$BX$96,87,FALSE),0))/100),0)","v":0},{"$f":"IFERROR((L$6*(HLOOKUP(L$5,'Hilfsblatt Ber. Wirtsch Wirk 3'!$D$11:$BW$96,$A43,FALSE)+IF(L$5=$C43,HLOOKUP(L$5,'Hilfsblatt Ber. Wirtsch Wirk 3'!$D$11:$BX$96,87,FALSE),0))/100),0)","v":0},{"$f":"IFERROR((M$6*(HLOOKUP(M$5,'Hilfsblatt Ber. Wirtsch Wirk 3'!$D$11:$BW$96,$A43,FALSE)+IF(M$5=$C43,HLOOKUP(M$5,'Hilfsblatt Ber. Wirtsch Wirk 3'!$D$11:$BX$96,87,FALSE),0))/100),0)","v":0},{"$f":"IFERROR((N$6*(HLOOKUP(N$5,'Hilfsblatt Ber. Wirtsch Wirk 3'!$D$11:$BW$96,$A43,FALSE)+IF(N$5=$C43,HLOOKUP(N$5,'Hilfsblatt Ber. Wirtsch Wirk 3'!$D$11:$BX$96,87,FALSE),0))/100),0)","v":0},{"$f":"IFERROR((O$6*(HLOOKUP(O$5,'Hilfsblatt Ber. Wirtsch Wirk 3'!$D$11:$BW$96,$A43,FALSE)+IF(O$5=$C43,HLOOKUP(O$5,'Hilfsblatt Ber. Wirtsch Wirk 3'!$D$11:$BX$96,87,FALSE),0))/100),0)","v":0},{"$f":"IFERROR((P$6*(HLOOKUP(P$5,'Hilfsblatt Ber. Wirtsch Wirk 3'!$D$11:$BW$96,$A43,FALSE)+IF(P$5=$C43,HLOOKUP(P$5,'Hilfsblatt Ber. Wirtsch Wirk 3'!$D$11:$BX$96,87,FALSE),0))/100),0)","v":0},{"$f":"IFERROR((Q$6*(HLOOKUP(Q$5,'Hilfsblatt Ber. Wirtsch Wirk 3'!$D$11:$BW$96,$A43,FALSE)+IF(Q$5=$C43,HLOOKUP(Q$5,'Hilfsblatt Ber. Wirtsch Wirk 3'!$D$11:$BX$96,87,FALSE),0))/100),0)","v":0},{"$f":"R$6*('Hilfsblatt Ber. Wirtsch Wirk 3'!BX48+'Hilfsblatt Ber. Wirtsch Wirk 3'!BX48*'Hilfsblatt Ber. Wirtsch Wirk 3'!CA48/'Hilfsblatt Ber. Wirtsch Wirk 3'!CB48)/100","v":0},0,{"$f":"S43*'Hilfsblatt Ber. Wirtsch Wirk 3'!BZ48/('Hilfsblatt Ber. Wirtsch Wirk 3'!CA48)","v":0},{"$f":"S43/'Hilfsblatt Ber. Wirtsch Wirk 3'!CC48","v":0},{"$f":"T43*('Hilfsblatt Ber. Wirtsch Wirk 4'!B$14/'Hilfsblatt Ber. Wirtsch Wirk 4'!B$13)","v":0},{"$f":"S43*'Hilfsblatt Ber. Wirtsch Wirk 3'!CD48","v":0},null,0]
[39,{"$f":"'Hilfsblatt Ber. Wirtsch Wirk 3'!B49","v":"43"},{"$f":"'Hilfsblatt Ber. Wirtsch Wirk 3'!C49","v":"Vorb. Baustellen-, Bauinstallations- und sonstige Ausbauarbeiten "},{"$f":"IFERROR((D$6*(HLOOKUP(D$5,'Hilfsblatt Ber. Wirtsch Wirk 3'!$D$11:$BW$96,$A44,FALSE)+IF(D$5=$C44,HLOOKUP(D$5,'Hilfsblatt Ber. Wirtsch Wirk 3'!$D$11:$BX$96,87,FALSE),0))/100),0)","v":0},{"$f":"IFERROR((E$6*(HLOOKUP(E$5,'Hilfsblatt Ber. Wirtsch Wirk 3'!$D$11:$BW$96,$A44,FALSE)+IF(E$5=$C44,HLOOKUP(E$5,'Hilfsblatt Ber. Wirtsch Wirk 3'!$D$11:$BX$96,87,FALSE),0))/100),0)","v":0},{"$f":"IFERROR((F$6*(HLOOKUP(F$5,'Hilfsblatt Ber. Wirtsch Wirk 3'!$D$11:$BW$96,$A44,FALSE)+IF(F$5=$C44,HLOOKUP(F$5,'Hilfsblatt Ber. Wirtsch Wirk 3'!$D$11:$BX$96,87,FALSE),0))/100),0)","v":0},{"$f":"IFERROR((G$6*(HLOOKUP(G$5,'Hilfsblatt Ber. Wirtsch Wirk 3'!$D$11:$BW$96,$A44,FALSE)+IF(G$5=$C44,HLOOKUP(G$5,'Hilfsblatt Ber. Wirtsch Wirk 3'!$D$11:$BX$96,87,FALSE),0))/100),0)","v":0},{"$f":"IFERROR((H$6*(HLOOKUP(H$5,'Hilfsblatt Ber. Wirtsch Wirk 3'!$D$11:$BW$96,$A44,FALSE)+IF(H$5=$C44,HLOOKUP(H$5,'Hilfsblatt Ber. Wirtsch Wirk 3'!$D$11:$BX$96,87,FALSE),0))/100),0)","v":0},{"$f":"IFERROR((I$6*(HLOOKUP(I$5,'Hilfsblatt Ber. Wirtsch Wirk 3'!$D$11:$BW$96,$A44,FALSE)+IF(I$5=$C44,HLOOKUP(I$5,'Hilfsblatt Ber. Wirtsch Wirk 3'!$D$11:$BX$96,87,FALSE),0))/100),0)","v":0},{"$f":"IFERROR((J$6*(HLOOKUP(J$5,'Hilfsblatt Ber. Wirtsch Wirk 3'!$D$11:$BW$96,$A44,FALSE)+IF(J$5=$C44,HLOOKUP(J$5,'Hilfsblatt Ber. Wirtsch Wirk 3'!$D$11:$BX$96,87,FALSE),0))/100),0)","v":0},{"$f":"IFERROR((K$6*(HLOOKUP(K$5,'Hilfsblatt Ber. Wirtsch Wirk 3'!$D$11:$BW$96,$A44,FALSE)+IF(K$5=$C44,HLOOKUP(K$5,'Hilfsblatt Ber. Wirtsch Wirk 3'!$D$11:$BX$96,87,FALSE),0))/100),0)","v":0},{"$f":"IFERROR((L$6*(HLOOKUP(L$5,'Hilfsblatt Ber. Wirtsch Wirk 3'!$D$11:$BW$96,$A44,FALSE)+IF(L$5=$C44,HLOOKUP(L$5,'Hilfsblatt Ber. Wirtsch Wirk 3'!$D$11:$BX$96,87,FALSE),0))/100),0)","v":0},{"$f":"IFERROR((M$6*(HLOOKUP(M$5,'Hilfsblatt Ber. Wirtsch Wirk 3'!$D$11:$BW$96,$A44,FALSE)+IF(M$5=$C44,HLOOKUP(M$5,'Hilfsblatt Ber. Wirtsch Wirk 3'!$D$11:$BX$96,87,FALSE),0))/100),0)","v":0},{"$f":"IFERROR((N$6*(HLOOKUP(N$5,'Hilfsblatt Ber. Wirtsch Wirk 3'!$D$11:$BW$96,$A44,FALSE)+IF(N$5=$C44,HLOOKUP(N$5,'Hilfsblatt Ber. Wirtsch Wirk 3'!$D$11:$BX$96,87,FALSE),0))/100),0)","v":0},{"$f":"IFERROR((O$6*(HLOOKUP(O$5,'Hilfsblatt Ber. Wirtsch Wirk 3'!$D$11:$BW$96,$A44,FALSE)+IF(O$5=$C44,HLOOKUP(O$5,'Hilfsblatt Ber. Wirtsch Wirk 3'!$D$11:$BX$96,87,FALSE),0))/100),0)","v":0},{"$f":"IFERROR((P$6*(HLOOKUP(P$5,'Hilfsblatt Ber. Wirtsch Wirk 3'!$D$11:$BW$96,$A44,FALSE)+IF(P$5=$C44,HLOOKUP(P$5,'Hilfsblatt Ber. Wirtsch Wirk 3'!$D$11:$BX$96,87,FALSE),0))/100),0)","v":0},{"$f":"IFERROR((Q$6*(HLOOKUP(Q$5,'Hilfsblatt Ber. Wirtsch Wirk 3'!$D$11:$BW$96,$A44,FALSE)+IF(Q$5=$C44,HLOOKUP(Q$5,'Hilfsblatt Ber. Wirtsch Wirk 3'!$D$11:$BX$96,87,FALSE),0))/100),0)","v":0},{"$f":"R$6*('Hilfsblatt Ber. Wirtsch Wirk 3'!BX49+'Hilfsblatt Ber. Wirtsch Wirk 3'!BX49*'Hilfsblatt Ber. Wirtsch Wirk 3'!CA49/'Hilfsblatt Ber. Wirtsch Wirk 3'!CB49)/100","v":0},0,{"$f":"S44*'Hilfsblatt Ber. Wirtsch Wirk 3'!BZ49/('Hilfsblatt Ber. Wirtsch Wirk 3'!CA49)","v":0},{"$f":"S44/'Hilfsblatt Ber. Wirtsch Wirk 3'!CC49","v":0},{"$f":"T44*('Hilfsblatt Ber. Wirtsch Wirk 4'!B$14/'Hilfsblatt Ber. Wirtsch Wirk 4'!B$13)","v":0},{"$f":"S44*'Hilfsblatt Ber. Wirtsch Wirk 3'!CD49","v":0},null,0]
[40,{"$f":"'Hilfsblatt Ber. Wirtsch Wirk 3'!B50","v":"45"},{"$f":"'Hilfsblatt Ber. Wirtsch Wirk 3'!C50","v":"Handelsleistungen mit Kfz, Instandhaltung und Reparatur an Kfz"},{"$f":"IFERROR((D$6*(HLOOKUP(D$5,'Hilfsblatt Ber. Wirtsch Wirk 3'!$D$11:$BW$96,$A45,FALSE)+IF(D$5=$C45,HLOOKUP(D$5,'Hilfsblatt Ber. Wirtsch Wirk 3'!$D$11:$BX$96,87,FALSE),0))/100),0)","v":0},{"$f":"IFERROR((E$6*(HLOOKUP(E$5,'Hilfsblatt Ber. Wirtsch Wirk 3'!$D$11:$BW$96,$A45,FALSE)+IF(E$5=$C45,HLOOKUP(E$5,'Hilfsblatt Ber. Wirtsch Wirk 3'!$D$11:$BX$96,87,FALSE),0))/100),0)","v":0},{"$f":"IFERROR((F$6*(HLOOKUP(F$5,'Hilfsblatt Ber. Wirtsch Wirk 3'!$D$11:$BW$96,$A45,FALSE)+IF(F$5=$C45,HLOOKUP(F$5,'Hilfsblatt Ber. Wirtsch Wirk 3'!$D$11:$BX$96,87,FALSE),0))/100),0)","v":0},{"$f":"IFERROR((G$6*(HLOOKUP(G$5,'Hilfsblatt Ber. Wirtsch Wirk 3'!$D$11:$BW$96,$A45,FALSE)+IF(G$5=$C45,HLOOKUP(G$5,'Hilfsblatt Ber. Wirtsch Wirk 3'!$D$11:$BX$96,87,FALSE),0))/100),0)","v":0},{"$f":"IFERROR((H$6*(HLOOKUP(H$5,'Hilfsblatt Ber. Wirtsch Wirk 3'!$D$11:$BW$96,$A45,FALSE)+IF(H$5=$C45,HLOOKUP(H$5,'Hilfsblatt Ber. Wirtsch Wirk 3'!$D$11:$BX$96,87,FALSE),0))/100),0)","v":0},{"$f":"IFERROR((I$6*(HLOOKUP(I$5,'Hilfsblatt Ber. Wirtsch Wirk 3'!$D$11:$BW$96,$A45,FALSE)+IF(I$5=$C45,HLOOKUP(I$5,'Hilfsblatt Ber. Wirtsch Wirk 3'!$D$11:$BX$96,87,FALSE),0))/100),0)","v":0},{"$f":"IFERROR((J$6*(HLOOKUP(J$5,'Hilfsblatt Ber. Wirtsch Wirk 3'!$D$11:$BW$96,$A45,FALSE)+IF(J$5=$C45,HLOOKUP(J$5,'Hilfsblatt Ber. Wirtsch Wirk 3'!$D$11:$BX$96,87,FALSE),0))/100),0)","v":0},{"$f":"IFERROR((K$6*(HLOOKUP(K$5,'Hilfsblatt Ber. Wirtsch Wirk 3'!$D$11:$BW$96,$A45,FALSE)+IF(K$5=$C45,HLOOKUP(K$5,'Hilfsblatt Ber. Wirtsch Wirk 3'!$D$11:$BX$96,87,FALSE),0))/100),0)","v":0},{"$f":"IFERROR((L$6*(HLOOKUP(L$5,'Hilfsblatt Ber. Wirtsch Wirk 3'!$D$11:$BW$96,$A45,FALSE)+IF(L$5=$C45,HLOOKUP(L$5,'Hilfsblatt Ber. Wirtsch Wirk 3'!$D$11:$BX$96,87,FALSE),0))/100),0)","v":0},{"$f":"IFERROR((M$6*(HLOOKUP(M$5,'Hilfsblatt Ber. Wirtsch Wirk 3'!$D$11:$BW$96,$A45,FALSE)+IF(M$5=$C45,HLOOKUP(M$5,'Hilfsblatt Ber. Wirtsch Wirk 3'!$D$11:$BX$96,87,FALSE),0))/100),0)","v":0},{"$f":"IFERROR((N$6*(HLOOKUP(N$5,'Hilfsblatt Ber. Wirtsch Wirk 3'!$D$11:$BW$96,$A45,FALSE)+IF(N$5=$C45,HLOOKUP(N$5,'Hilfsblatt Ber. Wirtsch Wirk 3'!$D$11:$BX$96,87,FALSE),0))/100),0)","v":0},{"$f":"IFERROR((O$6*(HLOOKUP(O$5,'Hilfsblatt Ber. Wirtsch Wirk 3'!$D$11:$BW$96,$A45,FALSE)+IF(O$5=$C45,HLOOKUP(O$5,'Hilfsblatt Ber. Wirtsch Wirk 3'!$D$11:$BX$96,87,FALSE),0))/100),0)","v":0},{"$f":"IFERROR((P$6*(HLOOKUP(P$5,'Hilfsblatt Ber. Wirtsch Wirk 3'!$D$11:$BW$96,$A45,FALSE)+IF(P$5=$C45,HLOOKUP(P$5,'Hilfsblatt Ber. Wirtsch Wirk 3'!$D$11:$BX$96,87,FALSE),0))/100),0)","v":0},{"$f":"IFERROR((Q$6*(HLOOKUP(Q$5,'Hilfsblatt Ber. Wirtsch Wirk 3'!$D$11:$BW$96,$A45,FALSE)+IF(Q$5=$C45,HLOOKUP(Q$5,'Hilfsblatt Ber. Wirtsch Wirk 3'!$D$11:$BX$96,87,FALSE),0))/100),0)","v":0},{"$f":"R$6*('Hilfsblatt Ber. Wirtsch Wirk 3'!BX50+'Hilfsblatt Ber. Wirtsch Wirk 3'!BX50*'Hilfsblatt Ber. Wirtsch Wirk 3'!CA50/'Hilfsblatt Ber. Wirtsch Wirk 3'!CB50)/100","v":0},0,{"$f":"S45*'Hilfsblatt Ber. Wirtsch Wirk 3'!BZ50/('Hilfsblatt Ber. Wirtsch Wirk 3'!CA50)","v":0},{"$f":"S45/'Hilfsblatt Ber. Wirtsch Wirk 3'!CC50","v":0},{"$f":"T45*('Hilfsblatt Ber. Wirtsch Wirk 4'!B$14/'Hilfsblatt Ber. Wirtsch Wirk 4'!B$13)","v":0},{"$f":"S45*'Hilfsblatt Ber. Wirtsch Wirk 3'!CD50","v":0},null,0]
[41,{"$f":"'Hilfsblatt Ber. Wirtsch Wirk 3'!B51","v":"46"},{"$f":"'Hilfsblatt Ber. Wirtsch Wirk 3'!C51","v":"Großhandelsleistungen (ohne Handelsleistungen mit Kfz) "},{"$f":"IFERROR((D$6*(HLOOKUP(D$5,'Hilfsblatt Ber. Wirtsch Wirk 3'!$D$11:$BW$96,$A46,FALSE)+IF(D$5=$C46,HLOOKUP(D$5,'Hilfsblatt Ber. Wirtsch Wirk 3'!$D$11:$BX$96,87,FALSE),0))/100),0)","v":0},{"$f":"IFERROR((E$6*(HLOOKUP(E$5,'Hilfsblatt Ber. Wirtsch Wirk 3'!$D$11:$BW$96,$A46,FALSE)+IF(E$5=$C46,HLOOKUP(E$5,'Hilfsblatt Ber. Wirtsch Wirk 3'!$D$11:$BX$96,87,FALSE),0))/100),0)","v":0},{"$f":"IFERROR((F$6*(HLOOKUP(F$5,'Hilfsblatt Ber. Wirtsch Wirk 3'!$D$11:$BW$96,$A46,FALSE)+IF(F$5=$C46,HLOOKUP(F$5,'Hilfsblatt Ber. Wirtsch Wirk 3'!$D$11:$BX$96,87,FALSE),0))/100),0)","v":0},{"$f":"IFERROR((G$6*(HLOOKUP(G$5,'Hilfsblatt Ber. Wirtsch Wirk 3'!$D$11:$BW$96,$A46,FALSE)+IF(G$5=$C46,HLOOKUP(G$5,'Hilfsblatt Ber. Wirtsch Wirk 3'!$D$11:$BX$96,87,FALSE),0))/100),0)","v":0},{"$f":"IFERROR((H$6*(HLOOKUP(H$5,'Hilfsblatt Ber. Wirtsch Wirk 3'!$D$11:$BW$96,$A46,FALSE)+IF(H$5=$C46,HLOOKUP(H$5,'Hilfsblatt Ber. Wirtsch Wirk 3'!$D$11:$BX$96,87,FALSE),0))/100),0)","v":0},{"$f":"IFERROR((I$6*(HLOOKUP(I$5,'Hilfsblatt Ber. Wirtsch Wirk 3'!$D$11:$BW$96,$A46,FALSE)+IF(I$5=$C46,HLOOKUP(I$5,'Hilfsblatt Ber. Wirtsch Wirk 3'!$D$11:$BX$96,87,FALSE),0))/100),0)","v":0},{"$f":"IFERROR((J$6*(HLOOKUP(J$5,'Hilfsblatt Ber. Wirtsch Wirk 3'!$D$11:$BW$96,$A46,FALSE)+IF(J$5=$C46,HLOOKUP(J$5,'Hilfsblatt Ber. Wirtsch Wirk 3'!$D$11:$BX$96,87,FALSE),0))/100),0)","v":0},{"$f":"IFERROR((K$6*(HLOOKUP(K$5,'Hilfsblatt Ber. Wirtsch Wirk 3'!$D$11:$BW$96,$A46,FALSE)+IF(K$5=$C46,HLOOKUP(K$5,'Hilfsblatt Ber. Wirtsch Wirk 3'!$D$11:$BX$96,87,FALSE),0))/100),0)","v":0},{"$f":"IFERROR((L$6*(HLOOKUP(L$5,'Hilfsblatt Ber. Wirtsch Wirk 3'!$D$11:$BW$96,$A46,FALSE)+IF(L$5=$C46,HLOOKUP(L$5,'Hilfsblatt Ber. Wirtsch Wirk 3'!$D$11:$BX$96,87,FALSE),0))/100),0)","v":0},{"$f":"IFERROR((M$6*(HLOOKUP(M$5,'Hilfsblatt Ber. Wirtsch Wirk 3'!$D$11:$BW$96,$A46,FALSE)+IF(M$5=$C46,HLOOKUP(M$5,'Hilfsblatt Ber. Wirtsch Wirk 3'!$D$11:$BX$96,87,FALSE),0))/100),0)","v":0},{"$f":"IFERROR((N$6*(HLOOKUP(N$5,'Hilfsblatt Ber. Wirtsch Wirk 3'!$D$11:$BW$96,$A46,FALSE)+IF(N$5=$C46,HLOOKUP(N$5,'Hilfsblatt Ber. Wirtsch Wirk 3'!$D$11:$BX$96,87,FALSE),0))/100),0)","v":0},{"$f":"IFERROR((O$6*(HLOOKUP(O$5,'Hilfsblatt Ber. Wirtsch Wirk 3'!$D$11:$BW$96,$A46,FALSE)+IF(O$5=$C46,HLOOKUP(O$5,'Hilfsblatt Ber. Wirtsch Wirk 3'!$D$11:$BX$96,87,FALSE),0))/100),0)","v":0},{"$f":"IFERROR((P$6*(HLOOKUP(P$5,'Hilfsblatt Ber. Wirtsch Wirk 3'!$D$11:$BW$96,$A46,FALSE)+IF(P$5=$C46,HLOOKUP(P$5,'Hilfsblatt Ber. Wirtsch Wirk 3'!$D$11:$BX$96,87,FALSE),0))/100),0)","v":0},{"$f":"IFERROR((Q$6*(HLOOKUP(Q$5,'Hilfsblatt Ber. Wirtsch Wirk 3'!$D$11:$BW$96,$A46,FALSE)+IF(Q$5=$C46,HLOOKUP(Q$5,'Hilfsblatt Ber. Wirtsch Wirk 3'!$D$11:$BX$96,87,FALSE),0))/100),0)","v":0},{"$f":"R$6*('Hilfsblatt Ber. Wirtsch Wirk 3'!BX51+'Hilfsblatt Ber. Wirtsch Wirk 3'!BX51*'Hilfsblatt Ber. Wirtsch Wirk 3'!CA51/'Hilfsblatt Ber. Wirtsch Wirk 3'!CB51)/100","v":0},0,{"$f":"S46*'Hilfsblatt Ber. Wirtsch Wirk 3'!BZ51/('Hilfsblatt Ber. Wirtsch Wirk 3'!CA51)","v":0},{"$f":"S46/'Hilfsblatt Ber. Wirtsch Wirk 3'!CC51","v":0},{"$f":"T46*('Hilfsblatt Ber. Wirtsch Wirk 4'!B$14/'Hilfsblatt Ber. Wirtsch Wirk 4'!B$13)","v":0},{"$f":"S46*'Hilfsblatt Ber. Wirtsch Wirk 3'!CD51","v":0},null,0]
[42,{"$f":"'Hilfsblatt Ber. Wirtsch Wirk 3'!B52","v":"47"},{"$f":"'Hilfsblatt Ber. Wirtsch Wirk 3'!C52","v":"Einzelhandelsleistungen (ohne Handelsleistungen mit Kfz) "},{"$f":"IFERROR((D$6*(HLOOKUP(D$5,'Hilfsblatt Ber. Wirtsch Wirk 3'!$D$11:$BW$96,$A47,FALSE)+IF(D$5=$C47,HLOOKUP(D$5,'Hilfsblatt Ber. Wirtsch Wirk 3'!$D$11:$BX$96,87,FALSE),0))/100),0)","v":0},{"$f":"IFERROR((E$6*(HLOOKUP(E$5,'Hilfsblatt Ber. Wirtsch Wirk 3'!$D$11:$BW$96,$A47,FALSE)+IF(E$5=$C47,HLOOKUP(E$5,'Hilfsblatt Ber. Wirtsch Wirk 3'!$D$11:$BX$96,87,FALSE),0))/100),0)","v":0},{"$f":"IFERROR((F$6*(HLOOKUP(F$5,'Hilfsblatt Ber. Wirtsch Wirk 3'!$D$11:$BW$96,$A47,FALSE)+IF(F$5=$C47,HLOOKUP(F$5,'Hilfsblatt Ber. Wirtsch Wirk 3'!$D$11:$BX$96,87,FALSE),0))/100),0)","v":0},{"$f":"IFERROR((G$6*(HLOOKUP(G$5,'Hilfsblatt Ber. Wirtsch Wirk 3'!$D$11:$BW$96,$A47,FALSE)+IF(G$5=$C47,HLOOKUP(G$5,'Hilfsblatt Ber. Wirtsch Wirk 3'!$D$11:$BX$96,87,FALSE),0))/100),0)","v":0},{"$f":"IFERROR((H$6*(HLOOKUP(H$5,'Hilfsblatt Ber. Wirtsch Wirk 3'!$D$11:$BW$96,$A47,FALSE)+IF(H$5=$C47,HLOOKUP(H$5,'Hilfsblatt Ber. Wirtsch Wirk 3'!$D$11:$BX$96,87,FALSE),0))/100),0)","v":0},{"$f":"IFERROR((I$6*(HLOOKUP(I$5,'Hilfsblatt Ber. Wirtsch Wirk 3'!$D$11:$BW$96,$A47,FALSE)+IF(I$5=$C47,HLOOKUP(I$5,'Hilfsblatt Ber. Wirtsch Wirk 3'!$D$11:$BX$96,87,FALSE),0))/100),0)","v":0},{"$f":"IFERROR((J$6*(HLOOKUP(J$5,'Hilfsblatt Ber. Wirtsch Wirk 3'!$D$11:$BW$96,$A47,FALSE)+IF(J$5=$C47,HLOOKUP(J$5,'Hilfsblatt Ber. Wirtsch Wirk 3'!$D$11:$BX$96,87,FALSE),0))/100),0)","v":0},{"$f":"IFERROR((K$6*(HLOOKUP(K$5,'Hilfsblatt Ber. Wirtsch Wirk 3'!$D$11:$BW$96,$A47,FALSE)+IF(K$5=$C47,HLOOKUP(K$5,'Hilfsblatt Ber. Wirtsch Wirk 3'!$D$11:$BX$96,87,FALSE),0))/100),0)","v":0},{"$f":"IFERROR((L$6*(HLOOKUP(L$5,'Hilfsblatt Ber. Wirtsch Wirk 3'!$D$11:$BW$96,$A47,FALSE)+IF(L$5=$C47,HLOOKUP(L$5,'Hilfsblatt Ber. Wirtsch Wirk 3'!$D$11:$BX$96,87,FALSE),0))/100),0)","v":0},{"$f":"IFERROR((M$6*(HLOOKUP(M$5,'Hilfsblatt Ber. Wirtsch Wirk 3'!$D$11:$BW$96,$A47,FALSE)+IF(M$5=$C47,HLOOKUP(M$5,'Hilfsblatt Ber. Wirtsch Wirk 3'!$D$11:$BX$96,87,FALSE),0))/100),0)","v":0},{"$f":"IFERROR((N$6*(HLOOKUP(N$5,'Hilfsblatt Ber. Wirtsch Wirk 3'!$D$11:$BW$96,$A47,FALSE)+IF(N$5=$C47,HLOOKUP(N$5,'Hilfsblatt Ber. Wirtsch Wirk 3'!$D$11:$BX$96,87,FALSE),0))/100),0)","v":0},{"$f":"IFERROR((O$6*(HLOOKUP(O$5,'Hilfsblatt Ber. Wirtsch Wirk 3'!$D$11:$BW$96,$A47,FALSE)+IF(O$5=$C47,HLOOKUP(O$5,'Hilfsblatt Ber. Wirtsch Wirk 3'!$D$11:$BX$96,87,FALSE),0))/100),0)","v":0},{"$f":"IFERROR((P$6*(HLOOKUP(P$5,'Hilfsblatt Ber. Wirtsch Wirk 3'!$D$11:$BW$96,$A47,FALSE)+IF(P$5=$C47,HLOOKUP(P$5,'Hilfsblatt Ber. Wirtsch Wirk 3'!$D$11:$BX$96,87,FALSE),0))/100),0)","v":0},{"$f":"IFERROR((Q$6*(HLOOKUP(Q$5,'Hilfsblatt Ber. Wirtsch Wirk 3'!$D$11:$BW$96,$A47,FALSE)+IF(Q$5=$C47,HLOOKUP(Q$5,'Hilfsblatt Ber. Wirtsch Wirk 3'!$D$11:$BX$96,87,FALSE),0))/100),0)","v":0},{"$f":"R$6*('Hilfsblatt Ber. Wirtsch Wirk 3'!BX52+'Hilfsblatt Ber. Wirtsch Wirk 3'!BX52*'Hilfsblatt Ber. Wirtsch Wirk 3'!CA52/'Hilfsblatt Ber. Wirtsch Wirk 3'!CB52)/100","v":0},0,{"$f":"S47*'Hilfsblatt Ber. Wirtsch Wirk 3'!BZ52/('Hilfsblatt Ber. Wirtsch Wirk 3'!CA52)","v":0},{"$f":"S47/'Hilfsblatt Ber. Wirtsch Wirk 3'!CC52","v":0},{"$f":"T47*('Hilfsblatt Ber. Wirtsch Wirk 4'!B$14/'Hilfsblatt Ber. Wirtsch Wirk 4'!B$13)","v":0},{"$f":"S47*'Hilfsblatt Ber. Wirtsch Wirk 3'!CD52","v":0},null,0]
[43,{"$f":"'Hilfsblatt Ber. Wirtsch Wirk 3'!B53","v":"49"},{"$f":"'Hilfsblatt Ber. Wirtsch Wirk 3'!C53","v":"Landverkehrs- und Transportleistungen in Rohrfernleitungen"},{"$f":"IFERROR((D$6*(HLOOKUP(D$5,'Hilfsblatt Ber. Wirtsch Wirk 3'!$D$11:$BW$96,$A48,FALSE)+IF(D$5=$C48,HLOOKUP(D$5,'Hilfsblatt Ber. Wirtsch Wirk 3'!$D$11:$BX$96,87,FALSE),0))/100),0)","v":0},{"$f":"IFERROR((E$6*(HLOOKUP(E$5,'Hilfsblatt Ber. Wirtsch Wirk 3'!$D$11:$BW$96,$A48,FALSE)+IF(E$5=$C48,HLOOKUP(E$5,'Hilfsblatt Ber. Wirtsch Wirk 3'!$D$11:$BX$96,87,FALSE),0))/100),0)","v":0},{"$f":"IFERROR((F$6*(HLOOKUP(F$5,'Hilfsblatt Ber. Wirtsch Wirk 3'!$D$11:$BW$96,$A48,FALSE)+IF(F$5=$C48,HLOOKUP(F$5,'Hilfsblatt Ber. Wirtsch Wirk 3'!$D$11:$BX$96,87,FALSE),0))/100),0)","v":0},{"$f":"IFERROR((G$6*(HLOOKUP(G$5,'Hilfsblatt Ber. Wirtsch Wirk 3'!$D$11:$BW$96,$A48,FALSE)+IF(G$5=$C48,HLOOKUP(G$5,'Hilfsblatt Ber. Wirtsch Wirk 3'!$D$11:$BX$96,87,FALSE),0))/100),0)","v":0},{"$f":"IFERROR((H$6*(HLOOKUP(H$5,'Hilfsblatt Ber. Wirtsch Wirk 3'!$D$11:$BW$96,$A48,FALSE)+IF(H$5=$C48,HLOOKUP(H$5,'Hilfsblatt Ber. Wirtsch Wirk 3'!$D$11:$BX$96,87,FALSE),0))/100),0)","v":0},{"$f":"IFERROR((I$6*(HLOOKUP(I$5,'Hilfsblatt Ber. Wirtsch Wirk 3'!$D$11:$BW$96,$A48,FALSE)+IF(I$5=$C48,HLOOKUP(I$5,'Hilfsblatt Ber. Wirtsch Wirk 3'!$D$11:$BX$96,87,FALSE),0))/100),0)","v":0},{"$f":"IFERROR((J$6*(HLOOKUP(J$5,'Hilfsblatt Ber. Wirtsch Wirk 3'!$D$11:$BW$96,$A48,FALSE)+IF(J$5=$C48,HLOOKUP(J$5,'Hilfsblatt Ber. Wirtsch Wirk 3'!$D$11:$BX$96,87,FALSE),0))/100),0)","v":0},{"$f":"IFERROR((K$6*(HLOOKUP(K$5,'Hilfsblatt Ber. Wirtsch Wirk 3'!$D$11:$BW$96,$A48,FALSE)+IF(K$5=$C48,HLOOKUP(K$5,'Hilfsblatt Ber. Wirtsch Wirk 3'!$D$11:$BX$96,87,FALSE),0))/100),0)","v":0},{"$f":"IFERROR((L$6*(HLOOKUP(L$5,'Hilfsblatt Ber. Wirtsch Wirk 3'!$D$11:$BW$96,$A48,FALSE)+IF(L$5=$C48,HLOOKUP(L$5,'Hilfsblatt Ber. Wirtsch Wirk 3'!$D$11:$BX$96,87,FALSE),0))/100),0)","v":0},{"$f":"IFERROR((M$6*(HLOOKUP(M$5,'Hilfsblatt Ber. Wirtsch Wirk 3'!$D$11:$BW$96,$A48,FALSE)+IF(M$5=$C48,HLOOKUP(M$5,'Hilfsblatt Ber. Wirtsch Wirk 3'!$D$11:$BX$96,87,FALSE),0))/100),0)","v":0},{"$f":"IFERROR((N$6*(HLOOKUP(N$5,'Hilfsblatt Ber. Wirtsch Wirk 3'!$D$11:$BW$96,$A48,FALSE)+IF(N$5=$C48,HLOOKUP(N$5,'Hilfsblatt Ber. Wirtsch Wirk 3'!$D$11:$BX$96,87,FALSE),0))/100),0)","v":0},{"$f":"IFERROR((O$6*(HLOOKUP(O$5,'Hilfsblatt Ber. Wirtsch Wirk 3'!$D$11:$BW$96,$A48,FALSE)+IF(O$5=$C48,HLOOKUP(O$5,'Hilfsblatt Ber. Wirtsch Wirk 3'!$D$11:$BX$96,87,FALSE),0))/100),0)","v":0},{"$f":"IFERROR((P$6*(HLOOKUP(P$5,'Hilfsblatt Ber. Wirtsch Wirk 3'!$D$11:$BW$96,$A48,FALSE)+IF(P$5=$C48,HLOOKUP(P$5,'Hilfsblatt Ber. Wirtsch Wirk 3'!$D$11:$BX$96,87,FALSE),0))/100),0)","v":0},{"$f":"IFERROR((Q$6*(HLOOKUP(Q$5,'Hilfsblatt Ber. Wirtsch Wirk 3'!$D$11:$BW$96,$A48,FALSE)+IF(Q$5=$C48,HLOOKUP(Q$5,'Hilfsblatt Ber. Wirtsch Wirk 3'!$D$11:$BX$96,87,FALSE),0))/100),0)","v":0},{"$f":"R$6*('Hilfsblatt Ber. Wirtsch Wirk 3'!BX53+'Hilfsblatt Ber. Wirtsch Wirk 3'!BX53*'Hilfsblatt Ber. Wirtsch Wirk 3'!CA53/'Hilfsblatt Ber. Wirtsch Wirk 3'!CB53)/100","v":0},0,{"$f":"S48*'Hilfsblatt Ber. Wirtsch Wirk 3'!BZ53/('Hilfsblatt Ber. Wirtsch Wirk 3'!CA53)","v":0},{"$f":"S48/'Hilfsblatt Ber. Wirtsch Wirk 3'!CC53","v":0},{"$f":"T48*('Hilfsblatt Ber. Wirtsch Wirk 4'!B$14/'Hilfsblatt Ber. Wirtsch Wirk 4'!B$13)","v":0},{"$f":"S48*'Hilfsblatt Ber. Wirtsch Wirk 3'!CD53","v":0},null,0]
[44,{"$f":"'Hilfsblatt Ber. Wirtsch Wirk 3'!B54","v":"50"},{"$f":"'Hilfsblatt Ber. Wirtsch Wirk 3'!C54","v":"Schifffahrtsleistungen "},{"$f":"IFERROR((D$6*(HLOOKUP(D$5,'Hilfsblatt Ber. Wirtsch Wirk 3'!$D$11:$BW$96,$A49,FALSE)+IF(D$5=$C49,HLOOKUP(D$5,'Hilfsblatt Ber. Wirtsch Wirk 3'!$D$11:$BX$96,87,FALSE),0))/100),0)","v":0},{"$f":"IFERROR((E$6*(HLOOKUP(E$5,'Hilfsblatt Ber. Wirtsch Wirk 3'!$D$11:$BW$96,$A49,FALSE)+IF(E$5=$C49,HLOOKUP(E$5,'Hilfsblatt Ber. Wirtsch Wirk 3'!$D$11:$BX$96,87,FALSE),0))/100),0)","v":0},{"$f":"IFERROR((F$6*(HLOOKUP(F$5,'Hilfsblatt Ber. Wirtsch Wirk 3'!$D$11:$BW$96,$A49,FALSE)+IF(F$5=$C49,HLOOKUP(F$5,'Hilfsblatt Ber. Wirtsch Wirk 3'!$D$11:$BX$96,87,FALSE),0))/100),0)","v":0},{"$f":"IFERROR((G$6*(HLOOKUP(G$5,'Hilfsblatt Ber. Wirtsch Wirk 3'!$D$11:$BW$96,$A49,FALSE)+IF(G$5=$C49,HLOOKUP(G$5,'Hilfsblatt Ber. Wirtsch Wirk 3'!$D$11:$BX$96,87,FALSE),0))/100),0)","v":0},{"$f":"IFERROR((H$6*(HLOOKUP(H$5,'Hilfsblatt Ber. Wirtsch Wirk 3'!$D$11:$BW$96,$A49,FALSE)+IF(H$5=$C49,HLOOKUP(H$5,'Hilfsblatt Ber. Wirtsch Wirk 3'!$D$11:$BX$96,87,FALSE),0))/100),0)","v":0},{"$f":"IFERROR((I$6*(HLOOKUP(I$5,'Hilfsblatt Ber. Wirtsch Wirk 3'!$D$11:$BW$96,$A49,FALSE)+IF(I$5=$C49,HLOOKUP(I$5,'Hilfsblatt Ber. Wirtsch Wirk 3'!$D$11:$BX$96,87,FALSE),0))/100),0)","v":0},{"$f":"IFERROR((J$6*(HLOOKUP(J$5,'Hilfsblatt Ber. Wirtsch Wirk 3'!$D$11:$BW$96,$A49,FALSE)+IF(J$5=$C49,HLOOKUP(J$5,'Hilfsblatt Ber. Wirtsch Wirk 3'!$D$11:$BX$96,87,FALSE),0))/100),0)","v":0},{"$f":"IFERROR((K$6*(HLOOKUP(K$5,'Hilfsblatt Ber. Wirtsch Wirk 3'!$D$11:$BW$96,$A49,FALSE)+IF(K$5=$C49,HLOOKUP(K$5,'Hilfsblatt Ber. Wirtsch Wirk 3'!$D$11:$BX$96,87,FALSE),0))/100),0)","v":0},{"$f":"IFERROR((L$6*(HLOOKUP(L$5,'Hilfsblatt Ber. Wirtsch Wirk 3'!$D$11:$BW$96,$A49,FALSE)+IF(L$5=$C49,HLOOKUP(L$5,'Hilfsblatt Ber. Wirtsch Wirk 3'!$D$11:$BX$96,87,FALSE),0))/100),0)","v":0},{"$f":"IFERROR((M$6*(HLOOKUP(M$5,'Hilfsblatt Ber. Wirtsch Wirk 3'!$D$11:$BW$96,$A49,FALSE)+IF(M$5=$C49,HLOOKUP(M$5,'Hilfsblatt Ber. Wirtsch Wirk 3'!$D$11:$BX$96,87,FALSE),0))/100),0)","v":0},{"$f":"IFERROR((N$6*(HLOOKUP(N$5,'Hilfsblatt Ber. Wirtsch Wirk 3'!$D$11:$BW$96,$A49,FALSE)+IF(N$5=$C49,HLOOKUP(N$5,'Hilfsblatt Ber. Wirtsch Wirk 3'!$D$11:$BX$96,87,FALSE),0))/100),0)","v":0},{"$f":"IFERROR((O$6*(HLOOKUP(O$5,'Hilfsblatt Ber. Wirtsch Wirk 3'!$D$11:$BW$96,$A49,FALSE)+IF(O$5=$C49,HLOOKUP(O$5,'Hilfsblatt Ber. Wirtsch Wirk 3'!$D$11:$BX$96,87,FALSE),0))/100),0)","v":0},{"$f":"IFERROR((P$6*(HLOOKUP(P$5,'Hilfsblatt Ber. Wirtsch Wirk 3'!$D$11:$BW$96,$A49,FALSE)+IF(P$5=$C49,HLOOKUP(P$5,'Hilfsblatt Ber. Wirtsch Wirk 3'!$D$11:$BX$96,87,FALSE),0))/100),0)","v":0},{"$f":"IFERROR((Q$6*(HLOOKUP(Q$5,'Hilfsblatt Ber. Wirtsch Wirk 3'!$D$11:$BW$96,$A49,FALSE)+IF(Q$5=$C49,HLOOKUP(Q$5,'Hilfsblatt Ber. Wirtsch Wirk 3'!$D$11:$BX$96,87,FALSE),0))/100),0)","v":0},{"$f":"R$6*('Hilfsblatt Ber. Wirtsch Wirk 3'!BX54+'Hilfsblatt Ber. Wirtsch Wirk 3'!BX54*'Hilfsblatt Ber. Wirtsch Wirk 3'!CA54/'Hilfsblatt Ber. Wirtsch Wirk 3'!CB54)/100","v":0},0,{"$f":"S49*'Hilfsblatt Ber. Wirtsch Wirk 3'!BZ54/('Hilfsblatt Ber. Wirtsch Wirk 3'!CA54)","v":0},{"$f":"S49/'Hilfsblatt Ber. Wirtsch Wirk 3'!CC54","v":0},{"$f":"T49*('Hilfsblatt Ber. Wirtsch Wirk 4'!B$14/'Hilfsblatt Ber. Wirtsch Wirk 4'!B$13)","v":0},{"$f":"S49*'Hilfsblatt Ber. Wirtsch Wirk 3'!CD54","v":0},null,0]
[45,{"$f":"'Hilfsblatt Ber. Wirtsch Wirk 3'!B55","v":"51"},{"$f":"'Hilfsblatt Ber. Wirtsch Wirk 3'!C55","v":"Luftfahrtleistungen "},{"$f":"IFERROR((D$6*(HLOOKUP(D$5,'Hilfsblatt Ber. Wirtsch Wirk 3'!$D$11:$BW$96,$A50,FALSE)+IF(D$5=$C50,HLOOKUP(D$5,'Hilfsblatt Ber. Wirtsch Wirk 3'!$D$11:$BX$96,87,FALSE),0))/100),0)","v":0},{"$f":"IFERROR((E$6*(HLOOKUP(E$5,'Hilfsblatt Ber. Wirtsch Wirk 3'!$D$11:$BW$96,$A50,FALSE)+IF(E$5=$C50,HLOOKUP(E$5,'Hilfsblatt Ber. Wirtsch Wirk 3'!$D$11:$BX$96,87,FALSE),0))/100),0)","v":0},{"$f":"IFERROR((F$6*(HLOOKUP(F$5,'Hilfsblatt Ber. Wirtsch Wirk 3'!$D$11:$BW$96,$A50,FALSE)+IF(F$5=$C50,HLOOKUP(F$5,'Hilfsblatt Ber. Wirtsch Wirk 3'!$D$11:$BX$96,87,FALSE),0))/100),0)","v":0},{"$f":"IFERROR((G$6*(HLOOKUP(G$5,'Hilfsblatt Ber. Wirtsch Wirk 3'!$D$11:$BW$96,$A50,FALSE)+IF(G$5=$C50,HLOOKUP(G$5,'Hilfsblatt Ber. Wirtsch Wirk 3'!$D$11:$BX$96,87,FALSE),0))/100),0)","v":0},{"$f":"IFERROR((H$6*(HLOOKUP(H$5,'Hilfsblatt Ber. Wirtsch Wirk 3'!$D$11:$BW$96,$A50,FALSE)+IF(H$5=$C50,HLOOKUP(H$5,'Hilfsblatt Ber. Wirtsch Wirk 3'!$D$11:$BX$96,87,FALSE),0))/100),0)","v":0},{"$f":"IFERROR((I$6*(HLOOKUP(I$5,'Hilfsblatt Ber. Wirtsch Wirk 3'!$D$11:$BW$96,$A50,FALSE)+IF(I$5=$C50,HLOOKUP(I$5,'Hilfsblatt Ber. Wirtsch Wirk 3'!$D$11:$BX$96,87,FALSE),0))/100),0)","v":0},{"$f":"IFERROR((J$6*(HLOOKUP(J$5,'Hilfsblatt Ber. Wirtsch Wirk 3'!$D$11:$BW$96,$A50,FALSE)+IF(J$5=$C50,HLOOKUP(J$5,'Hilfsblatt Ber. Wirtsch Wirk 3'!$D$11:$BX$96,87,FALSE),0))/100),0)","v":0},{"$f":"IFERROR((K$6*(HLOOKUP(K$5,'Hilfsblatt Ber. Wirtsch Wirk 3'!$D$11:$BW$96,$A50,FALSE)+IF(K$5=$C50,HLOOKUP(K$5,'Hilfsblatt Ber. Wirtsch Wirk 3'!$D$11:$BX$96,87,FALSE),0))/100),0)","v":0},{"$f":"IFERROR((L$6*(HLOOKUP(L$5,'Hilfsblatt Ber. Wirtsch Wirk 3'!$D$11:$BW$96,$A50,FALSE)+IF(L$5=$C50,HLOOKUP(L$5,'Hilfsblatt Ber. Wirtsch Wirk 3'!$D$11:$BX$96,87,FALSE),0))/100),0)","v":0},{"$f":"IFERROR((M$6*(HLOOKUP(M$5,'Hilfsblatt Ber. Wirtsch Wirk 3'!$D$11:$BW$96,$A50,FALSE)+IF(M$5=$C50,HLOOKUP(M$5,'Hilfsblatt Ber. Wirtsch Wirk 3'!$D$11:$BX$96,87,FALSE),0))/100),0)","v":0},{"$f":"IFERROR((N$6*(HLOOKUP(N$5,'Hilfsblatt Ber. Wirtsch Wirk 3'!$D$11:$BW$96,$A50,FALSE)+IF(N$5=$C50,HLOOKUP(N$5,'Hilfsblatt Ber. Wirtsch Wirk 3'!$D$11:$BX$96,87,FALSE),0))/100),0)","v":0},{"$f":"IFERROR((O$6*(HLOOKUP(O$5,'Hilfsblatt Ber. Wirtsch Wirk 3'!$D$11:$BW$96,$A50,FALSE)+IF(O$5=$C50,HLOOKUP(O$5,'Hilfsblatt Ber. Wirtsch Wirk 3'!$D$11:$BX$96,87,FALSE),0))/100),0)","v":0},{"$f":"IFERROR((P$6*(HLOOKUP(P$5,'Hilfsblatt Ber. Wirtsch Wirk 3'!$D$11:$BW$96,$A50,FALSE)+IF(P$5=$C50,HLOOKUP(P$5,'Hilfsblatt Ber. Wirtsch Wirk 3'!$D$11:$BX$96,87,FALSE),0))/100),0)","v":0},{"$f":"IFERROR((Q$6*(HLOOKUP(Q$5,'Hilfsblatt Ber. Wirtsch Wirk 3'!$D$11:$BW$96,$A50,FALSE)+IF(Q$5=$C50,HLOOKUP(Q$5,'Hilfsblatt Ber. Wirtsch Wirk 3'!$D$11:$BX$96,87,FALSE),0))/100),0)","v":0},{"$f":"R$6*('Hilfsblatt Ber. Wirtsch Wirk 3'!BX55+'Hilfsblatt Ber. Wirtsch Wirk 3'!BX55*'Hilfsblatt Ber. Wirtsch Wirk 3'!CA55/'Hilfsblatt Ber. Wirtsch Wirk 3'!CB55)/100","v":0},0,{"$f":"S50*'Hilfsblatt Ber. Wirtsch Wirk 3'!BZ55/('Hilfsblatt Ber. Wirtsch Wirk 3'!CA55)","v":0},{"$f":"S50/'Hilfsblatt Ber. Wirtsch Wirk 3'!CC55","v":0},{"$f":"T50*('Hilfsblatt Ber. Wirtsch Wirk 4'!B$14/'Hilfsblatt Ber. Wirtsch Wirk 4'!B$13)","v":0},{"$f":"S50*'Hilfsblatt Ber. Wirtsch Wirk 3'!CD55","v":0},null,0]
[46,{"$f":"'Hilfsblatt Ber. Wirtsch Wirk 3'!B56","v":"52"},{"$f":"'Hilfsblatt Ber. Wirtsch Wirk 3'!C56","v":"Lagereileistungen, sonstige Dienstleistungen für den Verkehr "},{"$f":"IFERROR((D$6*(HLOOKUP(D$5,'Hilfsblatt Ber. Wirtsch Wirk 3'!$D$11:$BW$96,$A51,FALSE)+IF(D$5=$C51,HLOOKUP(D$5,'Hilfsblatt Ber. Wirtsch Wirk 3'!$D$11:$BX$96,87,FALSE),0))/100),0)","v":0},{"$f":"IFERROR((E$6*(HLOOKUP(E$5,'Hilfsblatt Ber. Wirtsch Wirk 3'!$D$11:$BW$96,$A51,FALSE)+IF(E$5=$C51,HLOOKUP(E$5,'Hilfsblatt Ber. Wirtsch Wirk 3'!$D$11:$BX$96,87,FALSE),0))/100),0)","v":0},{"$f":"IFERROR((F$6*(HLOOKUP(F$5,'Hilfsblatt Ber. Wirtsch Wirk 3'!$D$11:$BW$96,$A51,FALSE)+IF(F$5=$C51,HLOOKUP(F$5,'Hilfsblatt Ber. Wirtsch Wirk 3'!$D$11:$BX$96,87,FALSE),0))/100),0)","v":0},{"$f":"IFERROR((G$6*(HLOOKUP(G$5,'Hilfsblatt Ber. Wirtsch Wirk 3'!$D$11:$BW$96,$A51,FALSE)+IF(G$5=$C51,HLOOKUP(G$5,'Hilfsblatt Ber. Wirtsch Wirk 3'!$D$11:$BX$96,87,FALSE),0))/100),0)","v":0},{"$f":"IFERROR((H$6*(HLOOKUP(H$5,'Hilfsblatt Ber. Wirtsch Wirk 3'!$D$11:$BW$96,$A51,FALSE)+IF(H$5=$C51,HLOOKUP(H$5,'Hilfsblatt Ber. Wirtsch Wirk 3'!$D$11:$BX$96,87,FALSE),0))/100),0)","v":0},{"$f":"IFERROR((I$6*(HLOOKUP(I$5,'Hilfsblatt Ber. Wirtsch Wirk 3'!$D$11:$BW$96,$A51,FALSE)+IF(I$5=$C51,HLOOKUP(I$5,'Hilfsblatt Ber. Wirtsch Wirk 3'!$D$11:$BX$96,87,FALSE),0))/100),0)","v":0},{"$f":"IFERROR((J$6*(HLOOKUP(J$5,'Hilfsblatt Ber. Wirtsch Wirk 3'!$D$11:$BW$96,$A51,FALSE)+IF(J$5=$C51,HLOOKUP(J$5,'Hilfsblatt Ber. Wirtsch Wirk 3'!$D$11:$BX$96,87,FALSE),0))/100),0)","v":0},{"$f":"IFERROR((K$6*(HLOOKUP(K$5,'Hilfsblatt Ber. Wirtsch Wirk 3'!$D$11:$BW$96,$A51,FALSE)+IF(K$5=$C51,HLOOKUP(K$5,'Hilfsblatt Ber. Wirtsch Wirk 3'!$D$11:$BX$96,87,FALSE),0))/100),0)","v":0},{"$f":"IFERROR((L$6*(HLOOKUP(L$5,'Hilfsblatt Ber. Wirtsch Wirk 3'!$D$11:$BW$96,$A51,FALSE)+IF(L$5=$C51,HLOOKUP(L$5,'Hilfsblatt Ber. Wirtsch Wirk 3'!$D$11:$BX$96,87,FALSE),0))/100),0)","v":0},{"$f":"IFERROR((M$6*(HLOOKUP(M$5,'Hilfsblatt Ber. Wirtsch Wirk 3'!$D$11:$BW$96,$A51,FALSE)+IF(M$5=$C51,HLOOKUP(M$5,'Hilfsblatt Ber. Wirtsch Wirk 3'!$D$11:$BX$96,87,FALSE),0))/100),0)","v":0},{"$f":"IFERROR((N$6*(HLOOKUP(N$5,'Hilfsblatt Ber. Wirtsch Wirk 3'!$D$11:$BW$96,$A51,FALSE)+IF(N$5=$C51,HLOOKUP(N$5,'Hilfsblatt Ber. Wirtsch Wirk 3'!$D$11:$BX$96,87,FALSE),0))/100),0)","v":0},{"$f":"IFERROR((O$6*(HLOOKUP(O$5,'Hilfsblatt Ber. Wirtsch Wirk 3'!$D$11:$BW$96,$A51,FALSE)+IF(O$5=$C51,HLOOKUP(O$5,'Hilfsblatt Ber. Wirtsch Wirk 3'!$D$11:$BX$96,87,FALSE),0))/100),0)","v":0},{"$f":"IFERROR((P$6*(HLOOKUP(P$5,'Hilfsblatt Ber. Wirtsch Wirk 3'!$D$11:$BW$96,$A51,FALSE)+IF(P$5=$C51,HLOOKUP(P$5,'Hilfsblatt Ber. Wirtsch Wirk 3'!$D$11:$BX$96,87,FALSE),0))/100),0)","v":0},{"$f":"IFERROR((Q$6*(HLOOKUP(Q$5,'Hilfsblatt Ber. Wirtsch Wirk 3'!$D$11:$BW$96,$A51,FALSE)+IF(Q$5=$C51,HLOOKUP(Q$5,'Hilfsblatt Ber. Wirtsch Wirk 3'!$D$11:$BX$96,87,FALSE),0))/100),0)","v":0},{"$f":"R$6*('Hilfsblatt Ber. Wirtsch Wirk 3'!BX56+'Hilfsblatt Ber. Wirtsch Wirk 3'!BX56*'Hilfsblatt Ber. Wirtsch Wirk 3'!CA56/'Hilfsblatt Ber. Wirtsch Wirk 3'!CB56)/100","v":0},0,{"$f":"S51*'Hilfsblatt Ber. Wirtsch Wirk 3'!BZ56/('Hilfsblatt Ber. Wirtsch Wirk 3'!CA56)","v":0},{"$f":"S51/'Hilfsblatt Ber. Wirtsch Wirk 3'!CC56","v":0},{"$f":"T51*('Hilfsblatt Ber. Wirtsch Wirk 4'!B$14/'Hilfsblatt Ber. Wirtsch Wirk 4'!B$13)","v":0},{"$f":"S51*'Hilfsblatt Ber. Wirtsch Wirk 3'!CD56","v":0},null,0]
[47,{"$f":"'Hilfsblatt Ber. Wirtsch Wirk 3'!B57","v":"53"},{"$f":"'Hilfsblatt Ber. Wirtsch Wirk 3'!C57","v":"Post-, Kurier- und Expressdienstleistungen"},{"$f":"IFERROR((D$6*(HLOOKUP(D$5,'Hilfsblatt Ber. Wirtsch Wirk 3'!$D$11:$BW$96,$A52,FALSE)+IF(D$5=$C52,HLOOKUP(D$5,'Hilfsblatt Ber. Wirtsch Wirk 3'!$D$11:$BX$96,87,FALSE),0))/100),0)","v":0},{"$f":"IFERROR((E$6*(HLOOKUP(E$5,'Hilfsblatt Ber. Wirtsch Wirk 3'!$D$11:$BW$96,$A52,FALSE)+IF(E$5=$C52,HLOOKUP(E$5,'Hilfsblatt Ber. Wirtsch Wirk 3'!$D$11:$BX$96,87,FALSE),0))/100),0)","v":0},{"$f":"IFERROR((F$6*(HLOOKUP(F$5,'Hilfsblatt Ber. Wirtsch Wirk 3'!$D$11:$BW$96,$A52,FALSE)+IF(F$5=$C52,HLOOKUP(F$5,'Hilfsblatt Ber. Wirtsch Wirk 3'!$D$11:$BX$96,87,FALSE),0))/100),0)","v":0},{"$f":"IFERROR((G$6*(HLOOKUP(G$5,'Hilfsblatt Ber. Wirtsch Wirk 3'!$D$11:$BW$96,$A52,FALSE)+IF(G$5=$C52,HLOOKUP(G$5,'Hilfsblatt Ber. Wirtsch Wirk 3'!$D$11:$BX$96,87,FALSE),0))/100),0)","v":0},{"$f":"IFERROR((H$6*(HLOOKUP(H$5,'Hilfsblatt Ber. Wirtsch Wirk 3'!$D$11:$BW$96,$A52,FALSE)+IF(H$5=$C52,HLOOKUP(H$5,'Hilfsblatt Ber. Wirtsch Wirk 3'!$D$11:$BX$96,87,FALSE),0))/100),0)","v":0},{"$f":"IFERROR((I$6*(HLOOKUP(I$5,'Hilfsblatt Ber. Wirtsch Wirk 3'!$D$11:$BW$96,$A52,FALSE)+IF(I$5=$C52,HLOOKUP(I$5,'Hilfsblatt Ber. Wirtsch Wirk 3'!$D$11:$BX$96,87,FALSE),0))/100),0)","v":0},{"$f":"IFERROR((J$6*(HLOOKUP(J$5,'Hilfsblatt Ber. Wirtsch Wirk 3'!$D$11:$BW$96,$A52,FALSE)+IF(J$5=$C52,HLOOKUP(J$5,'Hilfsblatt Ber. Wirtsch Wirk 3'!$D$11:$BX$96,87,FALSE),0))/100),0)","v":0},{"$f":"IFERROR((K$6*(HLOOKUP(K$5,'Hilfsblatt Ber. Wirtsch Wirk 3'!$D$11:$BW$96,$A52,FALSE)+IF(K$5=$C52,HLOOKUP(K$5,'Hilfsblatt Ber. Wirtsch Wirk 3'!$D$11:$BX$96,87,FALSE),0))/100),0)","v":0},{"$f":"IFERROR((L$6*(HLOOKUP(L$5,'Hilfsblatt Ber. Wirtsch Wirk 3'!$D$11:$BW$96,$A52,FALSE)+IF(L$5=$C52,HLOOKUP(L$5,'Hilfsblatt Ber. Wirtsch Wirk 3'!$D$11:$BX$96,87,FALSE),0))/100),0)","v":0},{"$f":"IFERROR((M$6*(HLOOKUP(M$5,'Hilfsblatt Ber. Wirtsch Wirk 3'!$D$11:$BW$96,$A52,FALSE)+IF(M$5=$C52,HLOOKUP(M$5,'Hilfsblatt Ber. Wirtsch Wirk 3'!$D$11:$BX$96,87,FALSE),0))/100),0)","v":0},{"$f":"IFERROR((N$6*(HLOOKUP(N$5,'Hilfsblatt Ber. Wirtsch Wirk 3'!$D$11:$BW$96,$A52,FALSE)+IF(N$5=$C52,HLOOKUP(N$5,'Hilfsblatt Ber. Wirtsch Wirk 3'!$D$11:$BX$96,87,FALSE),0))/100),0)","v":0},{"$f":"IFERROR((O$6*(HLOOKUP(O$5,'Hilfsblatt Ber. Wirtsch Wirk 3'!$D$11:$BW$96,$A52,FALSE)+IF(O$5=$C52,HLOOKUP(O$5,'Hilfsblatt Ber. Wirtsch Wirk 3'!$D$11:$BX$96,87,FALSE),0))/100),0)","v":0},{"$f":"IFERROR((P$6*(HLOOKUP(P$5,'Hilfsblatt Ber. Wirtsch Wirk 3'!$D$11:$BW$96,$A52,FALSE)+IF(P$5=$C52,HLOOKUP(P$5,'Hilfsblatt Ber. Wirtsch Wirk 3'!$D$11:$BX$96,87,FALSE),0))/100),0)","v":0},{"$f":"IFERROR((Q$6*(HLOOKUP(Q$5,'Hilfsblatt Ber. Wirtsch Wirk 3'!$D$11:$BW$96,$A52,FALSE)+IF(Q$5=$C52,HLOOKUP(Q$5,'Hilfsblatt Ber. Wirtsch Wirk 3'!$D$11:$BX$96,87,FALSE),0))/100),0)","v":0},{"$f":"R$6*('Hilfsblatt Ber. Wirtsch Wirk 3'!BX57+'Hilfsblatt Ber. Wirtsch Wirk 3'!BX57*'Hilfsblatt Ber. Wirtsch Wirk 3'!CA57/'Hilfsblatt Ber. Wirtsch Wirk 3'!CB57)/100","v":0},0,{"$f":"S52*'Hilfsblatt Ber. Wirtsch Wirk 3'!BZ57/('Hilfsblatt Ber. Wirtsch Wirk 3'!CA57)","v":0},{"$f":"S52/'Hilfsblatt Ber. Wirtsch Wirk 3'!CC57","v":0},{"$f":"T52*('Hilfsblatt Ber. Wirtsch Wirk 4'!B$14/'Hilfsblatt Ber. Wirtsch Wirk 4'!B$13)","v":0},{"$f":"S52*'Hilfsblatt Ber. Wirtsch Wirk 3'!CD57","v":0},null,0]
[48,{"$f":"'Hilfsblatt Ber. Wirtsch Wirk 3'!B58","v":"55-56"},{"$f":"'Hilfsblatt Ber. Wirtsch Wirk 3'!C58","v":"Beherbergungs-  und Gastronomiedienstleistungen "},{"$f":"IFERROR((D$6*(HLOOKUP(D$5,'Hilfsblatt Ber. Wirtsch Wirk 3'!$D$11:$BW$96,$A53,FALSE)+IF(D$5=$C53,HLOOKUP(D$5,'Hilfsblatt Ber. Wirtsch Wirk 3'!$D$11:$BX$96,87,FALSE),0))/100),0)","v":0},{"$f":"IFERROR((E$6*(HLOOKUP(E$5,'Hilfsblatt Ber. Wirtsch Wirk 3'!$D$11:$BW$96,$A53,FALSE)+IF(E$5=$C53,HLOOKUP(E$5,'Hilfsblatt Ber. Wirtsch Wirk 3'!$D$11:$BX$96,87,FALSE),0))/100),0)","v":0},{"$f":"IFERROR((F$6*(HLOOKUP(F$5,'Hilfsblatt Ber. Wirtsch Wirk 3'!$D$11:$BW$96,$A53,FALSE)+IF(F$5=$C53,HLOOKUP(F$5,'Hilfsblatt Ber. Wirtsch Wirk 3'!$D$11:$BX$96,87,FALSE),0))/100),0)","v":0},{"$f":"IFERROR((G$6*(HLOOKUP(G$5,'Hilfsblatt Ber. Wirtsch Wirk 3'!$D$11:$BW$96,$A53,FALSE)+IF(G$5=$C53,HLOOKUP(G$5,'Hilfsblatt Ber. Wirtsch Wirk 3'!$D$11:$BX$96,87,FALSE),0))/100),0)","v":0},{"$f":"IFERROR((H$6*(HLOOKUP(H$5,'Hilfsblatt Ber. Wirtsch Wirk 3'!$D$11:$BW$96,$A53,FALSE)+IF(H$5=$C53,HLOOKUP(H$5,'Hilfsblatt Ber. Wirtsch Wirk 3'!$D$11:$BX$96,87,FALSE),0))/100),0)","v":0},{"$f":"IFERROR((I$6*(HLOOKUP(I$5,'Hilfsblatt Ber. Wirtsch Wirk 3'!$D$11:$BW$96,$A53,FALSE)+IF(I$5=$C53,HLOOKUP(I$5,'Hilfsblatt Ber. Wirtsch Wirk 3'!$D$11:$BX$96,87,FALSE),0))/100),0)","v":0},{"$f":"IFERROR((J$6*(HLOOKUP(J$5,'Hilfsblatt Ber. Wirtsch Wirk 3'!$D$11:$BW$96,$A53,FALSE)+IF(J$5=$C53,HLOOKUP(J$5,'Hilfsblatt Ber. Wirtsch Wirk 3'!$D$11:$BX$96,87,FALSE),0))/100),0)","v":0},{"$f":"IFERROR((K$6*(HLOOKUP(K$5,'Hilfsblatt Ber. Wirtsch Wirk 3'!$D$11:$BW$96,$A53,FALSE)+IF(K$5=$C53,HLOOKUP(K$5,'Hilfsblatt Ber. Wirtsch Wirk 3'!$D$11:$BX$96,87,FALSE),0))/100),0)","v":0},{"$f":"IFERROR((L$6*(HLOOKUP(L$5,'Hilfsblatt Ber. Wirtsch Wirk 3'!$D$11:$BW$96,$A53,FALSE)+IF(L$5=$C53,HLOOKUP(L$5,'Hilfsblatt Ber. Wirtsch Wirk 3'!$D$11:$BX$96,87,FALSE),0))/100),0)","v":0},{"$f":"IFERROR((M$6*(HLOOKUP(M$5,'Hilfsblatt Ber. Wirtsch Wirk 3'!$D$11:$BW$96,$A53,FALSE)+IF(M$5=$C53,HLOOKUP(M$5,'Hilfsblatt Ber. Wirtsch Wirk 3'!$D$11:$BX$96,87,FALSE),0))/100),0)","v":0},{"$f":"IFERROR((N$6*(HLOOKUP(N$5,'Hilfsblatt Ber. Wirtsch Wirk 3'!$D$11:$BW$96,$A53,FALSE)+IF(N$5=$C53,HLOOKUP(N$5,'Hilfsblatt Ber. Wirtsch Wirk 3'!$D$11:$BX$96,87,FALSE),0))/100),0)","v":0},{"$f":"IFERROR((O$6*(HLOOKUP(O$5,'Hilfsblatt Ber. Wirtsch Wirk 3'!$D$11:$BW$96,$A53,FALSE)+IF(O$5=$C53,HLOOKUP(O$5,'Hilfsblatt Ber. Wirtsch Wirk 3'!$D$11:$BX$96,87,FALSE),0))/100),0)","v":0},{"$f":"IFERROR((P$6*(HLOOKUP(P$5,'Hilfsblatt Ber. Wirtsch Wirk 3'!$D$11:$BW$96,$A53,FALSE)+IF(P$5=$C53,HLOOKUP(P$5,'Hilfsblatt Ber. Wirtsch Wirk 3'!$D$11:$BX$96,87,FALSE),0))/100),0)","v":0},{"$f":"IFERROR((Q$6*(HLOOKUP(Q$5,'Hilfsblatt Ber. Wirtsch Wirk 3'!$D$11:$BW$96,$A53,FALSE)+IF(Q$5=$C53,HLOOKUP(Q$5,'Hilfsblatt Ber. Wirtsch Wirk 3'!$D$11:$BX$96,87,FALSE),0))/100),0)","v":0},{"$f":"R$6*('Hilfsblatt Ber. Wirtsch Wirk 3'!BX58+'Hilfsblatt Ber. Wirtsch Wirk 3'!BX58*'Hilfsblatt Ber. Wirtsch Wirk 3'!CA58/'Hilfsblatt Ber. Wirtsch Wirk 3'!CB58)/100","v":0},0,{"$f":"S53*'Hilfsblatt Ber. Wirtsch Wirk 3'!BZ58/('Hilfsblatt Ber. Wirtsch Wirk 3'!CA58)","v":0},{"$f":"S53/'Hilfsblatt Ber. Wirtsch Wirk 3'!CC58","v":0},{"$f":"T53*('Hilfsblatt Ber. Wirtsch Wirk 4'!B$14/'Hilfsblatt Ber. Wirtsch Wirk 4'!B$13)","v":0},{"$f":"S53*'Hilfsblatt Ber. Wirtsch Wirk 3'!CD58","v":0},null,0]
[49,{"$f":"'Hilfsblatt Ber. Wirtsch Wirk 3'!B59","v":"58"},{"$f":"'Hilfsblatt Ber. Wirtsch Wirk 3'!C59","v":"Dienstleistungen des Verlagswesen"},{"$f":"IFERROR((D$6*(HLOOKUP(D$5,'Hilfsblatt Ber. Wirtsch Wirk 3'!$D$11:$BW$96,$A54,FALSE)+IF(D$5=$C54,HLOOKUP(D$5,'Hilfsblatt Ber. Wirtsch Wirk 3'!$D$11:$BX$96,87,FALSE),0))/100),0)","v":0},{"$f":"IFERROR((E$6*(HLOOKUP(E$5,'Hilfsblatt Ber. Wirtsch Wirk 3'!$D$11:$BW$96,$A54,FALSE)+IF(E$5=$C54,HLOOKUP(E$5,'Hilfsblatt Ber. Wirtsch Wirk 3'!$D$11:$BX$96,87,FALSE),0))/100),0)","v":0},{"$f":"IFERROR((F$6*(HLOOKUP(F$5,'Hilfsblatt Ber. Wirtsch Wirk 3'!$D$11:$BW$96,$A54,FALSE)+IF(F$5=$C54,HLOOKUP(F$5,'Hilfsblatt Ber. Wirtsch Wirk 3'!$D$11:$BX$96,87,FALSE),0))/100),0)","v":0},{"$f":"IFERROR((G$6*(HLOOKUP(G$5,'Hilfsblatt Ber. Wirtsch Wirk 3'!$D$11:$BW$96,$A54,FALSE)+IF(G$5=$C54,HLOOKUP(G$5,'Hilfsblatt Ber. Wirtsch Wirk 3'!$D$11:$BX$96,87,FALSE),0))/100),0)","v":0},{"$f":"IFERROR((H$6*(HLOOKUP(H$5,'Hilfsblatt Ber. Wirtsch Wirk 3'!$D$11:$BW$96,$A54,FALSE)+IF(H$5=$C54,HLOOKUP(H$5,'Hilfsblatt Ber. Wirtsch Wirk 3'!$D$11:$BX$96,87,FALSE),0))/100),0)","v":0},{"$f":"IFERROR((I$6*(HLOOKUP(I$5,'Hilfsblatt Ber. Wirtsch Wirk 3'!$D$11:$BW$96,$A54,FALSE)+IF(I$5=$C54,HLOOKUP(I$5,'Hilfsblatt Ber. Wirtsch Wirk 3'!$D$11:$BX$96,87,FALSE),0))/100),0)","v":0},{"$f":"IFERROR((J$6*(HLOOKUP(J$5,'Hilfsblatt Ber. Wirtsch Wirk 3'!$D$11:$BW$96,$A54,FALSE)+IF(J$5=$C54,HLOOKUP(J$5,'Hilfsblatt Ber. Wirtsch Wirk 3'!$D$11:$BX$96,87,FALSE),0))/100),0)","v":0},{"$f":"IFERROR((K$6*(HLOOKUP(K$5,'Hilfsblatt Ber. Wirtsch Wirk 3'!$D$11:$BW$96,$A54,FALSE)+IF(K$5=$C54,HLOOKUP(K$5,'Hilfsblatt Ber. Wirtsch Wirk 3'!$D$11:$BX$96,87,FALSE),0))/100),0)","v":0},{"$f":"IFERROR((L$6*(HLOOKUP(L$5,'Hilfsblatt Ber. Wirtsch Wirk 3'!$D$11:$BW$96,$A54,FALSE)+IF(L$5=$C54,HLOOKUP(L$5,'Hilfsblatt Ber. Wirtsch Wirk 3'!$D$11:$BX$96,87,FALSE),0))/100),0)","v":0},{"$f":"IFERROR((M$6*(HLOOKUP(M$5,'Hilfsblatt Ber. Wirtsch Wirk 3'!$D$11:$BW$96,$A54,FALSE)+IF(M$5=$C54,HLOOKUP(M$5,'Hilfsblatt Ber. Wirtsch Wirk 3'!$D$11:$BX$96,87,FALSE),0))/100),0)","v":0},{"$f":"IFERROR((N$6*(HLOOKUP(N$5,'Hilfsblatt Ber. Wirtsch Wirk 3'!$D$11:$BW$96,$A54,FALSE)+IF(N$5=$C54,HLOOKUP(N$5,'Hilfsblatt Ber. Wirtsch Wirk 3'!$D$11:$BX$96,87,FALSE),0))/100),0)","v":0},{"$f":"IFERROR((O$6*(HLOOKUP(O$5,'Hilfsblatt Ber. Wirtsch Wirk 3'!$D$11:$BW$96,$A54,FALSE)+IF(O$5=$C54,HLOOKUP(O$5,'Hilfsblatt Ber. Wirtsch Wirk 3'!$D$11:$BX$96,87,FALSE),0))/100),0)","v":0},{"$f":"IFERROR((P$6*(HLOOKUP(P$5,'Hilfsblatt Ber. Wirtsch Wirk 3'!$D$11:$BW$96,$A54,FALSE)+IF(P$5=$C54,HLOOKUP(P$5,'Hilfsblatt Ber. Wirtsch Wirk 3'!$D$11:$BX$96,87,FALSE),0))/100),0)","v":0},{"$f":"IFERROR((Q$6*(HLOOKUP(Q$5,'Hilfsblatt Ber. Wirtsch Wirk 3'!$D$11:$BW$96,$A54,FALSE)+IF(Q$5=$C54,HLOOKUP(Q$5,'Hilfsblatt Ber. Wirtsch Wirk 3'!$D$11:$BX$96,87,FALSE),0))/100),0)","v":0},{"$f":"R$6*('Hilfsblatt Ber. Wirtsch Wirk 3'!BX59+'Hilfsblatt Ber. Wirtsch Wirk 3'!BX59*'Hilfsblatt Ber. Wirtsch Wirk 3'!CA59/'Hilfsblatt Ber. Wirtsch Wirk 3'!CB59)/100","v":0},0,{"$f":"S54*'Hilfsblatt Ber. Wirtsch Wirk 3'!BZ59/('Hilfsblatt Ber. Wirtsch Wirk 3'!CA59)","v":0},{"$f":"S54/'Hilfsblatt Ber. Wirtsch Wirk 3'!CC59","v":0},{"$f":"T54*('Hilfsblatt Ber. Wirtsch Wirk 4'!B$14/'Hilfsblatt Ber. Wirtsch Wirk 4'!B$13)","v":0},{"$f":"S54*'Hilfsblatt Ber. Wirtsch Wirk 3'!CD59","v":0},null,0]
[50,{"$f":"'Hilfsblatt Ber. Wirtsch Wirk 3'!B60","v":"59-60"},{"$f":"'Hilfsblatt Ber. Wirtsch Wirk 3'!C60","v":"Dienstleistg. v. audiovisuell. Medien, Musikverlag. u. RF-veranstaltern"},{"$f":"IFERROR((D$6*(HLOOKUP(D$5,'Hilfsblatt Ber. Wirtsch Wirk 3'!$D$11:$BW$96,$A55,FALSE)+IF(D$5=$C55,HLOOKUP(D$5,'Hilfsblatt Ber. Wirtsch Wirk 3'!$D$11:$BX$96,87,FALSE),0))/100),0)","v":0},{"$f":"IFERROR((E$6*(HLOOKUP(E$5,'Hilfsblatt Ber. Wirtsch Wirk 3'!$D$11:$BW$96,$A55,FALSE)+IF(E$5=$C55,HLOOKUP(E$5,'Hilfsblatt Ber. Wirtsch Wirk 3'!$D$11:$BX$96,87,FALSE),0))/100),0)","v":0},{"$f":"IFERROR((F$6*(HLOOKUP(F$5,'Hilfsblatt Ber. Wirtsch Wirk 3'!$D$11:$BW$96,$A55,FALSE)+IF(F$5=$C55,HLOOKUP(F$5,'Hilfsblatt Ber. Wirtsch Wirk 3'!$D$11:$BX$96,87,FALSE),0))/100),0)","v":0},{"$f":"IFERROR((G$6*(HLOOKUP(G$5,'Hilfsblatt Ber. Wirtsch Wirk 3'!$D$11:$BW$96,$A55,FALSE)+IF(G$5=$C55,HLOOKUP(G$5,'Hilfsblatt Ber. Wirtsch Wirk 3'!$D$11:$BX$96,87,FALSE),0))/100),0)","v":0},{"$f":"IFERROR((H$6*(HLOOKUP(H$5,'Hilfsblatt Ber. Wirtsch Wirk 3'!$D$11:$BW$96,$A55,FALSE)+IF(H$5=$C55,HLOOKUP(H$5,'Hilfsblatt Ber. Wirtsch Wirk 3'!$D$11:$BX$96,87,FALSE),0))/100),0)","v":0},{"$f":"IFERROR((I$6*(HLOOKUP(I$5,'Hilfsblatt Ber. Wirtsch Wirk 3'!$D$11:$BW$96,$A55,FALSE)+IF(I$5=$C55,HLOOKUP(I$5,'Hilfsblatt Ber. Wirtsch Wirk 3'!$D$11:$BX$96,87,FALSE),0))/100),0)","v":0},{"$f":"IFERROR((J$6*(HLOOKUP(J$5,'Hilfsblatt Ber. Wirtsch Wirk 3'!$D$11:$BW$96,$A55,FALSE)+IF(J$5=$C55,HLOOKUP(J$5,'Hilfsblatt Ber. Wirtsch Wirk 3'!$D$11:$BX$96,87,FALSE),0))/100),0)","v":0},{"$f":"IFERROR((K$6*(HLOOKUP(K$5,'Hilfsblatt Ber. Wirtsch Wirk 3'!$D$11:$BW$96,$A55,FALSE)+IF(K$5=$C55,HLOOKUP(K$5,'Hilfsblatt Ber. Wirtsch Wirk 3'!$D$11:$BX$96,87,FALSE),0))/100),0)","v":0},{"$f":"IFERROR((L$6*(HLOOKUP(L$5,'Hilfsblatt Ber. Wirtsch Wirk 3'!$D$11:$BW$96,$A55,FALSE)+IF(L$5=$C55,HLOOKUP(L$5,'Hilfsblatt Ber. Wirtsch Wirk 3'!$D$11:$BX$96,87,FALSE),0))/100),0)","v":0},{"$f":"IFERROR((M$6*(HLOOKUP(M$5,'Hilfsblatt Ber. Wirtsch Wirk 3'!$D$11:$BW$96,$A55,FALSE)+IF(M$5=$C55,HLOOKUP(M$5,'Hilfsblatt Ber. Wirtsch Wirk 3'!$D$11:$BX$96,87,FALSE),0))/100),0)","v":0},{"$f":"IFERROR((N$6*(HLOOKUP(N$5,'Hilfsblatt Ber. Wirtsch Wirk 3'!$D$11:$BW$96,$A55,FALSE)+IF(N$5=$C55,HLOOKUP(N$5,'Hilfsblatt Ber. Wirtsch Wirk 3'!$D$11:$BX$96,87,FALSE),0))/100),0)","v":0},{"$f":"IFERROR((O$6*(HLOOKUP(O$5,'Hilfsblatt Ber. Wirtsch Wirk 3'!$D$11:$BW$96,$A55,FALSE)+IF(O$5=$C55,HLOOKUP(O$5,'Hilfsblatt Ber. Wirtsch Wirk 3'!$D$11:$BX$96,87,FALSE),0))/100),0)","v":0},{"$f":"IFERROR((P$6*(HLOOKUP(P$5,'Hilfsblatt Ber. Wirtsch Wirk 3'!$D$11:$BW$96,$A55,FALSE)+IF(P$5=$C55,HLOOKUP(P$5,'Hilfsblatt Ber. Wirtsch Wirk 3'!$D$11:$BX$96,87,FALSE),0))/100),0)","v":0},{"$f":"IFERROR((Q$6*(HLOOKUP(Q$5,'Hilfsblatt Ber. Wirtsch Wirk 3'!$D$11:$BW$96,$A55,FALSE)+IF(Q$5=$C55,HLOOKUP(Q$5,'Hilfsblatt Ber. Wirtsch Wirk 3'!$D$11:$BX$96,87,FALSE),0))/100),0)","v":0},{"$f":"R$6*('Hilfsblatt Ber. Wirtsch Wirk 3'!BX60+'Hilfsblatt Ber. Wirtsch Wirk 3'!BX60*'Hilfsblatt Ber. Wirtsch Wirk 3'!CA60/'Hilfsblatt Ber. Wirtsch Wirk 3'!CB60)/100","v":0},0,{"$f":"S55*'Hilfsblatt Ber. Wirtsch Wirk 3'!BZ60/('Hilfsblatt Ber. Wirtsch Wirk 3'!CA60)","v":0},{"$f":"S55/'Hilfsblatt Ber. Wirtsch Wirk 3'!CC60","v":0},{"$f":"T55*('Hilfsblatt Ber. Wirtsch Wirk 4'!B$14/'Hilfsblatt Ber. Wirtsch Wirk 4'!B$13)","v":0},{"$f":"S55*'Hilfsblatt Ber. Wirtsch Wirk 3'!CD60","v":0},null,0]
[51,{"$f":"'Hilfsblatt Ber. Wirtsch Wirk 3'!B61","v":"61"},{"$f":"'Hilfsblatt Ber. Wirtsch Wirk 3'!C61","v":"Telekommunikationsdienstleistungen "},{"$f":"IFERROR((D$6*(HLOOKUP(D$5,'Hilfsblatt Ber. Wirtsch Wirk 3'!$D$11:$BW$96,$A56,FALSE)+IF(D$5=$C56,HLOOKUP(D$5,'Hilfsblatt Ber. Wirtsch Wirk 3'!$D$11:$BX$96,87,FALSE),0))/100),0)","v":0},{"$f":"IFERROR((E$6*(HLOOKUP(E$5,'Hilfsblatt Ber. Wirtsch Wirk 3'!$D$11:$BW$96,$A56,FALSE)+IF(E$5=$C56,HLOOKUP(E$5,'Hilfsblatt Ber. Wirtsch Wirk 3'!$D$11:$BX$96,87,FALSE),0))/100),0)","v":0},{"$f":"IFERROR((F$6*(HLOOKUP(F$5,'Hilfsblatt Ber. Wirtsch Wirk 3'!$D$11:$BW$96,$A56,FALSE)+IF(F$5=$C56,HLOOKUP(F$5,'Hilfsblatt Ber. Wirtsch Wirk 3'!$D$11:$BX$96,87,FALSE),0))/100),0)","v":0},{"$f":"IFERROR((G$6*(HLOOKUP(G$5,'Hilfsblatt Ber. Wirtsch Wirk 3'!$D$11:$BW$96,$A56,FALSE)+IF(G$5=$C56,HLOOKUP(G$5,'Hilfsblatt Ber. Wirtsch Wirk 3'!$D$11:$BX$96,87,FALSE),0))/100),0)","v":0},{"$f":"IFERROR((H$6*(HLOOKUP(H$5,'Hilfsblatt Ber. Wirtsch Wirk 3'!$D$11:$BW$96,$A56,FALSE)+IF(H$5=$C56,HLOOKUP(H$5,'Hilfsblatt Ber. Wirtsch Wirk 3'!$D$11:$BX$96,87,FALSE),0))/100),0)","v":0},{"$f":"IFERROR((I$6*(HLOOKUP(I$5,'Hilfsblatt Ber. Wirtsch Wirk 3'!$D$11:$BW$96,$A56,FALSE)+IF(I$5=$C56,HLOOKUP(I$5,'Hilfsblatt Ber. Wirtsch Wirk 3'!$D$11:$BX$96,87,FALSE),0))/100),0)","v":0},{"$f":"IFERROR((J$6*(HLOOKUP(J$5,'Hilfsblatt Ber. Wirtsch Wirk 3'!$D$11:$BW$96,$A56,FALSE)+IF(J$5=$C56,HLOOKUP(J$5,'Hilfsblatt Ber. Wirtsch Wirk 3'!$D$11:$BX$96,87,FALSE),0))/100),0)","v":0},{"$f":"IFERROR((K$6*(HLOOKUP(K$5,'Hilfsblatt Ber. Wirtsch Wirk 3'!$D$11:$BW$96,$A56,FALSE)+IF(K$5=$C56,HLOOKUP(K$5,'Hilfsblatt Ber. Wirtsch Wirk 3'!$D$11:$BX$96,87,FALSE),0))/100),0)","v":0},{"$f":"IFERROR((L$6*(HLOOKUP(L$5,'Hilfsblatt Ber. Wirtsch Wirk 3'!$D$11:$BW$96,$A56,FALSE)+IF(L$5=$C56,HLOOKUP(L$5,'Hilfsblatt Ber. Wirtsch Wirk 3'!$D$11:$BX$96,87,FALSE),0))/100),0)","v":0},{"$f":"IFERROR((M$6*(HLOOKUP(M$5,'Hilfsblatt Ber. Wirtsch Wirk 3'!$D$11:$BW$96,$A56,FALSE)+IF(M$5=$C56,HLOOKUP(M$5,'Hilfsblatt Ber. Wirtsch Wirk 3'!$D$11:$BX$96,87,FALSE),0))/100),0)","v":0},{"$f":"IFERROR((N$6*(HLOOKUP(N$5,'Hilfsblatt Ber. Wirtsch Wirk 3'!$D$11:$BW$96,$A56,FALSE)+IF(N$5=$C56,HLOOKUP(N$5,'Hilfsblatt Ber. Wirtsch Wirk 3'!$D$11:$BX$96,87,FALSE),0))/100),0)","v":0},{"$f":"IFERROR((O$6*(HLOOKUP(O$5,'Hilfsblatt Ber. Wirtsch Wirk 3'!$D$11:$BW$96,$A56,FALSE)+IF(O$5=$C56,HLOOKUP(O$5,'Hilfsblatt Ber. Wirtsch Wirk 3'!$D$11:$BX$96,87,FALSE),0))/100),0)","v":0},{"$f":"IFERROR((P$6*(HLOOKUP(P$5,'Hilfsblatt Ber. Wirtsch Wirk 3'!$D$11:$BW$96,$A56,FALSE)+IF(P$5=$C56,HLOOKUP(P$5,'Hilfsblatt Ber. Wirtsch Wirk 3'!$D$11:$BX$96,87,FALSE),0))/100),0)","v":0},{"$f":"IFERROR((Q$6*(HLOOKUP(Q$5,'Hilfsblatt Ber. Wirtsch Wirk 3'!$D$11:$BW$96,$A56,FALSE)+IF(Q$5=$C56,HLOOKUP(Q$5,'Hilfsblatt Ber. Wirtsch Wirk 3'!$D$11:$BX$96,87,FALSE),0))/100),0)","v":0},{"$f":"R$6*('Hilfsblatt Ber. Wirtsch Wirk 3'!BX61+'Hilfsblatt Ber. Wirtsch Wirk 3'!BX61*'Hilfsblatt Ber. Wirtsch Wirk 3'!CA61/'Hilfsblatt Ber. Wirtsch Wirk 3'!CB61)/100","v":0},0,{"$f":"S56*'Hilfsblatt Ber. Wirtsch Wirk 3'!BZ61/('Hilfsblatt Ber. Wirtsch Wirk 3'!CA61)","v":0},{"$f":"S56/'Hilfsblatt Ber. Wirtsch Wirk 3'!CC61","v":0},{"$f":"T56*('Hilfsblatt Ber. Wirtsch Wirk 4'!B$14/'Hilfsblatt Ber. Wirtsch Wirk 4'!B$13)","v":0},{"$f":"S56*'Hilfsblatt Ber. Wirtsch Wirk 3'!CD61","v":0},null,0]
[52,{"$f":"'Hilfsblatt Ber. Wirtsch Wirk 3'!B62","v":"62-63"},{"$f":"'Hilfsblatt Ber. Wirtsch Wirk 3'!C62","v":"IT- und Informationsdienstleistungen"},{"$f":"IFERROR((D$6*(HLOOKUP(D$5,'Hilfsblatt Ber. Wirtsch Wirk 3'!$D$11:$BW$96,$A57,FALSE)+IF(D$5=$C57,HLOOKUP(D$5,'Hilfsblatt Ber. Wirtsch Wirk 3'!$D$11:$BX$96,87,FALSE),0))/100),0)","v":0},{"$f":"IFERROR((E$6*(HLOOKUP(E$5,'Hilfsblatt Ber. Wirtsch Wirk 3'!$D$11:$BW$96,$A57,FALSE)+IF(E$5=$C57,HLOOKUP(E$5,'Hilfsblatt Ber. Wirtsch Wirk 3'!$D$11:$BX$96,87,FALSE),0))/100),0)","v":0},{"$f":"IFERROR((F$6*(HLOOKUP(F$5,'Hilfsblatt Ber. Wirtsch Wirk 3'!$D$11:$BW$96,$A57,FALSE)+IF(F$5=$C57,HLOOKUP(F$5,'Hilfsblatt Ber. Wirtsch Wirk 3'!$D$11:$BX$96,87,FALSE),0))/100),0)","v":0},{"$f":"IFERROR((G$6*(HLOOKUP(G$5,'Hilfsblatt Ber. Wirtsch Wirk 3'!$D$11:$BW$96,$A57,FALSE)+IF(G$5=$C57,HLOOKUP(G$5,'Hilfsblatt Ber. Wirtsch Wirk 3'!$D$11:$BX$96,87,FALSE),0))/100),0)","v":0},{"$f":"IFERROR((H$6*(HLOOKUP(H$5,'Hilfsblatt Ber. Wirtsch Wirk 3'!$D$11:$BW$96,$A57,FALSE)+IF(H$5=$C57,HLOOKUP(H$5,'Hilfsblatt Ber. Wirtsch Wirk 3'!$D$11:$BX$96,87,FALSE),0))/100),0)","v":0},{"$f":"IFERROR((I$6*(HLOOKUP(I$5,'Hilfsblatt Ber. Wirtsch Wirk 3'!$D$11:$BW$96,$A57,FALSE)+IF(I$5=$C57,HLOOKUP(I$5,'Hilfsblatt Ber. Wirtsch Wirk 3'!$D$11:$BX$96,87,FALSE),0))/100),0)","v":0},{"$f":"IFERROR((J$6*(HLOOKUP(J$5,'Hilfsblatt Ber. Wirtsch Wirk 3'!$D$11:$BW$96,$A57,FALSE)+IF(J$5=$C57,HLOOKUP(J$5,'Hilfsblatt Ber. Wirtsch Wirk 3'!$D$11:$BX$96,87,FALSE),0))/100),0)","v":0},{"$f":"IFERROR((K$6*(HLOOKUP(K$5,'Hilfsblatt Ber. Wirtsch Wirk 3'!$D$11:$BW$96,$A57,FALSE)+IF(K$5=$C57,HLOOKUP(K$5,'Hilfsblatt Ber. Wirtsch Wirk 3'!$D$11:$BX$96,87,FALSE),0))/100),0)","v":0},{"$f":"IFERROR((L$6*(HLOOKUP(L$5,'Hilfsblatt Ber. Wirtsch Wirk 3'!$D$11:$BW$96,$A57,FALSE)+IF(L$5=$C57,HLOOKUP(L$5,'Hilfsblatt Ber. Wirtsch Wirk 3'!$D$11:$BX$96,87,FALSE),0))/100),0)","v":0},{"$f":"IFERROR((M$6*(HLOOKUP(M$5,'Hilfsblatt Ber. Wirtsch Wirk 3'!$D$11:$BW$96,$A57,FALSE)+IF(M$5=$C57,HLOOKUP(M$5,'Hilfsblatt Ber. Wirtsch Wirk 3'!$D$11:$BX$96,87,FALSE),0))/100),0)","v":0},{"$f":"IFERROR((N$6*(HLOOKUP(N$5,'Hilfsblatt Ber. Wirtsch Wirk 3'!$D$11:$BW$96,$A57,FALSE)+IF(N$5=$C57,HLOOKUP(N$5,'Hilfsblatt Ber. Wirtsch Wirk 3'!$D$11:$BX$96,87,FALSE),0))/100),0)","v":0},{"$f":"IFERROR((O$6*(HLOOKUP(O$5,'Hilfsblatt Ber. Wirtsch Wirk 3'!$D$11:$BW$96,$A57,FALSE)+IF(O$5=$C57,HLOOKUP(O$5,'Hilfsblatt Ber. Wirtsch Wirk 3'!$D$11:$BX$96,87,FALSE),0))/100),0)","v":0},{"$f":"IFERROR((P$6*(HLOOKUP(P$5,'Hilfsblatt Ber. Wirtsch Wirk 3'!$D$11:$BW$96,$A57,FALSE)+IF(P$5=$C57,HLOOKUP(P$5,'Hilfsblatt Ber. Wirtsch Wirk 3'!$D$11:$BX$96,87,FALSE),0))/100),0)","v":0},{"$f":"IFERROR((Q$6*(HLOOKUP(Q$5,'Hilfsblatt Ber. Wirtsch Wirk 3'!$D$11:$BW$96,$A57,FALSE)+IF(Q$5=$C57,HLOOKUP(Q$5,'Hilfsblatt Ber. Wirtsch Wirk 3'!$D$11:$BX$96,87,FALSE),0))/100),0)","v":0},{"$f":"R$6*('Hilfsblatt Ber. Wirtsch Wirk 3'!BX62+'Hilfsblatt Ber. Wirtsch Wirk 3'!BX62*'Hilfsblatt Ber. Wirtsch Wirk 3'!CA62/'Hilfsblatt Ber. Wirtsch Wirk 3'!CB62)/100","v":0},0,{"$f":"S57*'Hilfsblatt Ber. Wirtsch Wirk 3'!BZ62/('Hilfsblatt Ber. Wirtsch Wirk 3'!CA62)","v":0},{"$f":"S57/'Hilfsblatt Ber. Wirtsch Wirk 3'!CC62","v":0},{"$f":"T57*('Hilfsblatt Ber. Wirtsch Wirk 4'!B$14/'Hilfsblatt Ber. Wirtsch Wirk 4'!B$13)","v":0},{"$f":"S57*'Hilfsblatt Ber. Wirtsch Wirk 3'!CD62","v":0},null,0]
[53,{"$f":"'Hilfsblatt Ber. Wirtsch Wirk 3'!B63","v":"64"},{"$f":"'Hilfsblatt Ber. Wirtsch Wirk 3'!C63","v":"Finanzdienstleistungen"},{"$f":"IFERROR((D$6*(HLOOKUP(D$5,'Hilfsblatt Ber. Wirtsch Wirk 3'!$D$11:$BW$96,$A58,FALSE)+IF(D$5=$C58,HLOOKUP(D$5,'Hilfsblatt Ber. Wirtsch Wirk 3'!$D$11:$BX$96,87,FALSE),0))/100),0)","v":0},{"$f":"IFERROR((E$6*(HLOOKUP(E$5,'Hilfsblatt Ber. Wirtsch Wirk 3'!$D$11:$BW$96,$A58,FALSE)+IF(E$5=$C58,HLOOKUP(E$5,'Hilfsblatt Ber. Wirtsch Wirk 3'!$D$11:$BX$96,87,FALSE),0))/100),0)","v":0},{"$f":"IFERROR((F$6*(HLOOKUP(F$5,'Hilfsblatt Ber. Wirtsch Wirk 3'!$D$11:$BW$96,$A58,FALSE)+IF(F$5=$C58,HLOOKUP(F$5,'Hilfsblatt Ber. Wirtsch Wirk 3'!$D$11:$BX$96,87,FALSE),0))/100),0)","v":0},{"$f":"IFERROR((G$6*(HLOOKUP(G$5,'Hilfsblatt Ber. Wirtsch Wirk 3'!$D$11:$BW$96,$A58,FALSE)+IF(G$5=$C58,HLOOKUP(G$5,'Hilfsblatt Ber. Wirtsch Wirk 3'!$D$11:$BX$96,87,FALSE),0))/100),0)","v":0},{"$f":"IFERROR((H$6*(HLOOKUP(H$5,'Hilfsblatt Ber. Wirtsch Wirk 3'!$D$11:$BW$96,$A58,FALSE)+IF(H$5=$C58,HLOOKUP(H$5,'Hilfsblatt Ber. Wirtsch Wirk 3'!$D$11:$BX$96,87,FALSE),0))/100),0)","v":0},{"$f":"IFERROR((I$6*(HLOOKUP(I$5,'Hilfsblatt Ber. Wirtsch Wirk 3'!$D$11:$BW$96,$A58,FALSE)+IF(I$5=$C58,HLOOKUP(I$5,'Hilfsblatt Ber. Wirtsch Wirk 3'!$D$11:$BX$96,87,FALSE),0))/100),0)","v":0},{"$f":"IFERROR((J$6*(HLOOKUP(J$5,'Hilfsblatt Ber. Wirtsch Wirk 3'!$D$11:$BW$96,$A58,FALSE)+IF(J$5=$C58,HLOOKUP(J$5,'Hilfsblatt Ber. Wirtsch Wirk 3'!$D$11:$BX$96,87,FALSE),0))/100),0)","v":0},{"$f":"IFERROR((K$6*(HLOOKUP(K$5,'Hilfsblatt Ber. Wirtsch Wirk 3'!$D$11:$BW$96,$A58,FALSE)+IF(K$5=$C58,HLOOKUP(K$5,'Hilfsblatt Ber. Wirtsch Wirk 3'!$D$11:$BX$96,87,FALSE),0))/100),0)","v":0},{"$f":"IFERROR((L$6*(HLOOKUP(L$5,'Hilfsblatt Ber. Wirtsch Wirk 3'!$D$11:$BW$96,$A58,FALSE)+IF(L$5=$C58,HLOOKUP(L$5,'Hilfsblatt Ber. Wirtsch Wirk 3'!$D$11:$BX$96,87,FALSE),0))/100),0)","v":0},{"$f":"IFERROR((M$6*(HLOOKUP(M$5,'Hilfsblatt Ber. Wirtsch Wirk 3'!$D$11:$BW$96,$A58,FALSE)+IF(M$5=$C58,HLOOKUP(M$5,'Hilfsblatt Ber. Wirtsch Wirk 3'!$D$11:$BX$96,87,FALSE),0))/100),0)","v":0},{"$f":"IFERROR((N$6*(HLOOKUP(N$5,'Hilfsblatt Ber. Wirtsch Wirk 3'!$D$11:$BW$96,$A58,FALSE)+IF(N$5=$C58,HLOOKUP(N$5,'Hilfsblatt Ber. Wirtsch Wirk 3'!$D$11:$BX$96,87,FALSE),0))/100),0)","v":0},{"$f":"IFERROR((O$6*(HLOOKUP(O$5,'Hilfsblatt Ber. Wirtsch Wirk 3'!$D$11:$BW$96,$A58,FALSE)+IF(O$5=$C58,HLOOKUP(O$5,'Hilfsblatt Ber. Wirtsch Wirk 3'!$D$11:$BX$96,87,FALSE),0))/100),0)","v":0},{"$f":"IFERROR((P$6*(HLOOKUP(P$5,'Hilfsblatt Ber. Wirtsch Wirk 3'!$D$11:$BW$96,$A58,FALSE)+IF(P$5=$C58,HLOOKUP(P$5,'Hilfsblatt Ber. Wirtsch Wirk 3'!$D$11:$BX$96,87,FALSE),0))/100),0)","v":0},{"$f":"IFERROR((Q$6*(HLOOKUP(Q$5,'Hilfsblatt Ber. Wirtsch Wirk 3'!$D$11:$BW$96,$A58,FALSE)+IF(Q$5=$C58,HLOOKUP(Q$5,'Hilfsblatt Ber. Wirtsch Wirk 3'!$D$11:$BX$96,87,FALSE),0))/100),0)","v":0},{"$f":"R$6*('Hilfsblatt Ber. Wirtsch Wirk 3'!BX63+'Hilfsblatt Ber. Wirtsch Wirk 3'!BX63*'Hilfsblatt Ber. Wirtsch Wirk 3'!CA63/'Hilfsblatt Ber. Wirtsch Wirk 3'!CB63)/100","v":0},0,{"$f":"S58*'Hilfsblatt Ber. Wirtsch Wirk 3'!BZ63/('Hilfsblatt Ber. Wirtsch Wirk 3'!CA63)","v":0},{"$f":"S58/'Hilfsblatt Ber. Wirtsch Wirk 3'!CC63","v":0},{"$f":"T58*('Hilfsblatt Ber. Wirtsch Wirk 4'!B$14/'Hilfsblatt Ber. Wirtsch Wirk 4'!B$13)","v":0},{"$f":"S58*'Hilfsblatt Ber. Wirtsch Wirk 3'!CD63","v":0},null,0]
[54,{"$f":"'Hilfsblatt Ber. Wirtsch Wirk 3'!B64","v":"65"},{"$f":"'Hilfsblatt Ber. Wirtsch Wirk 3'!C64","v":"Dienstleistungen von Versicherungen und Pensionskassen"},{"$f":"IFERROR((D$6*(HLOOKUP(D$5,'Hilfsblatt Ber. Wirtsch Wirk 3'!$D$11:$BW$96,$A59,FALSE)+IF(D$5=$C59,HLOOKUP(D$5,'Hilfsblatt Ber. Wirtsch Wirk 3'!$D$11:$BX$96,87,FALSE),0))/100),0)","v":0},{"$f":"IFERROR((E$6*(HLOOKUP(E$5,'Hilfsblatt Ber. Wirtsch Wirk 3'!$D$11:$BW$96,$A59,FALSE)+IF(E$5=$C59,HLOOKUP(E$5,'Hilfsblatt Ber. Wirtsch Wirk 3'!$D$11:$BX$96,87,FALSE),0))/100),0)","v":0},{"$f":"IFERROR((F$6*(HLOOKUP(F$5,'Hilfsblatt Ber. Wirtsch Wirk 3'!$D$11:$BW$96,$A59,FALSE)+IF(F$5=$C59,HLOOKUP(F$5,'Hilfsblatt Ber. Wirtsch Wirk 3'!$D$11:$BX$96,87,FALSE),0))/100),0)","v":0},{"$f":"IFERROR((G$6*(HLOOKUP(G$5,'Hilfsblatt Ber. Wirtsch Wirk 3'!$D$11:$BW$96,$A59,FALSE)+IF(G$5=$C59,HLOOKUP(G$5,'Hilfsblatt Ber. Wirtsch Wirk 3'!$D$11:$BX$96,87,FALSE),0))/100),0)","v":0},{"$f":"IFERROR((H$6*(HLOOKUP(H$5,'Hilfsblatt Ber. Wirtsch Wirk 3'!$D$11:$BW$96,$A59,FALSE)+IF(H$5=$C59,HLOOKUP(H$5,'Hilfsblatt Ber. Wirtsch Wirk 3'!$D$11:$BX$96,87,FALSE),0))/100),0)","v":0},{"$f":"IFERROR((I$6*(HLOOKUP(I$5,'Hilfsblatt Ber. Wirtsch Wirk 3'!$D$11:$BW$96,$A59,FALSE)+IF(I$5=$C59,HLOOKUP(I$5,'Hilfsblatt Ber. Wirtsch Wirk 3'!$D$11:$BX$96,87,FALSE),0))/100),0)","v":0},{"$f":"IFERROR((J$6*(HLOOKUP(J$5,'Hilfsblatt Ber. Wirtsch Wirk 3'!$D$11:$BW$96,$A59,FALSE)+IF(J$5=$C59,HLOOKUP(J$5,'Hilfsblatt Ber. Wirtsch Wirk 3'!$D$11:$BX$96,87,FALSE),0))/100),0)","v":0},{"$f":"IFERROR((K$6*(HLOOKUP(K$5,'Hilfsblatt Ber. Wirtsch Wirk 3'!$D$11:$BW$96,$A59,FALSE)+IF(K$5=$C59,HLOOKUP(K$5,'Hilfsblatt Ber. Wirtsch Wirk 3'!$D$11:$BX$96,87,FALSE),0))/100),0)","v":0},{"$f":"IFERROR((L$6*(HLOOKUP(L$5,'Hilfsblatt Ber. Wirtsch Wirk 3'!$D$11:$BW$96,$A59,FALSE)+IF(L$5=$C59,HLOOKUP(L$5,'Hilfsblatt Ber. Wirtsch Wirk 3'!$D$11:$BX$96,87,FALSE),0))/100),0)","v":0},{"$f":"IFERROR((M$6*(HLOOKUP(M$5,'Hilfsblatt Ber. Wirtsch Wirk 3'!$D$11:$BW$96,$A59,FALSE)+IF(M$5=$C59,HLOOKUP(M$5,'Hilfsblatt Ber. Wirtsch Wirk 3'!$D$11:$BX$96,87,FALSE),0))/100),0)","v":0},{"$f":"IFERROR((N$6*(HLOOKUP(N$5,'Hilfsblatt Ber. Wirtsch Wirk 3'!$D$11:$BW$96,$A59,FALSE)+IF(N$5=$C59,HLOOKUP(N$5,'Hilfsblatt Ber. Wirtsch Wirk 3'!$D$11:$BX$96,87,FALSE),0))/100),0)","v":0},{"$f":"IFERROR((O$6*(HLOOKUP(O$5,'Hilfsblatt Ber. Wirtsch Wirk 3'!$D$11:$BW$96,$A59,FALSE)+IF(O$5=$C59,HLOOKUP(O$5,'Hilfsblatt Ber. Wirtsch Wirk 3'!$D$11:$BX$96,87,FALSE),0))/100),0)","v":0},{"$f":"IFERROR((P$6*(HLOOKUP(P$5,'Hilfsblatt Ber. Wirtsch Wirk 3'!$D$11:$BW$96,$A59,FALSE)+IF(P$5=$C59,HLOOKUP(P$5,'Hilfsblatt Ber. Wirtsch Wirk 3'!$D$11:$BX$96,87,FALSE),0))/100),0)","v":0},{"$f":"IFERROR((Q$6*(HLOOKUP(Q$5,'Hilfsblatt Ber. Wirtsch Wirk 3'!$D$11:$BW$96,$A59,FALSE)+IF(Q$5=$C59,HLOOKUP(Q$5,'Hilfsblatt Ber. Wirtsch Wirk 3'!$D$11:$BX$96,87,FALSE),0))/100),0)","v":0},{"$f":"R$6*('Hilfsblatt Ber. Wirtsch Wirk 3'!BX64+'Hilfsblatt Ber. Wirtsch Wirk 3'!BX64*'Hilfsblatt Ber. Wirtsch Wirk 3'!CA64/'Hilfsblatt Ber. Wirtsch Wirk 3'!CB64)/100","v":0},0,{"$f":"S59*'Hilfsblatt Ber. Wirtsch Wirk 3'!BZ64/('Hilfsblatt Ber. Wirtsch Wirk 3'!CA64)","v":0},{"$f":"S59/'Hilfsblatt Ber. Wirtsch Wirk 3'!CC64","v":0},{"$f":"T59*('Hilfsblatt Ber. Wirtsch Wirk 4'!B$14/'Hilfsblatt Ber. Wirtsch Wirk 4'!B$13)","v":0},{"$f":"S59*'Hilfsblatt Ber. Wirtsch Wirk 3'!CD64","v":0},null,0]
[55,{"$f":"'Hilfsblatt Ber. Wirtsch Wirk 3'!B65","v":"66"},{"$f":"'Hilfsblatt Ber. Wirtsch Wirk 3'!C65","v":"Mit Finanz- und Versicherungsdienstleistg. verbundene Dienstleistg."},{"$f":"IFERROR((D$6*(HLOOKUP(D$5,'Hilfsblatt Ber. Wirtsch Wirk 3'!$D$11:$BW$96,$A60,FALSE)+IF(D$5=$C60,HLOOKUP(D$5,'Hilfsblatt Ber. Wirtsch Wirk 3'!$D$11:$BX$96,87,FALSE),0))/100),0)","v":0},{"$f":"IFERROR((E$6*(HLOOKUP(E$5,'Hilfsblatt Ber. Wirtsch Wirk 3'!$D$11:$BW$96,$A60,FALSE)+IF(E$5=$C60,HLOOKUP(E$5,'Hilfsblatt Ber. Wirtsch Wirk 3'!$D$11:$BX$96,87,FALSE),0))/100),0)","v":0},{"$f":"IFERROR((F$6*(HLOOKUP(F$5,'Hilfsblatt Ber. Wirtsch Wirk 3'!$D$11:$BW$96,$A60,FALSE)+IF(F$5=$C60,HLOOKUP(F$5,'Hilfsblatt Ber. Wirtsch Wirk 3'!$D$11:$BX$96,87,FALSE),0))/100),0)","v":0},{"$f":"IFERROR((G$6*(HLOOKUP(G$5,'Hilfsblatt Ber. Wirtsch Wirk 3'!$D$11:$BW$96,$A60,FALSE)+IF(G$5=$C60,HLOOKUP(G$5,'Hilfsblatt Ber. Wirtsch Wirk 3'!$D$11:$BX$96,87,FALSE),0))/100),0)","v":0},{"$f":"IFERROR((H$6*(HLOOKUP(H$5,'Hilfsblatt Ber. Wirtsch Wirk 3'!$D$11:$BW$96,$A60,FALSE)+IF(H$5=$C60,HLOOKUP(H$5,'Hilfsblatt Ber. Wirtsch Wirk 3'!$D$11:$BX$96,87,FALSE),0))/100),0)","v":0},{"$f":"IFERROR((I$6*(HLOOKUP(I$5,'Hilfsblatt Ber. Wirtsch Wirk 3'!$D$11:$BW$96,$A60,FALSE)+IF(I$5=$C60,HLOOKUP(I$5,'Hilfsblatt Ber. Wirtsch Wirk 3'!$D$11:$BX$96,87,FALSE),0))/100),0)","v":0},{"$f":"IFERROR((J$6*(HLOOKUP(J$5,'Hilfsblatt Ber. Wirtsch Wirk 3'!$D$11:$BW$96,$A60,FALSE)+IF(J$5=$C60,HLOOKUP(J$5,'Hilfsblatt Ber. Wirtsch Wirk 3'!$D$11:$BX$96,87,FALSE),0))/100),0)","v":0},{"$f":"IFERROR((K$6*(HLOOKUP(K$5,'Hilfsblatt Ber. Wirtsch Wirk 3'!$D$11:$BW$96,$A60,FALSE)+IF(K$5=$C60,HLOOKUP(K$5,'Hilfsblatt Ber. Wirtsch Wirk 3'!$D$11:$BX$96,87,FALSE),0))/100),0)","v":0},{"$f":"IFERROR((L$6*(HLOOKUP(L$5,'Hilfsblatt Ber. Wirtsch Wirk 3'!$D$11:$BW$96,$A60,FALSE)+IF(L$5=$C60,HLOOKUP(L$5,'Hilfsblatt Ber. Wirtsch Wirk 3'!$D$11:$BX$96,87,FALSE),0))/100),0)","v":0},{"$f":"IFERROR((M$6*(HLOOKUP(M$5,'Hilfsblatt Ber. Wirtsch Wirk 3'!$D$11:$BW$96,$A60,FALSE)+IF(M$5=$C60,HLOOKUP(M$5,'Hilfsblatt Ber. Wirtsch Wirk 3'!$D$11:$BX$96,87,FALSE),0))/100),0)","v":0},{"$f":"IFERROR((N$6*(HLOOKUP(N$5,'Hilfsblatt Ber. Wirtsch Wirk 3'!$D$11:$BW$96,$A60,FALSE)+IF(N$5=$C60,HLOOKUP(N$5,'Hilfsblatt Ber. Wirtsch Wirk 3'!$D$11:$BX$96,87,FALSE),0))/100),0)","v":0},{"$f":"IFERROR((O$6*(HLOOKUP(O$5,'Hilfsblatt Ber. Wirtsch Wirk 3'!$D$11:$BW$96,$A60,FALSE)+IF(O$5=$C60,HLOOKUP(O$5,'Hilfsblatt Ber. Wirtsch Wirk 3'!$D$11:$BX$96,87,FALSE),0))/100),0)","v":0},{"$f":"IFERROR((P$6*(HLOOKUP(P$5,'Hilfsblatt Ber. Wirtsch Wirk 3'!$D$11:$BW$96,$A60,FALSE)+IF(P$5=$C60,HLOOKUP(P$5,'Hilfsblatt Ber. Wirtsch Wirk 3'!$D$11:$BX$96,87,FALSE),0))/100),0)","v":0},{"$f":"IFERROR((Q$6*(HLOOKUP(Q$5,'Hilfsblatt Ber. Wirtsch Wirk 3'!$D$11:$BW$96,$A60,FALSE)+IF(Q$5=$C60,HLOOKUP(Q$5,'Hilfsblatt Ber. Wirtsch Wirk 3'!$D$11:$BX$96,87,FALSE),0))/100),0)","v":0},{"$f":"R$6*('Hilfsblatt Ber. Wirtsch Wirk 3'!BX65+'Hilfsblatt Ber. Wirtsch Wirk 3'!BX65*'Hilfsblatt Ber. Wirtsch Wirk 3'!CA65/'Hilfsblatt Ber. Wirtsch Wirk 3'!CB65)/100","v":0},0,{"$f":"S60*'Hilfsblatt Ber. Wirtsch Wirk 3'!BZ65/('Hilfsblatt Ber. Wirtsch Wirk 3'!CA65)","v":0},{"$f":"S60/'Hilfsblatt Ber. Wirtsch Wirk 3'!CC65","v":0},{"$f":"T60*('Hilfsblatt Ber. Wirtsch Wirk 4'!B$14/'Hilfsblatt Ber. Wirtsch Wirk 4'!B$13)","v":0},{"$f":"S60*'Hilfsblatt Ber. Wirtsch Wirk 3'!CD65","v":0},null,0]
[56,{"$f":"'Hilfsblatt Ber. Wirtsch Wirk 3'!B66","v":"68"},{"$f":"'Hilfsblatt Ber. Wirtsch Wirk 3'!C66","v":"Dienstleistungen des Grundstücks- und Wohnungswesens "},{"$f":"IFERROR((D$6*(HLOOKUP(D$5,'Hilfsblatt Ber. Wirtsch Wirk 3'!$D$11:$BW$96,$A61,FALSE)+IF(D$5=$C61,HLOOKUP(D$5,'Hilfsblatt Ber. Wirtsch Wirk 3'!$D$11:$BX$96,87,FALSE),0))/100),0)","v":0},{"$f":"IFERROR((E$6*(HLOOKUP(E$5,'Hilfsblatt Ber. Wirtsch Wirk 3'!$D$11:$BW$96,$A61,FALSE)+IF(E$5=$C61,HLOOKUP(E$5,'Hilfsblatt Ber. Wirtsch Wirk 3'!$D$11:$BX$96,87,FALSE),0))/100),0)","v":0},{"$f":"IFERROR((F$6*(HLOOKUP(F$5,'Hilfsblatt Ber. Wirtsch Wirk 3'!$D$11:$BW$96,$A61,FALSE)+IF(F$5=$C61,HLOOKUP(F$5,'Hilfsblatt Ber. Wirtsch Wirk 3'!$D$11:$BX$96,87,FALSE),0))/100),0)","v":0},{"$f":"IFERROR((G$6*(HLOOKUP(G$5,'Hilfsblatt Ber. Wirtsch Wirk 3'!$D$11:$BW$96,$A61,FALSE)+IF(G$5=$C61,HLOOKUP(G$5,'Hilfsblatt Ber. Wirtsch Wirk 3'!$D$11:$BX$96,87,FALSE),0))/100),0)","v":0},{"$f":"IFERROR((H$6*(HLOOKUP(H$5,'Hilfsblatt Ber. Wirtsch Wirk 3'!$D$11:$BW$96,$A61,FALSE)+IF(H$5=$C61,HLOOKUP(H$5,'Hilfsblatt Ber. Wirtsch Wirk 3'!$D$11:$BX$96,87,FALSE),0))/100),0)","v":0},{"$f":"IFERROR((I$6*(HLOOKUP(I$5,'Hilfsblatt Ber. Wirtsch Wirk 3'!$D$11:$BW$96,$A61,FALSE)+IF(I$5=$C61,HLOOKUP(I$5,'Hilfsblatt Ber. Wirtsch Wirk 3'!$D$11:$BX$96,87,FALSE),0))/100),0)","v":0},{"$f":"IFERROR((J$6*(HLOOKUP(J$5,'Hilfsblatt Ber. Wirtsch Wirk 3'!$D$11:$BW$96,$A61,FALSE)+IF(J$5=$C61,HLOOKUP(J$5,'Hilfsblatt Ber. Wirtsch Wirk 3'!$D$11:$BX$96,87,FALSE),0))/100),0)","v":0},{"$f":"IFERROR((K$6*(HLOOKUP(K$5,'Hilfsblatt Ber. Wirtsch Wirk 3'!$D$11:$BW$96,$A61,FALSE)+IF(K$5=$C61,HLOOKUP(K$5,'Hilfsblatt Ber. Wirtsch Wirk 3'!$D$11:$BX$96,87,FALSE),0))/100),0)","v":0},{"$f":"IFERROR((L$6*(HLOOKUP(L$5,'Hilfsblatt Ber. Wirtsch Wirk 3'!$D$11:$BW$96,$A61,FALSE)+IF(L$5=$C61,HLOOKUP(L$5,'Hilfsblatt Ber. Wirtsch Wirk 3'!$D$11:$BX$96,87,FALSE),0))/100),0)","v":0},{"$f":"IFERROR((M$6*(HLOOKUP(M$5,'Hilfsblatt Ber. Wirtsch Wirk 3'!$D$11:$BW$96,$A61,FALSE)+IF(M$5=$C61,HLOOKUP(M$5,'Hilfsblatt Ber. Wirtsch Wirk 3'!$D$11:$BX$96,87,FALSE),0))/100),0)","v":0},{"$f":"IFERROR((N$6*(HLOOKUP(N$5,'Hilfsblatt Ber. Wirtsch Wirk 3'!$D$11:$BW$96,$A61,FALSE)+IF(N$5=$C61,HLOOKUP(N$5,'Hilfsblatt Ber. Wirtsch Wirk 3'!$D$11:$BX$96,87,FALSE),0))/100),0)","v":0},{"$f":"IFERROR((O$6*(HLOOKUP(O$5,'Hilfsblatt Ber. Wirtsch Wirk 3'!$D$11:$BW$96,$A61,FALSE)+IF(O$5=$C61,HLOOKUP(O$5,'Hilfsblatt Ber. Wirtsch Wirk 3'!$D$11:$BX$96,87,FALSE),0))/100),0)","v":0},{"$f":"IFERROR((P$6*(HLOOKUP(P$5,'Hilfsblatt Ber. Wirtsch Wirk 3'!$D$11:$BW$96,$A61,FALSE)+IF(P$5=$C61,HLOOKUP(P$5,'Hilfsblatt Ber. Wirtsch Wirk 3'!$D$11:$BX$96,87,FALSE),0))/100),0)","v":0},{"$f":"IFERROR((Q$6*(HLOOKUP(Q$5,'Hilfsblatt Ber. Wirtsch Wirk 3'!$D$11:$BW$96,$A61,FALSE)+IF(Q$5=$C61,HLOOKUP(Q$5,'Hilfsblatt Ber. Wirtsch Wirk 3'!$D$11:$BX$96,87,FALSE),0))/100),0)","v":0},{"$f":"R$6*('Hilfsblatt Ber. Wirtsch Wirk 3'!BX66+'Hilfsblatt Ber. Wirtsch Wirk 3'!BX66*'Hilfsblatt Ber. Wirtsch Wirk 3'!CA66/'Hilfsblatt Ber. Wirtsch Wirk 3'!CB66)/100","v":0},0,{"$f":"S61*'Hilfsblatt Ber. Wirtsch Wirk 3'!BZ66/('Hilfsblatt Ber. Wirtsch Wirk 3'!CA66)","v":0},{"$f":"S61/'Hilfsblatt Ber. Wirtsch Wirk 3'!CC66","v":0},{"$f":"T61*('Hilfsblatt Ber. Wirtsch Wirk 4'!B$14/'Hilfsblatt Ber. Wirtsch Wirk 4'!B$13)","v":0},{"$f":"S61*'Hilfsblatt Ber. Wirtsch Wirk 3'!CD66","v":0},null,0]
[57,{"$f":"'Hilfsblatt Ber. Wirtsch Wirk 3'!B67","v":"69-70"},{"$f":"'Hilfsblatt Ber. Wirtsch Wirk 3'!C67","v":"Dienstleistungen der Rechts-, Steuer- und Unternehmensberatung"},{"$f":"IFERROR((D$6*(HLOOKUP(D$5,'Hilfsblatt Ber. Wirtsch Wirk 3'!$D$11:$BW$96,$A62,FALSE)+IF(D$5=$C62,HLOOKUP(D$5,'Hilfsblatt Ber. Wirtsch Wirk 3'!$D$11:$BX$96,87,FALSE),0))/100),0)","v":0},{"$f":"IFERROR((E$6*(HLOOKUP(E$5,'Hilfsblatt Ber. Wirtsch Wirk 3'!$D$11:$BW$96,$A62,FALSE)+IF(E$5=$C62,HLOOKUP(E$5,'Hilfsblatt Ber. Wirtsch Wirk 3'!$D$11:$BX$96,87,FALSE),0))/100),0)","v":0},{"$f":"IFERROR((F$6*(HLOOKUP(F$5,'Hilfsblatt Ber. Wirtsch Wirk 3'!$D$11:$BW$96,$A62,FALSE)+IF(F$5=$C62,HLOOKUP(F$5,'Hilfsblatt Ber. Wirtsch Wirk 3'!$D$11:$BX$96,87,FALSE),0))/100),0)","v":0},{"$f":"IFERROR((G$6*(HLOOKUP(G$5,'Hilfsblatt Ber. Wirtsch Wirk 3'!$D$11:$BW$96,$A62,FALSE)+IF(G$5=$C62,HLOOKUP(G$5,'Hilfsblatt Ber. Wirtsch Wirk 3'!$D$11:$BX$96,87,FALSE),0))/100),0)","v":0},{"$f":"IFERROR((H$6*(HLOOKUP(H$5,'Hilfsblatt Ber. Wirtsch Wirk 3'!$D$11:$BW$96,$A62,FALSE)+IF(H$5=$C62,HLOOKUP(H$5,'Hilfsblatt Ber. Wirtsch Wirk 3'!$D$11:$BX$96,87,FALSE),0))/100),0)","v":0},{"$f":"IFERROR((I$6*(HLOOKUP(I$5,'Hilfsblatt Ber. Wirtsch Wirk 3'!$D$11:$BW$96,$A62,FALSE)+IF(I$5=$C62,HLOOKUP(I$5,'Hilfsblatt Ber. Wirtsch Wirk 3'!$D$11:$BX$96,87,FALSE),0))/100),0)","v":0},{"$f":"IFERROR((J$6*(HLOOKUP(J$5,'Hilfsblatt Ber. Wirtsch Wirk 3'!$D$11:$BW$96,$A62,FALSE)+IF(J$5=$C62,HLOOKUP(J$5,'Hilfsblatt Ber. Wirtsch Wirk 3'!$D$11:$BX$96,87,FALSE),0))/100),0)","v":0},{"$f":"IFERROR((K$6*(HLOOKUP(K$5,'Hilfsblatt Ber. Wirtsch Wirk 3'!$D$11:$BW$96,$A62,FALSE)+IF(K$5=$C62,HLOOKUP(K$5,'Hilfsblatt Ber. Wirtsch Wirk 3'!$D$11:$BX$96,87,FALSE),0))/100),0)","v":0},{"$f":"IFERROR((L$6*(HLOOKUP(L$5,'Hilfsblatt Ber. Wirtsch Wirk 3'!$D$11:$BW$96,$A62,FALSE)+IF(L$5=$C62,HLOOKUP(L$5,'Hilfsblatt Ber. Wirtsch Wirk 3'!$D$11:$BX$96,87,FALSE),0))/100),0)","v":0},{"$f":"IFERROR((M$6*(HLOOKUP(M$5,'Hilfsblatt Ber. Wirtsch Wirk 3'!$D$11:$BW$96,$A62,FALSE)+IF(M$5=$C62,HLOOKUP(M$5,'Hilfsblatt Ber. Wirtsch Wirk 3'!$D$11:$BX$96,87,FALSE),0))/100),0)","v":0},{"$f":"IFERROR((N$6*(HLOOKUP(N$5,'Hilfsblatt Ber. Wirtsch Wirk 3'!$D$11:$BW$96,$A62,FALSE)+IF(N$5=$C62,HLOOKUP(N$5,'Hilfsblatt Ber. Wirtsch Wirk 3'!$D$11:$BX$96,87,FALSE),0))/100),0)","v":0},{"$f":"IFERROR((O$6*(HLOOKUP(O$5,'Hilfsblatt Ber. Wirtsch Wirk 3'!$D$11:$BW$96,$A62,FALSE)+IF(O$5=$C62,HLOOKUP(O$5,'Hilfsblatt Ber. Wirtsch Wirk 3'!$D$11:$BX$96,87,FALSE),0))/100),0)","v":0},{"$f":"IFERROR((P$6*(HLOOKUP(P$5,'Hilfsblatt Ber. Wirtsch Wirk 3'!$D$11:$BW$96,$A62,FALSE)+IF(P$5=$C62,HLOOKUP(P$5,'Hilfsblatt Ber. Wirtsch Wirk 3'!$D$11:$BX$96,87,FALSE),0))/100),0)","v":0},{"$f":"IFERROR((Q$6*(HLOOKUP(Q$5,'Hilfsblatt Ber. Wirtsch Wirk 3'!$D$11:$BW$96,$A62,FALSE)+IF(Q$5=$C62,HLOOKUP(Q$5,'Hilfsblatt Ber. Wirtsch Wirk 3'!$D$11:$BX$96,87,FALSE),0))/100),0)","v":0},{"$f":"R$6*('Hilfsblatt Ber. Wirtsch Wirk 3'!BX67+'Hilfsblatt Ber. Wirtsch Wirk 3'!BX67*'Hilfsblatt Ber. Wirtsch Wirk 3'!CA67/'Hilfsblatt Ber. Wirtsch Wirk 3'!CB67)/100","v":0},0,{"$f":"S62*'Hilfsblatt Ber. Wirtsch Wirk 3'!BZ67/('Hilfsblatt Ber. Wirtsch Wirk 3'!CA67)","v":0},{"$f":"S62/'Hilfsblatt Ber. Wirtsch Wirk 3'!CC67","v":0},{"$f":"T62*('Hilfsblatt Ber. Wirtsch Wirk 4'!B$14/'Hilfsblatt Ber. Wirtsch Wirk 4'!B$13)","v":0},{"$f":"S62*'Hilfsblatt Ber. Wirtsch Wirk 3'!CD67","v":0},null,0]
[58,{"$f":"'Hilfsblatt Ber. Wirtsch Wirk 3'!B68","v":"71"},{"$f":"'Hilfsblatt Ber. Wirtsch Wirk 3'!C68","v":"Dienstleistg. v. Architektur- u. Ing.büros u.d..techn.,physik.U.suchung "},{"$f":"IFERROR((D$6*(HLOOKUP(D$5,'Hilfsblatt Ber. Wirtsch Wirk 3'!$D$11:$BW$96,$A63,FALSE)+IF(D$5=$C63,HLOOKUP(D$5,'Hilfsblatt Ber. Wirtsch Wirk 3'!$D$11:$BX$96,87,FALSE),0))/100),0)","v":0},{"$f":"IFERROR((E$6*(HLOOKUP(E$5,'Hilfsblatt Ber. Wirtsch Wirk 3'!$D$11:$BW$96,$A63,FALSE)+IF(E$5=$C63,HLOOKUP(E$5,'Hilfsblatt Ber. Wirtsch Wirk 3'!$D$11:$BX$96,87,FALSE),0))/100),0)","v":0},{"$f":"IFERROR((F$6*(HLOOKUP(F$5,'Hilfsblatt Ber. Wirtsch Wirk 3'!$D$11:$BW$96,$A63,FALSE)+IF(F$5=$C63,HLOOKUP(F$5,'Hilfsblatt Ber. Wirtsch Wirk 3'!$D$11:$BX$96,87,FALSE),0))/100),0)","v":0},{"$f":"IFERROR((G$6*(HLOOKUP(G$5,'Hilfsblatt Ber. Wirtsch Wirk 3'!$D$11:$BW$96,$A63,FALSE)+IF(G$5=$C63,HLOOKUP(G$5,'Hilfsblatt Ber. Wirtsch Wirk 3'!$D$11:$BX$96,87,FALSE),0))/100),0)","v":0},{"$f":"IFERROR((H$6*(HLOOKUP(H$5,'Hilfsblatt Ber. Wirtsch Wirk 3'!$D$11:$BW$96,$A63,FALSE)+IF(H$5=$C63,HLOOKUP(H$5,'Hilfsblatt Ber. Wirtsch Wirk 3'!$D$11:$BX$96,87,FALSE),0))/100),0)","v":0},{"$f":"IFERROR((I$6*(HLOOKUP(I$5,'Hilfsblatt Ber. Wirtsch Wirk 3'!$D$11:$BW$96,$A63,FALSE)+IF(I$5=$C63,HLOOKUP(I$5,'Hilfsblatt Ber. Wirtsch Wirk 3'!$D$11:$BX$96,87,FALSE),0))/100),0)","v":0},{"$f":"IFERROR((J$6*(HLOOKUP(J$5,'Hilfsblatt Ber. Wirtsch Wirk 3'!$D$11:$BW$96,$A63,FALSE)+IF(J$5=$C63,HLOOKUP(J$5,'Hilfsblatt Ber. Wirtsch Wirk 3'!$D$11:$BX$96,87,FALSE),0))/100),0)","v":0},{"$f":"IFERROR((K$6*(HLOOKUP(K$5,'Hilfsblatt Ber. Wirtsch Wirk 3'!$D$11:$BW$96,$A63,FALSE)+IF(K$5=$C63,HLOOKUP(K$5,'Hilfsblatt Ber. Wirtsch Wirk 3'!$D$11:$BX$96,87,FALSE),0))/100),0)","v":0},{"$f":"IFERROR((L$6*(HLOOKUP(L$5,'Hilfsblatt Ber. Wirtsch Wirk 3'!$D$11:$BW$96,$A63,FALSE)+IF(L$5=$C63,HLOOKUP(L$5,'Hilfsblatt Ber. Wirtsch Wirk 3'!$D$11:$BX$96,87,FALSE),0))/100),0)","v":0},{"$f":"IFERROR((M$6*(HLOOKUP(M$5,'Hilfsblatt Ber. Wirtsch Wirk 3'!$D$11:$BW$96,$A63,FALSE)+IF(M$5=$C63,HLOOKUP(M$5,'Hilfsblatt Ber. Wirtsch Wirk 3'!$D$11:$BX$96,87,FALSE),0))/100),0)","v":0},{"$f":"IFERROR((N$6*(HLOOKUP(N$5,'Hilfsblatt Ber. Wirtsch Wirk 3'!$D$11:$BW$96,$A63,FALSE)+IF(N$5=$C63,HLOOKUP(N$5,'Hilfsblatt Ber. Wirtsch Wirk 3'!$D$11:$BX$96,87,FALSE),0))/100),0)","v":0},{"$f":"IFERROR((O$6*(HLOOKUP(O$5,'Hilfsblatt Ber. Wirtsch Wirk 3'!$D$11:$BW$96,$A63,FALSE)+IF(O$5=$C63,HLOOKUP(O$5,'Hilfsblatt Ber. Wirtsch Wirk 3'!$D$11:$BX$96,87,FALSE),0))/100),0)","v":0},{"$f":"IFERROR((P$6*(HLOOKUP(P$5,'Hilfsblatt Ber. Wirtsch Wirk 3'!$D$11:$BW$96,$A63,FALSE)+IF(P$5=$C63,HLOOKUP(P$5,'Hilfsblatt Ber. Wirtsch Wirk 3'!$D$11:$BX$96,87,FALSE),0))/100),0)","v":0},{"$f":"IFERROR((Q$6*(HLOOKUP(Q$5,'Hilfsblatt Ber. Wirtsch Wirk 3'!$D$11:$BW$96,$A63,FALSE)+IF(Q$5=$C63,HLOOKUP(Q$5,'Hilfsblatt Ber. Wirtsch Wirk 3'!$D$11:$BX$96,87,FALSE),0))/100),0)","v":0},{"$f":"R$6*('Hilfsblatt Ber. Wirtsch Wirk 3'!BX68+'Hilfsblatt Ber. Wirtsch Wirk 3'!BX68*'Hilfsblatt Ber. Wirtsch Wirk 3'!CA68/'Hilfsblatt Ber. Wirtsch Wirk 3'!CB68)/100","v":0},0,{"$f":"S63*'Hilfsblatt Ber. Wirtsch Wirk 3'!BZ68/('Hilfsblatt Ber. Wirtsch Wirk 3'!CA68)","v":0},{"$f":"S63/'Hilfsblatt Ber. Wirtsch Wirk 3'!CC68","v":0},{"$f":"T63*('Hilfsblatt Ber. Wirtsch Wirk 4'!B$14/'Hilfsblatt Ber. Wirtsch Wirk 4'!B$13)","v":0},{"$f":"S63*'Hilfsblatt Ber. Wirtsch Wirk 3'!CD68","v":0},null,0]
[59,{"$f":"'Hilfsblatt Ber. Wirtsch Wirk 3'!B69","v":"72"},{"$f":"'Hilfsblatt Ber. Wirtsch Wirk 3'!C69","v":"Forschungs- und Entwicklungsleistungen "},{"$f":"IFERROR((D$6*(HLOOKUP(D$5,'Hilfsblatt Ber. Wirtsch Wirk 3'!$D$11:$BW$96,$A64,FALSE)+IF(D$5=$C64,HLOOKUP(D$5,'Hilfsblatt Ber. Wirtsch Wirk 3'!$D$11:$BX$96,87,FALSE),0))/100),0)","v":0},{"$f":"IFERROR((E$6*(HLOOKUP(E$5,'Hilfsblatt Ber. Wirtsch Wirk 3'!$D$11:$BW$96,$A64,FALSE)+IF(E$5=$C64,HLOOKUP(E$5,'Hilfsblatt Ber. Wirtsch Wirk 3'!$D$11:$BX$96,87,FALSE),0))/100),0)","v":0},{"$f":"IFERROR((F$6*(HLOOKUP(F$5,'Hilfsblatt Ber. Wirtsch Wirk 3'!$D$11:$BW$96,$A64,FALSE)+IF(F$5=$C64,HLOOKUP(F$5,'Hilfsblatt Ber. Wirtsch Wirk 3'!$D$11:$BX$96,87,FALSE),0))/100),0)","v":0},{"$f":"IFERROR((G$6*(HLOOKUP(G$5,'Hilfsblatt Ber. Wirtsch Wirk 3'!$D$11:$BW$96,$A64,FALSE)+IF(G$5=$C64,HLOOKUP(G$5,'Hilfsblatt Ber. Wirtsch Wirk 3'!$D$11:$BX$96,87,FALSE),0))/100),0)","v":0},{"$f":"IFERROR((H$6*(HLOOKUP(H$5,'Hilfsblatt Ber. Wirtsch Wirk 3'!$D$11:$BW$96,$A64,FALSE)+IF(H$5=$C64,HLOOKUP(H$5,'Hilfsblatt Ber. Wirtsch Wirk 3'!$D$11:$BX$96,87,FALSE),0))/100),0)","v":0},{"$f":"IFERROR((I$6*(HLOOKUP(I$5,'Hilfsblatt Ber. Wirtsch Wirk 3'!$D$11:$BW$96,$A64,FALSE)+IF(I$5=$C64,HLOOKUP(I$5,'Hilfsblatt Ber. Wirtsch Wirk 3'!$D$11:$BX$96,87,FALSE),0))/100),0)","v":0},{"$f":"IFERROR((J$6*(HLOOKUP(J$5,'Hilfsblatt Ber. Wirtsch Wirk 3'!$D$11:$BW$96,$A64,FALSE)+IF(J$5=$C64,HLOOKUP(J$5,'Hilfsblatt Ber. Wirtsch Wirk 3'!$D$11:$BX$96,87,FALSE),0))/100),0)","v":0},{"$f":"IFERROR((K$6*(HLOOKUP(K$5,'Hilfsblatt Ber. Wirtsch Wirk 3'!$D$11:$BW$96,$A64,FALSE)+IF(K$5=$C64,HLOOKUP(K$5,'Hilfsblatt Ber. Wirtsch Wirk 3'!$D$11:$BX$96,87,FALSE),0))/100),0)","v":0},{"$f":"IFERROR((L$6*(HLOOKUP(L$5,'Hilfsblatt Ber. Wirtsch Wirk 3'!$D$11:$BW$96,$A64,FALSE)+IF(L$5=$C64,HLOOKUP(L$5,'Hilfsblatt Ber. Wirtsch Wirk 3'!$D$11:$BX$96,87,FALSE),0))/100),0)","v":0},{"$f":"IFERROR((M$6*(HLOOKUP(M$5,'Hilfsblatt Ber. Wirtsch Wirk 3'!$D$11:$BW$96,$A64,FALSE)+IF(M$5=$C64,HLOOKUP(M$5,'Hilfsblatt Ber. Wirtsch Wirk 3'!$D$11:$BX$96,87,FALSE),0))/100),0)","v":0},{"$f":"IFERROR((N$6*(HLOOKUP(N$5,'Hilfsblatt Ber. Wirtsch Wirk 3'!$D$11:$BW$96,$A64,FALSE)+IF(N$5=$C64,HLOOKUP(N$5,'Hilfsblatt Ber. Wirtsch Wirk 3'!$D$11:$BX$96,87,FALSE),0))/100),0)","v":0},{"$f":"IFERROR((O$6*(HLOOKUP(O$5,'Hilfsblatt Ber. Wirtsch Wirk 3'!$D$11:$BW$96,$A64,FALSE)+IF(O$5=$C64,HLOOKUP(O$5,'Hilfsblatt Ber. Wirtsch Wirk 3'!$D$11:$BX$96,87,FALSE),0))/100),0)","v":0},{"$f":"IFERROR((P$6*(HLOOKUP(P$5,'Hilfsblatt Ber. Wirtsch Wirk 3'!$D$11:$BW$96,$A64,FALSE)+IF(P$5=$C64,HLOOKUP(P$5,'Hilfsblatt Ber. Wirtsch Wirk 3'!$D$11:$BX$96,87,FALSE),0))/100),0)","v":0},{"$f":"IFERROR((Q$6*(HLOOKUP(Q$5,'Hilfsblatt Ber. Wirtsch Wirk 3'!$D$11:$BW$96,$A64,FALSE)+IF(Q$5=$C64,HLOOKUP(Q$5,'Hilfsblatt Ber. Wirtsch Wirk 3'!$D$11:$BX$96,87,FALSE),0))/100),0)","v":0},{"$f":"R$6*('Hilfsblatt Ber. Wirtsch Wirk 3'!BX69+'Hilfsblatt Ber. Wirtsch Wirk 3'!BX69*'Hilfsblatt Ber. Wirtsch Wirk 3'!CA69/'Hilfsblatt Ber. Wirtsch Wirk 3'!CB69)/100","v":0},0,{"$f":"S64*'Hilfsblatt Ber. Wirtsch Wirk 3'!BZ69/('Hilfsblatt Ber. Wirtsch Wirk 3'!CA69)","v":0},{"$f":"S64/'Hilfsblatt Ber. Wirtsch Wirk 3'!CC69","v":0},{"$f":"T64*('Hilfsblatt Ber. Wirtsch Wirk 4'!B$14/'Hilfsblatt Ber. Wirtsch Wirk 4'!B$13)","v":0},{"$f":"S64*'Hilfsblatt Ber. Wirtsch Wirk 3'!CD69","v":0},null,0]
[60,{"$f":"'Hilfsblatt Ber. Wirtsch Wirk 3'!B70","v":"73"},{"$f":"'Hilfsblatt Ber. Wirtsch Wirk 3'!C70","v":"Werbe- und Marktforschungsleistungen "},{"$f":"IFERROR((D$6*(HLOOKUP(D$5,'Hilfsblatt Ber. Wirtsch Wirk 3'!$D$11:$BW$96,$A65,FALSE)+IF(D$5=$C65,HLOOKUP(D$5,'Hilfsblatt Ber. Wirtsch Wirk 3'!$D$11:$BX$96,87,FALSE),0))/100),0)","v":0},{"$f":"IFERROR((E$6*(HLOOKUP(E$5,'Hilfsblatt Ber. Wirtsch Wirk 3'!$D$11:$BW$96,$A65,FALSE)+IF(E$5=$C65,HLOOKUP(E$5,'Hilfsblatt Ber. Wirtsch Wirk 3'!$D$11:$BX$96,87,FALSE),0))/100),0)","v":0},{"$f":"IFERROR((F$6*(HLOOKUP(F$5,'Hilfsblatt Ber. Wirtsch Wirk 3'!$D$11:$BW$96,$A65,FALSE)+IF(F$5=$C65,HLOOKUP(F$5,'Hilfsblatt Ber. Wirtsch Wirk 3'!$D$11:$BX$96,87,FALSE),0))/100),0)","v":0},{"$f":"IFERROR((G$6*(HLOOKUP(G$5,'Hilfsblatt Ber. Wirtsch Wirk 3'!$D$11:$BW$96,$A65,FALSE)+IF(G$5=$C65,HLOOKUP(G$5,'Hilfsblatt Ber. Wirtsch Wirk 3'!$D$11:$BX$96,87,FALSE),0))/100),0)","v":0},{"$f":"IFERROR((H$6*(HLOOKUP(H$5,'Hilfsblatt Ber. Wirtsch Wirk 3'!$D$11:$BW$96,$A65,FALSE)+IF(H$5=$C65,HLOOKUP(H$5,'Hilfsblatt Ber. Wirtsch Wirk 3'!$D$11:$BX$96,87,FALSE),0))/100),0)","v":0},{"$f":"IFERROR((I$6*(HLOOKUP(I$5,'Hilfsblatt Ber. Wirtsch Wirk 3'!$D$11:$BW$96,$A65,FALSE)+IF(I$5=$C65,HLOOKUP(I$5,'Hilfsblatt Ber. Wirtsch Wirk 3'!$D$11:$BX$96,87,FALSE),0))/100),0)","v":0},{"$f":"IFERROR((J$6*(HLOOKUP(J$5,'Hilfsblatt Ber. Wirtsch Wirk 3'!$D$11:$BW$96,$A65,FALSE)+IF(J$5=$C65,HLOOKUP(J$5,'Hilfsblatt Ber. Wirtsch Wirk 3'!$D$11:$BX$96,87,FALSE),0))/100),0)","v":0},{"$f":"IFERROR((K$6*(HLOOKUP(K$5,'Hilfsblatt Ber. Wirtsch Wirk 3'!$D$11:$BW$96,$A65,FALSE)+IF(K$5=$C65,HLOOKUP(K$5,'Hilfsblatt Ber. Wirtsch Wirk 3'!$D$11:$BX$96,87,FALSE),0))/100),0)","v":0},{"$f":"IFERROR((L$6*(HLOOKUP(L$5,'Hilfsblatt Ber. Wirtsch Wirk 3'!$D$11:$BW$96,$A65,FALSE)+IF(L$5=$C65,HLOOKUP(L$5,'Hilfsblatt Ber. Wirtsch Wirk 3'!$D$11:$BX$96,87,FALSE),0))/100),0)","v":0},{"$f":"IFERROR((M$6*(HLOOKUP(M$5,'Hilfsblatt Ber. Wirtsch Wirk 3'!$D$11:$BW$96,$A65,FALSE)+IF(M$5=$C65,HLOOKUP(M$5,'Hilfsblatt Ber. Wirtsch Wirk 3'!$D$11:$BX$96,87,FALSE),0))/100),0)","v":0},{"$f":"IFERROR((N$6*(HLOOKUP(N$5,'Hilfsblatt Ber. Wirtsch Wirk 3'!$D$11:$BW$96,$A65,FALSE)+IF(N$5=$C65,HLOOKUP(N$5,'Hilfsblatt Ber. Wirtsch Wirk 3'!$D$11:$BX$96,87,FALSE),0))/100),0)","v":0},{"$f":"IFERROR((O$6*(HLOOKUP(O$5,'Hilfsblatt Ber. Wirtsch Wirk 3'!$D$11:$BW$96,$A65,FALSE)+IF(O$5=$C65,HLOOKUP(O$5,'Hilfsblatt Ber. Wirtsch Wirk 3'!$D$11:$BX$96,87,FALSE),0))/100),0)","v":0},{"$f":"IFERROR((P$6*(HLOOKUP(P$5,'Hilfsblatt Ber. Wirtsch Wirk 3'!$D$11:$BW$96,$A65,FALSE)+IF(P$5=$C65,HLOOKUP(P$5,'Hilfsblatt Ber. Wirtsch Wirk 3'!$D$11:$BX$96,87,FALSE),0))/100),0)","v":0},{"$f":"IFERROR((Q$6*(HLOOKUP(Q$5,'Hilfsblatt Ber. Wirtsch Wirk 3'!$D$11:$BW$96,$A65,FALSE)+IF(Q$5=$C65,HLOOKUP(Q$5,'Hilfsblatt Ber. Wirtsch Wirk 3'!$D$11:$BX$96,87,FALSE),0))/100),0)","v":0},{"$f":"R$6*('Hilfsblatt Ber. Wirtsch Wirk 3'!BX70+'Hilfsblatt Ber. Wirtsch Wirk 3'!BX70*'Hilfsblatt Ber. Wirtsch Wirk 3'!CA70/'Hilfsblatt Ber. Wirtsch Wirk 3'!CB70)/100","v":0},0,{"$f":"S65*'Hilfsblatt Ber. Wirtsch Wirk 3'!BZ70/('Hilfsblatt Ber. Wirtsch Wirk 3'!CA70)","v":0},{"$f":"S65/'Hilfsblatt Ber. Wirtsch Wirk 3'!CC70","v":0},{"$f":"T65*('Hilfsblatt Ber. Wirtsch Wirk 4'!B$14/'Hilfsblatt Ber. Wirtsch Wirk 4'!B$13)","v":0},{"$f":"S65*'Hilfsblatt Ber. Wirtsch Wirk 3'!CD70","v":0},null,0]
[61,{"$f":"'Hilfsblatt Ber. Wirtsch Wirk 3'!B71","v":"74-75"},{"$f":"'Hilfsblatt Ber. Wirtsch Wirk 3'!C71","v":"Sonst. freiberuf., wiss., techn. u. veterinärmedizinische Dienstleistg. "},{"$f":"IFERROR((D$6*(HLOOKUP(D$5,'Hilfsblatt Ber. Wirtsch Wirk 3'!$D$11:$BW$96,$A66,FALSE)+IF(D$5=$C66,HLOOKUP(D$5,'Hilfsblatt Ber. Wirtsch Wirk 3'!$D$11:$BX$96,87,FALSE),0))/100),0)","v":0},{"$f":"IFERROR((E$6*(HLOOKUP(E$5,'Hilfsblatt Ber. Wirtsch Wirk 3'!$D$11:$BW$96,$A66,FALSE)+IF(E$5=$C66,HLOOKUP(E$5,'Hilfsblatt Ber. Wirtsch Wirk 3'!$D$11:$BX$96,87,FALSE),0))/100),0)","v":0},{"$f":"IFERROR((F$6*(HLOOKUP(F$5,'Hilfsblatt Ber. Wirtsch Wirk 3'!$D$11:$BW$96,$A66,FALSE)+IF(F$5=$C66,HLOOKUP(F$5,'Hilfsblatt Ber. Wirtsch Wirk 3'!$D$11:$BX$96,87,FALSE),0))/100),0)","v":0},{"$f":"IFERROR((G$6*(HLOOKUP(G$5,'Hilfsblatt Ber. Wirtsch Wirk 3'!$D$11:$BW$96,$A66,FALSE)+IF(G$5=$C66,HLOOKUP(G$5,'Hilfsblatt Ber. Wirtsch Wirk 3'!$D$11:$BX$96,87,FALSE),0))/100),0)","v":0},{"$f":"IFERROR((H$6*(HLOOKUP(H$5,'Hilfsblatt Ber. Wirtsch Wirk 3'!$D$11:$BW$96,$A66,FALSE)+IF(H$5=$C66,HLOOKUP(H$5,'Hilfsblatt Ber. Wirtsch Wirk 3'!$D$11:$BX$96,87,FALSE),0))/100),0)","v":0},{"$f":"IFERROR((I$6*(HLOOKUP(I$5,'Hilfsblatt Ber. Wirtsch Wirk 3'!$D$11:$BW$96,$A66,FALSE)+IF(I$5=$C66,HLOOKUP(I$5,'Hilfsblatt Ber. Wirtsch Wirk 3'!$D$11:$BX$96,87,FALSE),0))/100),0)","v":0},{"$f":"IFERROR((J$6*(HLOOKUP(J$5,'Hilfsblatt Ber. Wirtsch Wirk 3'!$D$11:$BW$96,$A66,FALSE)+IF(J$5=$C66,HLOOKUP(J$5,'Hilfsblatt Ber. Wirtsch Wirk 3'!$D$11:$BX$96,87,FALSE),0))/100),0)","v":0},{"$f":"IFERROR((K$6*(HLOOKUP(K$5,'Hilfsblatt Ber. Wirtsch Wirk 3'!$D$11:$BW$96,$A66,FALSE)+IF(K$5=$C66,HLOOKUP(K$5,'Hilfsblatt Ber. Wirtsch Wirk 3'!$D$11:$BX$96,87,FALSE),0))/100),0)","v":0},{"$f":"IFERROR((L$6*(HLOOKUP(L$5,'Hilfsblatt Ber. Wirtsch Wirk 3'!$D$11:$BW$96,$A66,FALSE)+IF(L$5=$C66,HLOOKUP(L$5,'Hilfsblatt Ber. Wirtsch Wirk 3'!$D$11:$BX$96,87,FALSE),0))/100),0)","v":0},{"$f":"IFERROR((M$6*(HLOOKUP(M$5,'Hilfsblatt Ber. Wirtsch Wirk 3'!$D$11:$BW$96,$A66,FALSE)+IF(M$5=$C66,HLOOKUP(M$5,'Hilfsblatt Ber. Wirtsch Wirk 3'!$D$11:$BX$96,87,FALSE),0))/100),0)","v":0},{"$f":"IFERROR((N$6*(HLOOKUP(N$5,'Hilfsblatt Ber. Wirtsch Wirk 3'!$D$11:$BW$96,$A66,FALSE)+IF(N$5=$C66,HLOOKUP(N$5,'Hilfsblatt Ber. Wirtsch Wirk 3'!$D$11:$BX$96,87,FALSE),0))/100),0)","v":0},{"$f":"IFERROR((O$6*(HLOOKUP(O$5,'Hilfsblatt Ber. Wirtsch Wirk 3'!$D$11:$BW$96,$A66,FALSE)+IF(O$5=$C66,HLOOKUP(O$5,'Hilfsblatt Ber. Wirtsch Wirk 3'!$D$11:$BX$96,87,FALSE),0))/100),0)","v":0},{"$f":"IFERROR((P$6*(HLOOKUP(P$5,'Hilfsblatt Ber. Wirtsch Wirk 3'!$D$11:$BW$96,$A66,FALSE)+IF(P$5=$C66,HLOOKUP(P$5,'Hilfsblatt Ber. Wirtsch Wirk 3'!$D$11:$BX$96,87,FALSE),0))/100),0)","v":0},{"$f":"IFERROR((Q$6*(HLOOKUP(Q$5,'Hilfsblatt Ber. Wirtsch Wirk 3'!$D$11:$BW$96,$A66,FALSE)+IF(Q$5=$C66,HLOOKUP(Q$5,'Hilfsblatt Ber. Wirtsch Wirk 3'!$D$11:$BX$96,87,FALSE),0))/100),0)","v":0},{"$f":"R$6*('Hilfsblatt Ber. Wirtsch Wirk 3'!BX71+'Hilfsblatt Ber. Wirtsch Wirk 3'!BX71*'Hilfsblatt Ber. Wirtsch Wirk 3'!CA71/'Hilfsblatt Ber. Wirtsch Wirk 3'!CB71)/100","v":0},0,{"$f":"S66*'Hilfsblatt Ber. Wirtsch Wirk 3'!BZ71/('Hilfsblatt Ber. Wirtsch Wirk 3'!CA71)","v":0},{"$f":"S66/'Hilfsblatt Ber. Wirtsch Wirk 3'!CC71","v":0},{"$f":"T66*('Hilfsblatt Ber. Wirtsch Wirk 4'!B$14/'Hilfsblatt Ber. Wirtsch Wirk 4'!B$13)","v":0},{"$f":"S66*'Hilfsblatt Ber. Wirtsch Wirk 3'!CD71","v":0},null,0]
[62,{"$f":"'Hilfsblatt Ber. Wirtsch Wirk 3'!B72","v":"77"},{"$f":"'Hilfsblatt Ber. Wirtsch Wirk 3'!C72","v":"Dienstleistungen der Vermietung von beweglichen Sachen "},{"$f":"IFERROR((D$6*(HLOOKUP(D$5,'Hilfsblatt Ber. Wirtsch Wirk 3'!$D$11:$BW$96,$A67,FALSE)+IF(D$5=$C67,HLOOKUP(D$5,'Hilfsblatt Ber. Wirtsch Wirk 3'!$D$11:$BX$96,87,FALSE),0))/100),0)","v":0},{"$f":"IFERROR((E$6*(HLOOKUP(E$5,'Hilfsblatt Ber. Wirtsch Wirk 3'!$D$11:$BW$96,$A67,FALSE)+IF(E$5=$C67,HLOOKUP(E$5,'Hilfsblatt Ber. Wirtsch Wirk 3'!$D$11:$BX$96,87,FALSE),0))/100),0)","v":0},{"$f":"IFERROR((F$6*(HLOOKUP(F$5,'Hilfsblatt Ber. Wirtsch Wirk 3'!$D$11:$BW$96,$A67,FALSE)+IF(F$5=$C67,HLOOKUP(F$5,'Hilfsblatt Ber. Wirtsch Wirk 3'!$D$11:$BX$96,87,FALSE),0))/100),0)","v":0},{"$f":"IFERROR((G$6*(HLOOKUP(G$5,'Hilfsblatt Ber. Wirtsch Wirk 3'!$D$11:$BW$96,$A67,FALSE)+IF(G$5=$C67,HLOOKUP(G$5,'Hilfsblatt Ber. Wirtsch Wirk 3'!$D$11:$BX$96,87,FALSE),0))/100),0)","v":0},{"$f":"IFERROR((H$6*(HLOOKUP(H$5,'Hilfsblatt Ber. Wirtsch Wirk 3'!$D$11:$BW$96,$A67,FALSE)+IF(H$5=$C67,HLOOKUP(H$5,'Hilfsblatt Ber. Wirtsch Wirk 3'!$D$11:$BX$96,87,FALSE),0))/100),0)","v":0},{"$f":"IFERROR((I$6*(HLOOKUP(I$5,'Hilfsblatt Ber. Wirtsch Wirk 3'!$D$11:$BW$96,$A67,FALSE)+IF(I$5=$C67,HLOOKUP(I$5,'Hilfsblatt Ber. Wirtsch Wirk 3'!$D$11:$BX$96,87,FALSE),0))/100),0)","v":0},{"$f":"IFERROR((J$6*(HLOOKUP(J$5,'Hilfsblatt Ber. Wirtsch Wirk 3'!$D$11:$BW$96,$A67,FALSE)+IF(J$5=$C67,HLOOKUP(J$5,'Hilfsblatt Ber. Wirtsch Wirk 3'!$D$11:$BX$96,87,FALSE),0))/100),0)","v":0},{"$f":"IFERROR((K$6*(HLOOKUP(K$5,'Hilfsblatt Ber. Wirtsch Wirk 3'!$D$11:$BW$96,$A67,FALSE)+IF(K$5=$C67,HLOOKUP(K$5,'Hilfsblatt Ber. Wirtsch Wirk 3'!$D$11:$BX$96,87,FALSE),0))/100),0)","v":0},{"$f":"IFERROR((L$6*(HLOOKUP(L$5,'Hilfsblatt Ber. Wirtsch Wirk 3'!$D$11:$BW$96,$A67,FALSE)+IF(L$5=$C67,HLOOKUP(L$5,'Hilfsblatt Ber. Wirtsch Wirk 3'!$D$11:$BX$96,87,FALSE),0))/100),0)","v":0},{"$f":"IFERROR((M$6*(HLOOKUP(M$5,'Hilfsblatt Ber. Wirtsch Wirk 3'!$D$11:$BW$96,$A67,FALSE)+IF(M$5=$C67,HLOOKUP(M$5,'Hilfsblatt Ber. Wirtsch Wirk 3'!$D$11:$BX$96,87,FALSE),0))/100),0)","v":0},{"$f":"IFERROR((N$6*(HLOOKUP(N$5,'Hilfsblatt Ber. Wirtsch Wirk 3'!$D$11:$BW$96,$A67,FALSE)+IF(N$5=$C67,HLOOKUP(N$5,'Hilfsblatt Ber. Wirtsch Wirk 3'!$D$11:$BX$96,87,FALSE),0))/100),0)","v":0},{"$f":"IFERROR((O$6*(HLOOKUP(O$5,'Hilfsblatt Ber. Wirtsch Wirk 3'!$D$11:$BW$96,$A67,FALSE)+IF(O$5=$C67,HLOOKUP(O$5,'Hilfsblatt Ber. Wirtsch Wirk 3'!$D$11:$BX$96,87,FALSE),0))/100),0)","v":0},{"$f":"IFERROR((P$6*(HLOOKUP(P$5,'Hilfsblatt Ber. Wirtsch Wirk 3'!$D$11:$BW$96,$A67,FALSE)+IF(P$5=$C67,HLOOKUP(P$5,'Hilfsblatt Ber. Wirtsch Wirk 3'!$D$11:$BX$96,87,FALSE),0))/100),0)","v":0},{"$f":"IFERROR((Q$6*(HLOOKUP(Q$5,'Hilfsblatt Ber. Wirtsch Wirk 3'!$D$11:$BW$96,$A67,FALSE)+IF(Q$5=$C67,HLOOKUP(Q$5,'Hilfsblatt Ber. Wirtsch Wirk 3'!$D$11:$BX$96,87,FALSE),0))/100),0)","v":0},{"$f":"R$6*('Hilfsblatt Ber. Wirtsch Wirk 3'!BX72+'Hilfsblatt Ber. Wirtsch Wirk 3'!BX72*'Hilfsblatt Ber. Wirtsch Wirk 3'!CA72/'Hilfsblatt Ber. Wirtsch Wirk 3'!CB72)/100","v":0},0,{"$f":"S67*'Hilfsblatt Ber. Wirtsch Wirk 3'!BZ72/('Hilfsblatt Ber. Wirtsch Wirk 3'!CA72)","v":0},{"$f":"S67/'Hilfsblatt Ber. Wirtsch Wirk 3'!CC72","v":0},{"$f":"T67*('Hilfsblatt Ber. Wirtsch Wirk 4'!B$14/'Hilfsblatt Ber. Wirtsch Wirk 4'!B$13)","v":0},{"$f":"S67*'Hilfsblatt Ber. Wirtsch Wirk 3'!CD72","v":0},null,0]
[63,{"$f":"'Hilfsblatt Ber. Wirtsch Wirk 3'!B73","v":"78"},{"$f":"'Hilfsblatt Ber. Wirtsch Wirk 3'!C73","v":"Dienstleistungen der Vermittlung und Überlassung von Arbeitskräften "},{"$f":"IFERROR((D$6*(HLOOKUP(D$5,'Hilfsblatt Ber. Wirtsch Wirk 3'!$D$11:$BW$96,$A68,FALSE)+IF(D$5=$C68,HLOOKUP(D$5,'Hilfsblatt Ber. Wirtsch Wirk 3'!$D$11:$BX$96,87,FALSE),0))/100),0)","v":0},{"$f":"IFERROR((E$6*(HLOOKUP(E$5,'Hilfsblatt Ber. Wirtsch Wirk 3'!$D$11:$BW$96,$A68,FALSE)+IF(E$5=$C68,HLOOKUP(E$5,'Hilfsblatt Ber. Wirtsch Wirk 3'!$D$11:$BX$96,87,FALSE),0))/100),0)","v":0},{"$f":"IFERROR((F$6*(HLOOKUP(F$5,'Hilfsblatt Ber. Wirtsch Wirk 3'!$D$11:$BW$96,$A68,FALSE)+IF(F$5=$C68,HLOOKUP(F$5,'Hilfsblatt Ber. Wirtsch Wirk 3'!$D$11:$BX$96,87,FALSE),0))/100),0)","v":0},{"$f":"IFERROR((G$6*(HLOOKUP(G$5,'Hilfsblatt Ber. Wirtsch Wirk 3'!$D$11:$BW$96,$A68,FALSE)+IF(G$5=$C68,HLOOKUP(G$5,'Hilfsblatt Ber. Wirtsch Wirk 3'!$D$11:$BX$96,87,FALSE),0))/100),0)","v":0},{"$f":"IFERROR((H$6*(HLOOKUP(H$5,'Hilfsblatt Ber. Wirtsch Wirk 3'!$D$11:$BW$96,$A68,FALSE)+IF(H$5=$C68,HLOOKUP(H$5,'Hilfsblatt Ber. Wirtsch Wirk 3'!$D$11:$BX$96,87,FALSE),0))/100),0)","v":0},{"$f":"IFERROR((I$6*(HLOOKUP(I$5,'Hilfsblatt Ber. Wirtsch Wirk 3'!$D$11:$BW$96,$A68,FALSE)+IF(I$5=$C68,HLOOKUP(I$5,'Hilfsblatt Ber. Wirtsch Wirk 3'!$D$11:$BX$96,87,FALSE),0))/100),0)","v":0},{"$f":"IFERROR((J$6*(HLOOKUP(J$5,'Hilfsblatt Ber. Wirtsch Wirk 3'!$D$11:$BW$96,$A68,FALSE)+IF(J$5=$C68,HLOOKUP(J$5,'Hilfsblatt Ber. Wirtsch Wirk 3'!$D$11:$BX$96,87,FALSE),0))/100),0)","v":0},{"$f":"IFERROR((K$6*(HLOOKUP(K$5,'Hilfsblatt Ber. Wirtsch Wirk 3'!$D$11:$BW$96,$A68,FALSE)+IF(K$5=$C68,HLOOKUP(K$5,'Hilfsblatt Ber. Wirtsch Wirk 3'!$D$11:$BX$96,87,FALSE),0))/100),0)","v":0},{"$f":"IFERROR((L$6*(HLOOKUP(L$5,'Hilfsblatt Ber. Wirtsch Wirk 3'!$D$11:$BW$96,$A68,FALSE)+IF(L$5=$C68,HLOOKUP(L$5,'Hilfsblatt Ber. Wirtsch Wirk 3'!$D$11:$BX$96,87,FALSE),0))/100),0)","v":0},{"$f":"IFERROR((M$6*(HLOOKUP(M$5,'Hilfsblatt Ber. Wirtsch Wirk 3'!$D$11:$BW$96,$A68,FALSE)+IF(M$5=$C68,HLOOKUP(M$5,'Hilfsblatt Ber. Wirtsch Wirk 3'!$D$11:$BX$96,87,FALSE),0))/100),0)","v":0},{"$f":"IFERROR((N$6*(HLOOKUP(N$5,'Hilfsblatt Ber. Wirtsch Wirk 3'!$D$11:$BW$96,$A68,FALSE)+IF(N$5=$C68,HLOOKUP(N$5,'Hilfsblatt Ber. Wirtsch Wirk 3'!$D$11:$BX$96,87,FALSE),0))/100),0)","v":0},{"$f":"IFERROR((O$6*(HLOOKUP(O$5,'Hilfsblatt Ber. Wirtsch Wirk 3'!$D$11:$BW$96,$A68,FALSE)+IF(O$5=$C68,HLOOKUP(O$5,'Hilfsblatt Ber. Wirtsch Wirk 3'!$D$11:$BX$96,87,FALSE),0))/100),0)","v":0},{"$f":"IFERROR((P$6*(HLOOKUP(P$5,'Hilfsblatt Ber. Wirtsch Wirk 3'!$D$11:$BW$96,$A68,FALSE)+IF(P$5=$C68,HLOOKUP(P$5,'Hilfsblatt Ber. Wirtsch Wirk 3'!$D$11:$BX$96,87,FALSE),0))/100),0)","v":0},{"$f":"IFERROR((Q$6*(HLOOKUP(Q$5,'Hilfsblatt Ber. Wirtsch Wirk 3'!$D$11:$BW$96,$A68,FALSE)+IF(Q$5=$C68,HLOOKUP(Q$5,'Hilfsblatt Ber. Wirtsch Wirk 3'!$D$11:$BX$96,87,FALSE),0))/100),0)","v":0},{"$f":"R$6*('Hilfsblatt Ber. Wirtsch Wirk 3'!BX73+'Hilfsblatt Ber. Wirtsch Wirk 3'!BX73*'Hilfsblatt Ber. Wirtsch Wirk 3'!CA73/'Hilfsblatt Ber. Wirtsch Wirk 3'!CB73)/100","v":0},0,{"$f":"S68*'Hilfsblatt Ber. Wirtsch Wirk 3'!BZ73/('Hilfsblatt Ber. Wirtsch Wirk 3'!CA73)","v":0},{"$f":"S68/'Hilfsblatt Ber. Wirtsch Wirk 3'!CC73","v":0},{"$f":"T68*('Hilfsblatt Ber. Wirtsch Wirk 4'!B$14/'Hilfsblatt Ber. Wirtsch Wirk 4'!B$13)","v":0},{"$f":"S68*'Hilfsblatt Ber. Wirtsch Wirk 3'!CD73","v":0},null,0]
[64,{"$f":"'Hilfsblatt Ber. Wirtsch Wirk 3'!B74","v":"79"},{"$f":"'Hilfsblatt Ber. Wirtsch Wirk 3'!C74","v":"Dienstleistg. v. Reisebüros, -veranstaltern u. sonst. Reservierungen"},{"$f":"IFERROR((D$6*(HLOOKUP(D$5,'Hilfsblatt Ber. Wirtsch Wirk 3'!$D$11:$BW$96,$A69,FALSE)+IF(D$5=$C69,HLOOKUP(D$5,'Hilfsblatt Ber. Wirtsch Wirk 3'!$D$11:$BX$96,87,FALSE),0))/100),0)","v":0},{"$f":"IFERROR((E$6*(HLOOKUP(E$5,'Hilfsblatt Ber. Wirtsch Wirk 3'!$D$11:$BW$96,$A69,FALSE)+IF(E$5=$C69,HLOOKUP(E$5,'Hilfsblatt Ber. Wirtsch Wirk 3'!$D$11:$BX$96,87,FALSE),0))/100),0)","v":0},{"$f":"IFERROR((F$6*(HLOOKUP(F$5,'Hilfsblatt Ber. Wirtsch Wirk 3'!$D$11:$BW$96,$A69,FALSE)+IF(F$5=$C69,HLOOKUP(F$5,'Hilfsblatt Ber. Wirtsch Wirk 3'!$D$11:$BX$96,87,FALSE),0))/100),0)","v":0},{"$f":"IFERROR((G$6*(HLOOKUP(G$5,'Hilfsblatt Ber. Wirtsch Wirk 3'!$D$11:$BW$96,$A69,FALSE)+IF(G$5=$C69,HLOOKUP(G$5,'Hilfsblatt Ber. Wirtsch Wirk 3'!$D$11:$BX$96,87,FALSE),0))/100),0)","v":0},{"$f":"IFERROR((H$6*(HLOOKUP(H$5,'Hilfsblatt Ber. Wirtsch Wirk 3'!$D$11:$BW$96,$A69,FALSE)+IF(H$5=$C69,HLOOKUP(H$5,'Hilfsblatt Ber. Wirtsch Wirk 3'!$D$11:$BX$96,87,FALSE),0))/100),0)","v":0},{"$f":"IFERROR((I$6*(HLOOKUP(I$5,'Hilfsblatt Ber. Wirtsch Wirk 3'!$D$11:$BW$96,$A69,FALSE)+IF(I$5=$C69,HLOOKUP(I$5,'Hilfsblatt Ber. Wirtsch Wirk 3'!$D$11:$BX$96,87,FALSE),0))/100),0)","v":0},{"$f":"IFERROR((J$6*(HLOOKUP(J$5,'Hilfsblatt Ber. Wirtsch Wirk 3'!$D$11:$BW$96,$A69,FALSE)+IF(J$5=$C69,HLOOKUP(J$5,'Hilfsblatt Ber. Wirtsch Wirk 3'!$D$11:$BX$96,87,FALSE),0))/100),0)","v":0},{"$f":"IFERROR((K$6*(HLOOKUP(K$5,'Hilfsblatt Ber. Wirtsch Wirk 3'!$D$11:$BW$96,$A69,FALSE)+IF(K$5=$C69,HLOOKUP(K$5,'Hilfsblatt Ber. Wirtsch Wirk 3'!$D$11:$BX$96,87,FALSE),0))/100),0)","v":0},{"$f":"IFERROR((L$6*(HLOOKUP(L$5,'Hilfsblatt Ber. Wirtsch Wirk 3'!$D$11:$BW$96,$A69,FALSE)+IF(L$5=$C69,HLOOKUP(L$5,'Hilfsblatt Ber. Wirtsch Wirk 3'!$D$11:$BX$96,87,FALSE),0))/100),0)","v":0},{"$f":"IFERROR((M$6*(HLOOKUP(M$5,'Hilfsblatt Ber. Wirtsch Wirk 3'!$D$11:$BW$96,$A69,FALSE)+IF(M$5=$C69,HLOOKUP(M$5,'Hilfsblatt Ber. Wirtsch Wirk 3'!$D$11:$BX$96,87,FALSE),0))/100),0)","v":0},{"$f":"IFERROR((N$6*(HLOOKUP(N$5,'Hilfsblatt Ber. Wirtsch Wirk 3'!$D$11:$BW$96,$A69,FALSE)+IF(N$5=$C69,HLOOKUP(N$5,'Hilfsblatt Ber. Wirtsch Wirk 3'!$D$11:$BX$96,87,FALSE),0))/100),0)","v":0},{"$f":"IFERROR((O$6*(HLOOKUP(O$5,'Hilfsblatt Ber. Wirtsch Wirk 3'!$D$11:$BW$96,$A69,FALSE)+IF(O$5=$C69,HLOOKUP(O$5,'Hilfsblatt Ber. Wirtsch Wirk 3'!$D$11:$BX$96,87,FALSE),0))/100),0)","v":0},{"$f":"IFERROR((P$6*(HLOOKUP(P$5,'Hilfsblatt Ber. Wirtsch Wirk 3'!$D$11:$BW$96,$A69,FALSE)+IF(P$5=$C69,HLOOKUP(P$5,'Hilfsblatt Ber. Wirtsch Wirk 3'!$D$11:$BX$96,87,FALSE),0))/100),0)","v":0},{"$f":"IFERROR((Q$6*(HLOOKUP(Q$5,'Hilfsblatt Ber. Wirtsch Wirk 3'!$D$11:$BW$96,$A69,FALSE)+IF(Q$5=$C69,HLOOKUP(Q$5,'Hilfsblatt Ber. Wirtsch Wirk 3'!$D$11:$BX$96,87,FALSE),0))/100),0)","v":0},{"$f":"R$6*('Hilfsblatt Ber. Wirtsch Wirk 3'!BX74+'Hilfsblatt Ber. Wirtsch Wirk 3'!BX74*'Hilfsblatt Ber. Wirtsch Wirk 3'!CA74/'Hilfsblatt Ber. Wirtsch Wirk 3'!CB74)/100","v":0},0,{"$f":"S69*'Hilfsblatt Ber. Wirtsch Wirk 3'!BZ74/('Hilfsblatt Ber. Wirtsch Wirk 3'!CA74)","v":0},{"$f":"S69/'Hilfsblatt Ber. Wirtsch Wirk 3'!CC74","v":0},{"$f":"T69*('Hilfsblatt Ber. Wirtsch Wirk 4'!B$14/'Hilfsblatt Ber. Wirtsch Wirk 4'!B$13)","v":0},{"$f":"S69*'Hilfsblatt Ber. Wirtsch Wirk 3'!CD74","v":0},null,0]
[65,{"$f":"'Hilfsblatt Ber. Wirtsch Wirk 3'!B75","v":"80-82"},{"$f":"'Hilfsblatt Ber. Wirtsch Wirk 3'!C75","v":"Wach-, Sicherheitsdienstlg., wirtschaftl. Dienstleistg. a.n.g"},{"$f":"IFERROR((D$6*(HLOOKUP(D$5,'Hilfsblatt Ber. Wirtsch Wirk 3'!$D$11:$BW$96,$A70,FALSE)+IF(D$5=$C70,HLOOKUP(D$5,'Hilfsblatt Ber. Wirtsch Wirk 3'!$D$11:$BX$96,87,FALSE),0))/100),0)","v":0},{"$f":"IFERROR((E$6*(HLOOKUP(E$5,'Hilfsblatt Ber. Wirtsch Wirk 3'!$D$11:$BW$96,$A70,FALSE)+IF(E$5=$C70,HLOOKUP(E$5,'Hilfsblatt Ber. Wirtsch Wirk 3'!$D$11:$BX$96,87,FALSE),0))/100),0)","v":0},{"$f":"IFERROR((F$6*(HLOOKUP(F$5,'Hilfsblatt Ber. Wirtsch Wirk 3'!$D$11:$BW$96,$A70,FALSE)+IF(F$5=$C70,HLOOKUP(F$5,'Hilfsblatt Ber. Wirtsch Wirk 3'!$D$11:$BX$96,87,FALSE),0))/100),0)","v":0},{"$f":"IFERROR((G$6*(HLOOKUP(G$5,'Hilfsblatt Ber. Wirtsch Wirk 3'!$D$11:$BW$96,$A70,FALSE)+IF(G$5=$C70,HLOOKUP(G$5,'Hilfsblatt Ber. Wirtsch Wirk 3'!$D$11:$BX$96,87,FALSE),0))/100),0)","v":0},{"$f":"IFERROR((H$6*(HLOOKUP(H$5,'Hilfsblatt Ber. Wirtsch Wirk 3'!$D$11:$BW$96,$A70,FALSE)+IF(H$5=$C70,HLOOKUP(H$5,'Hilfsblatt Ber. Wirtsch Wirk 3'!$D$11:$BX$96,87,FALSE),0))/100),0)","v":0},{"$f":"IFERROR((I$6*(HLOOKUP(I$5,'Hilfsblatt Ber. Wirtsch Wirk 3'!$D$11:$BW$96,$A70,FALSE)+IF(I$5=$C70,HLOOKUP(I$5,'Hilfsblatt Ber. Wirtsch Wirk 3'!$D$11:$BX$96,87,FALSE),0))/100),0)","v":0},{"$f":"IFERROR((J$6*(HLOOKUP(J$5,'Hilfsblatt Ber. Wirtsch Wirk 3'!$D$11:$BW$96,$A70,FALSE)+IF(J$5=$C70,HLOOKUP(J$5,'Hilfsblatt Ber. Wirtsch Wirk 3'!$D$11:$BX$96,87,FALSE),0))/100),0)","v":0},{"$f":"IFERROR((K$6*(HLOOKUP(K$5,'Hilfsblatt Ber. Wirtsch Wirk 3'!$D$11:$BW$96,$A70,FALSE)+IF(K$5=$C70,HLOOKUP(K$5,'Hilfsblatt Ber. Wirtsch Wirk 3'!$D$11:$BX$96,87,FALSE),0))/100),0)","v":0},{"$f":"IFERROR((L$6*(HLOOKUP(L$5,'Hilfsblatt Ber. Wirtsch Wirk 3'!$D$11:$BW$96,$A70,FALSE)+IF(L$5=$C70,HLOOKUP(L$5,'Hilfsblatt Ber. Wirtsch Wirk 3'!$D$11:$BX$96,87,FALSE),0))/100),0)","v":0},{"$f":"IFERROR((M$6*(HLOOKUP(M$5,'Hilfsblatt Ber. Wirtsch Wirk 3'!$D$11:$BW$96,$A70,FALSE)+IF(M$5=$C70,HLOOKUP(M$5,'Hilfsblatt Ber. Wirtsch Wirk 3'!$D$11:$BX$96,87,FALSE),0))/100),0)","v":0},{"$f":"IFERROR((N$6*(HLOOKUP(N$5,'Hilfsblatt Ber. Wirtsch Wirk 3'!$D$11:$BW$96,$A70,FALSE)+IF(N$5=$C70,HLOOKUP(N$5,'Hilfsblatt Ber. Wirtsch Wirk 3'!$D$11:$BX$96,87,FALSE),0))/100),0)","v":0},{"$f":"IFERROR((O$6*(HLOOKUP(O$5,'Hilfsblatt Ber. Wirtsch Wirk 3'!$D$11:$BW$96,$A70,FALSE)+IF(O$5=$C70,HLOOKUP(O$5,'Hilfsblatt Ber. Wirtsch Wirk 3'!$D$11:$BX$96,87,FALSE),0))/100),0)","v":0},{"$f":"IFERROR((P$6*(HLOOKUP(P$5,'Hilfsblatt Ber. Wirtsch Wirk 3'!$D$11:$BW$96,$A70,FALSE)+IF(P$5=$C70,HLOOKUP(P$5,'Hilfsblatt Ber. Wirtsch Wirk 3'!$D$11:$BX$96,87,FALSE),0))/100),0)","v":0},{"$f":"IFERROR((Q$6*(HLOOKUP(Q$5,'Hilfsblatt Ber. Wirtsch Wirk 3'!$D$11:$BW$96,$A70,FALSE)+IF(Q$5=$C70,HLOOKUP(Q$5,'Hilfsblatt Ber. Wirtsch Wirk 3'!$D$11:$BX$96,87,FALSE),0))/100),0)","v":0},{"$f":"R$6*('Hilfsblatt Ber. Wirtsch Wirk 3'!BX75+'Hilfsblatt Ber. Wirtsch Wirk 3'!BX75*'Hilfsblatt Ber. Wirtsch Wirk 3'!CA75/'Hilfsblatt Ber. Wirtsch Wirk 3'!CB75)/100","v":0},0,{"$f":"S70*'Hilfsblatt Ber. Wirtsch Wirk 3'!BZ75/('Hilfsblatt Ber. Wirtsch Wirk 3'!CA75)","v":0},{"$f":"S70/'Hilfsblatt Ber. Wirtsch Wirk 3'!CC75","v":0},{"$f":"T70*('Hilfsblatt Ber. Wirtsch Wirk 4'!B$14/'Hilfsblatt Ber. Wirtsch Wirk 4'!B$13)","v":0},{"$f":"S70*'Hilfsblatt Ber. Wirtsch Wirk 3'!CD75","v":0},null,0]
[66,{"$f":"'Hilfsblatt Ber. Wirtsch Wirk 3'!B76","v":"84.1-84.2"},{"$f":"'Hilfsblatt Ber. Wirtsch Wirk 3'!C76","v":"Dienstleistungen der öffentlichen Verwaltung und der Verteidigung"},{"$f":"IFERROR((D$6*(HLOOKUP(D$5,'Hilfsblatt Ber. Wirtsch Wirk 3'!$D$11:$BW$96,$A71,FALSE)+IF(D$5=$C71,HLOOKUP(D$5,'Hilfsblatt Ber. Wirtsch Wirk 3'!$D$11:$BX$96,87,FALSE),0))/100),0)","v":0},{"$f":"IFERROR((E$6*(HLOOKUP(E$5,'Hilfsblatt Ber. Wirtsch Wirk 3'!$D$11:$BW$96,$A71,FALSE)+IF(E$5=$C71,HLOOKUP(E$5,'Hilfsblatt Ber. Wirtsch Wirk 3'!$D$11:$BX$96,87,FALSE),0))/100),0)","v":0},{"$f":"IFERROR((F$6*(HLOOKUP(F$5,'Hilfsblatt Ber. Wirtsch Wirk 3'!$D$11:$BW$96,$A71,FALSE)+IF(F$5=$C71,HLOOKUP(F$5,'Hilfsblatt Ber. Wirtsch Wirk 3'!$D$11:$BX$96,87,FALSE),0))/100),0)","v":0},{"$f":"IFERROR((G$6*(HLOOKUP(G$5,'Hilfsblatt Ber. Wirtsch Wirk 3'!$D$11:$BW$96,$A71,FALSE)+IF(G$5=$C71,HLOOKUP(G$5,'Hilfsblatt Ber. Wirtsch Wirk 3'!$D$11:$BX$96,87,FALSE),0))/100),0)","v":0},{"$f":"IFERROR((H$6*(HLOOKUP(H$5,'Hilfsblatt Ber. Wirtsch Wirk 3'!$D$11:$BW$96,$A71,FALSE)+IF(H$5=$C71,HLOOKUP(H$5,'Hilfsblatt Ber. Wirtsch Wirk 3'!$D$11:$BX$96,87,FALSE),0))/100),0)","v":0},{"$f":"IFERROR((I$6*(HLOOKUP(I$5,'Hilfsblatt Ber. Wirtsch Wirk 3'!$D$11:$BW$96,$A71,FALSE)+IF(I$5=$C71,HLOOKUP(I$5,'Hilfsblatt Ber. Wirtsch Wirk 3'!$D$11:$BX$96,87,FALSE),0))/100),0)","v":0},{"$f":"IFERROR((J$6*(HLOOKUP(J$5,'Hilfsblatt Ber. Wirtsch Wirk 3'!$D$11:$BW$96,$A71,FALSE)+IF(J$5=$C71,HLOOKUP(J$5,'Hilfsblatt Ber. Wirtsch Wirk 3'!$D$11:$BX$96,87,FALSE),0))/100),0)","v":0},{"$f":"IFERROR((K$6*(HLOOKUP(K$5,'Hilfsblatt Ber. Wirtsch Wirk 3'!$D$11:$BW$96,$A71,FALSE)+IF(K$5=$C71,HLOOKUP(K$5,'Hilfsblatt Ber. Wirtsch Wirk 3'!$D$11:$BX$96,87,FALSE),0))/100),0)","v":0},{"$f":"IFERROR((L$6*(HLOOKUP(L$5,'Hilfsblatt Ber. Wirtsch Wirk 3'!$D$11:$BW$96,$A71,FALSE)+IF(L$5=$C71,HLOOKUP(L$5,'Hilfsblatt Ber. Wirtsch Wirk 3'!$D$11:$BX$96,87,FALSE),0))/100),0)","v":0},{"$f":"IFERROR((M$6*(HLOOKUP(M$5,'Hilfsblatt Ber. Wirtsch Wirk 3'!$D$11:$BW$96,$A71,FALSE)+IF(M$5=$C71,HLOOKUP(M$5,'Hilfsblatt Ber. Wirtsch Wirk 3'!$D$11:$BX$96,87,FALSE),0))/100),0)","v":0},{"$f":"IFERROR((N$6*(HLOOKUP(N$5,'Hilfsblatt Ber. Wirtsch Wirk 3'!$D$11:$BW$96,$A71,FALSE)+IF(N$5=$C71,HLOOKUP(N$5,'Hilfsblatt Ber. Wirtsch Wirk 3'!$D$11:$BX$96,87,FALSE),0))/100),0)","v":0},{"$f":"IFERROR((O$6*(HLOOKUP(O$5,'Hilfsblatt Ber. Wirtsch Wirk 3'!$D$11:$BW$96,$A71,FALSE)+IF(O$5=$C71,HLOOKUP(O$5,'Hilfsblatt Ber. Wirtsch Wirk 3'!$D$11:$BX$96,87,FALSE),0))/100),0)","v":0},{"$f":"IFERROR((P$6*(HLOOKUP(P$5,'Hilfsblatt Ber. Wirtsch Wirk 3'!$D$11:$BW$96,$A71,FALSE)+IF(P$5=$C71,HLOOKUP(P$5,'Hilfsblatt Ber. Wirtsch Wirk 3'!$D$11:$BX$96,87,FALSE),0))/100),0)","v":0},{"$f":"IFERROR((Q$6*(HLOOKUP(Q$5,'Hilfsblatt Ber. Wirtsch Wirk 3'!$D$11:$BW$96,$A71,FALSE)+IF(Q$5=$C71,HLOOKUP(Q$5,'Hilfsblatt Ber. Wirtsch Wirk 3'!$D$11:$BX$96,87,FALSE),0))/100),0)","v":0},{"$f":"R$6*('Hilfsblatt Ber. Wirtsch Wirk 3'!BX76+'Hilfsblatt Ber. Wirtsch Wirk 3'!BX76*'Hilfsblatt Ber. Wirtsch Wirk 3'!CA76/'Hilfsblatt Ber. Wirtsch Wirk 3'!CB76)/100","v":0},0,{"$f":"S71*'Hilfsblatt Ber. Wirtsch Wirk 3'!BZ76/('Hilfsblatt Ber. Wirtsch Wirk 3'!CA76)","v":0},{"$f":"S71/'Hilfsblatt Ber. Wirtsch Wirk 3'!CC76","v":0},{"$f":"T71*('Hilfsblatt Ber. Wirtsch Wirk 4'!B$14/'Hilfsblatt Ber. Wirtsch Wirk 4'!B$13)","v":0},{"$f":"S71*'Hilfsblatt Ber. Wirtsch Wirk 3'!CD76","v":0},null,0]
[67,{"$f":"'Hilfsblatt Ber. Wirtsch Wirk 3'!B77","v":"84.3"},{"$f":"'Hilfsblatt Ber. Wirtsch Wirk 3'!C77","v":"Dienstleistungen der Sozialversicherung"},{"$f":"IFERROR((D$6*(HLOOKUP(D$5,'Hilfsblatt Ber. Wirtsch Wirk 3'!$D$11:$BW$96,$A72,FALSE)+IF(D$5=$C72,HLOOKUP(D$5,'Hilfsblatt Ber. Wirtsch Wirk 3'!$D$11:$BX$96,87,FALSE),0))/100),0)","v":0},{"$f":"IFERROR((E$6*(HLOOKUP(E$5,'Hilfsblatt Ber. Wirtsch Wirk 3'!$D$11:$BW$96,$A72,FALSE)+IF(E$5=$C72,HLOOKUP(E$5,'Hilfsblatt Ber. Wirtsch Wirk 3'!$D$11:$BX$96,87,FALSE),0))/100),0)","v":0},{"$f":"IFERROR((F$6*(HLOOKUP(F$5,'Hilfsblatt Ber. Wirtsch Wirk 3'!$D$11:$BW$96,$A72,FALSE)+IF(F$5=$C72,HLOOKUP(F$5,'Hilfsblatt Ber. Wirtsch Wirk 3'!$D$11:$BX$96,87,FALSE),0))/100),0)","v":0},{"$f":"IFERROR((G$6*(HLOOKUP(G$5,'Hilfsblatt Ber. Wirtsch Wirk 3'!$D$11:$BW$96,$A72,FALSE)+IF(G$5=$C72,HLOOKUP(G$5,'Hilfsblatt Ber. Wirtsch Wirk 3'!$D$11:$BX$96,87,FALSE),0))/100),0)","v":0},{"$f":"IFERROR((H$6*(HLOOKUP(H$5,'Hilfsblatt Ber. Wirtsch Wirk 3'!$D$11:$BW$96,$A72,FALSE)+IF(H$5=$C72,HLOOKUP(H$5,'Hilfsblatt Ber. Wirtsch Wirk 3'!$D$11:$BX$96,87,FALSE),0))/100),0)","v":0},{"$f":"IFERROR((I$6*(HLOOKUP(I$5,'Hilfsblatt Ber. Wirtsch Wirk 3'!$D$11:$BW$96,$A72,FALSE)+IF(I$5=$C72,HLOOKUP(I$5,'Hilfsblatt Ber. Wirtsch Wirk 3'!$D$11:$BX$96,87,FALSE),0))/100),0)","v":0},{"$f":"IFERROR((J$6*(HLOOKUP(J$5,'Hilfsblatt Ber. Wirtsch Wirk 3'!$D$11:$BW$96,$A72,FALSE)+IF(J$5=$C72,HLOOKUP(J$5,'Hilfsblatt Ber. Wirtsch Wirk 3'!$D$11:$BX$96,87,FALSE),0))/100),0)","v":0},{"$f":"IFERROR((K$6*(HLOOKUP(K$5,'Hilfsblatt Ber. Wirtsch Wirk 3'!$D$11:$BW$96,$A72,FALSE)+IF(K$5=$C72,HLOOKUP(K$5,'Hilfsblatt Ber. Wirtsch Wirk 3'!$D$11:$BX$96,87,FALSE),0))/100),0)","v":0},{"$f":"IFERROR((L$6*(HLOOKUP(L$5,'Hilfsblatt Ber. Wirtsch Wirk 3'!$D$11:$BW$96,$A72,FALSE)+IF(L$5=$C72,HLOOKUP(L$5,'Hilfsblatt Ber. Wirtsch Wirk 3'!$D$11:$BX$96,87,FALSE),0))/100),0)","v":0},{"$f":"IFERROR((M$6*(HLOOKUP(M$5,'Hilfsblatt Ber. Wirtsch Wirk 3'!$D$11:$BW$96,$A72,FALSE)+IF(M$5=$C72,HLOOKUP(M$5,'Hilfsblatt Ber. Wirtsch Wirk 3'!$D$11:$BX$96,87,FALSE),0))/100),0)","v":0},{"$f":"IFERROR((N$6*(HLOOKUP(N$5,'Hilfsblatt Ber. Wirtsch Wirk 3'!$D$11:$BW$96,$A72,FALSE)+IF(N$5=$C72,HLOOKUP(N$5,'Hilfsblatt Ber. Wirtsch Wirk 3'!$D$11:$BX$96,87,FALSE),0))/100),0)","v":0},{"$f":"IFERROR((O$6*(HLOOKUP(O$5,'Hilfsblatt Ber. Wirtsch Wirk 3'!$D$11:$BW$96,$A72,FALSE)+IF(O$5=$C72,HLOOKUP(O$5,'Hilfsblatt Ber. Wirtsch Wirk 3'!$D$11:$BX$96,87,FALSE),0))/100),0)","v":0},{"$f":"IFERROR((P$6*(HLOOKUP(P$5,'Hilfsblatt Ber. Wirtsch Wirk 3'!$D$11:$BW$96,$A72,FALSE)+IF(P$5=$C72,HLOOKUP(P$5,'Hilfsblatt Ber. Wirtsch Wirk 3'!$D$11:$BX$96,87,FALSE),0))/100),0)","v":0},{"$f":"IFERROR((Q$6*(HLOOKUP(Q$5,'Hilfsblatt Ber. Wirtsch Wirk 3'!$D$11:$BW$96,$A72,FALSE)+IF(Q$5=$C72,HLOOKUP(Q$5,'Hilfsblatt Ber. Wirtsch Wirk 3'!$D$11:$BX$96,87,FALSE),0))/100),0)","v":0},{"$f":"R$6*('Hilfsblatt Ber. Wirtsch Wirk 3'!BX77+'Hilfsblatt Ber. Wirtsch Wirk 3'!BX77*'Hilfsblatt Ber. Wirtsch Wirk 3'!CA77/'Hilfsblatt Ber. Wirtsch Wirk 3'!CB77)/100","v":0},0,{"$f":"S72*'Hilfsblatt Ber. Wirtsch Wirk 3'!BZ77/('Hilfsblatt Ber. Wirtsch Wirk 3'!CA77)","v":0},{"$f":"S72/'Hilfsblatt Ber. Wirtsch Wirk 3'!CC77","v":0},{"$f":"T72*('Hilfsblatt Ber. Wirtsch Wirk 4'!B$14/'Hilfsblatt Ber. Wirtsch Wirk 4'!B$13)","v":0},{"$f":"S72*'Hilfsblatt Ber. Wirtsch Wirk 3'!CD77","v":0},null,0]
[68,{"$f":"'Hilfsblatt Ber. Wirtsch Wirk 3'!B78","v":"85"},{"$f":"'Hilfsblatt Ber. Wirtsch Wirk 3'!C78","v":"Erziehungs- und Unterrichtsdienstleistungen"},{"$f":"IFERROR((D$6*(HLOOKUP(D$5,'Hilfsblatt Ber. Wirtsch Wirk 3'!$D$11:$BW$96,$A73,FALSE)+IF(D$5=$C73,HLOOKUP(D$5,'Hilfsblatt Ber. Wirtsch Wirk 3'!$D$11:$BX$96,87,FALSE),0))/100),0)","v":0},{"$f":"IFERROR((E$6*(HLOOKUP(E$5,'Hilfsblatt Ber. Wirtsch Wirk 3'!$D$11:$BW$96,$A73,FALSE)+IF(E$5=$C73,HLOOKUP(E$5,'Hilfsblatt Ber. Wirtsch Wirk 3'!$D$11:$BX$96,87,FALSE),0))/100),0)","v":0},{"$f":"IFERROR((F$6*(HLOOKUP(F$5,'Hilfsblatt Ber. Wirtsch Wirk 3'!$D$11:$BW$96,$A73,FALSE)+IF(F$5=$C73,HLOOKUP(F$5,'Hilfsblatt Ber. Wirtsch Wirk 3'!$D$11:$BX$96,87,FALSE),0))/100),0)","v":0},{"$f":"IFERROR((G$6*(HLOOKUP(G$5,'Hilfsblatt Ber. Wirtsch Wirk 3'!$D$11:$BW$96,$A73,FALSE)+IF(G$5=$C73,HLOOKUP(G$5,'Hilfsblatt Ber. Wirtsch Wirk 3'!$D$11:$BX$96,87,FALSE),0))/100),0)","v":0},{"$f":"IFERROR((H$6*(HLOOKUP(H$5,'Hilfsblatt Ber. Wirtsch Wirk 3'!$D$11:$BW$96,$A73,FALSE)+IF(H$5=$C73,HLOOKUP(H$5,'Hilfsblatt Ber. Wirtsch Wirk 3'!$D$11:$BX$96,87,FALSE),0))/100),0)","v":0},{"$f":"IFERROR((I$6*(HLOOKUP(I$5,'Hilfsblatt Ber. Wirtsch Wirk 3'!$D$11:$BW$96,$A73,FALSE)+IF(I$5=$C73,HLOOKUP(I$5,'Hilfsblatt Ber. Wirtsch Wirk 3'!$D$11:$BX$96,87,FALSE),0))/100),0)","v":0},{"$f":"IFERROR((J$6*(HLOOKUP(J$5,'Hilfsblatt Ber. Wirtsch Wirk 3'!$D$11:$BW$96,$A73,FALSE)+IF(J$5=$C73,HLOOKUP(J$5,'Hilfsblatt Ber. Wirtsch Wirk 3'!$D$11:$BX$96,87,FALSE),0))/100),0)","v":0},{"$f":"IFERROR((K$6*(HLOOKUP(K$5,'Hilfsblatt Ber. Wirtsch Wirk 3'!$D$11:$BW$96,$A73,FALSE)+IF(K$5=$C73,HLOOKUP(K$5,'Hilfsblatt Ber. Wirtsch Wirk 3'!$D$11:$BX$96,87,FALSE),0))/100),0)","v":0},{"$f":"IFERROR((L$6*(HLOOKUP(L$5,'Hilfsblatt Ber. Wirtsch Wirk 3'!$D$11:$BW$96,$A73,FALSE)+IF(L$5=$C73,HLOOKUP(L$5,'Hilfsblatt Ber. Wirtsch Wirk 3'!$D$11:$BX$96,87,FALSE),0))/100),0)","v":0},{"$f":"IFERROR((M$6*(HLOOKUP(M$5,'Hilfsblatt Ber. Wirtsch Wirk 3'!$D$11:$BW$96,$A73,FALSE)+IF(M$5=$C73,HLOOKUP(M$5,'Hilfsblatt Ber. Wirtsch Wirk 3'!$D$11:$BX$96,87,FALSE),0))/100),0)","v":0},{"$f":"IFERROR((N$6*(HLOOKUP(N$5,'Hilfsblatt Ber. Wirtsch Wirk 3'!$D$11:$BW$96,$A73,FALSE)+IF(N$5=$C73,HLOOKUP(N$5,'Hilfsblatt Ber. Wirtsch Wirk 3'!$D$11:$BX$96,87,FALSE),0))/100),0)","v":0},{"$f":"IFERROR((O$6*(HLOOKUP(O$5,'Hilfsblatt Ber. Wirtsch Wirk 3'!$D$11:$BW$96,$A73,FALSE)+IF(O$5=$C73,HLOOKUP(O$5,'Hilfsblatt Ber. Wirtsch Wirk 3'!$D$11:$BX$96,87,FALSE),0))/100),0)","v":0},{"$f":"IFERROR((P$6*(HLOOKUP(P$5,'Hilfsblatt Ber. Wirtsch Wirk 3'!$D$11:$BW$96,$A73,FALSE)+IF(P$5=$C73,HLOOKUP(P$5,'Hilfsblatt Ber. Wirtsch Wirk 3'!$D$11:$BX$96,87,FALSE),0))/100),0)","v":0},{"$f":"IFERROR((Q$6*(HLOOKUP(Q$5,'Hilfsblatt Ber. Wirtsch Wirk 3'!$D$11:$BW$96,$A73,FALSE)+IF(Q$5=$C73,HLOOKUP(Q$5,'Hilfsblatt Ber. Wirtsch Wirk 3'!$D$11:$BX$96,87,FALSE),0))/100),0)","v":0},{"$f":"R$6*('Hilfsblatt Ber. Wirtsch Wirk 3'!BX78+'Hilfsblatt Ber. Wirtsch Wirk 3'!BX78*'Hilfsblatt Ber. Wirtsch Wirk 3'!CA78/'Hilfsblatt Ber. Wirtsch Wirk 3'!CB78)/100","v":0},0,{"$f":"S73*'Hilfsblatt Ber. Wirtsch Wirk 3'!BZ78/('Hilfsblatt Ber. Wirtsch Wirk 3'!CA78)","v":0},{"$f":"S73/'Hilfsblatt Ber. Wirtsch Wirk 3'!CC78","v":0},{"$f":"T73*('Hilfsblatt Ber. Wirtsch Wirk 4'!B$14/'Hilfsblatt Ber. Wirtsch Wirk 4'!B$13)","v":0},{"$f":"S73*'Hilfsblatt Ber. Wirtsch Wirk 3'!CD78","v":0},null,{"$f":"ABS($S73)","v":0}]
[69,{"$f":"'Hilfsblatt Ber. Wirtsch Wirk 3'!B79","v":"86"},{"$f":"'Hilfsblatt Ber. Wirtsch Wirk 3'!C79","v":"Dienstleistungen des Gesundheitswesens "},{"$f":"IFERROR((D$6*(HLOOKUP(D$5,'Hilfsblatt Ber. Wirtsch Wirk 3'!$D$11:$BW$96,$A74,FALSE)+IF(D$5=$C74,HLOOKUP(D$5,'Hilfsblatt Ber. Wirtsch Wirk 3'!$D$11:$BX$96,87,FALSE),0))/100),0)","v":0},{"$f":"IFERROR((E$6*(HLOOKUP(E$5,'Hilfsblatt Ber. Wirtsch Wirk 3'!$D$11:$BW$96,$A74,FALSE)+IF(E$5=$C74,HLOOKUP(E$5,'Hilfsblatt Ber. Wirtsch Wirk 3'!$D$11:$BX$96,87,FALSE),0))/100),0)","v":0},{"$f":"IFERROR((F$6*(HLOOKUP(F$5,'Hilfsblatt Ber. Wirtsch Wirk 3'!$D$11:$BW$96,$A74,FALSE)+IF(F$5=$C74,HLOOKUP(F$5,'Hilfsblatt Ber. Wirtsch Wirk 3'!$D$11:$BX$96,87,FALSE),0))/100),0)","v":0},{"$f":"IFERROR((G$6*(HLOOKUP(G$5,'Hilfsblatt Ber. Wirtsch Wirk 3'!$D$11:$BW$96,$A74,FALSE)+IF(G$5=$C74,HLOOKUP(G$5,'Hilfsblatt Ber. Wirtsch Wirk 3'!$D$11:$BX$96,87,FALSE),0))/100),0)","v":0},{"$f":"IFERROR((H$6*(HLOOKUP(H$5,'Hilfsblatt Ber. Wirtsch Wirk 3'!$D$11:$BW$96,$A74,FALSE)+IF(H$5=$C74,HLOOKUP(H$5,'Hilfsblatt Ber. Wirtsch Wirk 3'!$D$11:$BX$96,87,FALSE),0))/100),0)","v":0},{"$f":"IFERROR((I$6*(HLOOKUP(I$5,'Hilfsblatt Ber. Wirtsch Wirk 3'!$D$11:$BW$96,$A74,FALSE)+IF(I$5=$C74,HLOOKUP(I$5,'Hilfsblatt Ber. Wirtsch Wirk 3'!$D$11:$BX$96,87,FALSE),0))/100),0)","v":0},{"$f":"IFERROR((J$6*(HLOOKUP(J$5,'Hilfsblatt Ber. Wirtsch Wirk 3'!$D$11:$BW$96,$A74,FALSE)+IF(J$5=$C74,HLOOKUP(J$5,'Hilfsblatt Ber. Wirtsch Wirk 3'!$D$11:$BX$96,87,FALSE),0))/100),0)","v":0},{"$f":"IFERROR((K$6*(HLOOKUP(K$5,'Hilfsblatt Ber. Wirtsch Wirk 3'!$D$11:$BW$96,$A74,FALSE)+IF(K$5=$C74,HLOOKUP(K$5,'Hilfsblatt Ber. Wirtsch Wirk 3'!$D$11:$BX$96,87,FALSE),0))/100),0)","v":0},{"$f":"IFERROR((L$6*(HLOOKUP(L$5,'Hilfsblatt Ber. Wirtsch Wirk 3'!$D$11:$BW$96,$A74,FALSE)+IF(L$5=$C74,HLOOKUP(L$5,'Hilfsblatt Ber. Wirtsch Wirk 3'!$D$11:$BX$96,87,FALSE),0))/100),0)","v":0},{"$f":"IFERROR((M$6*(HLOOKUP(M$5,'Hilfsblatt Ber. Wirtsch Wirk 3'!$D$11:$BW$96,$A74,FALSE)+IF(M$5=$C74,HLOOKUP(M$5,'Hilfsblatt Ber. Wirtsch Wirk 3'!$D$11:$BX$96,87,FALSE),0))/100),0)","v":0},{"$f":"IFERROR((N$6*(HLOOKUP(N$5,'Hilfsblatt Ber. Wirtsch Wirk 3'!$D$11:$BW$96,$A74,FALSE)+IF(N$5=$C74,HLOOKUP(N$5,'Hilfsblatt Ber. Wirtsch Wirk 3'!$D$11:$BX$96,87,FALSE),0))/100),0)","v":0},{"$f":"IFERROR((O$6*(HLOOKUP(O$5,'Hilfsblatt Ber. Wirtsch Wirk 3'!$D$11:$BW$96,$A74,FALSE)+IF(O$5=$C74,HLOOKUP(O$5,'Hilfsblatt Ber. Wirtsch Wirk 3'!$D$11:$BX$96,87,FALSE),0))/100),0)","v":0},{"$f":"IFERROR((P$6*(HLOOKUP(P$5,'Hilfsblatt Ber. Wirtsch Wirk 3'!$D$11:$BW$96,$A74,FALSE)+IF(P$5=$C74,HLOOKUP(P$5,'Hilfsblatt Ber. Wirtsch Wirk 3'!$D$11:$BX$96,87,FALSE),0))/100),0)","v":0},{"$f":"IFERROR((Q$6*(HLOOKUP(Q$5,'Hilfsblatt Ber. Wirtsch Wirk 3'!$D$11:$BW$96,$A74,FALSE)+IF(Q$5=$C74,HLOOKUP(Q$5,'Hilfsblatt Ber. Wirtsch Wirk 3'!$D$11:$BX$96,87,FALSE),0))/100),0)","v":0},{"$f":"R$6*('Hilfsblatt Ber. Wirtsch Wirk 3'!BX79+'Hilfsblatt Ber. Wirtsch Wirk 3'!BX79*'Hilfsblatt Ber. Wirtsch Wirk 3'!CA79/'Hilfsblatt Ber. Wirtsch Wirk 3'!CB79)/100","v":0},0,{"$f":"S74*'Hilfsblatt Ber. Wirtsch Wirk 3'!BZ79/('Hilfsblatt Ber. Wirtsch Wirk 3'!CA79)","v":0},{"$f":"S74/'Hilfsblatt Ber. Wirtsch Wirk 3'!CC79","v":0},{"$f":"T74*('Hilfsblatt Ber. Wirtsch Wirk 4'!B$14/'Hilfsblatt Ber. Wirtsch Wirk 4'!B$13)","v":0},{"$f":"S74*'Hilfsblatt Ber. Wirtsch Wirk 3'!CD79","v":0},null,0]
[70,{"$f":"'Hilfsblatt Ber. Wirtsch Wirk 3'!B80","v":"87-88"},{"$f":"'Hilfsblatt Ber. Wirtsch Wirk 3'!C80","v":"Dienstleistungen von Heimen und des Sozialwesens "},{"$f":"IFERROR((D$6*(HLOOKUP(D$5,'Hilfsblatt Ber. Wirtsch Wirk 3'!$D$11:$BW$96,$A75,FALSE)+IF(D$5=$C75,HLOOKUP(D$5,'Hilfsblatt Ber. Wirtsch Wirk 3'!$D$11:$BX$96,87,FALSE),0))/100),0)","v":0},{"$f":"IFERROR((E$6*(HLOOKUP(E$5,'Hilfsblatt Ber. Wirtsch Wirk 3'!$D$11:$BW$96,$A75,FALSE)+IF(E$5=$C75,HLOOKUP(E$5,'Hilfsblatt Ber. Wirtsch Wirk 3'!$D$11:$BX$96,87,FALSE),0))/100),0)","v":0},{"$f":"IFERROR((F$6*(HLOOKUP(F$5,'Hilfsblatt Ber. Wirtsch Wirk 3'!$D$11:$BW$96,$A75,FALSE)+IF(F$5=$C75,HLOOKUP(F$5,'Hilfsblatt Ber. Wirtsch Wirk 3'!$D$11:$BX$96,87,FALSE),0))/100),0)","v":0},{"$f":"IFERROR((G$6*(HLOOKUP(G$5,'Hilfsblatt Ber. Wirtsch Wirk 3'!$D$11:$BW$96,$A75,FALSE)+IF(G$5=$C75,HLOOKUP(G$5,'Hilfsblatt Ber. Wirtsch Wirk 3'!$D$11:$BX$96,87,FALSE),0))/100),0)","v":0},{"$f":"IFERROR((H$6*(HLOOKUP(H$5,'Hilfsblatt Ber. Wirtsch Wirk 3'!$D$11:$BW$96,$A75,FALSE)+IF(H$5=$C75,HLOOKUP(H$5,'Hilfsblatt Ber. Wirtsch Wirk 3'!$D$11:$BX$96,87,FALSE),0))/100),0)","v":0},{"$f":"IFERROR((I$6*(HLOOKUP(I$5,'Hilfsblatt Ber. Wirtsch Wirk 3'!$D$11:$BW$96,$A75,FALSE)+IF(I$5=$C75,HLOOKUP(I$5,'Hilfsblatt Ber. Wirtsch Wirk 3'!$D$11:$BX$96,87,FALSE),0))/100),0)","v":0},{"$f":"IFERROR((J$6*(HLOOKUP(J$5,'Hilfsblatt Ber. Wirtsch Wirk 3'!$D$11:$BW$96,$A75,FALSE)+IF(J$5=$C75,HLOOKUP(J$5,'Hilfsblatt Ber. Wirtsch Wirk 3'!$D$11:$BX$96,87,FALSE),0))/100),0)","v":0},{"$f":"IFERROR((K$6*(HLOOKUP(K$5,'Hilfsblatt Ber. Wirtsch Wirk 3'!$D$11:$BW$96,$A75,FALSE)+IF(K$5=$C75,HLOOKUP(K$5,'Hilfsblatt Ber. Wirtsch Wirk 3'!$D$11:$BX$96,87,FALSE),0))/100),0)","v":0},{"$f":"IFERROR((L$6*(HLOOKUP(L$5,'Hilfsblatt Ber. Wirtsch Wirk 3'!$D$11:$BW$96,$A75,FALSE)+IF(L$5=$C75,HLOOKUP(L$5,'Hilfsblatt Ber. Wirtsch Wirk 3'!$D$11:$BX$96,87,FALSE),0))/100),0)","v":0},{"$f":"IFERROR((M$6*(HLOOKUP(M$5,'Hilfsblatt Ber. Wirtsch Wirk 3'!$D$11:$BW$96,$A75,FALSE)+IF(M$5=$C75,HLOOKUP(M$5,'Hilfsblatt Ber. Wirtsch Wirk 3'!$D$11:$BX$96,87,FALSE),0))/100),0)","v":0},{"$f":"IFERROR((N$6*(HLOOKUP(N$5,'Hilfsblatt Ber. Wirtsch Wirk 3'!$D$11:$BW$96,$A75,FALSE)+IF(N$5=$C75,HLOOKUP(N$5,'Hilfsblatt Ber. Wirtsch Wirk 3'!$D$11:$BX$96,87,FALSE),0))/100),0)","v":0},{"$f":"IFERROR((O$6*(HLOOKUP(O$5,'Hilfsblatt Ber. Wirtsch Wirk 3'!$D$11:$BW$96,$A75,FALSE)+IF(O$5=$C75,HLOOKUP(O$5,'Hilfsblatt Ber. Wirtsch Wirk 3'!$D$11:$BX$96,87,FALSE),0))/100),0)","v":0},{"$f":"IFERROR((P$6*(HLOOKUP(P$5,'Hilfsblatt Ber. Wirtsch Wirk 3'!$D$11:$BW$96,$A75,FALSE)+IF(P$5=$C75,HLOOKUP(P$5,'Hilfsblatt Ber. Wirtsch Wirk 3'!$D$11:$BX$96,87,FALSE),0))/100),0)","v":0},{"$f":"IFERROR((Q$6*(HLOOKUP(Q$5,'Hilfsblatt Ber. Wirtsch Wirk 3'!$D$11:$BW$96,$A75,FALSE)+IF(Q$5=$C75,HLOOKUP(Q$5,'Hilfsblatt Ber. Wirtsch Wirk 3'!$D$11:$BX$96,87,FALSE),0))/100),0)","v":0},{"$f":"R$6*('Hilfsblatt Ber. Wirtsch Wirk 3'!BX80+'Hilfsblatt Ber. Wirtsch Wirk 3'!BX80*'Hilfsblatt Ber. Wirtsch Wirk 3'!CA80/'Hilfsblatt Ber. Wirtsch Wirk 3'!CB80)/100","v":0},0,{"$f":"S75*'Hilfsblatt Ber. Wirtsch Wirk 3'!BZ80/('Hilfsblatt Ber. Wirtsch Wirk 3'!CA80)","v":0},{"$f":"S75/'Hilfsblatt Ber. Wirtsch Wirk 3'!CC80","v":0},{"$f":"T75*('Hilfsblatt Ber. Wirtsch Wirk 4'!B$14/'Hilfsblatt Ber. Wirtsch Wirk 4'!B$13)","v":0},{"$f":"S75*'Hilfsblatt Ber. Wirtsch Wirk 3'!CD80","v":0},null,0]
[71,{"$f":"'Hilfsblatt Ber. Wirtsch Wirk 3'!B81","v":"90-92"},{"$f":"'Hilfsblatt Ber. Wirtsch Wirk 3'!C81","v":"Dienstleistungen der Kunst,  der Kultur und des Glücksspiels"},{"$f":"IFERROR((D$6*(HLOOKUP(D$5,'Hilfsblatt Ber. Wirtsch Wirk 3'!$D$11:$BW$96,$A76,FALSE)+IF(D$5=$C76,HLOOKUP(D$5,'Hilfsblatt Ber. Wirtsch Wirk 3'!$D$11:$BX$96,87,FALSE),0))/100),0)","v":0},{"$f":"IFERROR((E$6*(HLOOKUP(E$5,'Hilfsblatt Ber. Wirtsch Wirk 3'!$D$11:$BW$96,$A76,FALSE)+IF(E$5=$C76,HLOOKUP(E$5,'Hilfsblatt Ber. Wirtsch Wirk 3'!$D$11:$BX$96,87,FALSE),0))/100),0)","v":0},{"$f":"IFERROR((F$6*(HLOOKUP(F$5,'Hilfsblatt Ber. Wirtsch Wirk 3'!$D$11:$BW$96,$A76,FALSE)+IF(F$5=$C76,HLOOKUP(F$5,'Hilfsblatt Ber. Wirtsch Wirk 3'!$D$11:$BX$96,87,FALSE),0))/100),0)","v":0},{"$f":"IFERROR((G$6*(HLOOKUP(G$5,'Hilfsblatt Ber. Wirtsch Wirk 3'!$D$11:$BW$96,$A76,FALSE)+IF(G$5=$C76,HLOOKUP(G$5,'Hilfsblatt Ber. Wirtsch Wirk 3'!$D$11:$BX$96,87,FALSE),0))/100),0)","v":0},{"$f":"IFERROR((H$6*(HLOOKUP(H$5,'Hilfsblatt Ber. Wirtsch Wirk 3'!$D$11:$BW$96,$A76,FALSE)+IF(H$5=$C76,HLOOKUP(H$5,'Hilfsblatt Ber. Wirtsch Wirk 3'!$D$11:$BX$96,87,FALSE),0))/100),0)","v":0},{"$f":"IFERROR((I$6*(HLOOKUP(I$5,'Hilfsblatt Ber. Wirtsch Wirk 3'!$D$11:$BW$96,$A76,FALSE)+IF(I$5=$C76,HLOOKUP(I$5,'Hilfsblatt Ber. Wirtsch Wirk 3'!$D$11:$BX$96,87,FALSE),0))/100),0)","v":0},{"$f":"IFERROR((J$6*(HLOOKUP(J$5,'Hilfsblatt Ber. Wirtsch Wirk 3'!$D$11:$BW$96,$A76,FALSE)+IF(J$5=$C76,HLOOKUP(J$5,'Hilfsblatt Ber. Wirtsch Wirk 3'!$D$11:$BX$96,87,FALSE),0))/100),0)","v":0},{"$f":"IFERROR((K$6*(HLOOKUP(K$5,'Hilfsblatt Ber. Wirtsch Wirk 3'!$D$11:$BW$96,$A76,FALSE)+IF(K$5=$C76,HLOOKUP(K$5,'Hilfsblatt Ber. Wirtsch Wirk 3'!$D$11:$BX$96,87,FALSE),0))/100),0)","v":0},{"$f":"IFERROR((L$6*(HLOOKUP(L$5,'Hilfsblatt Ber. Wirtsch Wirk 3'!$D$11:$BW$96,$A76,FALSE)+IF(L$5=$C76,HLOOKUP(L$5,'Hilfsblatt Ber. Wirtsch Wirk 3'!$D$11:$BX$96,87,FALSE),0))/100),0)","v":0},{"$f":"IFERROR((M$6*(HLOOKUP(M$5,'Hilfsblatt Ber. Wirtsch Wirk 3'!$D$11:$BW$96,$A76,FALSE)+IF(M$5=$C76,HLOOKUP(M$5,'Hilfsblatt Ber. Wirtsch Wirk 3'!$D$11:$BX$96,87,FALSE),0))/100),0)","v":0},{"$f":"IFERROR((N$6*(HLOOKUP(N$5,'Hilfsblatt Ber. Wirtsch Wirk 3'!$D$11:$BW$96,$A76,FALSE)+IF(N$5=$C76,HLOOKUP(N$5,'Hilfsblatt Ber. Wirtsch Wirk 3'!$D$11:$BX$96,87,FALSE),0))/100),0)","v":0},{"$f":"IFERROR((O$6*(HLOOKUP(O$5,'Hilfsblatt Ber. Wirtsch Wirk 3'!$D$11:$BW$96,$A76,FALSE)+IF(O$5=$C76,HLOOKUP(O$5,'Hilfsblatt Ber. Wirtsch Wirk 3'!$D$11:$BX$96,87,FALSE),0))/100),0)","v":0},{"$f":"IFERROR((P$6*(HLOOKUP(P$5,'Hilfsblatt Ber. Wirtsch Wirk 3'!$D$11:$BW$96,$A76,FALSE)+IF(P$5=$C76,HLOOKUP(P$5,'Hilfsblatt Ber. Wirtsch Wirk 3'!$D$11:$BX$96,87,FALSE),0))/100),0)","v":0},{"$f":"IFERROR((Q$6*(HLOOKUP(Q$5,'Hilfsblatt Ber. Wirtsch Wirk 3'!$D$11:$BW$96,$A76,FALSE)+IF(Q$5=$C76,HLOOKUP(Q$5,'Hilfsblatt Ber. Wirtsch Wirk 3'!$D$11:$BX$96,87,FALSE),0))/100),0)","v":0},{"$f":"R$6*('Hilfsblatt Ber. Wirtsch Wirk 3'!BX81+'Hilfsblatt Ber. Wirtsch Wirk 3'!BX81*'Hilfsblatt Ber. Wirtsch Wirk 3'!CA81/'Hilfsblatt Ber. Wirtsch Wirk 3'!CB81)/100","v":0},{"$f":"SUM(D76:R76)","v":0},{"$f":"S76*'Hilfsblatt Ber. Wirtsch Wirk 3'!BZ81/('Hilfsblatt Ber. Wirtsch Wirk 3'!CA81)","v":0},{"$f":"S76/'Hilfsblatt Ber. Wirtsch Wirk 3'!CC81","v":0},{"$f":"T76*('Hilfsblatt Ber. Wirtsch Wirk 4'!B$14/'Hilfsblatt Ber. Wirtsch Wirk 4'!B$13)","v":0},{"$f":"S76*'Hilfsblatt Ber. Wirtsch Wirk 3'!CD81","v":0},null,0]
[72,{"$f":"'Hilfsblatt Ber. Wirtsch Wirk 3'!B82","v":"93"},{"$f":"'Hilfsblatt Ber. Wirtsch Wirk 3'!C82","v":"Dienstleistungen des Sports, der Unterhaltung und der Erholung"},{"$f":"IFERROR((D$6*(HLOOKUP(D$5,'Hilfsblatt Ber. Wirtsch Wirk 3'!$D$11:$BW$96,$A77,FALSE)+IF(D$5=$C77,HLOOKUP(D$5,'Hilfsblatt Ber. Wirtsch Wirk 3'!$D$11:$BX$96,87,FALSE),0))/100),0)","v":0},{"$f":"IFERROR((E$6*(HLOOKUP(E$5,'Hilfsblatt Ber. Wirtsch Wirk 3'!$D$11:$BW$96,$A77,FALSE)+IF(E$5=$C77,HLOOKUP(E$5,'Hilfsblatt Ber. Wirtsch Wirk 3'!$D$11:$BX$96,87,FALSE),0))/100),0)","v":0},{"$f":"IFERROR((F$6*(HLOOKUP(F$5,'Hilfsblatt Ber. Wirtsch Wirk 3'!$D$11:$BW$96,$A77,FALSE)+IF(F$5=$C77,HLOOKUP(F$5,'Hilfsblatt Ber. Wirtsch Wirk 3'!$D$11:$BX$96,87,FALSE),0))/100),0)","v":0},{"$f":"IFERROR((G$6*(HLOOKUP(G$5,'Hilfsblatt Ber. Wirtsch Wirk 3'!$D$11:$BW$96,$A77,FALSE)+IF(G$5=$C77,HLOOKUP(G$5,'Hilfsblatt Ber. Wirtsch Wirk 3'!$D$11:$BX$96,87,FALSE),0))/100),0)","v":0},{"$f":"IFERROR((H$6*(HLOOKUP(H$5,'Hilfsblatt Ber. Wirtsch Wirk 3'!$D$11:$BW$96,$A77,FALSE)+IF(H$5=$C77,HLOOKUP(H$5,'Hilfsblatt Ber. Wirtsch Wirk 3'!$D$11:$BX$96,87,FALSE),0))/100),0)","v":0},{"$f":"IFERROR((I$6*(HLOOKUP(I$5,'Hilfsblatt Ber. Wirtsch Wirk 3'!$D$11:$BW$96,$A77,FALSE)+IF(I$5=$C77,HLOOKUP(I$5,'Hilfsblatt Ber. Wirtsch Wirk 3'!$D$11:$BX$96,87,FALSE),0))/100),0)","v":0},{"$f":"IFERROR((J$6*(HLOOKUP(J$5,'Hilfsblatt Ber. Wirtsch Wirk 3'!$D$11:$BW$96,$A77,FALSE)+IF(J$5=$C77,HLOOKUP(J$5,'Hilfsblatt Ber. Wirtsch Wirk 3'!$D$11:$BX$96,87,FALSE),0))/100),0)","v":0},{"$f":"IFERROR((K$6*(HLOOKUP(K$5,'Hilfsblatt Ber. Wirtsch Wirk 3'!$D$11:$BW$96,$A77,FALSE)+IF(K$5=$C77,HLOOKUP(K$5,'Hilfsblatt Ber. Wirtsch Wirk 3'!$D$11:$BX$96,87,FALSE),0))/100),0)","v":0},{"$f":"IFERROR((L$6*(HLOOKUP(L$5,'Hilfsblatt Ber. Wirtsch Wirk 3'!$D$11:$BW$96,$A77,FALSE)+IF(L$5=$C77,HLOOKUP(L$5,'Hilfsblatt Ber. Wirtsch Wirk 3'!$D$11:$BX$96,87,FALSE),0))/100),0)","v":0},{"$f":"IFERROR((M$6*(HLOOKUP(M$5,'Hilfsblatt Ber. Wirtsch Wirk 3'!$D$11:$BW$96,$A77,FALSE)+IF(M$5=$C77,HLOOKUP(M$5,'Hilfsblatt Ber. Wirtsch Wirk 3'!$D$11:$BX$96,87,FALSE),0))/100),0)","v":0},{"$f":"IFERROR((N$6*(HLOOKUP(N$5,'Hilfsblatt Ber. Wirtsch Wirk 3'!$D$11:$BW$96,$A77,FALSE)+IF(N$5=$C77,HLOOKUP(N$5,'Hilfsblatt Ber. Wirtsch Wirk 3'!$D$11:$BX$96,87,FALSE),0))/100),0)","v":0},{"$f":"IFERROR((O$6*(HLOOKUP(O$5,'Hilfsblatt Ber. Wirtsch Wirk 3'!$D$11:$BW$96,$A77,FALSE)+IF(O$5=$C77,HLOOKUP(O$5,'Hilfsblatt Ber. Wirtsch Wirk 3'!$D$11:$BX$96,87,FALSE),0))/100),0)","v":0},{"$f":"IFERROR((P$6*(HLOOKUP(P$5,'Hilfsblatt Ber. Wirtsch Wirk 3'!$D$11:$BW$96,$A77,FALSE)+IF(P$5=$C77,HLOOKUP(P$5,'Hilfsblatt Ber. Wirtsch Wirk 3'!$D$11:$BX$96,87,FALSE),0))/100),0)","v":0},{"$f":"IFERROR((Q$6*(HLOOKUP(Q$5,'Hilfsblatt Ber. Wirtsch Wirk 3'!$D$11:$BW$96,$A77,FALSE)+IF(Q$5=$C77,HLOOKUP(Q$5,'Hilfsblatt Ber. Wirtsch Wirk 3'!$D$11:$BX$96,87,FALSE),0))/100),0)","v":0},{"$f":"R$6*('Hilfsblatt Ber. Wirtsch Wirk 3'!BX82+'Hilfsblatt Ber. Wirtsch Wirk 3'!BX82*'Hilfsblatt Ber. Wirtsch Wirk 3'!CA82/'Hilfsblatt Ber. Wirtsch Wirk 3'!CB82)/100","v":0},0,{"$f":"S77*'Hilfsblatt Ber. Wirtsch Wirk 3'!BZ82/('Hilfsblatt Ber. Wirtsch Wirk 3'!CA82)","v":0},{"$f":"S77/'Hilfsblatt Ber. Wirtsch Wirk 3'!CC82","v":0},{"$f":"T77*('Hilfsblatt Ber. Wirtsch Wirk 4'!B$14/'Hilfsblatt Ber. Wirtsch Wirk 4'!B$13)","v":0},{"$f":"S77*'Hilfsblatt Ber. Wirtsch Wirk 3'!CD82","v":0},null,0]
[73,{"$f":"'Hilfsblatt Ber. Wirtsch Wirk 3'!B83","v":"94"},{"$f":"'Hilfsblatt Ber. Wirtsch Wirk 3'!C83","v":"Dienstleistg. d. Interessenvertr., kirchl. u. sonst. Vereinigungen"},{"$f":"IFERROR((D$6*(HLOOKUP(D$5,'Hilfsblatt Ber. Wirtsch Wirk 3'!$D$11:$BW$96,$A78,FALSE)+IF(D$5=$C78,HLOOKUP(D$5,'Hilfsblatt Ber. Wirtsch Wirk 3'!$D$11:$BX$96,87,FALSE),0))/100),0)","v":0},{"$f":"IFERROR((E$6*(HLOOKUP(E$5,'Hilfsblatt Ber. Wirtsch Wirk 3'!$D$11:$BW$96,$A78,FALSE)+IF(E$5=$C78,HLOOKUP(E$5,'Hilfsblatt Ber. Wirtsch Wirk 3'!$D$11:$BX$96,87,FALSE),0))/100),0)","v":0},{"$f":"IFERROR((F$6*(HLOOKUP(F$5,'Hilfsblatt Ber. Wirtsch Wirk 3'!$D$11:$BW$96,$A78,FALSE)+IF(F$5=$C78,HLOOKUP(F$5,'Hilfsblatt Ber. Wirtsch Wirk 3'!$D$11:$BX$96,87,FALSE),0))/100),0)","v":0},{"$f":"IFERROR((G$6*(HLOOKUP(G$5,'Hilfsblatt Ber. Wirtsch Wirk 3'!$D$11:$BW$96,$A78,FALSE)+IF(G$5=$C78,HLOOKUP(G$5,'Hilfsblatt Ber. Wirtsch Wirk 3'!$D$11:$BX$96,87,FALSE),0))/100),0)","v":0},{"$f":"IFERROR((H$6*(HLOOKUP(H$5,'Hilfsblatt Ber. Wirtsch Wirk 3'!$D$11:$BW$96,$A78,FALSE)+IF(H$5=$C78,HLOOKUP(H$5,'Hilfsblatt Ber. Wirtsch Wirk 3'!$D$11:$BX$96,87,FALSE),0))/100),0)","v":0},{"$f":"IFERROR((I$6*(HLOOKUP(I$5,'Hilfsblatt Ber. Wirtsch Wirk 3'!$D$11:$BW$96,$A78,FALSE)+IF(I$5=$C78,HLOOKUP(I$5,'Hilfsblatt Ber. Wirtsch Wirk 3'!$D$11:$BX$96,87,FALSE),0))/100),0)","v":0},{"$f":"IFERROR((J$6*(HLOOKUP(J$5,'Hilfsblatt Ber. Wirtsch Wirk 3'!$D$11:$BW$96,$A78,FALSE)+IF(J$5=$C78,HLOOKUP(J$5,'Hilfsblatt Ber. Wirtsch Wirk 3'!$D$11:$BX$96,87,FALSE),0))/100),0)","v":0},{"$f":"IFERROR((K$6*(HLOOKUP(K$5,'Hilfsblatt Ber. Wirtsch Wirk 3'!$D$11:$BW$96,$A78,FALSE)+IF(K$5=$C78,HLOOKUP(K$5,'Hilfsblatt Ber. Wirtsch Wirk 3'!$D$11:$BX$96,87,FALSE),0))/100),0)","v":0},{"$f":"IFERROR((L$6*(HLOOKUP(L$5,'Hilfsblatt Ber. Wirtsch Wirk 3'!$D$11:$BW$96,$A78,FALSE)+IF(L$5=$C78,HLOOKUP(L$5,'Hilfsblatt Ber. Wirtsch Wirk 3'!$D$11:$BX$96,87,FALSE),0))/100),0)","v":0},{"$f":"IFERROR((M$6*(HLOOKUP(M$5,'Hilfsblatt Ber. Wirtsch Wirk 3'!$D$11:$BW$96,$A78,FALSE)+IF(M$5=$C78,HLOOKUP(M$5,'Hilfsblatt Ber. Wirtsch Wirk 3'!$D$11:$BX$96,87,FALSE),0))/100),0)","v":0},{"$f":"IFERROR((N$6*(HLOOKUP(N$5,'Hilfsblatt Ber. Wirtsch Wirk 3'!$D$11:$BW$96,$A78,FALSE)+IF(N$5=$C78,HLOOKUP(N$5,'Hilfsblatt Ber. Wirtsch Wirk 3'!$D$11:$BX$96,87,FALSE),0))/100),0)","v":0},{"$f":"IFERROR((O$6*(HLOOKUP(O$5,'Hilfsblatt Ber. Wirtsch Wirk 3'!$D$11:$BW$96,$A78,FALSE)+IF(O$5=$C78,HLOOKUP(O$5,'Hilfsblatt Ber. Wirtsch Wirk 3'!$D$11:$BX$96,87,FALSE),0))/100),0)","v":0},{"$f":"IFERROR((P$6*(HLOOKUP(P$5,'Hilfsblatt Ber. Wirtsch Wirk 3'!$D$11:$BW$96,$A78,FALSE)+IF(P$5=$C78,HLOOKUP(P$5,'Hilfsblatt Ber. Wirtsch Wirk 3'!$D$11:$BX$96,87,FALSE),0))/100),0)","v":0},{"$f":"IFERROR((Q$6*(HLOOKUP(Q$5,'Hilfsblatt Ber. Wirtsch Wirk 3'!$D$11:$BW$96,$A78,FALSE)+IF(Q$5=$C78,HLOOKUP(Q$5,'Hilfsblatt Ber. Wirtsch Wirk 3'!$D$11:$BX$96,87,FALSE),0))/100),0)","v":0},{"$f":"R$6*('Hilfsblatt Ber. Wirtsch Wirk 3'!BX83+'Hilfsblatt Ber. Wirtsch Wirk 3'!BX83*'Hilfsblatt Ber. Wirtsch Wirk 3'!CA83/'Hilfsblatt Ber. Wirtsch Wirk 3'!CB83)/100","v":0},0,{"$f":"S78*'Hilfsblatt Ber. Wirtsch Wirk 3'!BZ83/('Hilfsblatt Ber. Wirtsch Wirk 3'!CA83)","v":0},{"$f":"S78/'Hilfsblatt Ber. Wirtsch Wirk 3'!CC83","v":0},{"$f":"T78*('Hilfsblatt Ber. Wirtsch Wirk 4'!B$14/'Hilfsblatt Ber. Wirtsch Wirk 4'!B$13)","v":0},{"$f":"S78*'Hilfsblatt Ber. Wirtsch Wirk 3'!CD83","v":0},null,0]
[74,{"$f":"'Hilfsblatt Ber. Wirtsch Wirk 3'!B84","v":"95"},{"$f":"'Hilfsblatt Ber. Wirtsch Wirk 3'!C84","v":"Reparaturarbeiten an DV-Geräten und Gebrauchsgütern"},{"$f":"IFERROR((D$6*(HLOOKUP(D$5,'Hilfsblatt Ber. Wirtsch Wirk 3'!$D$11:$BW$96,$A79,FALSE)+IF(D$5=$C79,HLOOKUP(D$5,'Hilfsblatt Ber. Wirtsch Wirk 3'!$D$11:$BX$96,87,FALSE),0))/100),0)","v":0},{"$f":"IFERROR((E$6*(HLOOKUP(E$5,'Hilfsblatt Ber. Wirtsch Wirk 3'!$D$11:$BW$96,$A79,FALSE)+IF(E$5=$C79,HLOOKUP(E$5,'Hilfsblatt Ber. Wirtsch Wirk 3'!$D$11:$BX$96,87,FALSE),0))/100),0)","v":0},{"$f":"IFERROR((F$6*(HLOOKUP(F$5,'Hilfsblatt Ber. Wirtsch Wirk 3'!$D$11:$BW$96,$A79,FALSE)+IF(F$5=$C79,HLOOKUP(F$5,'Hilfsblatt Ber. Wirtsch Wirk 3'!$D$11:$BX$96,87,FALSE),0))/100),0)","v":0},{"$f":"IFERROR((G$6*(HLOOKUP(G$5,'Hilfsblatt Ber. Wirtsch Wirk 3'!$D$11:$BW$96,$A79,FALSE)+IF(G$5=$C79,HLOOKUP(G$5,'Hilfsblatt Ber. Wirtsch Wirk 3'!$D$11:$BX$96,87,FALSE),0))/100),0)","v":0},{"$f":"IFERROR((H$6*(HLOOKUP(H$5,'Hilfsblatt Ber. Wirtsch Wirk 3'!$D$11:$BW$96,$A79,FALSE)+IF(H$5=$C79,HLOOKUP(H$5,'Hilfsblatt Ber. Wirtsch Wirk 3'!$D$11:$BX$96,87,FALSE),0))/100),0)","v":0},{"$f":"IFERROR((I$6*(HLOOKUP(I$5,'Hilfsblatt Ber. Wirtsch Wirk 3'!$D$11:$BW$96,$A79,FALSE)+IF(I$5=$C79,HLOOKUP(I$5,'Hilfsblatt Ber. Wirtsch Wirk 3'!$D$11:$BX$96,87,FALSE),0))/100),0)","v":0},{"$f":"IFERROR((J$6*(HLOOKUP(J$5,'Hilfsblatt Ber. Wirtsch Wirk 3'!$D$11:$BW$96,$A79,FALSE)+IF(J$5=$C79,HLOOKUP(J$5,'Hilfsblatt Ber. Wirtsch Wirk 3'!$D$11:$BX$96,87,FALSE),0))/100),0)","v":0},{"$f":"IFERROR((K$6*(HLOOKUP(K$5,'Hilfsblatt Ber. Wirtsch Wirk 3'!$D$11:$BW$96,$A79,FALSE)+IF(K$5=$C79,HLOOKUP(K$5,'Hilfsblatt Ber. Wirtsch Wirk 3'!$D$11:$BX$96,87,FALSE),0))/100),0)","v":0},{"$f":"IFERROR((L$6*(HLOOKUP(L$5,'Hilfsblatt Ber. Wirtsch Wirk 3'!$D$11:$BW$96,$A79,FALSE)+IF(L$5=$C79,HLOOKUP(L$5,'Hilfsblatt Ber. Wirtsch Wirk 3'!$D$11:$BX$96,87,FALSE),0))/100),0)","v":0},{"$f":"IFERROR((M$6*(HLOOKUP(M$5,'Hilfsblatt Ber. Wirtsch Wirk 3'!$D$11:$BW$96,$A79,FALSE)+IF(M$5=$C79,HLOOKUP(M$5,'Hilfsblatt Ber. Wirtsch Wirk 3'!$D$11:$BX$96,87,FALSE),0))/100),0)","v":0},{"$f":"IFERROR((N$6*(HLOOKUP(N$5,'Hilfsblatt Ber. Wirtsch Wirk 3'!$D$11:$BW$96,$A79,FALSE)+IF(N$5=$C79,HLOOKUP(N$5,'Hilfsblatt Ber. Wirtsch Wirk 3'!$D$11:$BX$96,87,FALSE),0))/100),0)","v":0},{"$f":"IFERROR((O$6*(HLOOKUP(O$5,'Hilfsblatt Ber. Wirtsch Wirk 3'!$D$11:$BW$96,$A79,FALSE)+IF(O$5=$C79,HLOOKUP(O$5,'Hilfsblatt Ber. Wirtsch Wirk 3'!$D$11:$BX$96,87,FALSE),0))/100),0)","v":0},{"$f":"IFERROR((P$6*(HLOOKUP(P$5,'Hilfsblatt Ber. Wirtsch Wirk 3'!$D$11:$BW$96,$A79,FALSE)+IF(P$5=$C79,HLOOKUP(P$5,'Hilfsblatt Ber. Wirtsch Wirk 3'!$D$11:$BX$96,87,FALSE),0))/100),0)","v":0},{"$f":"IFERROR((Q$6*(HLOOKUP(Q$5,'Hilfsblatt Ber. Wirtsch Wirk 3'!$D$11:$BW$96,$A79,FALSE)+IF(Q$5=$C79,HLOOKUP(Q$5,'Hilfsblatt Ber. Wirtsch Wirk 3'!$D$11:$BX$96,87,FALSE),0))/100),0)","v":0},{"$f":"R$6*('Hilfsblatt Ber. Wirtsch Wirk 3'!BX84+'Hilfsblatt Ber. Wirtsch Wirk 3'!BX84*'Hilfsblatt Ber. Wirtsch Wirk 3'!CA84/'Hilfsblatt Ber. Wirtsch Wirk 3'!CB84)/100","v":0},0,{"$f":"S79*'Hilfsblatt Ber. Wirtsch Wirk 3'!BZ84/('Hilfsblatt Ber. Wirtsch Wirk 3'!CA84)","v":0},{"$f":"S79/'Hilfsblatt Ber. Wirtsch Wirk 3'!CC84","v":0},{"$f":"T79*('Hilfsblatt Ber. Wirtsch Wirk 4'!B$14/'Hilfsblatt Ber. Wirtsch Wirk 4'!B$13)","v":0},{"$f":"S79*'Hilfsblatt Ber. Wirtsch Wirk 3'!CD84","v":0},null,0]
[75,{"$f":"'Hilfsblatt Ber. Wirtsch Wirk 3'!B85","v":"96"},{"$f":"'Hilfsblatt Ber. Wirtsch Wirk 3'!C85","v":"Sonstige überwiegend persönliche Dienstleistungen"},{"$f":"IFERROR((D$6*(HLOOKUP(D$5,'Hilfsblatt Ber. Wirtsch Wirk 3'!$D$11:$BW$96,$A80,FALSE)+IF(D$5=$C80,HLOOKUP(D$5,'Hilfsblatt Ber. Wirtsch Wirk 3'!$D$11:$BX$96,87,FALSE),0))/100),0)","v":0},{"$f":"IFERROR((E$6*(HLOOKUP(E$5,'Hilfsblatt Ber. Wirtsch Wirk 3'!$D$11:$BW$96,$A80,FALSE)+IF(E$5=$C80,HLOOKUP(E$5,'Hilfsblatt Ber. Wirtsch Wirk 3'!$D$11:$BX$96,87,FALSE),0))/100),0)","v":0},{"$f":"IFERROR((F$6*(HLOOKUP(F$5,'Hilfsblatt Ber. Wirtsch Wirk 3'!$D$11:$BW$96,$A80,FALSE)+IF(F$5=$C80,HLOOKUP(F$5,'Hilfsblatt Ber. Wirtsch Wirk 3'!$D$11:$BX$96,87,FALSE),0))/100),0)","v":0},{"$f":"IFERROR((G$6*(HLOOKUP(G$5,'Hilfsblatt Ber. Wirtsch Wirk 3'!$D$11:$BW$96,$A80,FALSE)+IF(G$5=$C80,HLOOKUP(G$5,'Hilfsblatt Ber. Wirtsch Wirk 3'!$D$11:$BX$96,87,FALSE),0))/100),0)","v":0},{"$f":"IFERROR((H$6*(HLOOKUP(H$5,'Hilfsblatt Ber. Wirtsch Wirk 3'!$D$11:$BW$96,$A80,FALSE)+IF(H$5=$C80,HLOOKUP(H$5,'Hilfsblatt Ber. Wirtsch Wirk 3'!$D$11:$BX$96,87,FALSE),0))/100),0)","v":0},{"$f":"IFERROR((I$6*(HLOOKUP(I$5,'Hilfsblatt Ber. Wirtsch Wirk 3'!$D$11:$BW$96,$A80,FALSE)+IF(I$5=$C80,HLOOKUP(I$5,'Hilfsblatt Ber. Wirtsch Wirk 3'!$D$11:$BX$96,87,FALSE),0))/100),0)","v":0},{"$f":"IFERROR((J$6*(HLOOKUP(J$5,'Hilfsblatt Ber. Wirtsch Wirk 3'!$D$11:$BW$96,$A80,FALSE)+IF(J$5=$C80,HLOOKUP(J$5,'Hilfsblatt Ber. Wirtsch Wirk 3'!$D$11:$BX$96,87,FALSE),0))/100),0)","v":0},{"$f":"IFERROR((K$6*(HLOOKUP(K$5,'Hilfsblatt Ber. Wirtsch Wirk 3'!$D$11:$BW$96,$A80,FALSE)+IF(K$5=$C80,HLOOKUP(K$5,'Hilfsblatt Ber. Wirtsch Wirk 3'!$D$11:$BX$96,87,FALSE),0))/100),0)","v":0},{"$f":"IFERROR((L$6*(HLOOKUP(L$5,'Hilfsblatt Ber. Wirtsch Wirk 3'!$D$11:$BW$96,$A80,FALSE)+IF(L$5=$C80,HLOOKUP(L$5,'Hilfsblatt Ber. Wirtsch Wirk 3'!$D$11:$BX$96,87,FALSE),0))/100),0)","v":0},{"$f":"IFERROR((M$6*(HLOOKUP(M$5,'Hilfsblatt Ber. Wirtsch Wirk 3'!$D$11:$BW$96,$A80,FALSE)+IF(M$5=$C80,HLOOKUP(M$5,'Hilfsblatt Ber. Wirtsch Wirk 3'!$D$11:$BX$96,87,FALSE),0))/100),0)","v":0},{"$f":"IFERROR((N$6*(HLOOKUP(N$5,'Hilfsblatt Ber. Wirtsch Wirk 3'!$D$11:$BW$96,$A80,FALSE)+IF(N$5=$C80,HLOOKUP(N$5,'Hilfsblatt Ber. Wirtsch Wirk 3'!$D$11:$BX$96,87,FALSE),0))/100),0)","v":0},{"$f":"IFERROR((O$6*(HLOOKUP(O$5,'Hilfsblatt Ber. Wirtsch Wirk 3'!$D$11:$BW$96,$A80,FALSE)+IF(O$5=$C80,HLOOKUP(O$5,'Hilfsblatt Ber. Wirtsch Wirk 3'!$D$11:$BX$96,87,FALSE),0))/100),0)","v":0},{"$f":"IFERROR((P$6*(HLOOKUP(P$5,'Hilfsblatt Ber. Wirtsch Wirk 3'!$D$11:$BW$96,$A80,FALSE)+IF(P$5=$C80,HLOOKUP(P$5,'Hilfsblatt Ber. Wirtsch Wirk 3'!$D$11:$BX$96,87,FALSE),0))/100),0)","v":0},{"$f":"IFERROR((Q$6*(HLOOKUP(Q$5,'Hilfsblatt Ber. Wirtsch Wirk 3'!$D$11:$BW$96,$A80,FALSE)+IF(Q$5=$C80,HLOOKUP(Q$5,'Hilfsblatt Ber. Wirtsch Wirk 3'!$D$11:$BX$96,87,FALSE),0))/100),0)","v":0},{"$f":"R$6*('Hilfsblatt Ber. Wirtsch Wirk 3'!BX85+'Hilfsblatt Ber. Wirtsch Wirk 3'!BX85*'Hilfsblatt Ber. Wirtsch Wirk 3'!CA85/'Hilfsblatt Ber. Wirtsch Wirk 3'!CB85)/100","v":0},0,{"$f":"S80*'Hilfsblatt Ber. Wirtsch Wirk 3'!BZ85/('Hilfsblatt Ber. Wirtsch Wirk 3'!CA85)","v":0},{"$f":"S80/'Hilfsblatt Ber. Wirtsch Wirk 3'!CC85","v":0},{"$f":"T80*('Hilfsblatt Ber. Wirtsch Wirk 4'!B$14/'Hilfsblatt Ber. Wirtsch Wirk 4'!B$13)","v":0},{"$f":"S80*'Hilfsblatt Ber. Wirtsch Wirk 3'!CD85","v":0},null,0]
[76,{"$f":"'Hilfsblatt Ber. Wirtsch Wirk 3'!B86","v":"97-98"},{"$f":"'Hilfsblatt Ber. Wirtsch Wirk 3'!C86","v":"Waren und Dienstleistungen privater Haushalte o.a.S."},{"$f":"IFERROR((D$6*(HLOOKUP(D$5,'Hilfsblatt Ber. Wirtsch Wirk 3'!$D$11:$BW$96,$A81,FALSE)+IF(D$5=$C81,HLOOKUP(D$5,'Hilfsblatt Ber. Wirtsch Wirk 3'!$D$11:$BX$96,87,FALSE),0))/100),0)","v":0},{"$f":"IFERROR((E$6*(HLOOKUP(E$5,'Hilfsblatt Ber. Wirtsch Wirk 3'!$D$11:$BW$96,$A81,FALSE)+IF(E$5=$C81,HLOOKUP(E$5,'Hilfsblatt Ber. Wirtsch Wirk 3'!$D$11:$BX$96,87,FALSE),0))/100),0)","v":0},{"$f":"IFERROR((F$6*(HLOOKUP(F$5,'Hilfsblatt Ber. Wirtsch Wirk 3'!$D$11:$BW$96,$A81,FALSE)+IF(F$5=$C81,HLOOKUP(F$5,'Hilfsblatt Ber. Wirtsch Wirk 3'!$D$11:$BX$96,87,FALSE),0))/100),0)","v":0},{"$f":"IFERROR((G$6*(HLOOKUP(G$5,'Hilfsblatt Ber. Wirtsch Wirk 3'!$D$11:$BW$96,$A81,FALSE)+IF(G$5=$C81,HLOOKUP(G$5,'Hilfsblatt Ber. Wirtsch Wirk 3'!$D$11:$BX$96,87,FALSE),0))/100),0)","v":0},{"$f":"IFERROR((H$6*(HLOOKUP(H$5,'Hilfsblatt Ber. Wirtsch Wirk 3'!$D$11:$BW$96,$A81,FALSE)+IF(H$5=$C81,HLOOKUP(H$5,'Hilfsblatt Ber. Wirtsch Wirk 3'!$D$11:$BX$96,87,FALSE),0))/100),0)","v":0},{"$f":"IFERROR((I$6*(HLOOKUP(I$5,'Hilfsblatt Ber. Wirtsch Wirk 3'!$D$11:$BW$96,$A81,FALSE)+IF(I$5=$C81,HLOOKUP(I$5,'Hilfsblatt Ber. Wirtsch Wirk 3'!$D$11:$BX$96,87,FALSE),0))/100),0)","v":0},{"$f":"IFERROR((J$6*(HLOOKUP(J$5,'Hilfsblatt Ber. Wirtsch Wirk 3'!$D$11:$BW$96,$A81,FALSE)+IF(J$5=$C81,HLOOKUP(J$5,'Hilfsblatt Ber. Wirtsch Wirk 3'!$D$11:$BX$96,87,FALSE),0))/100),0)","v":0},{"$f":"IFERROR((K$6*(HLOOKUP(K$5,'Hilfsblatt Ber. Wirtsch Wirk 3'!$D$11:$BW$96,$A81,FALSE)+IF(K$5=$C81,HLOOKUP(K$5,'Hilfsblatt Ber. Wirtsch Wirk 3'!$D$11:$BX$96,87,FALSE),0))/100),0)","v":0},{"$f":"IFERROR((L$6*(HLOOKUP(L$5,'Hilfsblatt Ber. Wirtsch Wirk 3'!$D$11:$BW$96,$A81,FALSE)+IF(L$5=$C81,HLOOKUP(L$5,'Hilfsblatt Ber. Wirtsch Wirk 3'!$D$11:$BX$96,87,FALSE),0))/100),0)","v":0},{"$f":"IFERROR((M$6*(HLOOKUP(M$5,'Hilfsblatt Ber. Wirtsch Wirk 3'!$D$11:$BW$96,$A81,FALSE)+IF(M$5=$C81,HLOOKUP(M$5,'Hilfsblatt Ber. Wirtsch Wirk 3'!$D$11:$BX$96,87,FALSE),0))/100),0)","v":0},{"$f":"IFERROR((N$6*(HLOOKUP(N$5,'Hilfsblatt Ber. Wirtsch Wirk 3'!$D$11:$BW$96,$A81,FALSE)+IF(N$5=$C81,HLOOKUP(N$5,'Hilfsblatt Ber. Wirtsch Wirk 3'!$D$11:$BX$96,87,FALSE),0))/100),0)","v":0},{"$f":"IFERROR((O$6*(HLOOKUP(O$5,'Hilfsblatt Ber. Wirtsch Wirk 3'!$D$11:$BW$96,$A81,FALSE)+IF(O$5=$C81,HLOOKUP(O$5,'Hilfsblatt Ber. Wirtsch Wirk 3'!$D$11:$BX$96,87,FALSE),0))/100),0)","v":0},{"$f":"IFERROR((P$6*(HLOOKUP(P$5,'Hilfsblatt Ber. Wirtsch Wirk 3'!$D$11:$BW$96,$A81,FALSE)+IF(P$5=$C81,HLOOKUP(P$5,'Hilfsblatt Ber. Wirtsch Wirk 3'!$D$11:$BX$96,87,FALSE),0))/100),0)","v":0},{"$f":"IFERROR((Q$6*(HLOOKUP(Q$5,'Hilfsblatt Ber. Wirtsch Wirk 3'!$D$11:$BW$96,$A81,FALSE)+IF(Q$5=$C81,HLOOKUP(Q$5,'Hilfsblatt Ber. Wirtsch Wirk 3'!$D$11:$BX$96,87,FALSE),0))/100),0)","v":0},{"$f":"R$6*('Hilfsblatt Ber. Wirtsch Wirk 3'!BX86+'Hilfsblatt Ber. Wirtsch Wirk 3'!BX86*'Hilfsblatt Ber. Wirtsch Wirk 3'!CA86/0.00000000000001)/100","v":0},0,{"$f":"S81*'Hilfsblatt Ber. Wirtsch Wirk 3'!BZ86/('Hilfsblatt Ber. Wirtsch Wirk 3'!CA86)","v":0},{"$f":"S81/'Hilfsblatt Ber. Wirtsch Wirk 3'!CC86","v":0},{"$f":"T81*('Hilfsblatt Ber. Wirtsch Wirk 4'!B$14/'Hilfsblatt Ber. Wirtsch Wirk 4'!B$13)","v":0},{"$f":"S81*'Hilfsblatt Ber. Wirtsch Wirk 3'!CD86","v":0},null,0]
[null,null,null,null,null,null,null,null,null,null,null,null,null,null,null,null,null,"*Aus rechentechnischen Gründen wird in der Zelle N82 statt mit den Vorleistungen mit dem Wert: 0,00000000000001 gerechnet"]
[]
[]
[]
[]
[]
[]
[]
[]
[]
[]
[]
[]
[]
[]
[]
[]
[]
[]
[null,null,{"$f":"Eingabevariablen!C7","v":0},null,"Wertschöpfung",null,null,null,null,null,null,null,null,null,null,null,null,null,null,"Arbeitsentgelte","Erwerbstätige","Sozialversicherungs-einnahmen","Produktsteuern"]
[null,null,null,null,"Produktionskosten",null,null,null,"Nachfrageänderungen",null,null,null,null,null,"Treibstoffverbrauch und Verkehrsmenge",null,null,"Konsumverlagerung"]
[null,null,null,{"$f":"D3","v":"Branche 1"},{"$f":"E3","v":"Branche 2"},{"$f":"F3","v":"Branche 3"},"Branche 4","Branche 5","Branche 6","Branche 7","Branche 8","Branche 9","Branche 10","Treibstoff","Benzin ","Diesel","Verkehrsmenge","Alle Branchen ","Gesamt"]
[null,null,"Ausgangsbranche",{"$f":"Eingabevariablen!B23","v":0},{"$f":"Eingabevariablen!B24","v":0},{"$f":"Eingabevariablen!B25","v":0},{"$f":"Eingabevariablen!B26","v":0},{"$f":"Eingabevariablen!B27","v":0},{"$f":"Eingabevariablen!B31","v":0},{"$f":"Eingabevariablen!B32","v":0},{"$f":"Eingabevariablen!B33","v":0},{"$f":"Eingabevariablen!B34","v":0},{"$f":"Eingabevariablen!B35","v":0},"Mineralölerzeugnisse ","Mineralölerzeugnisse ","Mineralölerzeugnisse ","Mineralölerzeugnisse "]
[null,null,"Ausgangsbranche (in zusammengefassten Branchen)",{"$f":"IFERROR((VLOOKUP(D104,'Hilfsblatt Ber. Wirtsch Wirk 4'!$A$23:$B$107,2,FALSE)),\"\")","v":""},{"$f":"IFERROR((VLOOKUP(E104,'Hilfsblatt Ber. Wirtsch Wirk 4'!$A$23:$B$107,2,FALSE)),\"\")","v":""},{"$f":"IFERROR((VLOOKUP(F104,'Hilfsblatt Ber. Wirtsch Wirk 4'!$A$23:$B$107,2,FALSE)),\"\")","v":""},{"$f":"IFERROR((VLOOKUP(G104,'Hilfsblatt Ber. Wirtsch Wirk 4'!$A$23:$B$107,2,FALSE)),\"\")","v":""},{"$f":"IFERROR((VLOOKUP(H104,'Hilfsblatt Ber. Wirtsch Wirk 4'!$A$23:$B$107,2,FALSE)),\"\")","v":""},{"$f":"IFERROR((VLOOKUP(I104,'Hilfsblatt Ber. Wirtsch Wirk 4'!$A$23:$B$107,2,FALSE)),\"\")","v":""},{"$f":"IFERROR((VLOOKUP(J104,'Hilfsblatt Ber. Wirtsch Wirk 4'!$A$23:$B$107,2,FALSE)),\"\")","v":""},{"$f":"IFERROR((VLOOKUP(K104,'Hilfsblatt Ber. Wirtsch Wirk 4'!$A$23:$B$107,2,FALSE)),\"\")","v":""},{"$f":"IFERROR((VLOOKUP(L104,'Hilfsblatt Ber. Wirtsch Wirk 4'!$A$23:$B$107,2,FALSE)),\"\")","v":""},{"$f":"IFERROR((VLOOKUP(M104,'Hilfsblatt Ber. Wirtsch Wirk 4'!$A$23:$B$107,2,FALSE)),\"\")","v":""},"Kokerei- und Mineralölerzeugnisse","Kokerei- und Mineralölerzeugnisse","Kokerei- und Mineralölerzeugnisse","Kokerei- und Mineralölerzeugnisse"]
[null,null,"Herstellungskosten",{"$f":"Eingabevariablen!D23*(Eingabevariablen!F23)","v":0},{"$f":"Eingabevariablen!D24*(Eingabevariablen!F24)","v":0},{"$f":"Eingabevariablen!D25*(Eingabevariablen!F25)","v":0},{"$f":"Eingabevariablen!D26*(Eingabevariablen!F26)","v":0},{"$f":"Eingabevariablen!D27*(Eingabevariablen!F27)","v":0},{"$f":"Eingabevariablen!$D31","v":0},{"$f":"Eingabevariablen!$D32","v":0},{"$f":"Eingabevariablen!$D33","v":0},{"$f":"Eingabevariablen!D34","v":0},{"$f":"Eingabevariablen!D35","v":0},{"$f":"Eingabevariablen!C38*Eingabevariablen!E38","v":0},{"$f":"Eingabevariablen!C39*Eingabevariablen!E39","v":0},{"$f":"Eingabevariablen!C40*Eingabevariablen!E40","v":0},{"$f":"Eingabevariablen!C41*'Hilfsblatt Ber. Wirtsch Wirk 4'!B3*Eingabevariablen!E41","v":0},{"$f":"(1-'Hilfsblatt Ber. Wirtsch Wirk 4'!B8)*(-SUM(D106:Q106)-Eingabevariablen!C45+SUM(D107:Q107))","v":0}]
[null,null,"Produktsteuern",{"$f":"IFERROR((D106*VLOOKUP(D104,'Hilfsblatt Ber. Wirtsch Wirk 2'!$C14:$BU99,70,FALSE)/VLOOKUP(D104,'Hilfsblatt Ber. Wirtsch Wirk 2'!$C14:$BU99,71,FALSE)),0)","v":0},{"$f":"IFERROR((E106*VLOOKUP(E104,'Hilfsblatt Ber. Wirtsch Wirk 2'!$C14:$BU99,70,FALSE)/VLOOKUP(E104,'Hilfsblatt Ber. Wirtsch Wirk 2'!$C14:$BU99,71,FALSE)),0)","v":0},{"$f":"IFERROR((F106*VLOOKUP(F104,'Hilfsblatt Ber. Wirtsch Wirk 2'!$C14:$BU99,70,FALSE)/VLOOKUP(F104,'Hilfsblatt Ber. Wirtsch Wirk 2'!$C14:$BU99,71,FALSE)),0)","v":0},{"$f":"IFERROR((G106*VLOOKUP(G104,'Hilfsblatt Ber. Wirtsch Wirk 2'!$C14:$BU99,70,FALSE)/VLOOKUP(G104,'Hilfsblatt Ber. Wirtsch Wirk 2'!$C14:$BU99,71,FALSE)),0)","v":0},{"$f":"IFERROR((H106*VLOOKUP(H104,'Hilfsblatt Ber. Wirtsch Wirk 2'!$C14:$BU99,70,FALSE)/VLOOKUP(H104,'Hilfsblatt Ber. Wirtsch Wirk 2'!$C14:$BU99,71,FALSE)),0)","v":0},{"$f":"IFERROR((I106*VLOOKUP(I104,'Hilfsblatt Ber. Wirtsch Wirk 2'!$C14:$BU99,70,FALSE)/VLOOKUP(I104,'Hilfsblatt Ber. Wirtsch Wirk 2'!$C14:$BU99,71,FALSE)),0)","v":0},{"$f":"IFERROR((J106*VLOOKUP(J104,'Hilfsblatt Ber. Wirtsch Wirk 2'!$C14:$BU99,70,FALSE)/VLOOKUP(J104,'Hilfsblatt Ber. Wirtsch Wirk 2'!$C14:$BU99,71,FALSE)),0)","v":0},{"$f":"IFERROR((K106*VLOOKUP(K104,'Hilfsblatt Ber. Wirtsch Wirk 2'!$C14:$BU99,70,FALSE)/VLOOKUP(K104,'Hilfsblatt Ber. Wirtsch Wirk 2'!$C14:$BU99,71,FALSE)),0)","v":0},{"$f":"IFERROR((L106*VLOOKUP(L104,'Hilfsblatt Ber. Wirtsch Wirk 2'!$C14:$BU99,70,FALSE)/VLOOKUP(L104,'Hilfsblatt Ber. Wirtsch Wirk 2'!$C14:$BU99,71,FALSE)),0)","v":0},{"$f":"IFERROR((M106*VLOOKUP(M104,'Hilfsblatt Ber. Wirtsch Wirk 2'!$C14:$BU99,70,FALSE)/VLOOKUP(M104,'Hilfsblatt Ber. Wirtsch Wirk 2'!$C14:$BU99,71,FALSE)),0)","v":0},{"$f":"N106*VLOOKUP(N104,'Hilfsblatt Ber. Wirtsch Wirk 2'!$C14:$BU99,70,FALSE)/VLOOKUP(N104,'Hilfsblatt Ber. Wirtsch Wirk 2'!$C14:$BU99,71,FALSE)","v":0},{"$f":"O106*VLOOKUP(O104,'Hilfsblatt Ber. Wirtsch Wirk 2'!$C14:$BU99,70,FALSE)/VLOOKUP(O104,'Hilfsblatt Ber. Wirtsch Wirk 2'!$C14:$BU99,71,FALSE)","v":0},{"$f":"P106*VLOOKUP(P104,'Hilfsblatt Ber. Wirtsch Wirk 2'!$C14:$BU99,70,FALSE)/VLOOKUP(P104,'Hilfsblatt Ber. Wirtsch Wirk 2'!$C14:$BU99,71,FALSE)","v":0},{"$f":"Q106*VLOOKUP(Q104,'Hilfsblatt Ber. Wirtsch Wirk 2'!$C14:$BU99,70,FALSE)/VLOOKUP(Q104,'Hilfsblatt Ber. Wirtsch Wirk 2'!$C14:$BU99,71,FALSE)","v":0}]
[]
[null,null,"Alle Branchen",{"$f":"SUM(D110:D181)","v":0},{"$f":"SUM(E110:E181)","v":0},0,0,{"$f":"SUM(H110:H181)","v":0},0,0,0,{"$f":"SUM(L110:L181)","v":0},0,0,0,0,0,0,0,0,0,0,0]
[5,{"$f":"B10","v":"01"},{"$f":"C10","v":"Erzeugnisse der Landwirtschaft, Jagd und Dienstleistungen"},{"$f":"IFERROR((D$106*(HLOOKUP(D$105,'Hilfsblatt Ber. Wirtsch Wirk 3'!$D$11:$BW$96,$A110,FALSE)+IF(D$105=$C110,HLOOKUP(D$105,'Hilfsblatt Ber. Wirtsch Wirk 3'!$D$11:$BX$96,87,FALSE),0))/100),0)","v":0},{"$f":"IFERROR((E$106*(HLOOKUP(E$105,'Hilfsblatt Ber. Wirtsch Wirk 3'!$D$11:$BW$96,$A110,FALSE)+IF(E$105=$C110,HLOOKUP(E$105,'Hilfsblatt Ber. Wirtsch Wirk 3'!$D$11:$BX$96,87,FALSE),0))/100),0)","v":0},{"$f":"IFERROR((F$106*(HLOOKUP(F$105,'Hilfsblatt Ber. Wirtsch Wirk 3'!$D$11:$BW$96,$A110,FALSE)+IF(F$105=$C110,HLOOKUP(F$105,'Hilfsblatt Ber. Wirtsch Wirk 3'!$D$11:$BX$96,87,FALSE),0))/100),0)","v":0},{"$f":"IFERROR((G$106*(HLOOKUP(G$105,'Hilfsblatt Ber. Wirtsch Wirk 3'!$D$11:$BW$96,$A110,FALSE)+IF(G$105=$C110,HLOOKUP(G$105,'Hilfsblatt Ber. Wirtsch Wirk 3'!$D$11:$BX$96,87,FALSE),0))/100),0)","v":0},{"$f":"IFERROR((H$106*(HLOOKUP(H$105,'Hilfsblatt Ber. Wirtsch Wirk 3'!$D$11:$BW$96,$A110,FALSE)+IF(H$105=$C110,HLOOKUP(H$105,'Hilfsblatt Ber. Wirtsch Wirk 3'!$D$11:$BX$96,87,FALSE),0))/100),0)","v":0},{"$f":"IFERROR((I$106*(HLOOKUP(I$105,'Hilfsblatt Ber. Wirtsch Wirk 3'!$D$11:$BW$96,$A110,FALSE)+IF(I$105=$C110,HLOOKUP(I$105,'Hilfsblatt Ber. Wirtsch Wirk 3'!$D$11:$BX$96,87,FALSE),0))/100),0)","v":0},{"$f":"IFERROR((J$106*(HLOOKUP(J$105,'Hilfsblatt Ber. Wirtsch Wirk 3'!$D$11:$BW$96,$A110,FALSE)+IF(J$105=$C110,HLOOKUP(J$105,'Hilfsblatt Ber. Wirtsch Wirk 3'!$D$11:$BX$96,87,FALSE),0))/100),0)","v":0},{"$f":"IFERROR((K$106*(HLOOKUP(K$105,'Hilfsblatt Ber. Wirtsch Wirk 3'!$D$11:$BW$96,$A110,FALSE)+IF(K$105=$C110,HLOOKUP(K$105,'Hilfsblatt Ber. Wirtsch Wirk 3'!$D$11:$BX$96,87,FALSE),0))/100),0)","v":0},{"$f":"IFERROR((L$106*(HLOOKUP(L$105,'Hilfsblatt Ber. Wirtsch Wirk 3'!$D$11:$BW$96,$A110,FALSE)+IF(L$105=$C110,HLOOKUP(L$105,'Hilfsblatt Ber. Wirtsch Wirk 3'!$D$11:$BX$96,87,FALSE),0))/100),0)","v":0},{"$f":"IFERROR((M$106*(HLOOKUP(M$105,'Hilfsblatt Ber. Wirtsch Wirk 3'!$D$11:$BW$96,$A110,FALSE)+IF(M$105=$C110,HLOOKUP(M$105,'Hilfsblatt Ber. Wirtsch Wirk 3'!$D$11:$BX$96,87,FALSE),0))/100),0)","v":0},{"$f":"IFERROR((N$106*(HLOOKUP(N$105,'Hilfsblatt Ber. Wirtsch Wirk 3'!$D$11:$BW$96,$A110,FALSE)+IF(N$105=$C110,HLOOKUP(N$105,'Hilfsblatt Ber. Wirtsch Wirk 3'!$D$11:$BX$96,87,FALSE),0))/100),0)","v":0},{"$f":"IFERROR((O$106*(HLOOKUP(O$105,'Hilfsblatt Ber. Wirtsch Wirk 3'!$D$11:$BW$96,$A110,FALSE)+IF(O$105=$C110,HLOOKUP(O$105,'Hilfsblatt Ber. Wirtsch Wirk 3'!$D$11:$BX$96,87,FALSE),0))/100),0)","v":0},{"$f":"IFERROR((P$106*(HLOOKUP(P$105,'Hilfsblatt Ber. Wirtsch Wirk 3'!$D$11:$BW$96,$A110,FALSE)+IF(P$105=$C110,HLOOKUP(P$105,'Hilfsblatt Ber. Wirtsch Wirk 3'!$D$11:$BX$96,87,FALSE),0))/100),0)","v":0},{"$f":"IFERROR((Q$106*(HLOOKUP(Q$105,'Hilfsblatt Ber. Wirtsch Wirk 3'!$D$11:$BW$96,$A110,FALSE)+IF(Q$105=$C110,HLOOKUP(Q$105,'Hilfsblatt Ber. Wirtsch Wirk 3'!$D$11:$BX$96,87,FALSE),0))/100),0)","v":0},{"$f":"R$106*('Hilfsblatt Ber. Wirtsch Wirk 3'!BX15+'Hilfsblatt Ber. Wirtsch Wirk 3'!BX15*'Hilfsblatt Ber. Wirtsch Wirk 3'!CA15/'Hilfsblatt Ber. Wirtsch Wirk 3'!CB15)/100","v":0},{"$f":"SUM(D110:R110)","v":0},{"$f":"S110*'Hilfsblatt Ber. Wirtsch Wirk 3'!BZ15/('Hilfsblatt Ber. Wirtsch Wirk 3'!CA15)","v":0},{"$f":"S110/'Hilfsblatt Ber. Wirtsch Wirk 3'!CC15","v":0},{"$f":"T110*('Hilfsblatt Ber. Wirtsch Wirk 4'!B$14/'Hilfsblatt Ber. Wirtsch Wirk 4'!B$13)","v":0},{"$f":"S110*'Hilfsblatt Ber. Wirtsch Wirk 3'!CD15","v":0}]
[6,{"$f":"B11","v":"02"},{"$f":"C11","v":"Forstwirtschaftliche Erzeugnisse und Dienstleistungen"},{"$f":"IFERROR((D$106*(HLOOKUP(D$105,'Hilfsblatt Ber. Wirtsch Wirk 3'!$D$11:$BW$96,$A111,FALSE)+IF(D$105=$C111,HLOOKUP(D$105,'Hilfsblatt Ber. Wirtsch Wirk 3'!$D$11:$BX$96,87,FALSE),0))/100),0)","v":0},{"$f":"IFERROR((E$106*(HLOOKUP(E$105,'Hilfsblatt Ber. Wirtsch Wirk 3'!$D$11:$BW$96,$A111,FALSE)+IF(E$105=$C111,HLOOKUP(E$105,'Hilfsblatt Ber. Wirtsch Wirk 3'!$D$11:$BX$96,87,FALSE),0))/100),0)","v":0},{"$f":"IFERROR((F$106*(HLOOKUP(F$105,'Hilfsblatt Ber. Wirtsch Wirk 3'!$D$11:$BW$96,$A111,FALSE)+IF(F$105=$C111,HLOOKUP(F$105,'Hilfsblatt Ber. Wirtsch Wirk 3'!$D$11:$BX$96,87,FALSE),0))/100),0)","v":0},{"$f":"IFERROR((G$106*(HLOOKUP(G$105,'Hilfsblatt Ber. Wirtsch Wirk 3'!$D$11:$BW$96,$A111,FALSE)+IF(G$105=$C111,HLOOKUP(G$105,'Hilfsblatt Ber. Wirtsch Wirk 3'!$D$11:$BX$96,87,FALSE),0))/100),0)","v":0},{"$f":"IFERROR((H$106*(HLOOKUP(H$105,'Hilfsblatt Ber. Wirtsch Wirk 3'!$D$11:$BW$96,$A111,FALSE)+IF(H$105=$C111,HLOOKUP(H$105,'Hilfsblatt Ber. Wirtsch Wirk 3'!$D$11:$BX$96,87,FALSE),0))/100),0)","v":0},{"$f":"IFERROR((I$106*(HLOOKUP(I$105,'Hilfsblatt Ber. Wirtsch Wirk 3'!$D$11:$BW$96,$A111,FALSE)+IF(I$105=$C111,HLOOKUP(I$105,'Hilfsblatt Ber. Wirtsch Wirk 3'!$D$11:$BX$96,87,FALSE),0))/100),0)","v":0},{"$f":"IFERROR((J$106*(HLOOKUP(J$105,'Hilfsblatt Ber. Wirtsch Wirk 3'!$D$11:$BW$96,$A111,FALSE)+IF(J$105=$C111,HLOOKUP(J$105,'Hilfsblatt Ber. Wirtsch Wirk 3'!$D$11:$BX$96,87,FALSE),0))/100),0)","v":0},{"$f":"IFERROR((K$106*(HLOOKUP(K$105,'Hilfsblatt Ber. Wirtsch Wirk 3'!$D$11:$BW$96,$A111,FALSE)+IF(K$105=$C111,HLOOKUP(K$105,'Hilfsblatt Ber. Wirtsch Wirk 3'!$D$11:$BX$96,87,FALSE),0))/100),0)","v":0},{"$f":"IFERROR((L$106*(HLOOKUP(L$105,'Hilfsblatt Ber. Wirtsch Wirk 3'!$D$11:$BW$96,$A111,FALSE)+IF(L$105=$C111,HLOOKUP(L$105,'Hilfsblatt Ber. Wirtsch Wirk 3'!$D$11:$BX$96,87,FALSE),0))/100),0)","v":0},{"$f":"IFERROR((M$106*(HLOOKUP(M$105,'Hilfsblatt Ber. Wirtsch Wirk 3'!$D$11:$BW$96,$A111,FALSE)+IF(M$105=$C111,HLOOKUP(M$105,'Hilfsblatt Ber. Wirtsch Wirk 3'!$D$11:$BX$96,87,FALSE),0))/100),0)","v":0},{"$f":"IFERROR((N$106*(HLOOKUP(N$105,'Hilfsblatt Ber. Wirtsch Wirk 3'!$D$11:$BW$96,$A111,FALSE)+IF(N$105=$C111,HLOOKUP(N$105,'Hilfsblatt Ber. Wirtsch Wirk 3'!$D$11:$BX$96,87,FALSE),0))/100),0)","v":0},{"$f":"IFERROR((O$106*(HLOOKUP(O$105,'Hilfsblatt Ber. Wirtsch Wirk 3'!$D$11:$BW$96,$A111,FALSE)+IF(O$105=$C111,HLOOKUP(O$105,'Hilfsblatt Ber. Wirtsch Wirk 3'!$D$11:$BX$96,87,FALSE),0))/100),0)","v":0},{"$f":"IFERROR((P$106*(HLOOKUP(P$105,'Hilfsblatt Ber. Wirtsch Wirk 3'!$D$11:$BW$96,$A111,FALSE)+IF(P$105=$C111,HLOOKUP(P$105,'Hilfsblatt Ber. Wirtsch Wirk 3'!$D$11:$BX$96,87,FALSE),0))/100),0)","v":0},{"$f":"IFERROR((Q$106*(HLOOKUP(Q$105,'Hilfsblatt Ber. Wirtsch Wirk 3'!$D$11:$BW$96,$A111,FALSE)+IF(Q$105=$C111,HLOOKUP(Q$105,'Hilfsblatt Ber. Wirtsch Wirk 3'!$D$11:$BX$96,87,FALSE),0))/100),0)","v":0},{"$f":"R$106*('Hilfsblatt Ber. Wirtsch Wirk 3'!BX16+'Hilfsblatt Ber. Wirtsch Wirk 3'!BX16*'Hilfsblatt Ber. Wirtsch Wirk 3'!CA16/'Hilfsblatt Ber. Wirtsch Wirk 3'!CB16)/100","v":0},{"$f":"SUM(D111:R111)","v":0},{"$f":"S111*'Hilfsblatt Ber. Wirtsch Wirk 3'!BZ16/('Hilfsblatt Ber. Wirtsch Wirk 3'!CA16)","v":0},{"$f":"S111/'Hilfsblatt Ber. Wirtsch Wirk 3'!CC16","v":0},{"$f":"T111*('Hilfsblatt Ber. Wirtsch Wirk 4'!B$14/'Hilfsblatt Ber. Wirtsch Wirk 4'!B$13)","v":0},{"$f":"S111*'Hilfsblatt Ber. Wirtsch Wirk 3'!CD16","v":0}]
[7,{"$f":"B12","v":"03"},"Fische, Fischerei- und Aquakulturerzeugnisse",{"$f":"IFERROR((D$106*(HLOOKUP(D$105,'Hilfsblatt Ber. Wirtsch Wirk 3'!$D$11:$BW$96,$A112,FALSE)+IF(D$105=$C112,HLOOKUP(D$105,'Hilfsblatt Ber. Wirtsch Wirk 3'!$D$11:$BX$96,87,FALSE),0))/100),0)","v":0},{"$f":"IFERROR((E$106*(HLOOKUP(E$105,'Hilfsblatt Ber. Wirtsch Wirk 3'!$D$11:$BW$96,$A112,FALSE)+IF(E$105=$C112,HLOOKUP(E$105,'Hilfsblatt Ber. Wirtsch Wirk 3'!$D$11:$BX$96,87,FALSE),0))/100),0)","v":0},{"$f":"IFERROR((F$106*(HLOOKUP(F$105,'Hilfsblatt Ber. Wirtsch Wirk 3'!$D$11:$BW$96,$A112,FALSE)+IF(F$105=$C112,HLOOKUP(F$105,'Hilfsblatt Ber. Wirtsch Wirk 3'!$D$11:$BX$96,87,FALSE),0))/100),0)","v":0},{"$f":"IFERROR((G$106*(HLOOKUP(G$105,'Hilfsblatt Ber. Wirtsch Wirk 3'!$D$11:$BW$96,$A112,FALSE)+IF(G$105=$C112,HLOOKUP(G$105,'Hilfsblatt Ber. Wirtsch Wirk 3'!$D$11:$BX$96,87,FALSE),0))/100),0)","v":0},{"$f":"IFERROR((H$106*(HLOOKUP(H$105,'Hilfsblatt Ber. Wirtsch Wirk 3'!$D$11:$BW$96,$A112,FALSE)+IF(H$105=$C112,HLOOKUP(H$105,'Hilfsblatt Ber. Wirtsch Wirk 3'!$D$11:$BX$96,87,FALSE),0))/100),0)","v":0},{"$f":"IFERROR((I$106*(HLOOKUP(I$105,'Hilfsblatt Ber. Wirtsch Wirk 3'!$D$11:$BW$96,$A112,FALSE)+IF(I$105=$C112,HLOOKUP(I$105,'Hilfsblatt Ber. Wirtsch Wirk 3'!$D$11:$BX$96,87,FALSE),0))/100),0)","v":0},{"$f":"IFERROR((J$106*(HLOOKUP(J$105,'Hilfsblatt Ber. Wirtsch Wirk 3'!$D$11:$BW$96,$A112,FALSE)+IF(J$105=$C112,HLOOKUP(J$105,'Hilfsblatt Ber. Wirtsch Wirk 3'!$D$11:$BX$96,87,FALSE),0))/100),0)","v":0},{"$f":"IFERROR((K$106*(HLOOKUP(K$105,'Hilfsblatt Ber. Wirtsch Wirk 3'!$D$11:$BW$96,$A112,FALSE)+IF(K$105=$C112,HLOOKUP(K$105,'Hilfsblatt Ber. Wirtsch Wirk 3'!$D$11:$BX$96,87,FALSE),0))/100),0)","v":0},{"$f":"IFERROR((L$106*(HLOOKUP(L$105,'Hilfsblatt Ber. Wirtsch Wirk 3'!$D$11:$BW$96,$A112,FALSE)+IF(L$105=$C112,HLOOKUP(L$105,'Hilfsblatt Ber. Wirtsch Wirk 3'!$D$11:$BX$96,87,FALSE),0))/100),0)","v":0},{"$f":"IFERROR((M$106*(HLOOKUP(M$105,'Hilfsblatt Ber. Wirtsch Wirk 3'!$D$11:$BW$96,$A112,FALSE)+IF(M$105=$C112,HLOOKUP(M$105,'Hilfsblatt Ber. Wirtsch Wirk 3'!$D$11:$BX$96,87,FALSE),0))/100),0)","v":0},{"$f":"IFERROR((N$106*(HLOOKUP(N$105,'Hilfsblatt Ber. Wirtsch Wirk 3'!$D$11:$BW$96,$A112,FALSE)+IF(N$105=$C112,HLOOKUP(N$105,'Hilfsblatt Ber. Wirtsch Wirk 3'!$D$11:$BX$96,87,FALSE),0))/100),0)","v":0},{"$f":"IFERROR((O$106*(HLOOKUP(O$105,'Hilfsblatt Ber. Wirtsch Wirk 3'!$D$11:$BW$96,$A112,FALSE)+IF(O$105=$C112,HLOOKUP(O$105,'Hilfsblatt Ber. Wirtsch Wirk 3'!$D$11:$BX$96,87,FALSE),0))/100),0)","v":0},{"$f":"IFERROR((P$106*(HLOOKUP(P$105,'Hilfsblatt Ber. Wirtsch Wirk 3'!$D$11:$BW$96,$A112,FALSE)+IF(P$105=$C112,HLOOKUP(P$105,'Hilfsblatt Ber. Wirtsch Wirk 3'!$D$11:$BX$96,87,FALSE),0))/100),0)","v":0},{"$f":"IFERROR((Q$106*(HLOOKUP(Q$105,'Hilfsblatt Ber. Wirtsch Wirk 3'!$D$11:$BW$96,$A112,FALSE)+IF(Q$105=$C112,HLOOKUP(Q$105,'Hilfsblatt Ber. Wirtsch Wirk 3'!$D$11:$BX$96,87,FALSE),0))/100),0)","v":0},{"$f":"R$106*('Hilfsblatt Ber. Wirtsch Wirk 3'!BX17+'Hilfsblatt Ber. Wirtsch Wirk 3'!BX17*'Hilfsblatt Ber. Wirtsch Wirk 3'!CA17/'Hilfsblatt Ber. Wirtsch Wirk 3'!CB17)/100","v":0},{"$f":"SUM(D112:R112)","v":0},{"$f":"S112*'Hilfsblatt Ber. Wirtsch Wirk 3'!BZ17/('Hilfsblatt Ber. Wirtsch Wirk 3'!CA17)","v":0},{"$f":"S112/'Hilfsblatt Ber. Wirtsch Wirk 3'!CC17","v":0},{"$f":"T112*('Hilfsblatt Ber. Wirtsch Wirk 4'!B$14/'Hilfsblatt Ber. Wirtsch Wirk 4'!B$13)","v":0},{"$f":"S112*'Hilfsblatt Ber. Wirtsch Wirk 3'!CD17","v":0}]
[8,{"$f":"B13","v":"05"},"Kohle",{"$f":"IFERROR((D$106*(HLOOKUP(D$105,'Hilfsblatt Ber. Wirtsch Wirk 3'!$D$11:$BW$96,$A113,FALSE)+IF(D$105=$C113,HLOOKUP(D$105,'Hilfsblatt Ber. Wirtsch Wirk 3'!$D$11:$BX$96,87,FALSE),0))/100),0)","v":0},{"$f":"IFERROR((E$106*(HLOOKUP(E$105,'Hilfsblatt Ber. Wirtsch Wirk 3'!$D$11:$BW$96,$A113,FALSE)+IF(E$105=$C113,HLOOKUP(E$105,'Hilfsblatt Ber. Wirtsch Wirk 3'!$D$11:$BX$96,87,FALSE),0))/100),0)","v":0},{"$f":"IFERROR((F$106*(HLOOKUP(F$105,'Hilfsblatt Ber. Wirtsch Wirk 3'!$D$11:$BW$96,$A113,FALSE)+IF(F$105=$C113,HLOOKUP(F$105,'Hilfsblatt Ber. Wirtsch Wirk 3'!$D$11:$BX$96,87,FALSE),0))/100),0)","v":0},{"$f":"IFERROR((G$106*(HLOOKUP(G$105,'Hilfsblatt Ber. Wirtsch Wirk 3'!$D$11:$BW$96,$A113,FALSE)+IF(G$105=$C113,HLOOKUP(G$105,'Hilfsblatt Ber. Wirtsch Wirk 3'!$D$11:$BX$96,87,FALSE),0))/100),0)","v":0},{"$f":"IFERROR((H$106*(HLOOKUP(H$105,'Hilfsblatt Ber. Wirtsch Wirk 3'!$D$11:$BW$96,$A113,FALSE)+IF(H$105=$C113,HLOOKUP(H$105,'Hilfsblatt Ber. Wirtsch Wirk 3'!$D$11:$BX$96,87,FALSE),0))/100),0)","v":0},{"$f":"IFERROR((I$106*(HLOOKUP(I$105,'Hilfsblatt Ber. Wirtsch Wirk 3'!$D$11:$BW$96,$A113,FALSE)+IF(I$105=$C113,HLOOKUP(I$105,'Hilfsblatt Ber. Wirtsch Wirk 3'!$D$11:$BX$96,87,FALSE),0))/100),0)","v":0},{"$f":"IFERROR((J$106*(HLOOKUP(J$105,'Hilfsblatt Ber. Wirtsch Wirk 3'!$D$11:$BW$96,$A113,FALSE)+IF(J$105=$C113,HLOOKUP(J$105,'Hilfsblatt Ber. Wirtsch Wirk 3'!$D$11:$BX$96,87,FALSE),0))/100),0)","v":0},{"$f":"IFERROR((K$106*(HLOOKUP(K$105,'Hilfsblatt Ber. Wirtsch Wirk 3'!$D$11:$BW$96,$A113,FALSE)+IF(K$105=$C113,HLOOKUP(K$105,'Hilfsblatt Ber. Wirtsch Wirk 3'!$D$11:$BX$96,87,FALSE),0))/100),0)","v":0},{"$f":"IFERROR((L$106*(HLOOKUP(L$105,'Hilfsblatt Ber. Wirtsch Wirk 3'!$D$11:$BW$96,$A113,FALSE)+IF(L$105=$C113,HLOOKUP(L$105,'Hilfsblatt Ber. Wirtsch Wirk 3'!$D$11:$BX$96,87,FALSE),0))/100),0)","v":0},{"$f":"IFERROR((M$106*(HLOOKUP(M$105,'Hilfsblatt Ber. Wirtsch Wirk 3'!$D$11:$BW$96,$A113,FALSE)+IF(M$105=$C113,HLOOKUP(M$105,'Hilfsblatt Ber. Wirtsch Wirk 3'!$D$11:$BX$96,87,FALSE),0))/100),0)","v":0},{"$f":"IFERROR((N$106*(HLOOKUP(N$105,'Hilfsblatt Ber. Wirtsch Wirk 3'!$D$11:$BW$96,$A113,FALSE)+IF(N$105=$C113,HLOOKUP(N$105,'Hilfsblatt Ber. Wirtsch Wirk 3'!$D$11:$BX$96,87,FALSE),0))/100),0)","v":0},{"$f":"IFERROR((O$106*(HLOOKUP(O$105,'Hilfsblatt Ber. Wirtsch Wirk 3'!$D$11:$BW$96,$A113,FALSE)+IF(O$105=$C113,HLOOKUP(O$105,'Hilfsblatt Ber. Wirtsch Wirk 3'!$D$11:$BX$96,87,FALSE),0))/100),0)","v":0},{"$f":"IFERROR((P$106*(HLOOKUP(P$105,'Hilfsblatt Ber. Wirtsch Wirk 3'!$D$11:$BW$96,$A113,FALSE)+IF(P$105=$C113,HLOOKUP(P$105,'Hilfsblatt Ber. Wirtsch Wirk 3'!$D$11:$BX$96,87,FALSE),0))/100),0)","v":0},{"$f":"IFERROR((Q$106*(HLOOKUP(Q$105,'Hilfsblatt Ber. Wirtsch Wirk 3'!$D$11:$BW$96,$A113,FALSE)+IF(Q$105=$C113,HLOOKUP(Q$105,'Hilfsblatt Ber. Wirtsch Wirk 3'!$D$11:$BX$96,87,FALSE),0))/100),0)","v":0},{"$f":"R$106*('Hilfsblatt Ber. Wirtsch Wirk 3'!BX18+'Hilfsblatt Ber. Wirtsch Wirk 3'!BX18*'Hilfsblatt Ber. Wirtsch Wirk 3'!CA18/'Hilfsblatt Ber. Wirtsch Wirk 3'!CB18)/100","v":0},0,{"$f":"S113*'Hilfsblatt Ber. Wirtsch Wirk 3'!BZ18/('Hilfsblatt Ber. Wirtsch Wirk 3'!CA18)","v":0},{"$f":"S113/'Hilfsblatt Ber. Wirtsch Wirk 3'!CC18","v":0},{"$f":"T113*('Hilfsblatt Ber. Wirtsch Wirk 4'!B$14/'Hilfsblatt Ber. Wirtsch Wirk 4'!B$13)","v":0},{"$f":"S113*'Hilfsblatt Ber. Wirtsch Wirk 3'!CD18","v":0}]
[9,{"$f":"B14","v":"06"},"Erdöl und Erdgas",{"$f":"IFERROR((D$106*(HLOOKUP(D$105,'Hilfsblatt Ber. Wirtsch Wirk 3'!$D$11:$BW$96,$A114,FALSE)+IF(D$105=$C114,HLOOKUP(D$105,'Hilfsblatt Ber. Wirtsch Wirk 3'!$D$11:$BX$96,87,FALSE),0))/100),0)","v":0},{"$f":"IFERROR((E$106*(HLOOKUP(E$105,'Hilfsblatt Ber. Wirtsch Wirk 3'!$D$11:$BW$96,$A114,FALSE)+IF(E$105=$C114,HLOOKUP(E$105,'Hilfsblatt Ber. Wirtsch Wirk 3'!$D$11:$BX$96,87,FALSE),0))/100),0)","v":0},{"$f":"IFERROR((F$106*(HLOOKUP(F$105,'Hilfsblatt Ber. Wirtsch Wirk 3'!$D$11:$BW$96,$A114,FALSE)+IF(F$105=$C114,HLOOKUP(F$105,'Hilfsblatt Ber. Wirtsch Wirk 3'!$D$11:$BX$96,87,FALSE),0))/100),0)","v":0},{"$f":"IFERROR((G$106*(HLOOKUP(G$105,'Hilfsblatt Ber. Wirtsch Wirk 3'!$D$11:$BW$96,$A114,FALSE)+IF(G$105=$C114,HLOOKUP(G$105,'Hilfsblatt Ber. Wirtsch Wirk 3'!$D$11:$BX$96,87,FALSE),0))/100),0)","v":0},{"$f":"IFERROR((H$106*(HLOOKUP(H$105,'Hilfsblatt Ber. Wirtsch Wirk 3'!$D$11:$BW$96,$A114,FALSE)+IF(H$105=$C114,HLOOKUP(H$105,'Hilfsblatt Ber. Wirtsch Wirk 3'!$D$11:$BX$96,87,FALSE),0))/100),0)","v":0},{"$f":"IFERROR((I$106*(HLOOKUP(I$105,'Hilfsblatt Ber. Wirtsch Wirk 3'!$D$11:$BW$96,$A114,FALSE)+IF(I$105=$C114,HLOOKUP(I$105,'Hilfsblatt Ber. Wirtsch Wirk 3'!$D$11:$BX$96,87,FALSE),0))/100),0)","v":0},{"$f":"IFERROR((J$106*(HLOOKUP(J$105,'Hilfsblatt Ber. Wirtsch Wirk 3'!$D$11:$BW$96,$A114,FALSE)+IF(J$105=$C114,HLOOKUP(J$105,'Hilfsblatt Ber. Wirtsch Wirk 3'!$D$11:$BX$96,87,FALSE),0))/100),0)","v":0},{"$f":"IFERROR((K$106*(HLOOKUP(K$105,'Hilfsblatt Ber. Wirtsch Wirk 3'!$D$11:$BW$96,$A114,FALSE)+IF(K$105=$C114,HLOOKUP(K$105,'Hilfsblatt Ber. Wirtsch Wirk 3'!$D$11:$BX$96,87,FALSE),0))/100),0)","v":0},{"$f":"IFERROR((L$106*(HLOOKUP(L$105,'Hilfsblatt Ber. Wirtsch Wirk 3'!$D$11:$BW$96,$A114,FALSE)+IF(L$105=$C114,HLOOKUP(L$105,'Hilfsblatt Ber. Wirtsch Wirk 3'!$D$11:$BX$96,87,FALSE),0))/100),0)","v":0},{"$f":"IFERROR((M$106*(HLOOKUP(M$105,'Hilfsblatt Ber. Wirtsch Wirk 3'!$D$11:$BW$96,$A114,FALSE)+IF(M$105=$C114,HLOOKUP(M$105,'Hilfsblatt Ber. Wirtsch Wirk 3'!$D$11:$BX$96,87,FALSE),0))/100),0)","v":0},{"$f":"IFERROR((N$106*(HLOOKUP(N$105,'Hilfsblatt Ber. Wirtsch Wirk 3'!$D$11:$BW$96,$A114,FALSE)+IF(N$105=$C114,HLOOKUP(N$105,'Hilfsblatt Ber. Wirtsch Wirk 3'!$D$11:$BX$96,87,FALSE),0))/100),0)","v":0},{"$f":"IFERROR((O$106*(HLOOKUP(O$105,'Hilfsblatt Ber. Wirtsch Wirk 3'!$D$11:$BW$96,$A114,FALSE)+IF(O$105=$C114,HLOOKUP(O$105,'Hilfsblatt Ber. Wirtsch Wirk 3'!$D$11:$BX$96,87,FALSE),0))/100),0)","v":0},{"$f":"IFERROR((P$106*(HLOOKUP(P$105,'Hilfsblatt Ber. Wirtsch Wirk 3'!$D$11:$BW$96,$A114,FALSE)+IF(P$105=$C114,HLOOKUP(P$105,'Hilfsblatt Ber. Wirtsch Wirk 3'!$D$11:$BX$96,87,FALSE),0))/100),0)","v":0},{"$f":"IFERROR((Q$106*(HLOOKUP(Q$105,'Hilfsblatt Ber. Wirtsch Wirk 3'!$D$11:$BW$96,$A114,FALSE)+IF(Q$105=$C114,HLOOKUP(Q$105,'Hilfsblatt Ber. Wirtsch Wirk 3'!$D$11:$BX$96,87,FALSE),0))/100),0)","v":0},{"$f":"R$106*('Hilfsblatt Ber. Wirtsch Wirk 3'!BX19+'Hilfsblatt Ber. Wirtsch Wirk 3'!BX19*'Hilfsblatt Ber. Wirtsch Wirk 3'!CA19/'Hilfsblatt Ber. Wirtsch Wirk 3'!CB19)/100","v":0},0,{"$f":"S114*'Hilfsblatt Ber. Wirtsch Wirk 3'!BZ19/('Hilfsblatt Ber. Wirtsch Wirk 3'!CA19)","v":0},{"$f":"S114/'Hilfsblatt Ber. Wirtsch Wirk 3'!CC19","v":0},{"$f":"T114*('Hilfsblatt Ber. Wirtsch Wirk 4'!B$14/'Hilfsblatt Ber. Wirtsch Wirk 4'!B$13)","v":0},{"$f":"S114*'Hilfsblatt Ber. Wirtsch Wirk 3'!CD19","v":0}]
[10,{"$f":"B15","v":"07-09"},"Erze, Steine u. Erden, sonst. Bergbauerzeugn. u. Dienstleistg.",{"$f":"IFERROR((D$106*(HLOOKUP(D$105,'Hilfsblatt Ber. Wirtsch Wirk 3'!$D$11:$BW$96,$A115,FALSE)+IF(D$105=$C115,HLOOKUP(D$105,'Hilfsblatt Ber. Wirtsch Wirk 3'!$D$11:$BX$96,87,FALSE),0))/100),0)","v":0},{"$f":"IFERROR((E$106*(HLOOKUP(E$105,'Hilfsblatt Ber. Wirtsch Wirk 3'!$D$11:$BW$96,$A115,FALSE)+IF(E$105=$C115,HLOOKUP(E$105,'Hilfsblatt Ber. Wirtsch Wirk 3'!$D$11:$BX$96,87,FALSE),0))/100),0)","v":0},{"$f":"IFERROR((F$106*(HLOOKUP(F$105,'Hilfsblatt Ber. Wirtsch Wirk 3'!$D$11:$BW$96,$A115,FALSE)+IF(F$105=$C115,HLOOKUP(F$105,'Hilfsblatt Ber. Wirtsch Wirk 3'!$D$11:$BX$96,87,FALSE),0))/100),0)","v":0},{"$f":"IFERROR((G$106*(HLOOKUP(G$105,'Hilfsblatt Ber. Wirtsch Wirk 3'!$D$11:$BW$96,$A115,FALSE)+IF(G$105=$C115,HLOOKUP(G$105,'Hilfsblatt Ber. Wirtsch Wirk 3'!$D$11:$BX$96,87,FALSE),0))/100),0)","v":0},{"$f":"IFERROR((H$106*(HLOOKUP(H$105,'Hilfsblatt Ber. Wirtsch Wirk 3'!$D$11:$BW$96,$A115,FALSE)+IF(H$105=$C115,HLOOKUP(H$105,'Hilfsblatt Ber. Wirtsch Wirk 3'!$D$11:$BX$96,87,FALSE),0))/100),0)","v":0},{"$f":"IFERROR((I$106*(HLOOKUP(I$105,'Hilfsblatt Ber. Wirtsch Wirk 3'!$D$11:$BW$96,$A115,FALSE)+IF(I$105=$C115,HLOOKUP(I$105,'Hilfsblatt Ber. Wirtsch Wirk 3'!$D$11:$BX$96,87,FALSE),0))/100),0)","v":0},{"$f":"IFERROR((J$106*(HLOOKUP(J$105,'Hilfsblatt Ber. Wirtsch Wirk 3'!$D$11:$BW$96,$A115,FALSE)+IF(J$105=$C115,HLOOKUP(J$105,'Hilfsblatt Ber. Wirtsch Wirk 3'!$D$11:$BX$96,87,FALSE),0))/100),0)","v":0},{"$f":"IFERROR((K$106*(HLOOKUP(K$105,'Hilfsblatt Ber. Wirtsch Wirk 3'!$D$11:$BW$96,$A115,FALSE)+IF(K$105=$C115,HLOOKUP(K$105,'Hilfsblatt Ber. Wirtsch Wirk 3'!$D$11:$BX$96,87,FALSE),0))/100),0)","v":0},{"$f":"IFERROR((L$106*(HLOOKUP(L$105,'Hilfsblatt Ber. Wirtsch Wirk 3'!$D$11:$BW$96,$A115,FALSE)+IF(L$105=$C115,HLOOKUP(L$105,'Hilfsblatt Ber. Wirtsch Wirk 3'!$D$11:$BX$96,87,FALSE),0))/100),0)","v":0},{"$f":"IFERROR((M$106*(HLOOKUP(M$105,'Hilfsblatt Ber. Wirtsch Wirk 3'!$D$11:$BW$96,$A115,FALSE)+IF(M$105=$C115,HLOOKUP(M$105,'Hilfsblatt Ber. Wirtsch Wirk 3'!$D$11:$BX$96,87,FALSE),0))/100),0)","v":0},{"$f":"IFERROR((N$106*(HLOOKUP(N$105,'Hilfsblatt Ber. Wirtsch Wirk 3'!$D$11:$BW$96,$A115,FALSE)+IF(N$105=$C115,HLOOKUP(N$105,'Hilfsblatt Ber. Wirtsch Wirk 3'!$D$11:$BX$96,87,FALSE),0))/100),0)","v":0},{"$f":"IFERROR((O$106*(HLOOKUP(O$105,'Hilfsblatt Ber. Wirtsch Wirk 3'!$D$11:$BW$96,$A115,FALSE)+IF(O$105=$C115,HLOOKUP(O$105,'Hilfsblatt Ber. Wirtsch Wirk 3'!$D$11:$BX$96,87,FALSE),0))/100),0)","v":0},{"$f":"IFERROR((P$106*(HLOOKUP(P$105,'Hilfsblatt Ber. Wirtsch Wirk 3'!$D$11:$BW$96,$A115,FALSE)+IF(P$105=$C115,HLOOKUP(P$105,'Hilfsblatt Ber. Wirtsch Wirk 3'!$D$11:$BX$96,87,FALSE),0))/100),0)","v":0},{"$f":"IFERROR((Q$106*(HLOOKUP(Q$105,'Hilfsblatt Ber. Wirtsch Wirk 3'!$D$11:$BW$96,$A115,FALSE)+IF(Q$105=$C115,HLOOKUP(Q$105,'Hilfsblatt Ber. Wirtsch Wirk 3'!$D$11:$BX$96,87,FALSE),0))/100),0)","v":0},{"$f":"R$106*('Hilfsblatt Ber. Wirtsch Wirk 3'!BX20+'Hilfsblatt Ber. Wirtsch Wirk 3'!BX20*'Hilfsblatt Ber. Wirtsch Wirk 3'!CA20/'Hilfsblatt Ber. Wirtsch Wirk 3'!CB20)/100","v":0},0,{"$f":"S115*'Hilfsblatt Ber. Wirtsch Wirk 3'!BZ20/('Hilfsblatt Ber. Wirtsch Wirk 3'!CA20)","v":0},{"$f":"S115/'Hilfsblatt Ber. Wirtsch Wirk 3'!CC20","v":0},{"$f":"T115*('Hilfsblatt Ber. Wirtsch Wirk 4'!B$14/'Hilfsblatt Ber. Wirtsch Wirk 4'!B$13)","v":0},{"$f":"S115*'Hilfsblatt Ber. Wirtsch Wirk 3'!CD20","v":0}]
[11,{"$f":"B16","v":"10-12"},"Nahrungs- und Futtermittel, Getränke, Tabakerzeugnisse",{"$f":"IFERROR((D$106*(HLOOKUP(D$105,'Hilfsblatt Ber. Wirtsch Wirk 3'!$D$11:$BW$96,$A116,FALSE)+IF(D$105=$C116,HLOOKUP(D$105,'Hilfsblatt Ber. Wirtsch Wirk 3'!$D$11:$BX$96,87,FALSE),0))/100),0)","v":0},{"$f":"IFERROR((E$106*(HLOOKUP(E$105,'Hilfsblatt Ber. Wirtsch Wirk 3'!$D$11:$BW$96,$A116,FALSE)+IF(E$105=$C116,HLOOKUP(E$105,'Hilfsblatt Ber. Wirtsch Wirk 3'!$D$11:$BX$96,87,FALSE),0))/100),0)","v":0},{"$f":"IFERROR((F$106*(HLOOKUP(F$105,'Hilfsblatt Ber. Wirtsch Wirk 3'!$D$11:$BW$96,$A116,FALSE)+IF(F$105=$C116,HLOOKUP(F$105,'Hilfsblatt Ber. Wirtsch Wirk 3'!$D$11:$BX$96,87,FALSE),0))/100),0)","v":0},{"$f":"IFERROR((G$106*(HLOOKUP(G$105,'Hilfsblatt Ber. Wirtsch Wirk 3'!$D$11:$BW$96,$A116,FALSE)+IF(G$105=$C116,HLOOKUP(G$105,'Hilfsblatt Ber. Wirtsch Wirk 3'!$D$11:$BX$96,87,FALSE),0))/100),0)","v":0},{"$f":"IFERROR((H$106*(HLOOKUP(H$105,'Hilfsblatt Ber. Wirtsch Wirk 3'!$D$11:$BW$96,$A116,FALSE)+IF(H$105=$C116,HLOOKUP(H$105,'Hilfsblatt Ber. Wirtsch Wirk 3'!$D$11:$BX$96,87,FALSE),0))/100),0)","v":0},{"$f":"IFERROR((I$106*(HLOOKUP(I$105,'Hilfsblatt Ber. Wirtsch Wirk 3'!$D$11:$BW$96,$A116,FALSE)+IF(I$105=$C116,HLOOKUP(I$105,'Hilfsblatt Ber. Wirtsch Wirk 3'!$D$11:$BX$96,87,FALSE),0))/100),0)","v":0},{"$f":"IFERROR((J$106*(HLOOKUP(J$105,'Hilfsblatt Ber. Wirtsch Wirk 3'!$D$11:$BW$96,$A116,FALSE)+IF(J$105=$C116,HLOOKUP(J$105,'Hilfsblatt Ber. Wirtsch Wirk 3'!$D$11:$BX$96,87,FALSE),0))/100),0)","v":0},{"$f":"IFERROR((K$106*(HLOOKUP(K$105,'Hilfsblatt Ber. Wirtsch Wirk 3'!$D$11:$BW$96,$A116,FALSE)+IF(K$105=$C116,HLOOKUP(K$105,'Hilfsblatt Ber. Wirtsch Wirk 3'!$D$11:$BX$96,87,FALSE),0))/100),0)","v":0},{"$f":"IFERROR((L$106*(HLOOKUP(L$105,'Hilfsblatt Ber. Wirtsch Wirk 3'!$D$11:$BW$96,$A116,FALSE)+IF(L$105=$C116,HLOOKUP(L$105,'Hilfsblatt Ber. Wirtsch Wirk 3'!$D$11:$BX$96,87,FALSE),0))/100),0)","v":0},{"$f":"IFERROR((M$106*(HLOOKUP(M$105,'Hilfsblatt Ber. Wirtsch Wirk 3'!$D$11:$BW$96,$A116,FALSE)+IF(M$105=$C116,HLOOKUP(M$105,'Hilfsblatt Ber. Wirtsch Wirk 3'!$D$11:$BX$96,87,FALSE),0))/100),0)","v":0},{"$f":"IFERROR((N$106*(HLOOKUP(N$105,'Hilfsblatt Ber. Wirtsch Wirk 3'!$D$11:$BW$96,$A116,FALSE)+IF(N$105=$C116,HLOOKUP(N$105,'Hilfsblatt Ber. Wirtsch Wirk 3'!$D$11:$BX$96,87,FALSE),0))/100),0)","v":0},{"$f":"IFERROR((O$106*(HLOOKUP(O$105,'Hilfsblatt Ber. Wirtsch Wirk 3'!$D$11:$BW$96,$A116,FALSE)+IF(O$105=$C116,HLOOKUP(O$105,'Hilfsblatt Ber. Wirtsch Wirk 3'!$D$11:$BX$96,87,FALSE),0))/100),0)","v":0},{"$f":"IFERROR((P$106*(HLOOKUP(P$105,'Hilfsblatt Ber. Wirtsch Wirk 3'!$D$11:$BW$96,$A116,FALSE)+IF(P$105=$C116,HLOOKUP(P$105,'Hilfsblatt Ber. Wirtsch Wirk 3'!$D$11:$BX$96,87,FALSE),0))/100),0)","v":0},{"$f":"IFERROR((Q$106*(HLOOKUP(Q$105,'Hilfsblatt Ber. Wirtsch Wirk 3'!$D$11:$BW$96,$A116,FALSE)+IF(Q$105=$C116,HLOOKUP(Q$105,'Hilfsblatt Ber. Wirtsch Wirk 3'!$D$11:$BX$96,87,FALSE),0))/100),0)","v":0},{"$f":"R$106*('Hilfsblatt Ber. Wirtsch Wirk 3'!BX21+'Hilfsblatt Ber. Wirtsch Wirk 3'!BX21*'Hilfsblatt Ber. Wirtsch Wirk 3'!CA21/'Hilfsblatt Ber. Wirtsch Wirk 3'!CB21)/100","v":0},0,{"$f":"S116*'Hilfsblatt Ber. Wirtsch Wirk 3'!BZ21/('Hilfsblatt Ber. Wirtsch Wirk 3'!CA21)","v":0},{"$f":"S116/'Hilfsblatt Ber. Wirtsch Wirk 3'!CC21","v":0},{"$f":"T116*('Hilfsblatt Ber. Wirtsch Wirk 4'!B$14/'Hilfsblatt Ber. Wirtsch Wirk 4'!B$13)","v":0},{"$f":"S116*'Hilfsblatt Ber. Wirtsch Wirk 3'!CD21","v":0}]
[12,{"$f":"B17","v":"13-15"},"Textilien, Bekleidung, Leder- und Lederwaren",{"$f":"IFERROR((D$106*(HLOOKUP(D$105,'Hilfsblatt Ber. Wirtsch Wirk 3'!$D$11:$BW$96,$A117,FALSE)+IF(D$105=$C117,HLOOKUP(D$105,'Hilfsblatt Ber. Wirtsch Wirk 3'!$D$11:$BX$96,87,FALSE),0))/100),0)","v":0},{"$f":"IFERROR((E$106*(HLOOKUP(E$105,'Hilfsblatt Ber. Wirtsch Wirk 3'!$D$11:$BW$96,$A117,FALSE)+IF(E$105=$C117,HLOOKUP(E$105,'Hilfsblatt Ber. Wirtsch Wirk 3'!$D$11:$BX$96,87,FALSE),0))/100),0)","v":0},{"$f":"IFERROR((F$106*(HLOOKUP(F$105,'Hilfsblatt Ber. Wirtsch Wirk 3'!$D$11:$BW$96,$A117,FALSE)+IF(F$105=$C117,HLOOKUP(F$105,'Hilfsblatt Ber. Wirtsch Wirk 3'!$D$11:$BX$96,87,FALSE),0))/100),0)","v":0},{"$f":"IFERROR((G$106*(HLOOKUP(G$105,'Hilfsblatt Ber. Wirtsch Wirk 3'!$D$11:$BW$96,$A117,FALSE)+IF(G$105=$C117,HLOOKUP(G$105,'Hilfsblatt Ber. Wirtsch Wirk 3'!$D$11:$BX$96,87,FALSE),0))/100),0)","v":0},{"$f":"IFERROR((H$106*(HLOOKUP(H$105,'Hilfsblatt Ber. Wirtsch Wirk 3'!$D$11:$BW$96,$A117,FALSE)+IF(H$105=$C117,HLOOKUP(H$105,'Hilfsblatt Ber. Wirtsch Wirk 3'!$D$11:$BX$96,87,FALSE),0))/100),0)","v":0},{"$f":"IFERROR((I$106*(HLOOKUP(I$105,'Hilfsblatt Ber. Wirtsch Wirk 3'!$D$11:$BW$96,$A117,FALSE)+IF(I$105=$C117,HLOOKUP(I$105,'Hilfsblatt Ber. Wirtsch Wirk 3'!$D$11:$BX$96,87,FALSE),0))/100),0)","v":0},{"$f":"IFERROR((J$106*(HLOOKUP(J$105,'Hilfsblatt Ber. Wirtsch Wirk 3'!$D$11:$BW$96,$A117,FALSE)+IF(J$105=$C117,HLOOKUP(J$105,'Hilfsblatt Ber. Wirtsch Wirk 3'!$D$11:$BX$96,87,FALSE),0))/100),0)","v":0},{"$f":"IFERROR((K$106*(HLOOKUP(K$105,'Hilfsblatt Ber. Wirtsch Wirk 3'!$D$11:$BW$96,$A117,FALSE)+IF(K$105=$C117,HLOOKUP(K$105,'Hilfsblatt Ber. Wirtsch Wirk 3'!$D$11:$BX$96,87,FALSE),0))/100),0)","v":0},{"$f":"IFERROR((L$106*(HLOOKUP(L$105,'Hilfsblatt Ber. Wirtsch Wirk 3'!$D$11:$BW$96,$A117,FALSE)+IF(L$105=$C117,HLOOKUP(L$105,'Hilfsblatt Ber. Wirtsch Wirk 3'!$D$11:$BX$96,87,FALSE),0))/100),0)","v":0},{"$f":"IFERROR((M$106*(HLOOKUP(M$105,'Hilfsblatt Ber. Wirtsch Wirk 3'!$D$11:$BW$96,$A117,FALSE)+IF(M$105=$C117,HLOOKUP(M$105,'Hilfsblatt Ber. Wirtsch Wirk 3'!$D$11:$BX$96,87,FALSE),0))/100),0)","v":0},{"$f":"IFERROR((N$106*(HLOOKUP(N$105,'Hilfsblatt Ber. Wirtsch Wirk 3'!$D$11:$BW$96,$A117,FALSE)+IF(N$105=$C117,HLOOKUP(N$105,'Hilfsblatt Ber. Wirtsch Wirk 3'!$D$11:$BX$96,87,FALSE),0))/100),0)","v":0},{"$f":"IFERROR((O$106*(HLOOKUP(O$105,'Hilfsblatt Ber. Wirtsch Wirk 3'!$D$11:$BW$96,$A117,FALSE)+IF(O$105=$C117,HLOOKUP(O$105,'Hilfsblatt Ber. Wirtsch Wirk 3'!$D$11:$BX$96,87,FALSE),0))/100),0)","v":0},{"$f":"IFERROR((P$106*(HLOOKUP(P$105,'Hilfsblatt Ber. Wirtsch Wirk 3'!$D$11:$BW$96,$A117,FALSE)+IF(P$105=$C117,HLOOKUP(P$105,'Hilfsblatt Ber. Wirtsch Wirk 3'!$D$11:$BX$96,87,FALSE),0))/100),0)","v":0},{"$f":"IFERROR((Q$106*(HLOOKUP(Q$105,'Hilfsblatt Ber. Wirtsch Wirk 3'!$D$11:$BW$96,$A117,FALSE)+IF(Q$105=$C117,HLOOKUP(Q$105,'Hilfsblatt Ber. Wirtsch Wirk 3'!$D$11:$BX$96,87,FALSE),0))/100),0)","v":0},{"$f":"R$106*('Hilfsblatt Ber. Wirtsch Wirk 3'!BX22+'Hilfsblatt Ber. Wirtsch Wirk 3'!BX22*'Hilfsblatt Ber. Wirtsch Wirk 3'!CA22/'Hilfsblatt Ber. Wirtsch Wirk 3'!CB22)/100","v":0},0,{"$f":"S117*'Hilfsblatt Ber. Wirtsch Wirk 3'!BZ22/('Hilfsblatt Ber. Wirtsch Wirk 3'!CA22)","v":0},{"$f":"S117/'Hilfsblatt Ber. Wirtsch Wirk 3'!CC22","v":0},{"$f":"T117*('Hilfsblatt Ber. Wirtsch Wirk 4'!B$14/'Hilfsblatt Ber. Wirtsch Wirk 4'!B$13)","v":0},{"$f":"S117*'Hilfsblatt Ber. Wirtsch Wirk 3'!CD22","v":0}]
[13,{"$f":"B18","v":"16"},"Holz, Holz-, Flecht-, Korb- und Korkwaren (ohne Möbel)",{"$f":"IFERROR((D$106*(HLOOKUP(D$105,'Hilfsblatt Ber. Wirtsch Wirk 3'!$D$11:$BW$96,$A118,FALSE)+IF(D$105=$C118,HLOOKUP(D$105,'Hilfsblatt Ber. Wirtsch Wirk 3'!$D$11:$BX$96,87,FALSE),0))/100),0)","v":0},{"$f":"IFERROR((E$106*(HLOOKUP(E$105,'Hilfsblatt Ber. Wirtsch Wirk 3'!$D$11:$BW$96,$A118,FALSE)+IF(E$105=$C118,HLOOKUP(E$105,'Hilfsblatt Ber. Wirtsch Wirk 3'!$D$11:$BX$96,87,FALSE),0))/100),0)","v":0},{"$f":"IFERROR((F$106*(HLOOKUP(F$105,'Hilfsblatt Ber. Wirtsch Wirk 3'!$D$11:$BW$96,$A118,FALSE)+IF(F$105=$C118,HLOOKUP(F$105,'Hilfsblatt Ber. Wirtsch Wirk 3'!$D$11:$BX$96,87,FALSE),0))/100),0)","v":0},{"$f":"IFERROR((G$106*(HLOOKUP(G$105,'Hilfsblatt Ber. Wirtsch Wirk 3'!$D$11:$BW$96,$A118,FALSE)+IF(G$105=$C118,HLOOKUP(G$105,'Hilfsblatt Ber. Wirtsch Wirk 3'!$D$11:$BX$96,87,FALSE),0))/100),0)","v":0},{"$f":"IFERROR((H$106*(HLOOKUP(H$105,'Hilfsblatt Ber. Wirtsch Wirk 3'!$D$11:$BW$96,$A118,FALSE)+IF(H$105=$C118,HLOOKUP(H$105,'Hilfsblatt Ber. Wirtsch Wirk 3'!$D$11:$BX$96,87,FALSE),0))/100),0)","v":0},{"$f":"IFERROR((I$106*(HLOOKUP(I$105,'Hilfsblatt Ber. Wirtsch Wirk 3'!$D$11:$BW$96,$A118,FALSE)+IF(I$105=$C118,HLOOKUP(I$105,'Hilfsblatt Ber. Wirtsch Wirk 3'!$D$11:$BX$96,87,FALSE),0))/100),0)","v":0},{"$f":"IFERROR((J$106*(HLOOKUP(J$105,'Hilfsblatt Ber. Wirtsch Wirk 3'!$D$11:$BW$96,$A118,FALSE)+IF(J$105=$C118,HLOOKUP(J$105,'Hilfsblatt Ber. Wirtsch Wirk 3'!$D$11:$BX$96,87,FALSE),0))/100),0)","v":0},{"$f":"IFERROR((K$106*(HLOOKUP(K$105,'Hilfsblatt Ber. Wirtsch Wirk 3'!$D$11:$BW$96,$A118,FALSE)+IF(K$105=$C118,HLOOKUP(K$105,'Hilfsblatt Ber. Wirtsch Wirk 3'!$D$11:$BX$96,87,FALSE),0))/100),0)","v":0},{"$f":"IFERROR((L$106*(HLOOKUP(L$105,'Hilfsblatt Ber. Wirtsch Wirk 3'!$D$11:$BW$96,$A118,FALSE)+IF(L$105=$C118,HLOOKUP(L$105,'Hilfsblatt Ber. Wirtsch Wirk 3'!$D$11:$BX$96,87,FALSE),0))/100),0)","v":0},{"$f":"IFERROR((M$106*(HLOOKUP(M$105,'Hilfsblatt Ber. Wirtsch Wirk 3'!$D$11:$BW$96,$A118,FALSE)+IF(M$105=$C118,HLOOKUP(M$105,'Hilfsblatt Ber. Wirtsch Wirk 3'!$D$11:$BX$96,87,FALSE),0))/100),0)","v":0},{"$f":"IFERROR((N$106*(HLOOKUP(N$105,'Hilfsblatt Ber. Wirtsch Wirk 3'!$D$11:$BW$96,$A118,FALSE)+IF(N$105=$C118,HLOOKUP(N$105,'Hilfsblatt Ber. Wirtsch Wirk 3'!$D$11:$BX$96,87,FALSE),0))/100),0)","v":0},{"$f":"IFERROR((O$106*(HLOOKUP(O$105,'Hilfsblatt Ber. Wirtsch Wirk 3'!$D$11:$BW$96,$A118,FALSE)+IF(O$105=$C118,HLOOKUP(O$105,'Hilfsblatt Ber. Wirtsch Wirk 3'!$D$11:$BX$96,87,FALSE),0))/100),0)","v":0},{"$f":"IFERROR((P$106*(HLOOKUP(P$105,'Hilfsblatt Ber. Wirtsch Wirk 3'!$D$11:$BW$96,$A118,FALSE)+IF(P$105=$C118,HLOOKUP(P$105,'Hilfsblatt Ber. Wirtsch Wirk 3'!$D$11:$BX$96,87,FALSE),0))/100),0)","v":0},{"$f":"IFERROR((Q$106*(HLOOKUP(Q$105,'Hilfsblatt Ber. Wirtsch Wirk 3'!$D$11:$BW$96,$A118,FALSE)+IF(Q$105=$C118,HLOOKUP(Q$105,'Hilfsblatt Ber. Wirtsch Wirk 3'!$D$11:$BX$96,87,FALSE),0))/100),0)","v":0},{"$f":"R$106*('Hilfsblatt Ber. Wirtsch Wirk 3'!BX23+'Hilfsblatt Ber. Wirtsch Wirk 3'!BX23*'Hilfsblatt Ber. Wirtsch Wirk 3'!CA23/'Hilfsblatt Ber. Wirtsch Wirk 3'!CB23)/100","v":0},0,{"$f":"S118*'Hilfsblatt Ber. Wirtsch Wirk 3'!BZ23/('Hilfsblatt Ber. Wirtsch Wirk 3'!CA23)","v":0},{"$f":"S118/'Hilfsblatt Ber. Wirtsch Wirk 3'!CC23","v":0},{"$f":"T118*('Hilfsblatt Ber. Wirtsch Wirk 4'!B$14/'Hilfsblatt Ber. Wirtsch Wirk 4'!B$13)","v":0},{"$f":"S118*'Hilfsblatt Ber. Wirtsch Wirk 3'!CD23","v":0}]
[14,{"$f":"B19","v":"17"},"Papier, Pappe und Waren daraus",{"$f":"IFERROR((D$106*(HLOOKUP(D$105,'Hilfsblatt Ber. Wirtsch Wirk 3'!$D$11:$BW$96,$A119,FALSE)+IF(D$105=$C119,HLOOKUP(D$105,'Hilfsblatt Ber. Wirtsch Wirk 3'!$D$11:$BX$96,87,FALSE),0))/100),0)","v":0},{"$f":"IFERROR((E$106*(HLOOKUP(E$105,'Hilfsblatt Ber. Wirtsch Wirk 3'!$D$11:$BW$96,$A119,FALSE)+IF(E$105=$C119,HLOOKUP(E$105,'Hilfsblatt Ber. Wirtsch Wirk 3'!$D$11:$BX$96,87,FALSE),0))/100),0)","v":0},{"$f":"IFERROR((F$106*(HLOOKUP(F$105,'Hilfsblatt Ber. Wirtsch Wirk 3'!$D$11:$BW$96,$A119,FALSE)+IF(F$105=$C119,HLOOKUP(F$105,'Hilfsblatt Ber. Wirtsch Wirk 3'!$D$11:$BX$96,87,FALSE),0))/100),0)","v":0},{"$f":"IFERROR((G$106*(HLOOKUP(G$105,'Hilfsblatt Ber. Wirtsch Wirk 3'!$D$11:$BW$96,$A119,FALSE)+IF(G$105=$C119,HLOOKUP(G$105,'Hilfsblatt Ber. Wirtsch Wirk 3'!$D$11:$BX$96,87,FALSE),0))/100),0)","v":0},{"$f":"IFERROR((H$106*(HLOOKUP(H$105,'Hilfsblatt Ber. Wirtsch Wirk 3'!$D$11:$BW$96,$A119,FALSE)+IF(H$105=$C119,HLOOKUP(H$105,'Hilfsblatt Ber. Wirtsch Wirk 3'!$D$11:$BX$96,87,FALSE),0))/100),0)","v":0},{"$f":"IFERROR((I$106*(HLOOKUP(I$105,'Hilfsblatt Ber. Wirtsch Wirk 3'!$D$11:$BW$96,$A119,FALSE)+IF(I$105=$C119,HLOOKUP(I$105,'Hilfsblatt Ber. Wirtsch Wirk 3'!$D$11:$BX$96,87,FALSE),0))/100),0)","v":0},{"$f":"IFERROR((J$106*(HLOOKUP(J$105,'Hilfsblatt Ber. Wirtsch Wirk 3'!$D$11:$BW$96,$A119,FALSE)+IF(J$105=$C119,HLOOKUP(J$105,'Hilfsblatt Ber. Wirtsch Wirk 3'!$D$11:$BX$96,87,FALSE),0))/100),0)","v":0},{"$f":"IFERROR((K$106*(HLOOKUP(K$105,'Hilfsblatt Ber. Wirtsch Wirk 3'!$D$11:$BW$96,$A119,FALSE)+IF(K$105=$C119,HLOOKUP(K$105,'Hilfsblatt Ber. Wirtsch Wirk 3'!$D$11:$BX$96,87,FALSE),0))/100),0)","v":0},{"$f":"IFERROR((L$106*(HLOOKUP(L$105,'Hilfsblatt Ber. Wirtsch Wirk 3'!$D$11:$BW$96,$A119,FALSE)+IF(L$105=$C119,HLOOKUP(L$105,'Hilfsblatt Ber. Wirtsch Wirk 3'!$D$11:$BX$96,87,FALSE),0))/100),0)","v":0},{"$f":"IFERROR((M$106*(HLOOKUP(M$105,'Hilfsblatt Ber. Wirtsch Wirk 3'!$D$11:$BW$96,$A119,FALSE)+IF(M$105=$C119,HLOOKUP(M$105,'Hilfsblatt Ber. Wirtsch Wirk 3'!$D$11:$BX$96,87,FALSE),0))/100),0)","v":0},{"$f":"IFERROR((N$106*(HLOOKUP(N$105,'Hilfsblatt Ber. Wirtsch Wirk 3'!$D$11:$BW$96,$A119,FALSE)+IF(N$105=$C119,HLOOKUP(N$105,'Hilfsblatt Ber. Wirtsch Wirk 3'!$D$11:$BX$96,87,FALSE),0))/100),0)","v":0},{"$f":"IFERROR((O$106*(HLOOKUP(O$105,'Hilfsblatt Ber. Wirtsch Wirk 3'!$D$11:$BW$96,$A119,FALSE)+IF(O$105=$C119,HLOOKUP(O$105,'Hilfsblatt Ber. Wirtsch Wirk 3'!$D$11:$BX$96,87,FALSE),0))/100),0)","v":0},{"$f":"IFERROR((P$106*(HLOOKUP(P$105,'Hilfsblatt Ber. Wirtsch Wirk 3'!$D$11:$BW$96,$A119,FALSE)+IF(P$105=$C119,HLOOKUP(P$105,'Hilfsblatt Ber. Wirtsch Wirk 3'!$D$11:$BX$96,87,FALSE),0))/100),0)","v":0},{"$f":"IFERROR((Q$106*(HLOOKUP(Q$105,'Hilfsblatt Ber. Wirtsch Wirk 3'!$D$11:$BW$96,$A119,FALSE)+IF(Q$105=$C119,HLOOKUP(Q$105,'Hilfsblatt Ber. Wirtsch Wirk 3'!$D$11:$BX$96,87,FALSE),0))/100),0)","v":0},{"$f":"R$106*('Hilfsblatt Ber. Wirtsch Wirk 3'!BX24+'Hilfsblatt Ber. Wirtsch Wirk 3'!BX24*'Hilfsblatt Ber. Wirtsch Wirk 3'!CA24/'Hilfsblatt Ber. Wirtsch Wirk 3'!CB24)/100","v":0},0,{"$f":"S119*'Hilfsblatt Ber. Wirtsch Wirk 3'!BZ24/('Hilfsblatt Ber. Wirtsch Wirk 3'!CA24)","v":0},{"$f":"S119/'Hilfsblatt Ber. Wirtsch Wirk 3'!CC24","v":0},{"$f":"T119*('Hilfsblatt Ber. Wirtsch Wirk 4'!B$14/'Hilfsblatt Ber. Wirtsch Wirk 4'!B$13)","v":0},{"$f":"S119*'Hilfsblatt Ber. Wirtsch Wirk 3'!CD24","v":0}]
[15,{"$f":"B20","v":"18"},"Druckereileistungen, bespielte Ton-, Bild- und Datenträger",{"$f":"IFERROR((D$106*(HLOOKUP(D$105,'Hilfsblatt Ber. Wirtsch Wirk 3'!$D$11:$BW$96,$A120,FALSE)+IF(D$105=$C120,HLOOKUP(D$105,'Hilfsblatt Ber. Wirtsch Wirk 3'!$D$11:$BX$96,87,FALSE),0))/100),0)","v":0},{"$f":"IFERROR((E$106*(HLOOKUP(E$105,'Hilfsblatt Ber. Wirtsch Wirk 3'!$D$11:$BW$96,$A120,FALSE)+IF(E$105=$C120,HLOOKUP(E$105,'Hilfsblatt Ber. Wirtsch Wirk 3'!$D$11:$BX$96,87,FALSE),0))/100),0)","v":0},{"$f":"IFERROR((F$106*(HLOOKUP(F$105,'Hilfsblatt Ber. Wirtsch Wirk 3'!$D$11:$BW$96,$A120,FALSE)+IF(F$105=$C120,HLOOKUP(F$105,'Hilfsblatt Ber. Wirtsch Wirk 3'!$D$11:$BX$96,87,FALSE),0))/100),0)","v":0},{"$f":"IFERROR((G$106*(HLOOKUP(G$105,'Hilfsblatt Ber. Wirtsch Wirk 3'!$D$11:$BW$96,$A120,FALSE)+IF(G$105=$C120,HLOOKUP(G$105,'Hilfsblatt Ber. Wirtsch Wirk 3'!$D$11:$BX$96,87,FALSE),0))/100),0)","v":0},{"$f":"IFERROR((H$106*(HLOOKUP(H$105,'Hilfsblatt Ber. Wirtsch Wirk 3'!$D$11:$BW$96,$A120,FALSE)+IF(H$105=$C120,HLOOKUP(H$105,'Hilfsblatt Ber. Wirtsch Wirk 3'!$D$11:$BX$96,87,FALSE),0))/100),0)","v":0},{"$f":"IFERROR((I$106*(HLOOKUP(I$105,'Hilfsblatt Ber. Wirtsch Wirk 3'!$D$11:$BW$96,$A120,FALSE)+IF(I$105=$C120,HLOOKUP(I$105,'Hilfsblatt Ber. Wirtsch Wirk 3'!$D$11:$BX$96,87,FALSE),0))/100),0)","v":0},{"$f":"IFERROR((J$106*(HLOOKUP(J$105,'Hilfsblatt Ber. Wirtsch Wirk 3'!$D$11:$BW$96,$A120,FALSE)+IF(J$105=$C120,HLOOKUP(J$105,'Hilfsblatt Ber. Wirtsch Wirk 3'!$D$11:$BX$96,87,FALSE),0))/100),0)","v":0},{"$f":"IFERROR((K$106*(HLOOKUP(K$105,'Hilfsblatt Ber. Wirtsch Wirk 3'!$D$11:$BW$96,$A120,FALSE)+IF(K$105=$C120,HLOOKUP(K$105,'Hilfsblatt Ber. Wirtsch Wirk 3'!$D$11:$BX$96,87,FALSE),0))/100),0)","v":0},{"$f":"IFERROR((L$106*(HLOOKUP(L$105,'Hilfsblatt Ber. Wirtsch Wirk 3'!$D$11:$BW$96,$A120,FALSE)+IF(L$105=$C120,HLOOKUP(L$105,'Hilfsblatt Ber. Wirtsch Wirk 3'!$D$11:$BX$96,87,FALSE),0))/100),0)","v":0},{"$f":"IFERROR((M$106*(HLOOKUP(M$105,'Hilfsblatt Ber. Wirtsch Wirk 3'!$D$11:$BW$96,$A120,FALSE)+IF(M$105=$C120,HLOOKUP(M$105,'Hilfsblatt Ber. Wirtsch Wirk 3'!$D$11:$BX$96,87,FALSE),0))/100),0)","v":0},{"$f":"IFERROR((N$106*(HLOOKUP(N$105,'Hilfsblatt Ber. Wirtsch Wirk 3'!$D$11:$BW$96,$A120,FALSE)+IF(N$105=$C120,HLOOKUP(N$105,'Hilfsblatt Ber. Wirtsch Wirk 3'!$D$11:$BX$96,87,FALSE),0))/100),0)","v":0},{"$f":"IFERROR((O$106*(HLOOKUP(O$105,'Hilfsblatt Ber. Wirtsch Wirk 3'!$D$11:$BW$96,$A120,FALSE)+IF(O$105=$C120,HLOOKUP(O$105,'Hilfsblatt Ber. Wirtsch Wirk 3'!$D$11:$BX$96,87,FALSE),0))/100),0)","v":0},{"$f":"IFERROR((P$106*(HLOOKUP(P$105,'Hilfsblatt Ber. Wirtsch Wirk 3'!$D$11:$BW$96,$A120,FALSE)+IF(P$105=$C120,HLOOKUP(P$105,'Hilfsblatt Ber. Wirtsch Wirk 3'!$D$11:$BX$96,87,FALSE),0))/100),0)","v":0},{"$f":"IFERROR((Q$106*(HLOOKUP(Q$105,'Hilfsblatt Ber. Wirtsch Wirk 3'!$D$11:$BW$96,$A120,FALSE)+IF(Q$105=$C120,HLOOKUP(Q$105,'Hilfsblatt Ber. Wirtsch Wirk 3'!$D$11:$BX$96,87,FALSE),0))/100),0)","v":0},{"$f":"R$106*('Hilfsblatt Ber. Wirtsch Wirk 3'!BX25+'Hilfsblatt Ber. Wirtsch Wirk 3'!BX25*'Hilfsblatt Ber. Wirtsch Wirk 3'!CA25/'Hilfsblatt Ber. Wirtsch Wirk 3'!CB25)/100","v":0},0,{"$f":"S120*'Hilfsblatt Ber. Wirtsch Wirk 3'!BZ25/('Hilfsblatt Ber. Wirtsch Wirk 3'!CA25)","v":0},{"$f":"S120/'Hilfsblatt Ber. Wirtsch Wirk 3'!CC25","v":0},{"$f":"T120*('Hilfsblatt Ber. Wirtsch Wirk 4'!B$14/'Hilfsblatt Ber. Wirtsch Wirk 4'!B$13)","v":0},{"$f":"S120*'Hilfsblatt Ber. Wirtsch Wirk 3'!CD25","v":0}]
[16,{"$f":"B21","v":"19"},"Kokerei- und Mineralölerzeugnisse",{"$f":"IFERROR((D$106*(HLOOKUP(D$105,'Hilfsblatt Ber. Wirtsch Wirk 3'!$D$11:$BW$96,$A121,FALSE)+IF(D$105=$C121,HLOOKUP(D$105,'Hilfsblatt Ber. Wirtsch Wirk 3'!$D$11:$BX$96,87,FALSE),0))/100),0)","v":0},{"$f":"IFERROR((E$106*(HLOOKUP(E$105,'Hilfsblatt Ber. Wirtsch Wirk 3'!$D$11:$BW$96,$A121,FALSE)+IF(E$105=$C121,HLOOKUP(E$105,'Hilfsblatt Ber. Wirtsch Wirk 3'!$D$11:$BX$96,87,FALSE),0))/100),0)","v":0},{"$f":"IFERROR((F$106*(HLOOKUP(F$105,'Hilfsblatt Ber. Wirtsch Wirk 3'!$D$11:$BW$96,$A121,FALSE)+IF(F$105=$C121,HLOOKUP(F$105,'Hilfsblatt Ber. Wirtsch Wirk 3'!$D$11:$BX$96,87,FALSE),0))/100),0)","v":0},{"$f":"IFERROR((G$106*(HLOOKUP(G$105,'Hilfsblatt Ber. Wirtsch Wirk 3'!$D$11:$BW$96,$A121,FALSE)+IF(G$105=$C121,HLOOKUP(G$105,'Hilfsblatt Ber. Wirtsch Wirk 3'!$D$11:$BX$96,87,FALSE),0))/100),0)","v":0},{"$f":"IFERROR((H$106*(HLOOKUP(H$105,'Hilfsblatt Ber. Wirtsch Wirk 3'!$D$11:$BW$96,$A121,FALSE)+IF(H$105=$C121,HLOOKUP(H$105,'Hilfsblatt Ber. Wirtsch Wirk 3'!$D$11:$BX$96,87,FALSE),0))/100),0)","v":0},{"$f":"IFERROR((I$106*(HLOOKUP(I$105,'Hilfsblatt Ber. Wirtsch Wirk 3'!$D$11:$BW$96,$A121,FALSE)+IF(I$105=$C121,HLOOKUP(I$105,'Hilfsblatt Ber. Wirtsch Wirk 3'!$D$11:$BX$96,87,FALSE),0))/100),0)","v":0},{"$f":"IFERROR((J$106*(HLOOKUP(J$105,'Hilfsblatt Ber. Wirtsch Wirk 3'!$D$11:$BW$96,$A121,FALSE)+IF(J$105=$C121,HLOOKUP(J$105,'Hilfsblatt Ber. Wirtsch Wirk 3'!$D$11:$BX$96,87,FALSE),0))/100),0)","v":0},{"$f":"IFERROR((K$106*(HLOOKUP(K$105,'Hilfsblatt Ber. Wirtsch Wirk 3'!$D$11:$BW$96,$A121,FALSE)+IF(K$105=$C121,HLOOKUP(K$105,'Hilfsblatt Ber. Wirtsch Wirk 3'!$D$11:$BX$96,87,FALSE),0))/100),0)","v":0},{"$f":"IFERROR((L$106*(HLOOKUP(L$105,'Hilfsblatt Ber. Wirtsch Wirk 3'!$D$11:$BW$96,$A121,FALSE)+IF(L$105=$C121,HLOOKUP(L$105,'Hilfsblatt Ber. Wirtsch Wirk 3'!$D$11:$BX$96,87,FALSE),0))/100),0)","v":0},{"$f":"IFERROR((M$106*(HLOOKUP(M$105,'Hilfsblatt Ber. Wirtsch Wirk 3'!$D$11:$BW$96,$A121,FALSE)+IF(M$105=$C121,HLOOKUP(M$105,'Hilfsblatt Ber. Wirtsch Wirk 3'!$D$11:$BX$96,87,FALSE),0))/100),0)","v":0},{"$f":"IFERROR((N$106*(HLOOKUP(N$105,'Hilfsblatt Ber. Wirtsch Wirk 3'!$D$11:$BW$96,$A121,FALSE)+IF(N$105=$C121,HLOOKUP(N$105,'Hilfsblatt Ber. Wirtsch Wirk 3'!$D$11:$BX$96,87,FALSE),0))/100),0)","v":0},{"$f":"IFERROR((O$106*(HLOOKUP(O$105,'Hilfsblatt Ber. Wirtsch Wirk 3'!$D$11:$BW$96,$A121,FALSE)+IF(O$105=$C121,HLOOKUP(O$105,'Hilfsblatt Ber. Wirtsch Wirk 3'!$D$11:$BX$96,87,FALSE),0))/100),0)","v":0},{"$f":"IFERROR((P$106*(HLOOKUP(P$105,'Hilfsblatt Ber. Wirtsch Wirk 3'!$D$11:$BW$96,$A121,FALSE)+IF(P$105=$C121,HLOOKUP(P$105,'Hilfsblatt Ber. Wirtsch Wirk 3'!$D$11:$BX$96,87,FALSE),0))/100),0)","v":0},{"$f":"IFERROR((Q$106*(HLOOKUP(Q$105,'Hilfsblatt Ber. Wirtsch Wirk 3'!$D$11:$BW$96,$A121,FALSE)+IF(Q$105=$C121,HLOOKUP(Q$105,'Hilfsblatt Ber. Wirtsch Wirk 3'!$D$11:$BX$96,87,FALSE),0))/100),0)","v":0},{"$f":"R$106*('Hilfsblatt Ber. Wirtsch Wirk 3'!BX26+'Hilfsblatt Ber. Wirtsch Wirk 3'!BX26*'Hilfsblatt Ber. Wirtsch Wirk 3'!CA26/'Hilfsblatt Ber. Wirtsch Wirk 3'!CB26)/100","v":0},0,{"$f":"S121*'Hilfsblatt Ber. Wirtsch Wirk 3'!BZ26/('Hilfsblatt Ber. Wirtsch Wirk 3'!CA26)","v":0},{"$f":"S121/'Hilfsblatt Ber. Wirtsch Wirk 3'!CC26","v":0},{"$f":"T121*('Hilfsblatt Ber. Wirtsch Wirk 4'!B$14/'Hilfsblatt Ber. Wirtsch Wirk 4'!B$13)","v":0},{"$f":"S121*'Hilfsblatt Ber. Wirtsch Wirk 3'!CD26","v":0}]
[17,{"$f":"B22","v":"20"},"Chemische Erzeugnisse ",{"$f":"IFERROR((D$106*(HLOOKUP(D$105,'Hilfsblatt Ber. Wirtsch Wirk 3'!$D$11:$BW$96,$A122,FALSE)+IF(D$105=$C122,HLOOKUP(D$105,'Hilfsblatt Ber. Wirtsch Wirk 3'!$D$11:$BX$96,87,FALSE),0))/100),0)","v":0},{"$f":"IFERROR((E$106*(HLOOKUP(E$105,'Hilfsblatt Ber. Wirtsch Wirk 3'!$D$11:$BW$96,$A122,FALSE)+IF(E$105=$C122,HLOOKUP(E$105,'Hilfsblatt Ber. Wirtsch Wirk 3'!$D$11:$BX$96,87,FALSE),0))/100),0)","v":0},{"$f":"IFERROR((F$106*(HLOOKUP(F$105,'Hilfsblatt Ber. Wirtsch Wirk 3'!$D$11:$BW$96,$A122,FALSE)+IF(F$105=$C122,HLOOKUP(F$105,'Hilfsblatt Ber. Wirtsch Wirk 3'!$D$11:$BX$96,87,FALSE),0))/100),0)","v":0},{"$f":"IFERROR((G$106*(HLOOKUP(G$105,'Hilfsblatt Ber. Wirtsch Wirk 3'!$D$11:$BW$96,$A122,FALSE)+IF(G$105=$C122,HLOOKUP(G$105,'Hilfsblatt Ber. Wirtsch Wirk 3'!$D$11:$BX$96,87,FALSE),0))/100),0)","v":0},{"$f":"IFERROR((H$106*(HLOOKUP(H$105,'Hilfsblatt Ber. Wirtsch Wirk 3'!$D$11:$BW$96,$A122,FALSE)+IF(H$105=$C122,HLOOKUP(H$105,'Hilfsblatt Ber. Wirtsch Wirk 3'!$D$11:$BX$96,87,FALSE),0))/100),0)","v":0},{"$f":"IFERROR((I$106*(HLOOKUP(I$105,'Hilfsblatt Ber. Wirtsch Wirk 3'!$D$11:$BW$96,$A122,FALSE)+IF(I$105=$C122,HLOOKUP(I$105,'Hilfsblatt Ber. Wirtsch Wirk 3'!$D$11:$BX$96,87,FALSE),0))/100),0)","v":0},{"$f":"IFERROR((J$106*(HLOOKUP(J$105,'Hilfsblatt Ber. Wirtsch Wirk 3'!$D$11:$BW$96,$A122,FALSE)+IF(J$105=$C122,HLOOKUP(J$105,'Hilfsblatt Ber. Wirtsch Wirk 3'!$D$11:$BX$96,87,FALSE),0))/100),0)","v":0},{"$f":"IFERROR((K$106*(HLOOKUP(K$105,'Hilfsblatt Ber. Wirtsch Wirk 3'!$D$11:$BW$96,$A122,FALSE)+IF(K$105=$C122,HLOOKUP(K$105,'Hilfsblatt Ber. Wirtsch Wirk 3'!$D$11:$BX$96,87,FALSE),0))/100),0)","v":0},{"$f":"IFERROR((L$106*(HLOOKUP(L$105,'Hilfsblatt Ber. Wirtsch Wirk 3'!$D$11:$BW$96,$A122,FALSE)+IF(L$105=$C122,HLOOKUP(L$105,'Hilfsblatt Ber. Wirtsch Wirk 3'!$D$11:$BX$96,87,FALSE),0))/100),0)","v":0},{"$f":"IFERROR((M$106*(HLOOKUP(M$105,'Hilfsblatt Ber. Wirtsch Wirk 3'!$D$11:$BW$96,$A122,FALSE)+IF(M$105=$C122,HLOOKUP(M$105,'Hilfsblatt Ber. Wirtsch Wirk 3'!$D$11:$BX$96,87,FALSE),0))/100),0)","v":0},{"$f":"IFERROR((N$106*(HLOOKUP(N$105,'Hilfsblatt Ber. Wirtsch Wirk 3'!$D$11:$BW$96,$A122,FALSE)+IF(N$105=$C122,HLOOKUP(N$105,'Hilfsblatt Ber. Wirtsch Wirk 3'!$D$11:$BX$96,87,FALSE),0))/100),0)","v":0},{"$f":"IFERROR((O$106*(HLOOKUP(O$105,'Hilfsblatt Ber. Wirtsch Wirk 3'!$D$11:$BW$96,$A122,FALSE)+IF(O$105=$C122,HLOOKUP(O$105,'Hilfsblatt Ber. Wirtsch Wirk 3'!$D$11:$BX$96,87,FALSE),0))/100),0)","v":0},{"$f":"IFERROR((P$106*(HLOOKUP(P$105,'Hilfsblatt Ber. Wirtsch Wirk 3'!$D$11:$BW$96,$A122,FALSE)+IF(P$105=$C122,HLOOKUP(P$105,'Hilfsblatt Ber. Wirtsch Wirk 3'!$D$11:$BX$96,87,FALSE),0))/100),0)","v":0},{"$f":"IFERROR((Q$106*(HLOOKUP(Q$105,'Hilfsblatt Ber. Wirtsch Wirk 3'!$D$11:$BW$96,$A122,FALSE)+IF(Q$105=$C122,HLOOKUP(Q$105,'Hilfsblatt Ber. Wirtsch Wirk 3'!$D$11:$BX$96,87,FALSE),0))/100),0)","v":0},{"$f":"R$106*('Hilfsblatt Ber. Wirtsch Wirk 3'!BX27+'Hilfsblatt Ber. Wirtsch Wirk 3'!BX27*'Hilfsblatt Ber. Wirtsch Wirk 3'!CA27/'Hilfsblatt Ber. Wirtsch Wirk 3'!CB27)/100","v":0},0,{"$f":"S122*'Hilfsblatt Ber. Wirtsch Wirk 3'!BZ27/('Hilfsblatt Ber. Wirtsch Wirk 3'!CA27)","v":0},{"$f":"S122/'Hilfsblatt Ber. Wirtsch Wirk 3'!CC27","v":0},{"$f":"T122*('Hilfsblatt Ber. Wirtsch Wirk 4'!B$14/'Hilfsblatt Ber. Wirtsch Wirk 4'!B$13)","v":0},{"$f":"S122*'Hilfsblatt Ber. Wirtsch Wirk 3'!CD27","v":0}]
[18,{"$f":"B23","v":"21"},"Pharmazeutische Erzeugnisse ",{"$f":"IFERROR((D$106*(HLOOKUP(D$105,'Hilfsblatt Ber. Wirtsch Wirk 3'!$D$11:$BW$96,$A123,FALSE)+IF(D$105=$C123,HLOOKUP(D$105,'Hilfsblatt Ber. Wirtsch Wirk 3'!$D$11:$BX$96,87,FALSE),0))/100),0)","v":0},{"$f":"IFERROR((E$106*(HLOOKUP(E$105,'Hilfsblatt Ber. Wirtsch Wirk 3'!$D$11:$BW$96,$A123,FALSE)+IF(E$105=$C123,HLOOKUP(E$105,'Hilfsblatt Ber. Wirtsch Wirk 3'!$D$11:$BX$96,87,FALSE),0))/100),0)","v":0},{"$f":"IFERROR((F$106*(HLOOKUP(F$105,'Hilfsblatt Ber. Wirtsch Wirk 3'!$D$11:$BW$96,$A123,FALSE)+IF(F$105=$C123,HLOOKUP(F$105,'Hilfsblatt Ber. Wirtsch Wirk 3'!$D$11:$BX$96,87,FALSE),0))/100),0)","v":0},{"$f":"IFERROR((G$106*(HLOOKUP(G$105,'Hilfsblatt Ber. Wirtsch Wirk 3'!$D$11:$BW$96,$A123,FALSE)+IF(G$105=$C123,HLOOKUP(G$105,'Hilfsblatt Ber. Wirtsch Wirk 3'!$D$11:$BX$96,87,FALSE),0))/100),0)","v":0},{"$f":"IFERROR((H$106*(HLOOKUP(H$105,'Hilfsblatt Ber. Wirtsch Wirk 3'!$D$11:$BW$96,$A123,FALSE)+IF(H$105=$C123,HLOOKUP(H$105,'Hilfsblatt Ber. Wirtsch Wirk 3'!$D$11:$BX$96,87,FALSE),0))/100),0)","v":0},{"$f":"IFERROR((I$106*(HLOOKUP(I$105,'Hilfsblatt Ber. Wirtsch Wirk 3'!$D$11:$BW$96,$A123,FALSE)+IF(I$105=$C123,HLOOKUP(I$105,'Hilfsblatt Ber. Wirtsch Wirk 3'!$D$11:$BX$96,87,FALSE),0))/100),0)","v":0},{"$f":"IFERROR((J$106*(HLOOKUP(J$105,'Hilfsblatt Ber. Wirtsch Wirk 3'!$D$11:$BW$96,$A123,FALSE)+IF(J$105=$C123,HLOOKUP(J$105,'Hilfsblatt Ber. Wirtsch Wirk 3'!$D$11:$BX$96,87,FALSE),0))/100),0)","v":0},{"$f":"IFERROR((K$106*(HLOOKUP(K$105,'Hilfsblatt Ber. Wirtsch Wirk 3'!$D$11:$BW$96,$A123,FALSE)+IF(K$105=$C123,HLOOKUP(K$105,'Hilfsblatt Ber. Wirtsch Wirk 3'!$D$11:$BX$96,87,FALSE),0))/100),0)","v":0},{"$f":"IFERROR((L$106*(HLOOKUP(L$105,'Hilfsblatt Ber. Wirtsch Wirk 3'!$D$11:$BW$96,$A123,FALSE)+IF(L$105=$C123,HLOOKUP(L$105,'Hilfsblatt Ber. Wirtsch Wirk 3'!$D$11:$BX$96,87,FALSE),0))/100),0)","v":0},{"$f":"IFERROR((M$106*(HLOOKUP(M$105,'Hilfsblatt Ber. Wirtsch Wirk 3'!$D$11:$BW$96,$A123,FALSE)+IF(M$105=$C123,HLOOKUP(M$105,'Hilfsblatt Ber. Wirtsch Wirk 3'!$D$11:$BX$96,87,FALSE),0))/100),0)","v":0},{"$f":"IFERROR((N$106*(HLOOKUP(N$105,'Hilfsblatt Ber. Wirtsch Wirk 3'!$D$11:$BW$96,$A123,FALSE)+IF(N$105=$C123,HLOOKUP(N$105,'Hilfsblatt Ber. Wirtsch Wirk 3'!$D$11:$BX$96,87,FALSE),0))/100),0)","v":0},{"$f":"IFERROR((O$106*(HLOOKUP(O$105,'Hilfsblatt Ber. Wirtsch Wirk 3'!$D$11:$BW$96,$A123,FALSE)+IF(O$105=$C123,HLOOKUP(O$105,'Hilfsblatt Ber. Wirtsch Wirk 3'!$D$11:$BX$96,87,FALSE),0))/100),0)","v":0},{"$f":"IFERROR((P$106*(HLOOKUP(P$105,'Hilfsblatt Ber. Wirtsch Wirk 3'!$D$11:$BW$96,$A123,FALSE)+IF(P$105=$C123,HLOOKUP(P$105,'Hilfsblatt Ber. Wirtsch Wirk 3'!$D$11:$BX$96,87,FALSE),0))/100),0)","v":0},{"$f":"IFERROR((Q$106*(HLOOKUP(Q$105,'Hilfsblatt Ber. Wirtsch Wirk 3'!$D$11:$BW$96,$A123,FALSE)+IF(Q$105=$C123,HLOOKUP(Q$105,'Hilfsblatt Ber. Wirtsch Wirk 3'!$D$11:$BX$96,87,FALSE),0))/100),0)","v":0},{"$f":"R$106*('Hilfsblatt Ber. Wirtsch Wirk 3'!BX28+'Hilfsblatt Ber. Wirtsch Wirk 3'!BX28*'Hilfsblatt Ber. Wirtsch Wirk 3'!CA28/'Hilfsblatt Ber. Wirtsch Wirk 3'!CB28)/100","v":0},0,{"$f":"S123*'Hilfsblatt Ber. Wirtsch Wirk 3'!BZ28/('Hilfsblatt Ber. Wirtsch Wirk 3'!CA28)","v":0},{"$f":"S123/'Hilfsblatt Ber. Wirtsch Wirk 3'!CC28","v":0},{"$f":"T123*('Hilfsblatt Ber. Wirtsch Wirk 4'!B$14/'Hilfsblatt Ber. Wirtsch Wirk 4'!B$13)","v":0},{"$f":"S123*'Hilfsblatt Ber. Wirtsch Wirk 3'!CD28","v":0}]
[19,{"$f":"B24","v":"22"},"Gummi- und Kunststoffwaren",{"$f":"IFERROR((D$106*(HLOOKUP(D$105,'Hilfsblatt Ber. Wirtsch Wirk 3'!$D$11:$BW$96,$A124,FALSE)+IF(D$105=$C124,HLOOKUP(D$105,'Hilfsblatt Ber. Wirtsch Wirk 3'!$D$11:$BX$96,87,FALSE),0))/100),0)","v":0},{"$f":"IFERROR((E$106*(HLOOKUP(E$105,'Hilfsblatt Ber. Wirtsch Wirk 3'!$D$11:$BW$96,$A124,FALSE)+IF(E$105=$C124,HLOOKUP(E$105,'Hilfsblatt Ber. Wirtsch Wirk 3'!$D$11:$BX$96,87,FALSE),0))/100),0)","v":0},{"$f":"IFERROR((F$106*(HLOOKUP(F$105,'Hilfsblatt Ber. Wirtsch Wirk 3'!$D$11:$BW$96,$A124,FALSE)+IF(F$105=$C124,HLOOKUP(F$105,'Hilfsblatt Ber. Wirtsch Wirk 3'!$D$11:$BX$96,87,FALSE),0))/100),0)","v":0},{"$f":"IFERROR((G$106*(HLOOKUP(G$105,'Hilfsblatt Ber. Wirtsch Wirk 3'!$D$11:$BW$96,$A124,FALSE)+IF(G$105=$C124,HLOOKUP(G$105,'Hilfsblatt Ber. Wirtsch Wirk 3'!$D$11:$BX$96,87,FALSE),0))/100),0)","v":0},{"$f":"IFERROR((H$106*(HLOOKUP(H$105,'Hilfsblatt Ber. Wirtsch Wirk 3'!$D$11:$BW$96,$A124,FALSE)+IF(H$105=$C124,HLOOKUP(H$105,'Hilfsblatt Ber. Wirtsch Wirk 3'!$D$11:$BX$96,87,FALSE),0))/100),0)","v":0},{"$f":"IFERROR((I$106*(HLOOKUP(I$105,'Hilfsblatt Ber. Wirtsch Wirk 3'!$D$11:$BW$96,$A124,FALSE)+IF(I$105=$C124,HLOOKUP(I$105,'Hilfsblatt Ber. Wirtsch Wirk 3'!$D$11:$BX$96,87,FALSE),0))/100),0)","v":0},{"$f":"IFERROR((J$106*(HLOOKUP(J$105,'Hilfsblatt Ber. Wirtsch Wirk 3'!$D$11:$BW$96,$A124,FALSE)+IF(J$105=$C124,HLOOKUP(J$105,'Hilfsblatt Ber. Wirtsch Wirk 3'!$D$11:$BX$96,87,FALSE),0))/100),0)","v":0},{"$f":"IFERROR((K$106*(HLOOKUP(K$105,'Hilfsblatt Ber. Wirtsch Wirk 3'!$D$11:$BW$96,$A124,FALSE)+IF(K$105=$C124,HLOOKUP(K$105,'Hilfsblatt Ber. Wirtsch Wirk 3'!$D$11:$BX$96,87,FALSE),0))/100),0)","v":0},{"$f":"IFERROR((L$106*(HLOOKUP(L$105,'Hilfsblatt Ber. Wirtsch Wirk 3'!$D$11:$BW$96,$A124,FALSE)+IF(L$105=$C124,HLOOKUP(L$105,'Hilfsblatt Ber. Wirtsch Wirk 3'!$D$11:$BX$96,87,FALSE),0))/100),0)","v":0},{"$f":"IFERROR((M$106*(HLOOKUP(M$105,'Hilfsblatt Ber. Wirtsch Wirk 3'!$D$11:$BW$96,$A124,FALSE)+IF(M$105=$C124,HLOOKUP(M$105,'Hilfsblatt Ber. Wirtsch Wirk 3'!$D$11:$BX$96,87,FALSE),0))/100),0)","v":0},{"$f":"IFERROR((N$106*(HLOOKUP(N$105,'Hilfsblatt Ber. Wirtsch Wirk 3'!$D$11:$BW$96,$A124,FALSE)+IF(N$105=$C124,HLOOKUP(N$105,'Hilfsblatt Ber. Wirtsch Wirk 3'!$D$11:$BX$96,87,FALSE),0))/100),0)","v":0},{"$f":"IFERROR((O$106*(HLOOKUP(O$105,'Hilfsblatt Ber. Wirtsch Wirk 3'!$D$11:$BW$96,$A124,FALSE)+IF(O$105=$C124,HLOOKUP(O$105,'Hilfsblatt Ber. Wirtsch Wirk 3'!$D$11:$BX$96,87,FALSE),0))/100),0)","v":0},{"$f":"IFERROR((P$106*(HLOOKUP(P$105,'Hilfsblatt Ber. Wirtsch Wirk 3'!$D$11:$BW$96,$A124,FALSE)+IF(P$105=$C124,HLOOKUP(P$105,'Hilfsblatt Ber. Wirtsch Wirk 3'!$D$11:$BX$96,87,FALSE),0))/100),0)","v":0},{"$f":"IFERROR((Q$106*(HLOOKUP(Q$105,'Hilfsblatt Ber. Wirtsch Wirk 3'!$D$11:$BW$96,$A124,FALSE)+IF(Q$105=$C124,HLOOKUP(Q$105,'Hilfsblatt Ber. Wirtsch Wirk 3'!$D$11:$BX$96,87,FALSE),0))/100),0)","v":0},{"$f":"R$106*('Hilfsblatt Ber. Wirtsch Wirk 3'!BX29+'Hilfsblatt Ber. Wirtsch Wirk 3'!BX29*'Hilfsblatt Ber. Wirtsch Wirk 3'!CA29/'Hilfsblatt Ber. Wirtsch Wirk 3'!CB29)/100","v":0},0,{"$f":"S124*'Hilfsblatt Ber. Wirtsch Wirk 3'!BZ29/('Hilfsblatt Ber. Wirtsch Wirk 3'!CA29)","v":0},{"$f":"S124/'Hilfsblatt Ber. Wirtsch Wirk 3'!CC29","v":0},{"$f":"T124*('Hilfsblatt Ber. Wirtsch Wirk 4'!B$14/'Hilfsblatt Ber. Wirtsch Wirk 4'!B$13)","v":0},{"$f":"S124*'Hilfsblatt Ber. Wirtsch Wirk 3'!CD29","v":0}]
[20,{"$f":"B25","v":"23.1"},"Glas und Glaswaren",{"$f":"IFERROR((D$106*(HLOOKUP(D$105,'Hilfsblatt Ber. Wirtsch Wirk 3'!$D$11:$BW$96,$A125,FALSE)+IF(D$105=$C125,HLOOKUP(D$105,'Hilfsblatt Ber. Wirtsch Wirk 3'!$D$11:$BX$96,87,FALSE),0))/100),0)","v":0},{"$f":"IFERROR((E$106*(HLOOKUP(E$105,'Hilfsblatt Ber. Wirtsch Wirk 3'!$D$11:$BW$96,$A125,FALSE)+IF(E$105=$C125,HLOOKUP(E$105,'Hilfsblatt Ber. Wirtsch Wirk 3'!$D$11:$BX$96,87,FALSE),0))/100),0)","v":0},{"$f":"IFERROR((F$106*(HLOOKUP(F$105,'Hilfsblatt Ber. Wirtsch Wirk 3'!$D$11:$BW$96,$A125,FALSE)+IF(F$105=$C125,HLOOKUP(F$105,'Hilfsblatt Ber. Wirtsch Wirk 3'!$D$11:$BX$96,87,FALSE),0))/100),0)","v":0},{"$f":"IFERROR((G$106*(HLOOKUP(G$105,'Hilfsblatt Ber. Wirtsch Wirk 3'!$D$11:$BW$96,$A125,FALSE)+IF(G$105=$C125,HLOOKUP(G$105,'Hilfsblatt Ber. Wirtsch Wirk 3'!$D$11:$BX$96,87,FALSE),0))/100),0)","v":0},{"$f":"IFERROR((H$106*(HLOOKUP(H$105,'Hilfsblatt Ber. Wirtsch Wirk 3'!$D$11:$BW$96,$A125,FALSE)+IF(H$105=$C125,HLOOKUP(H$105,'Hilfsblatt Ber. Wirtsch Wirk 3'!$D$11:$BX$96,87,FALSE),0))/100),0)","v":0},{"$f":"IFERROR((I$106*(HLOOKUP(I$105,'Hilfsblatt Ber. Wirtsch Wirk 3'!$D$11:$BW$96,$A125,FALSE)+IF(I$105=$C125,HLOOKUP(I$105,'Hilfsblatt Ber. Wirtsch Wirk 3'!$D$11:$BX$96,87,FALSE),0))/100),0)","v":0},{"$f":"IFERROR((J$106*(HLOOKUP(J$105,'Hilfsblatt Ber. Wirtsch Wirk 3'!$D$11:$BW$96,$A125,FALSE)+IF(J$105=$C125,HLOOKUP(J$105,'Hilfsblatt Ber. Wirtsch Wirk 3'!$D$11:$BX$96,87,FALSE),0))/100),0)","v":0},{"$f":"IFERROR((K$106*(HLOOKUP(K$105,'Hilfsblatt Ber. Wirtsch Wirk 3'!$D$11:$BW$96,$A125,FALSE)+IF(K$105=$C125,HLOOKUP(K$105,'Hilfsblatt Ber. Wirtsch Wirk 3'!$D$11:$BX$96,87,FALSE),0))/100),0)","v":0},{"$f":"IFERROR((L$106*(HLOOKUP(L$105,'Hilfsblatt Ber. Wirtsch Wirk 3'!$D$11:$BW$96,$A125,FALSE)+IF(L$105=$C125,HLOOKUP(L$105,'Hilfsblatt Ber. Wirtsch Wirk 3'!$D$11:$BX$96,87,FALSE),0))/100),0)","v":0},{"$f":"IFERROR((M$106*(HLOOKUP(M$105,'Hilfsblatt Ber. Wirtsch Wirk 3'!$D$11:$BW$96,$A125,FALSE)+IF(M$105=$C125,HLOOKUP(M$105,'Hilfsblatt Ber. Wirtsch Wirk 3'!$D$11:$BX$96,87,FALSE),0))/100),0)","v":0},{"$f":"IFERROR((N$106*(HLOOKUP(N$105,'Hilfsblatt Ber. Wirtsch Wirk 3'!$D$11:$BW$96,$A125,FALSE)+IF(N$105=$C125,HLOOKUP(N$105,'Hilfsblatt Ber. Wirtsch Wirk 3'!$D$11:$BX$96,87,FALSE),0))/100),0)","v":0},{"$f":"IFERROR((O$106*(HLOOKUP(O$105,'Hilfsblatt Ber. Wirtsch Wirk 3'!$D$11:$BW$96,$A125,FALSE)+IF(O$105=$C125,HLOOKUP(O$105,'Hilfsblatt Ber. Wirtsch Wirk 3'!$D$11:$BX$96,87,FALSE),0))/100),0)","v":0},{"$f":"IFERROR((P$106*(HLOOKUP(P$105,'Hilfsblatt Ber. Wirtsch Wirk 3'!$D$11:$BW$96,$A125,FALSE)+IF(P$105=$C125,HLOOKUP(P$105,'Hilfsblatt Ber. Wirtsch Wirk 3'!$D$11:$BX$96,87,FALSE),0))/100),0)","v":0},{"$f":"IFERROR((Q$106*(HLOOKUP(Q$105,'Hilfsblatt Ber. Wirtsch Wirk 3'!$D$11:$BW$96,$A125,FALSE)+IF(Q$105=$C125,HLOOKUP(Q$105,'Hilfsblatt Ber. Wirtsch Wirk 3'!$D$11:$BX$96,87,FALSE),0))/100),0)","v":0},{"$f":"R$106*('Hilfsblatt Ber. Wirtsch Wirk 3'!BX30+'Hilfsblatt Ber. Wirtsch Wirk 3'!BX30*'Hilfsblatt Ber. Wirtsch Wirk 3'!CA30/'Hilfsblatt Ber. Wirtsch Wirk 3'!CB30)/100","v":0},0,{"$f":"S125*'Hilfsblatt Ber. Wirtsch Wirk 3'!BZ30/('Hilfsblatt Ber. Wirtsch Wirk 3'!CA30)","v":0},{"$f":"S125/'Hilfsblatt Ber. Wirtsch Wirk 3'!CC30","v":0},{"$f":"T125*('Hilfsblatt Ber. Wirtsch Wirk 4'!B$14/'Hilfsblatt Ber. Wirtsch Wirk 4'!B$13)","v":0},{"$f":"S125*'Hilfsblatt Ber. Wirtsch Wirk 3'!CD30","v":0}]
[21,{"$f":"B26","v":"23.2-23.9"},"Keramik, bearbeitete Steine und Erden",{"$f":"IFERROR((D$106*(HLOOKUP(D$105,'Hilfsblatt Ber. Wirtsch Wirk 3'!$D$11:$BW$96,$A126,FALSE)+IF(D$105=$C126,HLOOKUP(D$105,'Hilfsblatt Ber. Wirtsch Wirk 3'!$D$11:$BX$96,87,FALSE),0))/100),0)","v":0},{"$f":"IFERROR((E$106*(HLOOKUP(E$105,'Hilfsblatt Ber. Wirtsch Wirk 3'!$D$11:$BW$96,$A126,FALSE)+IF(E$105=$C126,HLOOKUP(E$105,'Hilfsblatt Ber. Wirtsch Wirk 3'!$D$11:$BX$96,87,FALSE),0))/100),0)","v":0},{"$f":"IFERROR((F$106*(HLOOKUP(F$105,'Hilfsblatt Ber. Wirtsch Wirk 3'!$D$11:$BW$96,$A126,FALSE)+IF(F$105=$C126,HLOOKUP(F$105,'Hilfsblatt Ber. Wirtsch Wirk 3'!$D$11:$BX$96,87,FALSE),0))/100),0)","v":0},{"$f":"IFERROR((G$106*(HLOOKUP(G$105,'Hilfsblatt Ber. Wirtsch Wirk 3'!$D$11:$BW$96,$A126,FALSE)+IF(G$105=$C126,HLOOKUP(G$105,'Hilfsblatt Ber. Wirtsch Wirk 3'!$D$11:$BX$96,87,FALSE),0))/100),0)","v":0},{"$f":"IFERROR((H$106*(HLOOKUP(H$105,'Hilfsblatt Ber. Wirtsch Wirk 3'!$D$11:$BW$96,$A126,FALSE)+IF(H$105=$C126,HLOOKUP(H$105,'Hilfsblatt Ber. Wirtsch Wirk 3'!$D$11:$BX$96,87,FALSE),0))/100),0)","v":0},{"$f":"IFERROR((I$106*(HLOOKUP(I$105,'Hilfsblatt Ber. Wirtsch Wirk 3'!$D$11:$BW$96,$A126,FALSE)+IF(I$105=$C126,HLOOKUP(I$105,'Hilfsblatt Ber. Wirtsch Wirk 3'!$D$11:$BX$96,87,FALSE),0))/100),0)","v":0},{"$f":"IFERROR((J$106*(HLOOKUP(J$105,'Hilfsblatt Ber. Wirtsch Wirk 3'!$D$11:$BW$96,$A126,FALSE)+IF(J$105=$C126,HLOOKUP(J$105,'Hilfsblatt Ber. Wirtsch Wirk 3'!$D$11:$BX$96,87,FALSE),0))/100),0)","v":0},{"$f":"IFERROR((K$106*(HLOOKUP(K$105,'Hilfsblatt Ber. Wirtsch Wirk 3'!$D$11:$BW$96,$A126,FALSE)+IF(K$105=$C126,HLOOKUP(K$105,'Hilfsblatt Ber. Wirtsch Wirk 3'!$D$11:$BX$96,87,FALSE),0))/100),0)","v":0},{"$f":"IFERROR((L$106*(HLOOKUP(L$105,'Hilfsblatt Ber. Wirtsch Wirk 3'!$D$11:$BW$96,$A126,FALSE)+IF(L$105=$C126,HLOOKUP(L$105,'Hilfsblatt Ber. Wirtsch Wirk 3'!$D$11:$BX$96,87,FALSE),0))/100),0)","v":0},{"$f":"IFERROR((M$106*(HLOOKUP(M$105,'Hilfsblatt Ber. Wirtsch Wirk 3'!$D$11:$BW$96,$A126,FALSE)+IF(M$105=$C126,HLOOKUP(M$105,'Hilfsblatt Ber. Wirtsch Wirk 3'!$D$11:$BX$96,87,FALSE),0))/100),0)","v":0},{"$f":"IFERROR((N$106*(HLOOKUP(N$105,'Hilfsblatt Ber. Wirtsch Wirk 3'!$D$11:$BW$96,$A126,FALSE)+IF(N$105=$C126,HLOOKUP(N$105,'Hilfsblatt Ber. Wirtsch Wirk 3'!$D$11:$BX$96,87,FALSE),0))/100),0)","v":0},{"$f":"IFERROR((O$106*(HLOOKUP(O$105,'Hilfsblatt Ber. Wirtsch Wirk 3'!$D$11:$BW$96,$A126,FALSE)+IF(O$105=$C126,HLOOKUP(O$105,'Hilfsblatt Ber. Wirtsch Wirk 3'!$D$11:$BX$96,87,FALSE),0))/100),0)","v":0},{"$f":"IFERROR((P$106*(HLOOKUP(P$105,'Hilfsblatt Ber. Wirtsch Wirk 3'!$D$11:$BW$96,$A126,FALSE)+IF(P$105=$C126,HLOOKUP(P$105,'Hilfsblatt Ber. Wirtsch Wirk 3'!$D$11:$BX$96,87,FALSE),0))/100),0)","v":0},{"$f":"IFERROR((Q$106*(HLOOKUP(Q$105,'Hilfsblatt Ber. Wirtsch Wirk 3'!$D$11:$BW$96,$A126,FALSE)+IF(Q$105=$C126,HLOOKUP(Q$105,'Hilfsblatt Ber. Wirtsch Wirk 3'!$D$11:$BX$96,87,FALSE),0))/100),0)","v":0},{"$f":"R$106*('Hilfsblatt Ber. Wirtsch Wirk 3'!BX31+'Hilfsblatt Ber. Wirtsch Wirk 3'!BX31*'Hilfsblatt Ber. Wirtsch Wirk 3'!CA31/'Hilfsblatt Ber. Wirtsch Wirk 3'!CB31)/100","v":0},0,{"$f":"S126*'Hilfsblatt Ber. Wirtsch Wirk 3'!BZ31/('Hilfsblatt Ber. Wirtsch Wirk 3'!CA31)","v":0},{"$f":"S126/'Hilfsblatt Ber. Wirtsch Wirk 3'!CC31","v":0},{"$f":"T126*('Hilfsblatt Ber. Wirtsch Wirk 4'!B$14/'Hilfsblatt Ber. Wirtsch Wirk 4'!B$13)","v":0},{"$f":"S126*'Hilfsblatt Ber. Wirtsch Wirk 3'!CD31","v":0}]
[22,{"$f":"B27","v":"24.1-24.3"},"Roheisen, Stahl, Erzeugn. der ersten Bearbeitung von Eisen und Stahl",{"$f":"IFERROR((D$106*(HLOOKUP(D$105,'Hilfsblatt Ber. Wirtsch Wirk 3'!$D$11:$BW$96,$A127,FALSE)+IF(D$105=$C127,HLOOKUP(D$105,'Hilfsblatt Ber. Wirtsch Wirk 3'!$D$11:$BX$96,87,FALSE),0))/100),0)","v":0},{"$f":"IFERROR((E$106*(HLOOKUP(E$105,'Hilfsblatt Ber. Wirtsch Wirk 3'!$D$11:$BW$96,$A127,FALSE)+IF(E$105=$C127,HLOOKUP(E$105,'Hilfsblatt Ber. Wirtsch Wirk 3'!$D$11:$BX$96,87,FALSE),0))/100),0)","v":0},{"$f":"IFERROR((F$106*(HLOOKUP(F$105,'Hilfsblatt Ber. Wirtsch Wirk 3'!$D$11:$BW$96,$A127,FALSE)+IF(F$105=$C127,HLOOKUP(F$105,'Hilfsblatt Ber. Wirtsch Wirk 3'!$D$11:$BX$96,87,FALSE),0))/100),0)","v":0},{"$f":"IFERROR((G$106*(HLOOKUP(G$105,'Hilfsblatt Ber. Wirtsch Wirk 3'!$D$11:$BW$96,$A127,FALSE)+IF(G$105=$C127,HLOOKUP(G$105,'Hilfsblatt Ber. Wirtsch Wirk 3'!$D$11:$BX$96,87,FALSE),0))/100),0)","v":0},{"$f":"IFERROR((H$106*(HLOOKUP(H$105,'Hilfsblatt Ber. Wirtsch Wirk 3'!$D$11:$BW$96,$A127,FALSE)+IF(H$105=$C127,HLOOKUP(H$105,'Hilfsblatt Ber. Wirtsch Wirk 3'!$D$11:$BX$96,87,FALSE),0))/100),0)","v":0},{"$f":"IFERROR((I$106*(HLOOKUP(I$105,'Hilfsblatt Ber. Wirtsch Wirk 3'!$D$11:$BW$96,$A127,FALSE)+IF(I$105=$C127,HLOOKUP(I$105,'Hilfsblatt Ber. Wirtsch Wirk 3'!$D$11:$BX$96,87,FALSE),0))/100),0)","v":0},{"$f":"IFERROR((J$106*(HLOOKUP(J$105,'Hilfsblatt Ber. Wirtsch Wirk 3'!$D$11:$BW$96,$A127,FALSE)+IF(J$105=$C127,HLOOKUP(J$105,'Hilfsblatt Ber. Wirtsch Wirk 3'!$D$11:$BX$96,87,FALSE),0))/100),0)","v":0},{"$f":"IFERROR((K$106*(HLOOKUP(K$105,'Hilfsblatt Ber. Wirtsch Wirk 3'!$D$11:$BW$96,$A127,FALSE)+IF(K$105=$C127,HLOOKUP(K$105,'Hilfsblatt Ber. Wirtsch Wirk 3'!$D$11:$BX$96,87,FALSE),0))/100),0)","v":0},{"$f":"IFERROR((L$106*(HLOOKUP(L$105,'Hilfsblatt Ber. Wirtsch Wirk 3'!$D$11:$BW$96,$A127,FALSE)+IF(L$105=$C127,HLOOKUP(L$105,'Hilfsblatt Ber. Wirtsch Wirk 3'!$D$11:$BX$96,87,FALSE),0))/100),0)","v":0},{"$f":"IFERROR((M$106*(HLOOKUP(M$105,'Hilfsblatt Ber. Wirtsch Wirk 3'!$D$11:$BW$96,$A127,FALSE)+IF(M$105=$C127,HLOOKUP(M$105,'Hilfsblatt Ber. Wirtsch Wirk 3'!$D$11:$BX$96,87,FALSE),0))/100),0)","v":0},{"$f":"IFERROR((N$106*(HLOOKUP(N$105,'Hilfsblatt Ber. Wirtsch Wirk 3'!$D$11:$BW$96,$A127,FALSE)+IF(N$105=$C127,HLOOKUP(N$105,'Hilfsblatt Ber. Wirtsch Wirk 3'!$D$11:$BX$96,87,FALSE),0))/100),0)","v":0},{"$f":"IFERROR((O$106*(HLOOKUP(O$105,'Hilfsblatt Ber. Wirtsch Wirk 3'!$D$11:$BW$96,$A127,FALSE)+IF(O$105=$C127,HLOOKUP(O$105,'Hilfsblatt Ber. Wirtsch Wirk 3'!$D$11:$BX$96,87,FALSE),0))/100),0)","v":0},{"$f":"IFERROR((P$106*(HLOOKUP(P$105,'Hilfsblatt Ber. Wirtsch Wirk 3'!$D$11:$BW$96,$A127,FALSE)+IF(P$105=$C127,HLOOKUP(P$105,'Hilfsblatt Ber. Wirtsch Wirk 3'!$D$11:$BX$96,87,FALSE),0))/100),0)","v":0},{"$f":"IFERROR((Q$106*(HLOOKUP(Q$105,'Hilfsblatt Ber. Wirtsch Wirk 3'!$D$11:$BW$96,$A127,FALSE)+IF(Q$105=$C127,HLOOKUP(Q$105,'Hilfsblatt Ber. Wirtsch Wirk 3'!$D$11:$BX$96,87,FALSE),0))/100),0)","v":0},{"$f":"R$106*('Hilfsblatt Ber. Wirtsch Wirk 3'!BX32+'Hilfsblatt Ber. Wirtsch Wirk 3'!BX32*'Hilfsblatt Ber. Wirtsch Wirk 3'!CA32/'Hilfsblatt Ber. Wirtsch Wirk 3'!CB32)/100","v":0},0,{"$f":"S127*'Hilfsblatt Ber. Wirtsch Wirk 3'!BZ32/('Hilfsblatt Ber. Wirtsch Wirk 3'!CA32)","v":0},{"$f":"S127/'Hilfsblatt Ber. Wirtsch Wirk 3'!CC32","v":0},{"$f":"T127*('Hilfsblatt Ber. Wirtsch Wirk 4'!B$14/'Hilfsblatt Ber. Wirtsch Wirk 4'!B$13)","v":0},{"$f":"S127*'Hilfsblatt Ber. Wirtsch Wirk 3'!CD32","v":0}]
[23,{"$f":"B28","v":"24.4"},"NE-Metalle und Halbzeug daraus ",{"$f":"IFERROR((D$106*(HLOOKUP(D$105,'Hilfsblatt Ber. Wirtsch Wirk 3'!$D$11:$BW$96,$A128,FALSE)+IF(D$105=$C128,HLOOKUP(D$105,'Hilfsblatt Ber. Wirtsch Wirk 3'!$D$11:$BX$96,87,FALSE),0))/100),0)","v":0},{"$f":"IFERROR((E$106*(HLOOKUP(E$105,'Hilfsblatt Ber. Wirtsch Wirk 3'!$D$11:$BW$96,$A128,FALSE)+IF(E$105=$C128,HLOOKUP(E$105,'Hilfsblatt Ber. Wirtsch Wirk 3'!$D$11:$BX$96,87,FALSE),0))/100),0)","v":0},{"$f":"IFERROR((F$106*(HLOOKUP(F$105,'Hilfsblatt Ber. Wirtsch Wirk 3'!$D$11:$BW$96,$A128,FALSE)+IF(F$105=$C128,HLOOKUP(F$105,'Hilfsblatt Ber. Wirtsch Wirk 3'!$D$11:$BX$96,87,FALSE),0))/100),0)","v":0},{"$f":"IFERROR((G$106*(HLOOKUP(G$105,'Hilfsblatt Ber. Wirtsch Wirk 3'!$D$11:$BW$96,$A128,FALSE)+IF(G$105=$C128,HLOOKUP(G$105,'Hilfsblatt Ber. Wirtsch Wirk 3'!$D$11:$BX$96,87,FALSE),0))/100),0)","v":0},{"$f":"IFERROR((H$106*(HLOOKUP(H$105,'Hilfsblatt Ber. Wirtsch Wirk 3'!$D$11:$BW$96,$A128,FALSE)+IF(H$105=$C128,HLOOKUP(H$105,'Hilfsblatt Ber. Wirtsch Wirk 3'!$D$11:$BX$96,87,FALSE),0))/100),0)","v":0},{"$f":"IFERROR((I$106*(HLOOKUP(I$105,'Hilfsblatt Ber. Wirtsch Wirk 3'!$D$11:$BW$96,$A128,FALSE)+IF(I$105=$C128,HLOOKUP(I$105,'Hilfsblatt Ber. Wirtsch Wirk 3'!$D$11:$BX$96,87,FALSE),0))/100),0)","v":0},{"$f":"IFERROR((J$106*(HLOOKUP(J$105,'Hilfsblatt Ber. Wirtsch Wirk 3'!$D$11:$BW$96,$A128,FALSE)+IF(J$105=$C128,HLOOKUP(J$105,'Hilfsblatt Ber. Wirtsch Wirk 3'!$D$11:$BX$96,87,FALSE),0))/100),0)","v":0},{"$f":"IFERROR((K$106*(HLOOKUP(K$105,'Hilfsblatt Ber. Wirtsch Wirk 3'!$D$11:$BW$96,$A128,FALSE)+IF(K$105=$C128,HLOOKUP(K$105,'Hilfsblatt Ber. Wirtsch Wirk 3'!$D$11:$BX$96,87,FALSE),0))/100),0)","v":0},{"$f":"IFERROR((L$106*(HLOOKUP(L$105,'Hilfsblatt Ber. Wirtsch Wirk 3'!$D$11:$BW$96,$A128,FALSE)+IF(L$105=$C128,HLOOKUP(L$105,'Hilfsblatt Ber. Wirtsch Wirk 3'!$D$11:$BX$96,87,FALSE),0))/100),0)","v":0},{"$f":"IFERROR((M$106*(HLOOKUP(M$105,'Hilfsblatt Ber. Wirtsch Wirk 3'!$D$11:$BW$96,$A128,FALSE)+IF(M$105=$C128,HLOOKUP(M$105,'Hilfsblatt Ber. Wirtsch Wirk 3'!$D$11:$BX$96,87,FALSE),0))/100),0)","v":0},{"$f":"IFERROR((N$106*(HLOOKUP(N$105,'Hilfsblatt Ber. Wirtsch Wirk 3'!$D$11:$BW$96,$A128,FALSE)+IF(N$105=$C128,HLOOKUP(N$105,'Hilfsblatt Ber. Wirtsch Wirk 3'!$D$11:$BX$96,87,FALSE),0))/100),0)","v":0},{"$f":"IFERROR((O$106*(HLOOKUP(O$105,'Hilfsblatt Ber. Wirtsch Wirk 3'!$D$11:$BW$96,$A128,FALSE)+IF(O$105=$C128,HLOOKUP(O$105,'Hilfsblatt Ber. Wirtsch Wirk 3'!$D$11:$BX$96,87,FALSE),0))/100),0)","v":0},{"$f":"IFERROR((P$106*(HLOOKUP(P$105,'Hilfsblatt Ber. Wirtsch Wirk 3'!$D$11:$BW$96,$A128,FALSE)+IF(P$105=$C128,HLOOKUP(P$105,'Hilfsblatt Ber. Wirtsch Wirk 3'!$D$11:$BX$96,87,FALSE),0))/100),0)","v":0},{"$f":"IFERROR((Q$106*(HLOOKUP(Q$105,'Hilfsblatt Ber. Wirtsch Wirk 3'!$D$11:$BW$96,$A128,FALSE)+IF(Q$105=$C128,HLOOKUP(Q$105,'Hilfsblatt Ber. Wirtsch Wirk 3'!$D$11:$BX$96,87,FALSE),0))/100),0)","v":0},{"$f":"R$106*('Hilfsblatt Ber. Wirtsch Wirk 3'!BX33+'Hilfsblatt Ber. Wirtsch Wirk 3'!BX33*'Hilfsblatt Ber. Wirtsch Wirk 3'!CA33/'Hilfsblatt Ber. Wirtsch Wirk 3'!CB33)/100","v":0},0,{"$f":"S128*'Hilfsblatt Ber. Wirtsch Wirk 3'!BZ33/('Hilfsblatt Ber. Wirtsch Wirk 3'!CA33)","v":0},{"$f":"S128/'Hilfsblatt Ber. Wirtsch Wirk 3'!CC33","v":0},{"$f":"T128*('Hilfsblatt Ber. Wirtsch Wirk 4'!B$14/'Hilfsblatt Ber. Wirtsch Wirk 4'!B$13)","v":0},{"$f":"S128*'Hilfsblatt Ber. Wirtsch Wirk 3'!CD33","v":0}]
[24,{"$f":"B29","v":"24.5"},"Gießereierzeugnisse",{"$f":"IFERROR((D$106*(HLOOKUP(D$105,'Hilfsblatt Ber. Wirtsch Wirk 3'!$D$11:$BW$96,$A129,FALSE)+IF(D$105=$C129,HLOOKUP(D$105,'Hilfsblatt Ber. Wirtsch Wirk 3'!$D$11:$BX$96,87,FALSE),0))/100),0)","v":0},{"$f":"IFERROR((E$106*(HLOOKUP(E$105,'Hilfsblatt Ber. Wirtsch Wirk 3'!$D$11:$BW$96,$A129,FALSE)+IF(E$105=$C129,HLOOKUP(E$105,'Hilfsblatt Ber. Wirtsch Wirk 3'!$D$11:$BX$96,87,FALSE),0))/100),0)","v":0},{"$f":"IFERROR((F$106*(HLOOKUP(F$105,'Hilfsblatt Ber. Wirtsch Wirk 3'!$D$11:$BW$96,$A129,FALSE)+IF(F$105=$C129,HLOOKUP(F$105,'Hilfsblatt Ber. Wirtsch Wirk 3'!$D$11:$BX$96,87,FALSE),0))/100),0)","v":0},{"$f":"IFERROR((G$106*(HLOOKUP(G$105,'Hilfsblatt Ber. Wirtsch Wirk 3'!$D$11:$BW$96,$A129,FALSE)+IF(G$105=$C129,HLOOKUP(G$105,'Hilfsblatt Ber. Wirtsch Wirk 3'!$D$11:$BX$96,87,FALSE),0))/100),0)","v":0},{"$f":"IFERROR((H$106*(HLOOKUP(H$105,'Hilfsblatt Ber. Wirtsch Wirk 3'!$D$11:$BW$96,$A129,FALSE)+IF(H$105=$C129,HLOOKUP(H$105,'Hilfsblatt Ber. Wirtsch Wirk 3'!$D$11:$BX$96,87,FALSE),0))/100),0)","v":0},{"$f":"IFERROR((I$106*(HLOOKUP(I$105,'Hilfsblatt Ber. Wirtsch Wirk 3'!$D$11:$BW$96,$A129,FALSE)+IF(I$105=$C129,HLOOKUP(I$105,'Hilfsblatt Ber. Wirtsch Wirk 3'!$D$11:$BX$96,87,FALSE),0))/100),0)","v":0},{"$f":"IFERROR((J$106*(HLOOKUP(J$105,'Hilfsblatt Ber. Wirtsch Wirk 3'!$D$11:$BW$96,$A129,FALSE)+IF(J$105=$C129,HLOOKUP(J$105,'Hilfsblatt Ber. Wirtsch Wirk 3'!$D$11:$BX$96,87,FALSE),0))/100),0)","v":0},{"$f":"IFERROR((K$106*(HLOOKUP(K$105,'Hilfsblatt Ber. Wirtsch Wirk 3'!$D$11:$BW$96,$A129,FALSE)+IF(K$105=$C129,HLOOKUP(K$105,'Hilfsblatt Ber. Wirtsch Wirk 3'!$D$11:$BX$96,87,FALSE),0))/100),0)","v":0},{"$f":"IFERROR((L$106*(HLOOKUP(L$105,'Hilfsblatt Ber. Wirtsch Wirk 3'!$D$11:$BW$96,$A129,FALSE)+IF(L$105=$C129,HLOOKUP(L$105,'Hilfsblatt Ber. Wirtsch Wirk 3'!$D$11:$BX$96,87,FALSE),0))/100),0)","v":0},{"$f":"IFERROR((M$106*(HLOOKUP(M$105,'Hilfsblatt Ber. Wirtsch Wirk 3'!$D$11:$BW$96,$A129,FALSE)+IF(M$105=$C129,HLOOKUP(M$105,'Hilfsblatt Ber. Wirtsch Wirk 3'!$D$11:$BX$96,87,FALSE),0))/100),0)","v":0},{"$f":"IFERROR((N$106*(HLOOKUP(N$105,'Hilfsblatt Ber. Wirtsch Wirk 3'!$D$11:$BW$96,$A129,FALSE)+IF(N$105=$C129,HLOOKUP(N$105,'Hilfsblatt Ber. Wirtsch Wirk 3'!$D$11:$BX$96,87,FALSE),0))/100),0)","v":0},{"$f":"IFERROR((O$106*(HLOOKUP(O$105,'Hilfsblatt Ber. Wirtsch Wirk 3'!$D$11:$BW$96,$A129,FALSE)+IF(O$105=$C129,HLOOKUP(O$105,'Hilfsblatt Ber. Wirtsch Wirk 3'!$D$11:$BX$96,87,FALSE),0))/100),0)","v":0},{"$f":"IFERROR((P$106*(HLOOKUP(P$105,'Hilfsblatt Ber. Wirtsch Wirk 3'!$D$11:$BW$96,$A129,FALSE)+IF(P$105=$C129,HLOOKUP(P$105,'Hilfsblatt Ber. Wirtsch Wirk 3'!$D$11:$BX$96,87,FALSE),0))/100),0)","v":0},{"$f":"IFERROR((Q$106*(HLOOKUP(Q$105,'Hilfsblatt Ber. Wirtsch Wirk 3'!$D$11:$BW$96,$A129,FALSE)+IF(Q$105=$C129,HLOOKUP(Q$105,'Hilfsblatt Ber. Wirtsch Wirk 3'!$D$11:$BX$96,87,FALSE),0))/100),0)","v":0},{"$f":"R$106*('Hilfsblatt Ber. Wirtsch Wirk 3'!BX34+'Hilfsblatt Ber. Wirtsch Wirk 3'!BX34*'Hilfsblatt Ber. Wirtsch Wirk 3'!CA34/'Hilfsblatt Ber. Wirtsch Wirk 3'!CB34)/100","v":0},0,{"$f":"S129*'Hilfsblatt Ber. Wirtsch Wirk 3'!BZ34/('Hilfsblatt Ber. Wirtsch Wirk 3'!CA34)","v":0},{"$f":"S129/'Hilfsblatt Ber. Wirtsch Wirk 3'!CC34","v":0},{"$f":"T129*('Hilfsblatt Ber. Wirtsch Wirk 4'!B$14/'Hilfsblatt Ber. Wirtsch Wirk 4'!B$13)","v":0},{"$f":"S129*'Hilfsblatt Ber. Wirtsch Wirk 3'!CD34","v":0}]
[25,{"$f":"B30","v":25},"Metallerzeugnisse ",{"$f":"IFERROR((D$106*(HLOOKUP(D$105,'Hilfsblatt Ber. Wirtsch Wirk 3'!$D$11:$BW$96,$A130,FALSE)+IF(D$105=$C130,HLOOKUP(D$105,'Hilfsblatt Ber. Wirtsch Wirk 3'!$D$11:$BX$96,87,FALSE),0))/100),0)","v":0},{"$f":"IFERROR((E$106*(HLOOKUP(E$105,'Hilfsblatt Ber. Wirtsch Wirk 3'!$D$11:$BW$96,$A130,FALSE)+IF(E$105=$C130,HLOOKUP(E$105,'Hilfsblatt Ber. Wirtsch Wirk 3'!$D$11:$BX$96,87,FALSE),0))/100),0)","v":0},{"$f":"IFERROR((F$106*(HLOOKUP(F$105,'Hilfsblatt Ber. Wirtsch Wirk 3'!$D$11:$BW$96,$A130,FALSE)+IF(F$105=$C130,HLOOKUP(F$105,'Hilfsblatt Ber. Wirtsch Wirk 3'!$D$11:$BX$96,87,FALSE),0))/100),0)","v":0},{"$f":"IFERROR((G$106*(HLOOKUP(G$105,'Hilfsblatt Ber. Wirtsch Wirk 3'!$D$11:$BW$96,$A130,FALSE)+IF(G$105=$C130,HLOOKUP(G$105,'Hilfsblatt Ber. Wirtsch Wirk 3'!$D$11:$BX$96,87,FALSE),0))/100),0)","v":0},{"$f":"IFERROR((H$106*(HLOOKUP(H$105,'Hilfsblatt Ber. Wirtsch Wirk 3'!$D$11:$BW$96,$A130,FALSE)+IF(H$105=$C130,HLOOKUP(H$105,'Hilfsblatt Ber. Wirtsch Wirk 3'!$D$11:$BX$96,87,FALSE),0))/100),0)","v":0},{"$f":"IFERROR((I$106*(HLOOKUP(I$105,'Hilfsblatt Ber. Wirtsch Wirk 3'!$D$11:$BW$96,$A130,FALSE)+IF(I$105=$C130,HLOOKUP(I$105,'Hilfsblatt Ber. Wirtsch Wirk 3'!$D$11:$BX$96,87,FALSE),0))/100),0)","v":0},{"$f":"IFERROR((J$106*(HLOOKUP(J$105,'Hilfsblatt Ber. Wirtsch Wirk 3'!$D$11:$BW$96,$A130,FALSE)+IF(J$105=$C130,HLOOKUP(J$105,'Hilfsblatt Ber. Wirtsch Wirk 3'!$D$11:$BX$96,87,FALSE),0))/100),0)","v":0},{"$f":"IFERROR((K$106*(HLOOKUP(K$105,'Hilfsblatt Ber. Wirtsch Wirk 3'!$D$11:$BW$96,$A130,FALSE)+IF(K$105=$C130,HLOOKUP(K$105,'Hilfsblatt Ber. Wirtsch Wirk 3'!$D$11:$BX$96,87,FALSE),0))/100),0)","v":0},{"$f":"IFERROR((L$106*(HLOOKUP(L$105,'Hilfsblatt Ber. Wirtsch Wirk 3'!$D$11:$BW$96,$A130,FALSE)+IF(L$105=$C130,HLOOKUP(L$105,'Hilfsblatt Ber. Wirtsch Wirk 3'!$D$11:$BX$96,87,FALSE),0))/100),0)","v":0},{"$f":"IFERROR((M$106*(HLOOKUP(M$105,'Hilfsblatt Ber. Wirtsch Wirk 3'!$D$11:$BW$96,$A130,FALSE)+IF(M$105=$C130,HLOOKUP(M$105,'Hilfsblatt Ber. Wirtsch Wirk 3'!$D$11:$BX$96,87,FALSE),0))/100),0)","v":0},{"$f":"IFERROR((N$106*(HLOOKUP(N$105,'Hilfsblatt Ber. Wirtsch Wirk 3'!$D$11:$BW$96,$A130,FALSE)+IF(N$105=$C130,HLOOKUP(N$105,'Hilfsblatt Ber. Wirtsch Wirk 3'!$D$11:$BX$96,87,FALSE),0))/100),0)","v":0},{"$f":"IFERROR((O$106*(HLOOKUP(O$105,'Hilfsblatt Ber. Wirtsch Wirk 3'!$D$11:$BW$96,$A130,FALSE)+IF(O$105=$C130,HLOOKUP(O$105,'Hilfsblatt Ber. Wirtsch Wirk 3'!$D$11:$BX$96,87,FALSE),0))/100),0)","v":0},{"$f":"IFERROR((P$106*(HLOOKUP(P$105,'Hilfsblatt Ber. Wirtsch Wirk 3'!$D$11:$BW$96,$A130,FALSE)+IF(P$105=$C130,HLOOKUP(P$105,'Hilfsblatt Ber. Wirtsch Wirk 3'!$D$11:$BX$96,87,FALSE),0))/100),0)","v":0},{"$f":"IFERROR((Q$106*(HLOOKUP(Q$105,'Hilfsblatt Ber. Wirtsch Wirk 3'!$D$11:$BW$96,$A130,FALSE)+IF(Q$105=$C130,HLOOKUP(Q$105,'Hilfsblatt Ber. Wirtsch Wirk 3'!$D$11:$BX$96,87,FALSE),0))/100),0)","v":0},{"$f":"R$106*('Hilfsblatt Ber. Wirtsch Wirk 3'!BX35+'Hilfsblatt Ber. Wirtsch Wirk 3'!BX35*'Hilfsblatt Ber. Wirtsch Wirk 3'!CA35/'Hilfsblatt Ber. Wirtsch Wirk 3'!CB35)/100","v":0},0,{"$f":"S130*'Hilfsblatt Ber. Wirtsch Wirk 3'!BZ35/('Hilfsblatt Ber. Wirtsch Wirk 3'!CA35)","v":0},{"$f":"S130/'Hilfsblatt Ber. Wirtsch Wirk 3'!CC35","v":0},{"$f":"T130*('Hilfsblatt Ber. Wirtsch Wirk 4'!B$14/'Hilfsblatt Ber. Wirtsch Wirk 4'!B$13)","v":0},{"$f":"S130*'Hilfsblatt Ber. Wirtsch Wirk 3'!CD35","v":0}]
[26,{"$f":"B31","v":"26"},"DV-geräte, elektron. u. optische Erzeugnisse",{"$f":"IFERROR((D$106*(HLOOKUP(D$105,'Hilfsblatt Ber. Wirtsch Wirk 3'!$D$11:$BW$96,$A131,FALSE)+IF(D$105=$C131,HLOOKUP(D$105,'Hilfsblatt Ber. Wirtsch Wirk 3'!$D$11:$BX$96,87,FALSE),0))/100),0)","v":0},{"$f":"IFERROR((E$106*(HLOOKUP(E$105,'Hilfsblatt Ber. Wirtsch Wirk 3'!$D$11:$BW$96,$A131,FALSE)+IF(E$105=$C131,HLOOKUP(E$105,'Hilfsblatt Ber. Wirtsch Wirk 3'!$D$11:$BX$96,87,FALSE),0))/100),0)","v":0},{"$f":"IFERROR((F$106*(HLOOKUP(F$105,'Hilfsblatt Ber. Wirtsch Wirk 3'!$D$11:$BW$96,$A131,FALSE)+IF(F$105=$C131,HLOOKUP(F$105,'Hilfsblatt Ber. Wirtsch Wirk 3'!$D$11:$BX$96,87,FALSE),0))/100),0)","v":0},{"$f":"IFERROR((G$106*(HLOOKUP(G$105,'Hilfsblatt Ber. Wirtsch Wirk 3'!$D$11:$BW$96,$A131,FALSE)+IF(G$105=$C131,HLOOKUP(G$105,'Hilfsblatt Ber. Wirtsch Wirk 3'!$D$11:$BX$96,87,FALSE),0))/100),0)","v":0},{"$f":"IFERROR((H$106*(HLOOKUP(H$105,'Hilfsblatt Ber. Wirtsch Wirk 3'!$D$11:$BW$96,$A131,FALSE)+IF(H$105=$C131,HLOOKUP(H$105,'Hilfsblatt Ber. Wirtsch Wirk 3'!$D$11:$BX$96,87,FALSE),0))/100),0)","v":0},{"$f":"IFERROR((I$106*(HLOOKUP(I$105,'Hilfsblatt Ber. Wirtsch Wirk 3'!$D$11:$BW$96,$A131,FALSE)+IF(I$105=$C131,HLOOKUP(I$105,'Hilfsblatt Ber. Wirtsch Wirk 3'!$D$11:$BX$96,87,FALSE),0))/100),0)","v":0},{"$f":"IFERROR((J$106*(HLOOKUP(J$105,'Hilfsblatt Ber. Wirtsch Wirk 3'!$D$11:$BW$96,$A131,FALSE)+IF(J$105=$C131,HLOOKUP(J$105,'Hilfsblatt Ber. Wirtsch Wirk 3'!$D$11:$BX$96,87,FALSE),0))/100),0)","v":0},{"$f":"IFERROR((K$106*(HLOOKUP(K$105,'Hilfsblatt Ber. Wirtsch Wirk 3'!$D$11:$BW$96,$A131,FALSE)+IF(K$105=$C131,HLOOKUP(K$105,'Hilfsblatt Ber. Wirtsch Wirk 3'!$D$11:$BX$96,87,FALSE),0))/100),0)","v":0},{"$f":"IFERROR((L$106*(HLOOKUP(L$105,'Hilfsblatt Ber. Wirtsch Wirk 3'!$D$11:$BW$96,$A131,FALSE)+IF(L$105=$C131,HLOOKUP(L$105,'Hilfsblatt Ber. Wirtsch Wirk 3'!$D$11:$BX$96,87,FALSE),0))/100),0)","v":0},{"$f":"IFERROR((M$106*(HLOOKUP(M$105,'Hilfsblatt Ber. Wirtsch Wirk 3'!$D$11:$BW$96,$A131,FALSE)+IF(M$105=$C131,HLOOKUP(M$105,'Hilfsblatt Ber. Wirtsch Wirk 3'!$D$11:$BX$96,87,FALSE),0))/100),0)","v":0},{"$f":"IFERROR((N$106*(HLOOKUP(N$105,'Hilfsblatt Ber. Wirtsch Wirk 3'!$D$11:$BW$96,$A131,FALSE)+IF(N$105=$C131,HLOOKUP(N$105,'Hilfsblatt Ber. Wirtsch Wirk 3'!$D$11:$BX$96,87,FALSE),0))/100),0)","v":0},{"$f":"IFERROR((O$106*(HLOOKUP(O$105,'Hilfsblatt Ber. Wirtsch Wirk 3'!$D$11:$BW$96,$A131,FALSE)+IF(O$105=$C131,HLOOKUP(O$105,'Hilfsblatt Ber. Wirtsch Wirk 3'!$D$11:$BX$96,87,FALSE),0))/100),0)","v":0},{"$f":"IFERROR((P$106*(HLOOKUP(P$105,'Hilfsblatt Ber. Wirtsch Wirk 3'!$D$11:$BW$96,$A131,FALSE)+IF(P$105=$C131,HLOOKUP(P$105,'Hilfsblatt Ber. Wirtsch Wirk 3'!$D$11:$BX$96,87,FALSE),0))/100),0)","v":0},{"$f":"IFERROR((Q$106*(HLOOKUP(Q$105,'Hilfsblatt Ber. Wirtsch Wirk 3'!$D$11:$BW$96,$A131,FALSE)+IF(Q$105=$C131,HLOOKUP(Q$105,'Hilfsblatt Ber. Wirtsch Wirk 3'!$D$11:$BX$96,87,FALSE),0))/100),0)","v":0},{"$f":"R$106*('Hilfsblatt Ber. Wirtsch Wirk 3'!BX36+'Hilfsblatt Ber. Wirtsch Wirk 3'!BX36*'Hilfsblatt Ber. Wirtsch Wirk 3'!CA36/'Hilfsblatt Ber. Wirtsch Wirk 3'!CB36)/100","v":0},0,{"$f":"S131*'Hilfsblatt Ber. Wirtsch Wirk 3'!BZ36/('Hilfsblatt Ber. Wirtsch Wirk 3'!CA36)","v":0},{"$f":"S131/'Hilfsblatt Ber. Wirtsch Wirk 3'!CC36","v":0},{"$f":"T131*('Hilfsblatt Ber. Wirtsch Wirk 4'!B$14/'Hilfsblatt Ber. Wirtsch Wirk 4'!B$13)","v":0},{"$f":"S131*'Hilfsblatt Ber. Wirtsch Wirk 3'!CD36","v":0}]
[27,{"$f":"B32","v":"27"},"Elektrische Ausrüstungen",{"$f":"IFERROR((D$106*(HLOOKUP(D$105,'Hilfsblatt Ber. Wirtsch Wirk 3'!$D$11:$BW$96,$A132,FALSE)+IF(D$105=$C132,HLOOKUP(D$105,'Hilfsblatt Ber. Wirtsch Wirk 3'!$D$11:$BX$96,87,FALSE),0))/100),0)","v":0},{"$f":"IFERROR((E$106*(HLOOKUP(E$105,'Hilfsblatt Ber. Wirtsch Wirk 3'!$D$11:$BW$96,$A132,FALSE)+IF(E$105=$C132,HLOOKUP(E$105,'Hilfsblatt Ber. Wirtsch Wirk 3'!$D$11:$BX$96,87,FALSE),0))/100),0)","v":0},{"$f":"IFERROR((F$106*(HLOOKUP(F$105,'Hilfsblatt Ber. Wirtsch Wirk 3'!$D$11:$BW$96,$A132,FALSE)+IF(F$105=$C132,HLOOKUP(F$105,'Hilfsblatt Ber. Wirtsch Wirk 3'!$D$11:$BX$96,87,FALSE),0))/100),0)","v":0},{"$f":"IFERROR((G$106*(HLOOKUP(G$105,'Hilfsblatt Ber. Wirtsch Wirk 3'!$D$11:$BW$96,$A132,FALSE)+IF(G$105=$C132,HLOOKUP(G$105,'Hilfsblatt Ber. Wirtsch Wirk 3'!$D$11:$BX$96,87,FALSE),0))/100),0)","v":0},{"$f":"IFERROR((H$106*(HLOOKUP(H$105,'Hilfsblatt Ber. Wirtsch Wirk 3'!$D$11:$BW$96,$A132,FALSE)+IF(H$105=$C132,HLOOKUP(H$105,'Hilfsblatt Ber. Wirtsch Wirk 3'!$D$11:$BX$96,87,FALSE),0))/100),0)","v":0},{"$f":"IFERROR((I$106*(HLOOKUP(I$105,'Hilfsblatt Ber. Wirtsch Wirk 3'!$D$11:$BW$96,$A132,FALSE)+IF(I$105=$C132,HLOOKUP(I$105,'Hilfsblatt Ber. Wirtsch Wirk 3'!$D$11:$BX$96,87,FALSE),0))/100),0)","v":0},{"$f":"IFERROR((J$106*(HLOOKUP(J$105,'Hilfsblatt Ber. Wirtsch Wirk 3'!$D$11:$BW$96,$A132,FALSE)+IF(J$105=$C132,HLOOKUP(J$105,'Hilfsblatt Ber. Wirtsch Wirk 3'!$D$11:$BX$96,87,FALSE),0))/100),0)","v":0},{"$f":"IFERROR((K$106*(HLOOKUP(K$105,'Hilfsblatt Ber. Wirtsch Wirk 3'!$D$11:$BW$96,$A132,FALSE)+IF(K$105=$C132,HLOOKUP(K$105,'Hilfsblatt Ber. Wirtsch Wirk 3'!$D$11:$BX$96,87,FALSE),0))/100),0)","v":0},{"$f":"IFERROR((L$106*(HLOOKUP(L$105,'Hilfsblatt Ber. Wirtsch Wirk 3'!$D$11:$BW$96,$A132,FALSE)+IF(L$105=$C132,HLOOKUP(L$105,'Hilfsblatt Ber. Wirtsch Wirk 3'!$D$11:$BX$96,87,FALSE),0))/100),0)","v":0},{"$f":"IFERROR((M$106*(HLOOKUP(M$105,'Hilfsblatt Ber. Wirtsch Wirk 3'!$D$11:$BW$96,$A132,FALSE)+IF(M$105=$C132,HLOOKUP(M$105,'Hilfsblatt Ber. Wirtsch Wirk 3'!$D$11:$BX$96,87,FALSE),0))/100),0)","v":0},{"$f":"IFERROR((N$106*(HLOOKUP(N$105,'Hilfsblatt Ber. Wirtsch Wirk 3'!$D$11:$BW$96,$A132,FALSE)+IF(N$105=$C132,HLOOKUP(N$105,'Hilfsblatt Ber. Wirtsch Wirk 3'!$D$11:$BX$96,87,FALSE),0))/100),0)","v":0},{"$f":"IFERROR((O$106*(HLOOKUP(O$105,'Hilfsblatt Ber. Wirtsch Wirk 3'!$D$11:$BW$96,$A132,FALSE)+IF(O$105=$C132,HLOOKUP(O$105,'Hilfsblatt Ber. Wirtsch Wirk 3'!$D$11:$BX$96,87,FALSE),0))/100),0)","v":0},{"$f":"IFERROR((P$106*(HLOOKUP(P$105,'Hilfsblatt Ber. Wirtsch Wirk 3'!$D$11:$BW$96,$A132,FALSE)+IF(P$105=$C132,HLOOKUP(P$105,'Hilfsblatt Ber. Wirtsch Wirk 3'!$D$11:$BX$96,87,FALSE),0))/100),0)","v":0},{"$f":"IFERROR((Q$106*(HLOOKUP(Q$105,'Hilfsblatt Ber. Wirtsch Wirk 3'!$D$11:$BW$96,$A132,FALSE)+IF(Q$105=$C132,HLOOKUP(Q$105,'Hilfsblatt Ber. Wirtsch Wirk 3'!$D$11:$BX$96,87,FALSE),0))/100),0)","v":0},{"$f":"R$106*('Hilfsblatt Ber. Wirtsch Wirk 3'!BX37+'Hilfsblatt Ber. Wirtsch Wirk 3'!BX37*'Hilfsblatt Ber. Wirtsch Wirk 3'!CA37/'Hilfsblatt Ber. Wirtsch Wirk 3'!CB37)/100","v":0},0,{"$f":"S132*'Hilfsblatt Ber. Wirtsch Wirk 3'!BZ37/('Hilfsblatt Ber. Wirtsch Wirk 3'!CA37)","v":0},{"$f":"S132/'Hilfsblatt Ber. Wirtsch Wirk 3'!CC37","v":0},{"$f":"T132*('Hilfsblatt Ber. Wirtsch Wirk 4'!B$14/'Hilfsblatt Ber. Wirtsch Wirk 4'!B$13)","v":0},{"$f":"S132*'Hilfsblatt Ber. Wirtsch Wirk 3'!CD37","v":0}]
[28,{"$f":"B33","v":"28"},"Maschinen",{"$f":"IFERROR((D$106*(HLOOKUP(D$105,'Hilfsblatt Ber. Wirtsch Wirk 3'!$D$11:$BW$96,$A133,FALSE)+IF(D$105=$C133,HLOOKUP(D$105,'Hilfsblatt Ber. Wirtsch Wirk 3'!$D$11:$BX$96,87,FALSE),0))/100),0)","v":0},{"$f":"IFERROR((E$106*(HLOOKUP(E$105,'Hilfsblatt Ber. Wirtsch Wirk 3'!$D$11:$BW$96,$A133,FALSE)+IF(E$105=$C133,HLOOKUP(E$105,'Hilfsblatt Ber. Wirtsch Wirk 3'!$D$11:$BX$96,87,FALSE),0))/100),0)","v":0},{"$f":"IFERROR((F$106*(HLOOKUP(F$105,'Hilfsblatt Ber. Wirtsch Wirk 3'!$D$11:$BW$96,$A133,FALSE)+IF(F$105=$C133,HLOOKUP(F$105,'Hilfsblatt Ber. Wirtsch Wirk 3'!$D$11:$BX$96,87,FALSE),0))/100),0)","v":0},{"$f":"IFERROR((G$106*(HLOOKUP(G$105,'Hilfsblatt Ber. Wirtsch Wirk 3'!$D$11:$BW$96,$A133,FALSE)+IF(G$105=$C133,HLOOKUP(G$105,'Hilfsblatt Ber. Wirtsch Wirk 3'!$D$11:$BX$96,87,FALSE),0))/100),0)","v":0},{"$f":"IFERROR((H$106*(HLOOKUP(H$105,'Hilfsblatt Ber. Wirtsch Wirk 3'!$D$11:$BW$96,$A133,FALSE)+IF(H$105=$C133,HLOOKUP(H$105,'Hilfsblatt Ber. Wirtsch Wirk 3'!$D$11:$BX$96,87,FALSE),0))/100),0)","v":0},{"$f":"IFERROR((I$106*(HLOOKUP(I$105,'Hilfsblatt Ber. Wirtsch Wirk 3'!$D$11:$BW$96,$A133,FALSE)+IF(I$105=$C133,HLOOKUP(I$105,'Hilfsblatt Ber. Wirtsch Wirk 3'!$D$11:$BX$96,87,FALSE),0))/100),0)","v":0},{"$f":"IFERROR((J$106*(HLOOKUP(J$105,'Hilfsblatt Ber. Wirtsch Wirk 3'!$D$11:$BW$96,$A133,FALSE)+IF(J$105=$C133,HLOOKUP(J$105,'Hilfsblatt Ber. Wirtsch Wirk 3'!$D$11:$BX$96,87,FALSE),0))/100),0)","v":0},{"$f":"IFERROR((K$106*(HLOOKUP(K$105,'Hilfsblatt Ber. Wirtsch Wirk 3'!$D$11:$BW$96,$A133,FALSE)+IF(K$105=$C133,HLOOKUP(K$105,'Hilfsblatt Ber. Wirtsch Wirk 3'!$D$11:$BX$96,87,FALSE),0))/100),0)","v":0},{"$f":"IFERROR((L$106*(HLOOKUP(L$105,'Hilfsblatt Ber. Wirtsch Wirk 3'!$D$11:$BW$96,$A133,FALSE)+IF(L$105=$C133,HLOOKUP(L$105,'Hilfsblatt Ber. Wirtsch Wirk 3'!$D$11:$BX$96,87,FALSE),0))/100),0)","v":0},{"$f":"IFERROR((M$106*(HLOOKUP(M$105,'Hilfsblatt Ber. Wirtsch Wirk 3'!$D$11:$BW$96,$A133,FALSE)+IF(M$105=$C133,HLOOKUP(M$105,'Hilfsblatt Ber. Wirtsch Wirk 3'!$D$11:$BX$96,87,FALSE),0))/100),0)","v":0},{"$f":"IFERROR((N$106*(HLOOKUP(N$105,'Hilfsblatt Ber. Wirtsch Wirk 3'!$D$11:$BW$96,$A133,FALSE)+IF(N$105=$C133,HLOOKUP(N$105,'Hilfsblatt Ber. Wirtsch Wirk 3'!$D$11:$BX$96,87,FALSE),0))/100),0)","v":0},{"$f":"IFERROR((O$106*(HLOOKUP(O$105,'Hilfsblatt Ber. Wirtsch Wirk 3'!$D$11:$BW$96,$A133,FALSE)+IF(O$105=$C133,HLOOKUP(O$105,'Hilfsblatt Ber. Wirtsch Wirk 3'!$D$11:$BX$96,87,FALSE),0))/100),0)","v":0},{"$f":"IFERROR((P$106*(HLOOKUP(P$105,'Hilfsblatt Ber. Wirtsch Wirk 3'!$D$11:$BW$96,$A133,FALSE)+IF(P$105=$C133,HLOOKUP(P$105,'Hilfsblatt Ber. Wirtsch Wirk 3'!$D$11:$BX$96,87,FALSE),0))/100),0)","v":0},{"$f":"IFERROR((Q$106*(HLOOKUP(Q$105,'Hilfsblatt Ber. Wirtsch Wirk 3'!$D$11:$BW$96,$A133,FALSE)+IF(Q$105=$C133,HLOOKUP(Q$105,'Hilfsblatt Ber. Wirtsch Wirk 3'!$D$11:$BX$96,87,FALSE),0))/100),0)","v":0},{"$f":"R$106*('Hilfsblatt Ber. Wirtsch Wirk 3'!BX38+'Hilfsblatt Ber. Wirtsch Wirk 3'!BX38*'Hilfsblatt Ber. Wirtsch Wirk 3'!CA38/'Hilfsblatt Ber. Wirtsch Wirk 3'!CB38)/100","v":0},0,{"$f":"S133*'Hilfsblatt Ber. Wirtsch Wirk 3'!BZ38/('Hilfsblatt Ber. Wirtsch Wirk 3'!CA38)","v":0},{"$f":"S133/'Hilfsblatt Ber. Wirtsch Wirk 3'!CC38","v":0},{"$f":"T133*('Hilfsblatt Ber. Wirtsch Wirk 4'!B$14/'Hilfsblatt Ber. Wirtsch Wirk 4'!B$13)","v":0},{"$f":"S133*'Hilfsblatt Ber. Wirtsch Wirk 3'!CD38","v":0}]
[29,{"$f":"B34","v":"29"},"Kraftwagen und Kraftwagenteile ",{"$f":"IFERROR((D$106*(HLOOKUP(D$105,'Hilfsblatt Ber. Wirtsch Wirk 3'!$D$11:$BW$96,$A134,FALSE)+IF(D$105=$C134,HLOOKUP(D$105,'Hilfsblatt Ber. Wirtsch Wirk 3'!$D$11:$BX$96,87,FALSE),0))/100),0)","v":0},{"$f":"IFERROR((E$106*(HLOOKUP(E$105,'Hilfsblatt Ber. Wirtsch Wirk 3'!$D$11:$BW$96,$A134,FALSE)+IF(E$105=$C134,HLOOKUP(E$105,'Hilfsblatt Ber. Wirtsch Wirk 3'!$D$11:$BX$96,87,FALSE),0))/100),0)","v":0},{"$f":"IFERROR((F$106*(HLOOKUP(F$105,'Hilfsblatt Ber. Wirtsch Wirk 3'!$D$11:$BW$96,$A134,FALSE)+IF(F$105=$C134,HLOOKUP(F$105,'Hilfsblatt Ber. Wirtsch Wirk 3'!$D$11:$BX$96,87,FALSE),0))/100),0)","v":0},{"$f":"IFERROR((G$106*(HLOOKUP(G$105,'Hilfsblatt Ber. Wirtsch Wirk 3'!$D$11:$BW$96,$A134,FALSE)+IF(G$105=$C134,HLOOKUP(G$105,'Hilfsblatt Ber. Wirtsch Wirk 3'!$D$11:$BX$96,87,FALSE),0))/100),0)","v":0},{"$f":"IFERROR((H$106*(HLOOKUP(H$105,'Hilfsblatt Ber. Wirtsch Wirk 3'!$D$11:$BW$96,$A134,FALSE)+IF(H$105=$C134,HLOOKUP(H$105,'Hilfsblatt Ber. Wirtsch Wirk 3'!$D$11:$BX$96,87,FALSE),0))/100),0)","v":0},{"$f":"IFERROR((I$106*(HLOOKUP(I$105,'Hilfsblatt Ber. Wirtsch Wirk 3'!$D$11:$BW$96,$A134,FALSE)+IF(I$105=$C134,HLOOKUP(I$105,'Hilfsblatt Ber. Wirtsch Wirk 3'!$D$11:$BX$96,87,FALSE),0))/100),0)","v":0},{"$f":"IFERROR((J$106*(HLOOKUP(J$105,'Hilfsblatt Ber. Wirtsch Wirk 3'!$D$11:$BW$96,$A134,FALSE)+IF(J$105=$C134,HLOOKUP(J$105,'Hilfsblatt Ber. Wirtsch Wirk 3'!$D$11:$BX$96,87,FALSE),0))/100),0)","v":0},{"$f":"IFERROR((K$106*(HLOOKUP(K$105,'Hilfsblatt Ber. Wirtsch Wirk 3'!$D$11:$BW$96,$A134,FALSE)+IF(K$105=$C134,HLOOKUP(K$105,'Hilfsblatt Ber. Wirtsch Wirk 3'!$D$11:$BX$96,87,FALSE),0))/100),0)","v":0},{"$f":"IFERROR((L$106*(HLOOKUP(L$105,'Hilfsblatt Ber. Wirtsch Wirk 3'!$D$11:$BW$96,$A134,FALSE)+IF(L$105=$C134,HLOOKUP(L$105,'Hilfsblatt Ber. Wirtsch Wirk 3'!$D$11:$BX$96,87,FALSE),0))/100),0)","v":0},{"$f":"IFERROR((M$106*(HLOOKUP(M$105,'Hilfsblatt Ber. Wirtsch Wirk 3'!$D$11:$BW$96,$A134,FALSE)+IF(M$105=$C134,HLOOKUP(M$105,'Hilfsblatt Ber. Wirtsch Wirk 3'!$D$11:$BX$96,87,FALSE),0))/100),0)","v":0},{"$f":"IFERROR((N$106*(HLOOKUP(N$105,'Hilfsblatt Ber. Wirtsch Wirk 3'!$D$11:$BW$96,$A134,FALSE)+IF(N$105=$C134,HLOOKUP(N$105,'Hilfsblatt Ber. Wirtsch Wirk 3'!$D$11:$BX$96,87,FALSE),0))/100),0)","v":0},{"$f":"IFERROR((O$106*(HLOOKUP(O$105,'Hilfsblatt Ber. Wirtsch Wirk 3'!$D$11:$BW$96,$A134,FALSE)+IF(O$105=$C134,HLOOKUP(O$105,'Hilfsblatt Ber. Wirtsch Wirk 3'!$D$11:$BX$96,87,FALSE),0))/100),0)","v":0},{"$f":"IFERROR((P$106*(HLOOKUP(P$105,'Hilfsblatt Ber. Wirtsch Wirk 3'!$D$11:$BW$96,$A134,FALSE)+IF(P$105=$C134,HLOOKUP(P$105,'Hilfsblatt Ber. Wirtsch Wirk 3'!$D$11:$BX$96,87,FALSE),0))/100),0)","v":0},{"$f":"IFERROR((Q$106*(HLOOKUP(Q$105,'Hilfsblatt Ber. Wirtsch Wirk 3'!$D$11:$BW$96,$A134,FALSE)+IF(Q$105=$C134,HLOOKUP(Q$105,'Hilfsblatt Ber. Wirtsch Wirk 3'!$D$11:$BX$96,87,FALSE),0))/100),0)","v":0},{"$f":"R$106*('Hilfsblatt Ber. Wirtsch Wirk 3'!BX39+'Hilfsblatt Ber. Wirtsch Wirk 3'!BX39*'Hilfsblatt Ber. Wirtsch Wirk 3'!CA39/'Hilfsblatt Ber. Wirtsch Wirk 3'!CB39)/100","v":0},0,{"$f":"S134*'Hilfsblatt Ber. Wirtsch Wirk 3'!BZ39/('Hilfsblatt Ber. Wirtsch Wirk 3'!CA39)","v":0},{"$f":"S134/'Hilfsblatt Ber. Wirtsch Wirk 3'!CC39","v":0},{"$f":"T134*('Hilfsblatt Ber. Wirtsch Wirk 4'!B$14/'Hilfsblatt Ber. Wirtsch Wirk 4'!B$13)","v":0},{"$f":"S134*'Hilfsblatt Ber. Wirtsch Wirk 3'!CD39","v":0}]
[30,{"$f":"B35","v":"30"},"Sonstige Fahrzeuge",{"$f":"IFERROR((D$106*(HLOOKUP(D$105,'Hilfsblatt Ber. Wirtsch Wirk 3'!$D$11:$BW$96,$A135,FALSE)+IF(D$105=$C135,HLOOKUP(D$105,'Hilfsblatt Ber. Wirtsch Wirk 3'!$D$11:$BX$96,87,FALSE),0))/100),0)","v":0},{"$f":"IFERROR((E$106*(HLOOKUP(E$105,'Hilfsblatt Ber. Wirtsch Wirk 3'!$D$11:$BW$96,$A135,FALSE)+IF(E$105=$C135,HLOOKUP(E$105,'Hilfsblatt Ber. Wirtsch Wirk 3'!$D$11:$BX$96,87,FALSE),0))/100),0)","v":0},{"$f":"IFERROR((F$106*(HLOOKUP(F$105,'Hilfsblatt Ber. Wirtsch Wirk 3'!$D$11:$BW$96,$A135,FALSE)+IF(F$105=$C135,HLOOKUP(F$105,'Hilfsblatt Ber. Wirtsch Wirk 3'!$D$11:$BX$96,87,FALSE),0))/100),0)","v":0},{"$f":"IFERROR((G$106*(HLOOKUP(G$105,'Hilfsblatt Ber. Wirtsch Wirk 3'!$D$11:$BW$96,$A135,FALSE)+IF(G$105=$C135,HLOOKUP(G$105,'Hilfsblatt Ber. Wirtsch Wirk 3'!$D$11:$BX$96,87,FALSE),0))/100),0)","v":0},{"$f":"IFERROR((H$106*(HLOOKUP(H$105,'Hilfsblatt Ber. Wirtsch Wirk 3'!$D$11:$BW$96,$A135,FALSE)+IF(H$105=$C135,HLOOKUP(H$105,'Hilfsblatt Ber. Wirtsch Wirk 3'!$D$11:$BX$96,87,FALSE),0))/100),0)","v":0},{"$f":"IFERROR((I$106*(HLOOKUP(I$105,'Hilfsblatt Ber. Wirtsch Wirk 3'!$D$11:$BW$96,$A135,FALSE)+IF(I$105=$C135,HLOOKUP(I$105,'Hilfsblatt Ber. Wirtsch Wirk 3'!$D$11:$BX$96,87,FALSE),0))/100),0)","v":0},{"$f":"IFERROR((J$106*(HLOOKUP(J$105,'Hilfsblatt Ber. Wirtsch Wirk 3'!$D$11:$BW$96,$A135,FALSE)+IF(J$105=$C135,HLOOKUP(J$105,'Hilfsblatt Ber. Wirtsch Wirk 3'!$D$11:$BX$96,87,FALSE),0))/100),0)","v":0},{"$f":"IFERROR((K$106*(HLOOKUP(K$105,'Hilfsblatt Ber. Wirtsch Wirk 3'!$D$11:$BW$96,$A135,FALSE)+IF(K$105=$C135,HLOOKUP(K$105,'Hilfsblatt Ber. Wirtsch Wirk 3'!$D$11:$BX$96,87,FALSE),0))/100),0)","v":0},{"$f":"IFERROR((L$106*(HLOOKUP(L$105,'Hilfsblatt Ber. Wirtsch Wirk 3'!$D$11:$BW$96,$A135,FALSE)+IF(L$105=$C135,HLOOKUP(L$105,'Hilfsblatt Ber. Wirtsch Wirk 3'!$D$11:$BX$96,87,FALSE),0))/100),0)","v":0},{"$f":"IFERROR((M$106*(HLOOKUP(M$105,'Hilfsblatt Ber. Wirtsch Wirk 3'!$D$11:$BW$96,$A135,FALSE)+IF(M$105=$C135,HLOOKUP(M$105,'Hilfsblatt Ber. Wirtsch Wirk 3'!$D$11:$BX$96,87,FALSE),0))/100),0)","v":0},{"$f":"IFERROR((N$106*(HLOOKUP(N$105,'Hilfsblatt Ber. Wirtsch Wirk 3'!$D$11:$BW$96,$A135,FALSE)+IF(N$105=$C135,HLOOKUP(N$105,'Hilfsblatt Ber. Wirtsch Wirk 3'!$D$11:$BX$96,87,FALSE),0))/100),0)","v":0},{"$f":"IFERROR((O$106*(HLOOKUP(O$105,'Hilfsblatt Ber. Wirtsch Wirk 3'!$D$11:$BW$96,$A135,FALSE)+IF(O$105=$C135,HLOOKUP(O$105,'Hilfsblatt Ber. Wirtsch Wirk 3'!$D$11:$BX$96,87,FALSE),0))/100),0)","v":0},{"$f":"IFERROR((P$106*(HLOOKUP(P$105,'Hilfsblatt Ber. Wirtsch Wirk 3'!$D$11:$BW$96,$A135,FALSE)+IF(P$105=$C135,HLOOKUP(P$105,'Hilfsblatt Ber. Wirtsch Wirk 3'!$D$11:$BX$96,87,FALSE),0))/100),0)","v":0},{"$f":"IFERROR((Q$106*(HLOOKUP(Q$105,'Hilfsblatt Ber. Wirtsch Wirk 3'!$D$11:$BW$96,$A135,FALSE)+IF(Q$105=$C135,HLOOKUP(Q$105,'Hilfsblatt Ber. Wirtsch Wirk 3'!$D$11:$BX$96,87,FALSE),0))/100),0)","v":0},{"$f":"R$106*('Hilfsblatt Ber. Wirtsch Wirk 3'!BX40+'Hilfsblatt Ber. Wirtsch Wirk 3'!BX40*'Hilfsblatt Ber. Wirtsch Wirk 3'!CA40/'Hilfsblatt Ber. Wirtsch Wirk 3'!CB40)/100","v":0},0,{"$f":"S135*'Hilfsblatt Ber. Wirtsch Wirk 3'!BZ40/('Hilfsblatt Ber. Wirtsch Wirk 3'!CA40)","v":0},{"$f":"S135/'Hilfsblatt Ber. Wirtsch Wirk 3'!CC40","v":0},{"$f":"T135*('Hilfsblatt Ber. Wirtsch Wirk 4'!B$14/'Hilfsblatt Ber. Wirtsch Wirk 4'!B$13)","v":0},{"$f":"S135*'Hilfsblatt Ber. Wirtsch Wirk 3'!CD40","v":0}]
[31,{"$f":"B36","v":"31-32"},"Herstellung von Möbeln und sonstigen Waren",{"$f":"IFERROR((D$106*(HLOOKUP(D$105,'Hilfsblatt Ber. Wirtsch Wirk 3'!$D$11:$BW$96,$A136,FALSE)+IF(D$105=$C136,HLOOKUP(D$105,'Hilfsblatt Ber. Wirtsch Wirk 3'!$D$11:$BX$96,87,FALSE),0))/100),0)","v":0},{"$f":"IFERROR((E$106*(HLOOKUP(E$105,'Hilfsblatt Ber. Wirtsch Wirk 3'!$D$11:$BW$96,$A136,FALSE)+IF(E$105=$C136,HLOOKUP(E$105,'Hilfsblatt Ber. Wirtsch Wirk 3'!$D$11:$BX$96,87,FALSE),0))/100),0)","v":0},{"$f":"IFERROR((F$106*(HLOOKUP(F$105,'Hilfsblatt Ber. Wirtsch Wirk 3'!$D$11:$BW$96,$A136,FALSE)+IF(F$105=$C136,HLOOKUP(F$105,'Hilfsblatt Ber. Wirtsch Wirk 3'!$D$11:$BX$96,87,FALSE),0))/100),0)","v":0},{"$f":"IFERROR((G$106*(HLOOKUP(G$105,'Hilfsblatt Ber. Wirtsch Wirk 3'!$D$11:$BW$96,$A136,FALSE)+IF(G$105=$C136,HLOOKUP(G$105,'Hilfsblatt Ber. Wirtsch Wirk 3'!$D$11:$BX$96,87,FALSE),0))/100),0)","v":0},{"$f":"IFERROR((H$106*(HLOOKUP(H$105,'Hilfsblatt Ber. Wirtsch Wirk 3'!$D$11:$BW$96,$A136,FALSE)+IF(H$105=$C136,HLOOKUP(H$105,'Hilfsblatt Ber. Wirtsch Wirk 3'!$D$11:$BX$96,87,FALSE),0))/100),0)","v":0},{"$f":"IFERROR((I$106*(HLOOKUP(I$105,'Hilfsblatt Ber. Wirtsch Wirk 3'!$D$11:$BW$96,$A136,FALSE)+IF(I$105=$C136,HLOOKUP(I$105,'Hilfsblatt Ber. Wirtsch Wirk 3'!$D$11:$BX$96,87,FALSE),0))/100),0)","v":0},{"$f":"IFERROR((J$106*(HLOOKUP(J$105,'Hilfsblatt Ber. Wirtsch Wirk 3'!$D$11:$BW$96,$A136,FALSE)+IF(J$105=$C136,HLOOKUP(J$105,'Hilfsblatt Ber. Wirtsch Wirk 3'!$D$11:$BX$96,87,FALSE),0))/100),0)","v":0},{"$f":"IFERROR((K$106*(HLOOKUP(K$105,'Hilfsblatt Ber. Wirtsch Wirk 3'!$D$11:$BW$96,$A136,FALSE)+IF(K$105=$C136,HLOOKUP(K$105,'Hilfsblatt Ber. Wirtsch Wirk 3'!$D$11:$BX$96,87,FALSE),0))/100),0)","v":0},{"$f":"IFERROR((L$106*(HLOOKUP(L$105,'Hilfsblatt Ber. Wirtsch Wirk 3'!$D$11:$BW$96,$A136,FALSE)+IF(L$105=$C136,HLOOKUP(L$105,'Hilfsblatt Ber. Wirtsch Wirk 3'!$D$11:$BX$96,87,FALSE),0))/100),0)","v":0},{"$f":"IFERROR((M$106*(HLOOKUP(M$105,'Hilfsblatt Ber. Wirtsch Wirk 3'!$D$11:$BW$96,$A136,FALSE)+IF(M$105=$C136,HLOOKUP(M$105,'Hilfsblatt Ber. Wirtsch Wirk 3'!$D$11:$BX$96,87,FALSE),0))/100),0)","v":0},{"$f":"IFERROR((N$106*(HLOOKUP(N$105,'Hilfsblatt Ber. Wirtsch Wirk 3'!$D$11:$BW$96,$A136,FALSE)+IF(N$105=$C136,HLOOKUP(N$105,'Hilfsblatt Ber. Wirtsch Wirk 3'!$D$11:$BX$96,87,FALSE),0))/100),0)","v":0},{"$f":"IFERROR((O$106*(HLOOKUP(O$105,'Hilfsblatt Ber. Wirtsch Wirk 3'!$D$11:$BW$96,$A136,FALSE)+IF(O$105=$C136,HLOOKUP(O$105,'Hilfsblatt Ber. Wirtsch Wirk 3'!$D$11:$BX$96,87,FALSE),0))/100),0)","v":0},{"$f":"IFERROR((P$106*(HLOOKUP(P$105,'Hilfsblatt Ber. Wirtsch Wirk 3'!$D$11:$BW$96,$A136,FALSE)+IF(P$105=$C136,HLOOKUP(P$105,'Hilfsblatt Ber. Wirtsch Wirk 3'!$D$11:$BX$96,87,FALSE),0))/100),0)","v":0},{"$f":"IFERROR((Q$106*(HLOOKUP(Q$105,'Hilfsblatt Ber. Wirtsch Wirk 3'!$D$11:$BW$96,$A136,FALSE)+IF(Q$105=$C136,HLOOKUP(Q$105,'Hilfsblatt Ber. Wirtsch Wirk 3'!$D$11:$BX$96,87,FALSE),0))/100),0)","v":0},{"$f":"R$106*('Hilfsblatt Ber. Wirtsch Wirk 3'!BX41+'Hilfsblatt Ber. Wirtsch Wirk 3'!BX41*'Hilfsblatt Ber. Wirtsch Wirk 3'!CA41/'Hilfsblatt Ber. Wirtsch Wirk 3'!CB41)/100","v":0},0,{"$f":"S136*'Hilfsblatt Ber. Wirtsch Wirk 3'!BZ41/('Hilfsblatt Ber. Wirtsch Wirk 3'!CA41)","v":0},{"$f":"S136/'Hilfsblatt Ber. Wirtsch Wirk 3'!CC41","v":0},{"$f":"T136*('Hilfsblatt Ber. Wirtsch Wirk 4'!B$14/'Hilfsblatt Ber. Wirtsch Wirk 4'!B$13)","v":0},{"$f":"S136*'Hilfsblatt Ber. Wirtsch Wirk 3'!CD41","v":0}]
[32,{"$f":"B37","v":"33"},"Reparatur, Instandh. u. Installation v. Maschinen u. Ausrüstungen",{"$f":"IFERROR((D$106*(HLOOKUP(D$105,'Hilfsblatt Ber. Wirtsch Wirk 3'!$D$11:$BW$96,$A137,FALSE)+IF(D$105=$C137,HLOOKUP(D$105,'Hilfsblatt Ber. Wirtsch Wirk 3'!$D$11:$BX$96,87,FALSE),0))/100),0)","v":0},{"$f":"IFERROR((E$106*(HLOOKUP(E$105,'Hilfsblatt Ber. Wirtsch Wirk 3'!$D$11:$BW$96,$A137,FALSE)+IF(E$105=$C137,HLOOKUP(E$105,'Hilfsblatt Ber. Wirtsch Wirk 3'!$D$11:$BX$96,87,FALSE),0))/100),0)","v":0},{"$f":"IFERROR((F$106*(HLOOKUP(F$105,'Hilfsblatt Ber. Wirtsch Wirk 3'!$D$11:$BW$96,$A137,FALSE)+IF(F$105=$C137,HLOOKUP(F$105,'Hilfsblatt Ber. Wirtsch Wirk 3'!$D$11:$BX$96,87,FALSE),0))/100),0)","v":0},{"$f":"IFERROR((G$106*(HLOOKUP(G$105,'Hilfsblatt Ber. Wirtsch Wirk 3'!$D$11:$BW$96,$A137,FALSE)+IF(G$105=$C137,HLOOKUP(G$105,'Hilfsblatt Ber. Wirtsch Wirk 3'!$D$11:$BX$96,87,FALSE),0))/100),0)","v":0},{"$f":"IFERROR((H$106*(HLOOKUP(H$105,'Hilfsblatt Ber. Wirtsch Wirk 3'!$D$11:$BW$96,$A137,FALSE)+IF(H$105=$C137,HLOOKUP(H$105,'Hilfsblatt Ber. Wirtsch Wirk 3'!$D$11:$BX$96,87,FALSE),0))/100),0)","v":0},{"$f":"IFERROR((I$106*(HLOOKUP(I$105,'Hilfsblatt Ber. Wirtsch Wirk 3'!$D$11:$BW$96,$A137,FALSE)+IF(I$105=$C137,HLOOKUP(I$105,'Hilfsblatt Ber. Wirtsch Wirk 3'!$D$11:$BX$96,87,FALSE),0))/100),0)","v":0},{"$f":"IFERROR((J$106*(HLOOKUP(J$105,'Hilfsblatt Ber. Wirtsch Wirk 3'!$D$11:$BW$96,$A137,FALSE)+IF(J$105=$C137,HLOOKUP(J$105,'Hilfsblatt Ber. Wirtsch Wirk 3'!$D$11:$BX$96,87,FALSE),0))/100),0)","v":0},{"$f":"IFERROR((K$106*(HLOOKUP(K$105,'Hilfsblatt Ber. Wirtsch Wirk 3'!$D$11:$BW$96,$A137,FALSE)+IF(K$105=$C137,HLOOKUP(K$105,'Hilfsblatt Ber. Wirtsch Wirk 3'!$D$11:$BX$96,87,FALSE),0))/100),0)","v":0},{"$f":"IFERROR((L$106*(HLOOKUP(L$105,'Hilfsblatt Ber. Wirtsch Wirk 3'!$D$11:$BW$96,$A137,FALSE)+IF(L$105=$C137,HLOOKUP(L$105,'Hilfsblatt Ber. Wirtsch Wirk 3'!$D$11:$BX$96,87,FALSE),0))/100),0)","v":0},{"$f":"IFERROR((M$106*(HLOOKUP(M$105,'Hilfsblatt Ber. Wirtsch Wirk 3'!$D$11:$BW$96,$A137,FALSE)+IF(M$105=$C137,HLOOKUP(M$105,'Hilfsblatt Ber. Wirtsch Wirk 3'!$D$11:$BX$96,87,FALSE),0))/100),0)","v":0},{"$f":"IFERROR((N$106*(HLOOKUP(N$105,'Hilfsblatt Ber. Wirtsch Wirk 3'!$D$11:$BW$96,$A137,FALSE)+IF(N$105=$C137,HLOOKUP(N$105,'Hilfsblatt Ber. Wirtsch Wirk 3'!$D$11:$BX$96,87,FALSE),0))/100),0)","v":0},{"$f":"IFERROR((O$106*(HLOOKUP(O$105,'Hilfsblatt Ber. Wirtsch Wirk 3'!$D$11:$BW$96,$A137,FALSE)+IF(O$105=$C137,HLOOKUP(O$105,'Hilfsblatt Ber. Wirtsch Wirk 3'!$D$11:$BX$96,87,FALSE),0))/100),0)","v":0},{"$f":"IFERROR((P$106*(HLOOKUP(P$105,'Hilfsblatt Ber. Wirtsch Wirk 3'!$D$11:$BW$96,$A137,FALSE)+IF(P$105=$C137,HLOOKUP(P$105,'Hilfsblatt Ber. Wirtsch Wirk 3'!$D$11:$BX$96,87,FALSE),0))/100),0)","v":0},{"$f":"IFERROR((Q$106*(HLOOKUP(Q$105,'Hilfsblatt Ber. Wirtsch Wirk 3'!$D$11:$BW$96,$A137,FALSE)+IF(Q$105=$C137,HLOOKUP(Q$105,'Hilfsblatt Ber. Wirtsch Wirk 3'!$D$11:$BX$96,87,FALSE),0))/100),0)","v":0},{"$f":"R$106*('Hilfsblatt Ber. Wirtsch Wirk 3'!BX42+'Hilfsblatt Ber. Wirtsch Wirk 3'!BX42*'Hilfsblatt Ber. Wirtsch Wirk 3'!CA42/'Hilfsblatt Ber. Wirtsch Wirk 3'!CB42)/100","v":0},0,{"$f":"S137*'Hilfsblatt Ber. Wirtsch Wirk 3'!BZ42/('Hilfsblatt Ber. Wirtsch Wirk 3'!CA42)","v":0},{"$f":"S137/'Hilfsblatt Ber. Wirtsch Wirk 3'!CC42","v":0},{"$f":"T137*('Hilfsblatt Ber. Wirtsch Wirk 4'!B$14/'Hilfsblatt Ber. Wirtsch Wirk 4'!B$13)","v":0},{"$f":"S137*'Hilfsblatt Ber. Wirtsch Wirk 3'!CD42","v":0}]
[33,{"$f":"B38","v":"35.1, 35.3"},"Elektr. Strom, Dienstleistg. der Elektriz.-, Wärme- und Kälteversorg.",{"$f":"IFERROR((D$106*(HLOOKUP(D$105,'Hilfsblatt Ber. Wirtsch Wirk 3'!$D$11:$BW$96,$A138,FALSE)+IF(D$105=$C138,HLOOKUP(D$105,'Hilfsblatt Ber. Wirtsch Wirk 3'!$D$11:$BX$96,87,FALSE),0))/100),0)","v":0},{"$f":"IFERROR((E$106*(HLOOKUP(E$105,'Hilfsblatt Ber. Wirtsch Wirk 3'!$D$11:$BW$96,$A138,FALSE)+IF(E$105=$C138,HLOOKUP(E$105,'Hilfsblatt Ber. Wirtsch Wirk 3'!$D$11:$BX$96,87,FALSE),0))/100),0)","v":0},{"$f":"IFERROR((F$106*(HLOOKUP(F$105,'Hilfsblatt Ber. Wirtsch Wirk 3'!$D$11:$BW$96,$A138,FALSE)+IF(F$105=$C138,HLOOKUP(F$105,'Hilfsblatt Ber. Wirtsch Wirk 3'!$D$11:$BX$96,87,FALSE),0))/100),0)","v":0},{"$f":"IFERROR((G$106*(HLOOKUP(G$105,'Hilfsblatt Ber. Wirtsch Wirk 3'!$D$11:$BW$96,$A138,FALSE)+IF(G$105=$C138,HLOOKUP(G$105,'Hilfsblatt Ber. Wirtsch Wirk 3'!$D$11:$BX$96,87,FALSE),0))/100),0)","v":0},{"$f":"IFERROR((H$106*(HLOOKUP(H$105,'Hilfsblatt Ber. Wirtsch Wirk 3'!$D$11:$BW$96,$A138,FALSE)+IF(H$105=$C138,HLOOKUP(H$105,'Hilfsblatt Ber. Wirtsch Wirk 3'!$D$11:$BX$96,87,FALSE),0))/100),0)","v":0},{"$f":"IFERROR((I$106*(HLOOKUP(I$105,'Hilfsblatt Ber. Wirtsch Wirk 3'!$D$11:$BW$96,$A138,FALSE)+IF(I$105=$C138,HLOOKUP(I$105,'Hilfsblatt Ber. Wirtsch Wirk 3'!$D$11:$BX$96,87,FALSE),0))/100),0)","v":0},{"$f":"IFERROR((J$106*(HLOOKUP(J$105,'Hilfsblatt Ber. Wirtsch Wirk 3'!$D$11:$BW$96,$A138,FALSE)+IF(J$105=$C138,HLOOKUP(J$105,'Hilfsblatt Ber. Wirtsch Wirk 3'!$D$11:$BX$96,87,FALSE),0))/100),0)","v":0},{"$f":"IFERROR((K$106*(HLOOKUP(K$105,'Hilfsblatt Ber. Wirtsch Wirk 3'!$D$11:$BW$96,$A138,FALSE)+IF(K$105=$C138,HLOOKUP(K$105,'Hilfsblatt Ber. Wirtsch Wirk 3'!$D$11:$BX$96,87,FALSE),0))/100),0)","v":0},{"$f":"IFERROR((L$106*(HLOOKUP(L$105,'Hilfsblatt Ber. Wirtsch Wirk 3'!$D$11:$BW$96,$A138,FALSE)+IF(L$105=$C138,HLOOKUP(L$105,'Hilfsblatt Ber. Wirtsch Wirk 3'!$D$11:$BX$96,87,FALSE),0))/100),0)","v":0},{"$f":"IFERROR((M$106*(HLOOKUP(M$105,'Hilfsblatt Ber. Wirtsch Wirk 3'!$D$11:$BW$96,$A138,FALSE)+IF(M$105=$C138,HLOOKUP(M$105,'Hilfsblatt Ber. Wirtsch Wirk 3'!$D$11:$BX$96,87,FALSE),0))/100),0)","v":0},{"$f":"IFERROR((N$106*(HLOOKUP(N$105,'Hilfsblatt Ber. Wirtsch Wirk 3'!$D$11:$BW$96,$A138,FALSE)+IF(N$105=$C138,HLOOKUP(N$105,'Hilfsblatt Ber. Wirtsch Wirk 3'!$D$11:$BX$96,87,FALSE),0))/100),0)","v":0},{"$f":"IFERROR((O$106*(HLOOKUP(O$105,'Hilfsblatt Ber. Wirtsch Wirk 3'!$D$11:$BW$96,$A138,FALSE)+IF(O$105=$C138,HLOOKUP(O$105,'Hilfsblatt Ber. Wirtsch Wirk 3'!$D$11:$BX$96,87,FALSE),0))/100),0)","v":0},{"$f":"IFERROR((P$106*(HLOOKUP(P$105,'Hilfsblatt Ber. Wirtsch Wirk 3'!$D$11:$BW$96,$A138,FALSE)+IF(P$105=$C138,HLOOKUP(P$105,'Hilfsblatt Ber. Wirtsch Wirk 3'!$D$11:$BX$96,87,FALSE),0))/100),0)","v":0},{"$f":"IFERROR((Q$106*(HLOOKUP(Q$105,'Hilfsblatt Ber. Wirtsch Wirk 3'!$D$11:$BW$96,$A138,FALSE)+IF(Q$105=$C138,HLOOKUP(Q$105,'Hilfsblatt Ber. Wirtsch Wirk 3'!$D$11:$BX$96,87,FALSE),0))/100),0)","v":0},{"$f":"R$106*('Hilfsblatt Ber. Wirtsch Wirk 3'!BX43+'Hilfsblatt Ber. Wirtsch Wirk 3'!BX43*'Hilfsblatt Ber. Wirtsch Wirk 3'!CA43/'Hilfsblatt Ber. Wirtsch Wirk 3'!CB43)/100","v":0},0,{"$f":"S138*'Hilfsblatt Ber. Wirtsch Wirk 3'!BZ43/('Hilfsblatt Ber. Wirtsch Wirk 3'!CA43)","v":0},{"$f":"S138/'Hilfsblatt Ber. Wirtsch Wirk 3'!CC43","v":0},{"$f":"T138*('Hilfsblatt Ber. Wirtsch Wirk 4'!B$14/'Hilfsblatt Ber. Wirtsch Wirk 4'!B$13)","v":0},{"$f":"S138*'Hilfsblatt Ber. Wirtsch Wirk 3'!CD43","v":0}]
[34,{"$f":"B39","v":"35.2"},"Industriell erzeugte Gase, Dienstleistungen der Gasversorgung",{"$f":"IFERROR((D$106*(HLOOKUP(D$105,'Hilfsblatt Ber. Wirtsch Wirk 3'!$D$11:$BW$96,$A139,FALSE)+IF(D$105=$C139,HLOOKUP(D$105,'Hilfsblatt Ber. Wirtsch Wirk 3'!$D$11:$BX$96,87,FALSE),0))/100),0)","v":0},{"$f":"IFERROR((E$106*(HLOOKUP(E$105,'Hilfsblatt Ber. Wirtsch Wirk 3'!$D$11:$BW$96,$A139,FALSE)+IF(E$105=$C139,HLOOKUP(E$105,'Hilfsblatt Ber. Wirtsch Wirk 3'!$D$11:$BX$96,87,FALSE),0))/100),0)","v":0},{"$f":"IFERROR((F$106*(HLOOKUP(F$105,'Hilfsblatt Ber. Wirtsch Wirk 3'!$D$11:$BW$96,$A139,FALSE)+IF(F$105=$C139,HLOOKUP(F$105,'Hilfsblatt Ber. Wirtsch Wirk 3'!$D$11:$BX$96,87,FALSE),0))/100),0)","v":0},{"$f":"IFERROR((G$106*(HLOOKUP(G$105,'Hilfsblatt Ber. Wirtsch Wirk 3'!$D$11:$BW$96,$A139,FALSE)+IF(G$105=$C139,HLOOKUP(G$105,'Hilfsblatt Ber. Wirtsch Wirk 3'!$D$11:$BX$96,87,FALSE),0))/100),0)","v":0},{"$f":"IFERROR((H$106*(HLOOKUP(H$105,'Hilfsblatt Ber. Wirtsch Wirk 3'!$D$11:$BW$96,$A139,FALSE)+IF(H$105=$C139,HLOOKUP(H$105,'Hilfsblatt Ber. Wirtsch Wirk 3'!$D$11:$BX$96,87,FALSE),0))/100),0)","v":0},{"$f":"IFERROR((I$106*(HLOOKUP(I$105,'Hilfsblatt Ber. Wirtsch Wirk 3'!$D$11:$BW$96,$A139,FALSE)+IF(I$105=$C139,HLOOKUP(I$105,'Hilfsblatt Ber. Wirtsch Wirk 3'!$D$11:$BX$96,87,FALSE),0))/100),0)","v":0},{"$f":"IFERROR((J$106*(HLOOKUP(J$105,'Hilfsblatt Ber. Wirtsch Wirk 3'!$D$11:$BW$96,$A139,FALSE)+IF(J$105=$C139,HLOOKUP(J$105,'Hilfsblatt Ber. Wirtsch Wirk 3'!$D$11:$BX$96,87,FALSE),0))/100),0)","v":0},{"$f":"IFERROR((K$106*(HLOOKUP(K$105,'Hilfsblatt Ber. Wirtsch Wirk 3'!$D$11:$BW$96,$A139,FALSE)+IF(K$105=$C139,HLOOKUP(K$105,'Hilfsblatt Ber. Wirtsch Wirk 3'!$D$11:$BX$96,87,FALSE),0))/100),0)","v":0},{"$f":"IFERROR((L$106*(HLOOKUP(L$105,'Hilfsblatt Ber. Wirtsch Wirk 3'!$D$11:$BW$96,$A139,FALSE)+IF(L$105=$C139,HLOOKUP(L$105,'Hilfsblatt Ber. Wirtsch Wirk 3'!$D$11:$BX$96,87,FALSE),0))/100),0)","v":0},{"$f":"IFERROR((M$106*(HLOOKUP(M$105,'Hilfsblatt Ber. Wirtsch Wirk 3'!$D$11:$BW$96,$A139,FALSE)+IF(M$105=$C139,HLOOKUP(M$105,'Hilfsblatt Ber. Wirtsch Wirk 3'!$D$11:$BX$96,87,FALSE),0))/100),0)","v":0},{"$f":"IFERROR((N$106*(HLOOKUP(N$105,'Hilfsblatt Ber. Wirtsch Wirk 3'!$D$11:$BW$96,$A139,FALSE)+IF(N$105=$C139,HLOOKUP(N$105,'Hilfsblatt Ber. Wirtsch Wirk 3'!$D$11:$BX$96,87,FALSE),0))/100),0)","v":0},{"$f":"IFERROR((O$106*(HLOOKUP(O$105,'Hilfsblatt Ber. Wirtsch Wirk 3'!$D$11:$BW$96,$A139,FALSE)+IF(O$105=$C139,HLOOKUP(O$105,'Hilfsblatt Ber. Wirtsch Wirk 3'!$D$11:$BX$96,87,FALSE),0))/100),0)","v":0},{"$f":"IFERROR((P$106*(HLOOKUP(P$105,'Hilfsblatt Ber. Wirtsch Wirk 3'!$D$11:$BW$96,$A139,FALSE)+IF(P$105=$C139,HLOOKUP(P$105,'Hilfsblatt Ber. Wirtsch Wirk 3'!$D$11:$BX$96,87,FALSE),0))/100),0)","v":0},{"$f":"IFERROR((Q$106*(HLOOKUP(Q$105,'Hilfsblatt Ber. Wirtsch Wirk 3'!$D$11:$BW$96,$A139,FALSE)+IF(Q$105=$C139,HLOOKUP(Q$105,'Hilfsblatt Ber. Wirtsch Wirk 3'!$D$11:$BX$96,87,FALSE),0))/100),0)","v":0},{"$f":"R$106*('Hilfsblatt Ber. Wirtsch Wirk 3'!BX44+'Hilfsblatt Ber. Wirtsch Wirk 3'!BX44*'Hilfsblatt Ber. Wirtsch Wirk 3'!CA44/'Hilfsblatt Ber. Wirtsch Wirk 3'!CB44)/100","v":0},0,{"$f":"S139*'Hilfsblatt Ber. Wirtsch Wirk 3'!BZ44/('Hilfsblatt Ber. Wirtsch Wirk 3'!CA44)","v":0},{"$f":"S139/'Hilfsblatt Ber. Wirtsch Wirk 3'!CC44","v":0},{"$f":"T139*('Hilfsblatt Ber. Wirtsch Wirk 4'!B$14/'Hilfsblatt Ber. Wirtsch Wirk 4'!B$13)","v":0},{"$f":"S139*'Hilfsblatt Ber. Wirtsch Wirk 3'!CD44","v":0}]
[35,{"$f":"B40","v":"36"},"Wasser, Dienstleistungen der Wasserversorgung",{"$f":"IFERROR((D$106*(HLOOKUP(D$105,'Hilfsblatt Ber. Wirtsch Wirk 3'!$D$11:$BW$96,$A140,FALSE)+IF(D$105=$C140,HLOOKUP(D$105,'Hilfsblatt Ber. Wirtsch Wirk 3'!$D$11:$BX$96,87,FALSE),0))/100),0)","v":0},{"$f":"IFERROR((E$106*(HLOOKUP(E$105,'Hilfsblatt Ber. Wirtsch Wirk 3'!$D$11:$BW$96,$A140,FALSE)+IF(E$105=$C140,HLOOKUP(E$105,'Hilfsblatt Ber. Wirtsch Wirk 3'!$D$11:$BX$96,87,FALSE),0))/100),0)","v":0},{"$f":"IFERROR((F$106*(HLOOKUP(F$105,'Hilfsblatt Ber. Wirtsch Wirk 3'!$D$11:$BW$96,$A140,FALSE)+IF(F$105=$C140,HLOOKUP(F$105,'Hilfsblatt Ber. Wirtsch Wirk 3'!$D$11:$BX$96,87,FALSE),0))/100),0)","v":0},{"$f":"IFERROR((G$106*(HLOOKUP(G$105,'Hilfsblatt Ber. Wirtsch Wirk 3'!$D$11:$BW$96,$A140,FALSE)+IF(G$105=$C140,HLOOKUP(G$105,'Hilfsblatt Ber. Wirtsch Wirk 3'!$D$11:$BX$96,87,FALSE),0))/100),0)","v":0},{"$f":"IFERROR((H$106*(HLOOKUP(H$105,'Hilfsblatt Ber. Wirtsch Wirk 3'!$D$11:$BW$96,$A140,FALSE)+IF(H$105=$C140,HLOOKUP(H$105,'Hilfsblatt Ber. Wirtsch Wirk 3'!$D$11:$BX$96,87,FALSE),0))/100),0)","v":0},{"$f":"IFERROR((I$106*(HLOOKUP(I$105,'Hilfsblatt Ber. Wirtsch Wirk 3'!$D$11:$BW$96,$A140,FALSE)+IF(I$105=$C140,HLOOKUP(I$105,'Hilfsblatt Ber. Wirtsch Wirk 3'!$D$11:$BX$96,87,FALSE),0))/100),0)","v":0},{"$f":"IFERROR((J$106*(HLOOKUP(J$105,'Hilfsblatt Ber. Wirtsch Wirk 3'!$D$11:$BW$96,$A140,FALSE)+IF(J$105=$C140,HLOOKUP(J$105,'Hilfsblatt Ber. Wirtsch Wirk 3'!$D$11:$BX$96,87,FALSE),0))/100),0)","v":0},{"$f":"IFERROR((K$106*(HLOOKUP(K$105,'Hilfsblatt Ber. Wirtsch Wirk 3'!$D$11:$BW$96,$A140,FALSE)+IF(K$105=$C140,HLOOKUP(K$105,'Hilfsblatt Ber. Wirtsch Wirk 3'!$D$11:$BX$96,87,FALSE),0))/100),0)","v":0},{"$f":"IFERROR((L$106*(HLOOKUP(L$105,'Hilfsblatt Ber. Wirtsch Wirk 3'!$D$11:$BW$96,$A140,FALSE)+IF(L$105=$C140,HLOOKUP(L$105,'Hilfsblatt Ber. Wirtsch Wirk 3'!$D$11:$BX$96,87,FALSE),0))/100),0)","v":0},{"$f":"IFERROR((M$106*(HLOOKUP(M$105,'Hilfsblatt Ber. Wirtsch Wirk 3'!$D$11:$BW$96,$A140,FALSE)+IF(M$105=$C140,HLOOKUP(M$105,'Hilfsblatt Ber. Wirtsch Wirk 3'!$D$11:$BX$96,87,FALSE),0))/100),0)","v":0},{"$f":"IFERROR((N$106*(HLOOKUP(N$105,'Hilfsblatt Ber. Wirtsch Wirk 3'!$D$11:$BW$96,$A140,FALSE)+IF(N$105=$C140,HLOOKUP(N$105,'Hilfsblatt Ber. Wirtsch Wirk 3'!$D$11:$BX$96,87,FALSE),0))/100),0)","v":0},{"$f":"IFERROR((O$106*(HLOOKUP(O$105,'Hilfsblatt Ber. Wirtsch Wirk 3'!$D$11:$BW$96,$A140,FALSE)+IF(O$105=$C140,HLOOKUP(O$105,'Hilfsblatt Ber. Wirtsch Wirk 3'!$D$11:$BX$96,87,FALSE),0))/100),0)","v":0},{"$f":"IFERROR((P$106*(HLOOKUP(P$105,'Hilfsblatt Ber. Wirtsch Wirk 3'!$D$11:$BW$96,$A140,FALSE)+IF(P$105=$C140,HLOOKUP(P$105,'Hilfsblatt Ber. Wirtsch Wirk 3'!$D$11:$BX$96,87,FALSE),0))/100),0)","v":0},{"$f":"IFERROR((Q$106*(HLOOKUP(Q$105,'Hilfsblatt Ber. Wirtsch Wirk 3'!$D$11:$BW$96,$A140,FALSE)+IF(Q$105=$C140,HLOOKUP(Q$105,'Hilfsblatt Ber. Wirtsch Wirk 3'!$D$11:$BX$96,87,FALSE),0))/100),0)","v":0},{"$f":"R$106*('Hilfsblatt Ber. Wirtsch Wirk 3'!BX45+'Hilfsblatt Ber. Wirtsch Wirk 3'!BX45*'Hilfsblatt Ber. Wirtsch Wirk 3'!CA45/'Hilfsblatt Ber. Wirtsch Wirk 3'!CB45)/100","v":0},0,{"$f":"S140*'Hilfsblatt Ber. Wirtsch Wirk 3'!BZ45/('Hilfsblatt Ber. Wirtsch Wirk 3'!CA45)","v":0},{"$f":"S140/'Hilfsblatt Ber. Wirtsch Wirk 3'!CC45","v":0},{"$f":"T140*('Hilfsblatt Ber. Wirtsch Wirk 4'!B$14/'Hilfsblatt Ber. Wirtsch Wirk 4'!B$13)","v":0},{"$f":"S140*'Hilfsblatt Ber. Wirtsch Wirk 3'!CD45","v":0}]
[36,{"$f":"B41","v":"37-39"},"Dienstleistg. d. Abwasser-, Abfallentsorg. u. Rückgewinnung",{"$f":"IFERROR((D$106*(HLOOKUP(D$105,'Hilfsblatt Ber. Wirtsch Wirk 3'!$D$11:$BW$96,$A141,FALSE)+IF(D$105=$C141,HLOOKUP(D$105,'Hilfsblatt Ber. Wirtsch Wirk 3'!$D$11:$BX$96,87,FALSE),0))/100),0)","v":0},{"$f":"IFERROR((E$106*(HLOOKUP(E$105,'Hilfsblatt Ber. Wirtsch Wirk 3'!$D$11:$BW$96,$A141,FALSE)+IF(E$105=$C141,HLOOKUP(E$105,'Hilfsblatt Ber. Wirtsch Wirk 3'!$D$11:$BX$96,87,FALSE),0))/100),0)","v":0},{"$f":"IFERROR((F$106*(HLOOKUP(F$105,'Hilfsblatt Ber. Wirtsch Wirk 3'!$D$11:$BW$96,$A141,FALSE)+IF(F$105=$C141,HLOOKUP(F$105,'Hilfsblatt Ber. Wirtsch Wirk 3'!$D$11:$BX$96,87,FALSE),0))/100),0)","v":0},{"$f":"IFERROR((G$106*(HLOOKUP(G$105,'Hilfsblatt Ber. Wirtsch Wirk 3'!$D$11:$BW$96,$A141,FALSE)+IF(G$105=$C141,HLOOKUP(G$105,'Hilfsblatt Ber. Wirtsch Wirk 3'!$D$11:$BX$96,87,FALSE),0))/100),0)","v":0},{"$f":"IFERROR((H$106*(HLOOKUP(H$105,'Hilfsblatt Ber. Wirtsch Wirk 3'!$D$11:$BW$96,$A141,FALSE)+IF(H$105=$C141,HLOOKUP(H$105,'Hilfsblatt Ber. Wirtsch Wirk 3'!$D$11:$BX$96,87,FALSE),0))/100),0)","v":0},{"$f":"IFERROR((I$106*(HLOOKUP(I$105,'Hilfsblatt Ber. Wirtsch Wirk 3'!$D$11:$BW$96,$A141,FALSE)+IF(I$105=$C141,HLOOKUP(I$105,'Hilfsblatt Ber. Wirtsch Wirk 3'!$D$11:$BX$96,87,FALSE),0))/100),0)","v":0},{"$f":"IFERROR((J$106*(HLOOKUP(J$105,'Hilfsblatt Ber. Wirtsch Wirk 3'!$D$11:$BW$96,$A141,FALSE)+IF(J$105=$C141,HLOOKUP(J$105,'Hilfsblatt Ber. Wirtsch Wirk 3'!$D$11:$BX$96,87,FALSE),0))/100),0)","v":0},{"$f":"IFERROR((K$106*(HLOOKUP(K$105,'Hilfsblatt Ber. Wirtsch Wirk 3'!$D$11:$BW$96,$A141,FALSE)+IF(K$105=$C141,HLOOKUP(K$105,'Hilfsblatt Ber. Wirtsch Wirk 3'!$D$11:$BX$96,87,FALSE),0))/100),0)","v":0},{"$f":"IFERROR((L$106*(HLOOKUP(L$105,'Hilfsblatt Ber. Wirtsch Wirk 3'!$D$11:$BW$96,$A141,FALSE)+IF(L$105=$C141,HLOOKUP(L$105,'Hilfsblatt Ber. Wirtsch Wirk 3'!$D$11:$BX$96,87,FALSE),0))/100),0)","v":0},{"$f":"IFERROR((M$106*(HLOOKUP(M$105,'Hilfsblatt Ber. Wirtsch Wirk 3'!$D$11:$BW$96,$A141,FALSE)+IF(M$105=$C141,HLOOKUP(M$105,'Hilfsblatt Ber. Wirtsch Wirk 3'!$D$11:$BX$96,87,FALSE),0))/100),0)","v":0},{"$f":"IFERROR((N$106*(HLOOKUP(N$105,'Hilfsblatt Ber. Wirtsch Wirk 3'!$D$11:$BW$96,$A141,FALSE)+IF(N$105=$C141,HLOOKUP(N$105,'Hilfsblatt Ber. Wirtsch Wirk 3'!$D$11:$BX$96,87,FALSE),0))/100),0)","v":0},{"$f":"IFERROR((O$106*(HLOOKUP(O$105,'Hilfsblatt Ber. Wirtsch Wirk 3'!$D$11:$BW$96,$A141,FALSE)+IF(O$105=$C141,HLOOKUP(O$105,'Hilfsblatt Ber. Wirtsch Wirk 3'!$D$11:$BX$96,87,FALSE),0))/100),0)","v":0},{"$f":"IFERROR((P$106*(HLOOKUP(P$105,'Hilfsblatt Ber. Wirtsch Wirk 3'!$D$11:$BW$96,$A141,FALSE)+IF(P$105=$C141,HLOOKUP(P$105,'Hilfsblatt Ber. Wirtsch Wirk 3'!$D$11:$BX$96,87,FALSE),0))/100),0)","v":0},{"$f":"IFERROR((Q$106*(HLOOKUP(Q$105,'Hilfsblatt Ber. Wirtsch Wirk 3'!$D$11:$BW$96,$A141,FALSE)+IF(Q$105=$C141,HLOOKUP(Q$105,'Hilfsblatt Ber. Wirtsch Wirk 3'!$D$11:$BX$96,87,FALSE),0))/100),0)","v":0},{"$f":"R$106*('Hilfsblatt Ber. Wirtsch Wirk 3'!BX46+'Hilfsblatt Ber. Wirtsch Wirk 3'!BX46*'Hilfsblatt Ber. Wirtsch Wirk 3'!CA46/'Hilfsblatt Ber. Wirtsch Wirk 3'!CB46)/100","v":0},0,{"$f":"S141*'Hilfsblatt Ber. Wirtsch Wirk 3'!BZ46/('Hilfsblatt Ber. Wirtsch Wirk 3'!CA46)","v":0},{"$f":"S141/'Hilfsblatt Ber. Wirtsch Wirk 3'!CC46","v":0},{"$f":"T141*('Hilfsblatt Ber. Wirtsch Wirk 4'!B$14/'Hilfsblatt Ber. Wirtsch Wirk 4'!B$13)","v":0},{"$f":"S141*'Hilfsblatt Ber. Wirtsch Wirk 3'!CD46","v":0}]
[37,{"$f":"B42","v":"41 "},"Hochbauarbeiten",{"$f":"IFERROR((D$106*(HLOOKUP(D$105,'Hilfsblatt Ber. Wirtsch Wirk 3'!$D$11:$BW$96,$A142,FALSE)+IF(D$105=$C142,HLOOKUP(D$105,'Hilfsblatt Ber. Wirtsch Wirk 3'!$D$11:$BX$96,87,FALSE),0))/100),0)","v":0},{"$f":"IFERROR((E$106*(HLOOKUP(E$105,'Hilfsblatt Ber. Wirtsch Wirk 3'!$D$11:$BW$96,$A142,FALSE)+IF(E$105=$C142,HLOOKUP(E$105,'Hilfsblatt Ber. Wirtsch Wirk 3'!$D$11:$BX$96,87,FALSE),0))/100),0)","v":0},{"$f":"IFERROR((F$106*(HLOOKUP(F$105,'Hilfsblatt Ber. Wirtsch Wirk 3'!$D$11:$BW$96,$A142,FALSE)+IF(F$105=$C142,HLOOKUP(F$105,'Hilfsblatt Ber. Wirtsch Wirk 3'!$D$11:$BX$96,87,FALSE),0))/100),0)","v":0},{"$f":"IFERROR((G$106*(HLOOKUP(G$105,'Hilfsblatt Ber. Wirtsch Wirk 3'!$D$11:$BW$96,$A142,FALSE)+IF(G$105=$C142,HLOOKUP(G$105,'Hilfsblatt Ber. Wirtsch Wirk 3'!$D$11:$BX$96,87,FALSE),0))/100),0)","v":0},{"$f":"IFERROR((H$106*(HLOOKUP(H$105,'Hilfsblatt Ber. Wirtsch Wirk 3'!$D$11:$BW$96,$A142,FALSE)+IF(H$105=$C142,HLOOKUP(H$105,'Hilfsblatt Ber. Wirtsch Wirk 3'!$D$11:$BX$96,87,FALSE),0))/100),0)","v":0},{"$f":"IFERROR((I$106*(HLOOKUP(I$105,'Hilfsblatt Ber. Wirtsch Wirk 3'!$D$11:$BW$96,$A142,FALSE)+IF(I$105=$C142,HLOOKUP(I$105,'Hilfsblatt Ber. Wirtsch Wirk 3'!$D$11:$BX$96,87,FALSE),0))/100),0)","v":0},{"$f":"IFERROR((J$106*(HLOOKUP(J$105,'Hilfsblatt Ber. Wirtsch Wirk 3'!$D$11:$BW$96,$A142,FALSE)+IF(J$105=$C142,HLOOKUP(J$105,'Hilfsblatt Ber. Wirtsch Wirk 3'!$D$11:$BX$96,87,FALSE),0))/100),0)","v":0},{"$f":"IFERROR((K$106*(HLOOKUP(K$105,'Hilfsblatt Ber. Wirtsch Wirk 3'!$D$11:$BW$96,$A142,FALSE)+IF(K$105=$C142,HLOOKUP(K$105,'Hilfsblatt Ber. Wirtsch Wirk 3'!$D$11:$BX$96,87,FALSE),0))/100),0)","v":0},{"$f":"IFERROR((L$106*(HLOOKUP(L$105,'Hilfsblatt Ber. Wirtsch Wirk 3'!$D$11:$BW$96,$A142,FALSE)+IF(L$105=$C142,HLOOKUP(L$105,'Hilfsblatt Ber. Wirtsch Wirk 3'!$D$11:$BX$96,87,FALSE),0))/100),0)","v":0},{"$f":"IFERROR((M$106*(HLOOKUP(M$105,'Hilfsblatt Ber. Wirtsch Wirk 3'!$D$11:$BW$96,$A142,FALSE)+IF(M$105=$C142,HLOOKUP(M$105,'Hilfsblatt Ber. Wirtsch Wirk 3'!$D$11:$BX$96,87,FALSE),0))/100),0)","v":0},{"$f":"IFERROR((N$106*(HLOOKUP(N$105,'Hilfsblatt Ber. Wirtsch Wirk 3'!$D$11:$BW$96,$A142,FALSE)+IF(N$105=$C142,HLOOKUP(N$105,'Hilfsblatt Ber. Wirtsch Wirk 3'!$D$11:$BX$96,87,FALSE),0))/100),0)","v":0},{"$f":"IFERROR((O$106*(HLOOKUP(O$105,'Hilfsblatt Ber. Wirtsch Wirk 3'!$D$11:$BW$96,$A142,FALSE)+IF(O$105=$C142,HLOOKUP(O$105,'Hilfsblatt Ber. Wirtsch Wirk 3'!$D$11:$BX$96,87,FALSE),0))/100),0)","v":0},{"$f":"IFERROR((P$106*(HLOOKUP(P$105,'Hilfsblatt Ber. Wirtsch Wirk 3'!$D$11:$BW$96,$A142,FALSE)+IF(P$105=$C142,HLOOKUP(P$105,'Hilfsblatt Ber. Wirtsch Wirk 3'!$D$11:$BX$96,87,FALSE),0))/100),0)","v":0},{"$f":"IFERROR((Q$106*(HLOOKUP(Q$105,'Hilfsblatt Ber. Wirtsch Wirk 3'!$D$11:$BW$96,$A142,FALSE)+IF(Q$105=$C142,HLOOKUP(Q$105,'Hilfsblatt Ber. Wirtsch Wirk 3'!$D$11:$BX$96,87,FALSE),0))/100),0)","v":0},{"$f":"R$106*('Hilfsblatt Ber. Wirtsch Wirk 3'!BX47+'Hilfsblatt Ber. Wirtsch Wirk 3'!BX47*'Hilfsblatt Ber. Wirtsch Wirk 3'!CA47/'Hilfsblatt Ber. Wirtsch Wirk 3'!CB47)/100","v":0},0,{"$f":"S142*'Hilfsblatt Ber. Wirtsch Wirk 3'!BZ47/('Hilfsblatt Ber. Wirtsch Wirk 3'!CA47)","v":0},{"$f":"S142/'Hilfsblatt Ber. Wirtsch Wirk 3'!CC47","v":0},{"$f":"T142*('Hilfsblatt Ber. Wirtsch Wirk 4'!B$14/'Hilfsblatt Ber. Wirtsch Wirk 4'!B$13)","v":0},{"$f":"S142*'Hilfsblatt Ber. Wirtsch Wirk 3'!CD47","v":0}]
[38,{"$f":"B43","v":"42"},{"$f":"C43","v":"Tiefbauarbeiten"},{"$f":"IFERROR((D$106*(HLOOKUP(D$105,'Hilfsblatt Ber. Wirtsch Wirk 3'!$D$11:$BW$96,$A143,FALSE)+IF(D$105=$C143,HLOOKUP(D$105,'Hilfsblatt Ber. Wirtsch Wirk 3'!$D$11:$BX$96,87,FALSE),0))/100),0)","v":0},{"$f":"IFERROR((E$106*(HLOOKUP(E$105,'Hilfsblatt Ber. Wirtsch Wirk 3'!$D$11:$BW$96,$A143,FALSE)+IF(E$105=$C143,HLOOKUP(E$105,'Hilfsblatt Ber. Wirtsch Wirk 3'!$D$11:$BX$96,87,FALSE),0))/100),0)","v":0},{"$f":"IFERROR((F$106*(HLOOKUP(F$105,'Hilfsblatt Ber. Wirtsch Wirk 3'!$D$11:$BW$96,$A143,FALSE)+IF(F$105=$C143,HLOOKUP(F$105,'Hilfsblatt Ber. Wirtsch Wirk 3'!$D$11:$BX$96,87,FALSE),0))/100),0)","v":0},{"$f":"IFERROR((G$106*(HLOOKUP(G$105,'Hilfsblatt Ber. Wirtsch Wirk 3'!$D$11:$BW$96,$A143,FALSE)+IF(G$105=$C143,HLOOKUP(G$105,'Hilfsblatt Ber. Wirtsch Wirk 3'!$D$11:$BX$96,87,FALSE),0))/100),0)","v":0},{"$f":"IFERROR((H$106*(HLOOKUP(H$105,'Hilfsblatt Ber. Wirtsch Wirk 3'!$D$11:$BW$96,$A143,FALSE)+IF(H$105=$C143,HLOOKUP(H$105,'Hilfsblatt Ber. Wirtsch Wirk 3'!$D$11:$BX$96,87,FALSE),0))/100),0)","v":0},{"$f":"IFERROR((I$106*(HLOOKUP(I$105,'Hilfsblatt Ber. Wirtsch Wirk 3'!$D$11:$BW$96,$A143,FALSE)+IF(I$105=$C143,HLOOKUP(I$105,'Hilfsblatt Ber. Wirtsch Wirk 3'!$D$11:$BX$96,87,FALSE),0))/100),0)","v":0},{"$f":"IFERROR((J$106*(HLOOKUP(J$105,'Hilfsblatt Ber. Wirtsch Wirk 3'!$D$11:$BW$96,$A143,FALSE)+IF(J$105=$C143,HLOOKUP(J$105,'Hilfsblatt Ber. Wirtsch Wirk 3'!$D$11:$BX$96,87,FALSE),0))/100),0)","v":0},{"$f":"IFERROR((K$106*(HLOOKUP(K$105,'Hilfsblatt Ber. Wirtsch Wirk 3'!$D$11:$BW$96,$A143,FALSE)+IF(K$105=$C143,HLOOKUP(K$105,'Hilfsblatt Ber. Wirtsch Wirk 3'!$D$11:$BX$96,87,FALSE),0))/100),0)","v":0},{"$f":"IFERROR((L$106*(HLOOKUP(L$105,'Hilfsblatt Ber. Wirtsch Wirk 3'!$D$11:$BW$96,$A143,FALSE)+IF(L$105=$C143,HLOOKUP(L$105,'Hilfsblatt Ber. Wirtsch Wirk 3'!$D$11:$BX$96,87,FALSE),0))/100),0)","v":0},{"$f":"IFERROR((M$106*(HLOOKUP(M$105,'Hilfsblatt Ber. Wirtsch Wirk 3'!$D$11:$BW$96,$A143,FALSE)+IF(M$105=$C143,HLOOKUP(M$105,'Hilfsblatt Ber. Wirtsch Wirk 3'!$D$11:$BX$96,87,FALSE),0))/100),0)","v":0},{"$f":"IFERROR((N$106*(HLOOKUP(N$105,'Hilfsblatt Ber. Wirtsch Wirk 3'!$D$11:$BW$96,$A143,FALSE)+IF(N$105=$C143,HLOOKUP(N$105,'Hilfsblatt Ber. Wirtsch Wirk 3'!$D$11:$BX$96,87,FALSE),0))/100),0)","v":0},{"$f":"IFERROR((O$106*(HLOOKUP(O$105,'Hilfsblatt Ber. Wirtsch Wirk 3'!$D$11:$BW$96,$A143,FALSE)+IF(O$105=$C143,HLOOKUP(O$105,'Hilfsblatt Ber. Wirtsch Wirk 3'!$D$11:$BX$96,87,FALSE),0))/100),0)","v":0},{"$f":"IFERROR((P$106*(HLOOKUP(P$105,'Hilfsblatt Ber. Wirtsch Wirk 3'!$D$11:$BW$96,$A143,FALSE)+IF(P$105=$C143,HLOOKUP(P$105,'Hilfsblatt Ber. Wirtsch Wirk 3'!$D$11:$BX$96,87,FALSE),0))/100),0)","v":0},{"$f":"IFERROR((Q$106*(HLOOKUP(Q$105,'Hilfsblatt Ber. Wirtsch Wirk 3'!$D$11:$BW$96,$A143,FALSE)+IF(Q$105=$C143,HLOOKUP(Q$105,'Hilfsblatt Ber. Wirtsch Wirk 3'!$D$11:$BX$96,87,FALSE),0))/100),0)","v":0},{"$f":"R$106*('Hilfsblatt Ber. Wirtsch Wirk 3'!BX48+'Hilfsblatt Ber. Wirtsch Wirk 3'!BX48*'Hilfsblatt Ber. Wirtsch Wirk 3'!CA48/'Hilfsblatt Ber. Wirtsch Wirk 3'!CB48)/100","v":0},0,{"$f":"S143*'Hilfsblatt Ber. Wirtsch Wirk 3'!BZ48/('Hilfsblatt Ber. Wirtsch Wirk 3'!CA48)","v":0},{"$f":"S143/'Hilfsblatt Ber. Wirtsch Wirk 3'!CC48","v":0},{"$f":"T143*('Hilfsblatt Ber. Wirtsch Wirk 4'!B$14/'Hilfsblatt Ber. Wirtsch Wirk 4'!B$13)","v":0},{"$f":"S143*'Hilfsblatt Ber. Wirtsch Wirk 3'!CD48","v":0}]
[39,{"$f":"B44","v":"43"},"Vorb. Baustellen-, Bauinstallations- und sonstige Ausbauarbeiten ",{"$f":"IFERROR((D$106*(HLOOKUP(D$105,'Hilfsblatt Ber. Wirtsch Wirk 3'!$D$11:$BW$96,$A144,FALSE)+IF(D$105=$C144,HLOOKUP(D$105,'Hilfsblatt Ber. Wirtsch Wirk 3'!$D$11:$BX$96,87,FALSE),0))/100),0)","v":0},{"$f":"IFERROR((E$106*(HLOOKUP(E$105,'Hilfsblatt Ber. Wirtsch Wirk 3'!$D$11:$BW$96,$A144,FALSE)+IF(E$105=$C144,HLOOKUP(E$105,'Hilfsblatt Ber. Wirtsch Wirk 3'!$D$11:$BX$96,87,FALSE),0))/100),0)","v":0},{"$f":"IFERROR((F$106*(HLOOKUP(F$105,'Hilfsblatt Ber. Wirtsch Wirk 3'!$D$11:$BW$96,$A144,FALSE)+IF(F$105=$C144,HLOOKUP(F$105,'Hilfsblatt Ber. Wirtsch Wirk 3'!$D$11:$BX$96,87,FALSE),0))/100),0)","v":0},{"$f":"IFERROR((G$106*(HLOOKUP(G$105,'Hilfsblatt Ber. Wirtsch Wirk 3'!$D$11:$BW$96,$A144,FALSE)+IF(G$105=$C144,HLOOKUP(G$105,'Hilfsblatt Ber. Wirtsch Wirk 3'!$D$11:$BX$96,87,FALSE),0))/100),0)","v":0},{"$f":"IFERROR((H$106*(HLOOKUP(H$105,'Hilfsblatt Ber. Wirtsch Wirk 3'!$D$11:$BW$96,$A144,FALSE)+IF(H$105=$C144,HLOOKUP(H$105,'Hilfsblatt Ber. Wirtsch Wirk 3'!$D$11:$BX$96,87,FALSE),0))/100),0)","v":0},{"$f":"IFERROR((I$106*(HLOOKUP(I$105,'Hilfsblatt Ber. Wirtsch Wirk 3'!$D$11:$BW$96,$A144,FALSE)+IF(I$105=$C144,HLOOKUP(I$105,'Hilfsblatt Ber. Wirtsch Wirk 3'!$D$11:$BX$96,87,FALSE),0))/100),0)","v":0},{"$f":"IFERROR((J$106*(HLOOKUP(J$105,'Hilfsblatt Ber. Wirtsch Wirk 3'!$D$11:$BW$96,$A144,FALSE)+IF(J$105=$C144,HLOOKUP(J$105,'Hilfsblatt Ber. Wirtsch Wirk 3'!$D$11:$BX$96,87,FALSE),0))/100),0)","v":0},{"$f":"IFERROR((K$106*(HLOOKUP(K$105,'Hilfsblatt Ber. Wirtsch Wirk 3'!$D$11:$BW$96,$A144,FALSE)+IF(K$105=$C144,HLOOKUP(K$105,'Hilfsblatt Ber. Wirtsch Wirk 3'!$D$11:$BX$96,87,FALSE),0))/100),0)","v":0},{"$f":"IFERROR((L$106*(HLOOKUP(L$105,'Hilfsblatt Ber. Wirtsch Wirk 3'!$D$11:$BW$96,$A144,FALSE)+IF(L$105=$C144,HLOOKUP(L$105,'Hilfsblatt Ber. Wirtsch Wirk 3'!$D$11:$BX$96,87,FALSE),0))/100),0)","v":0},{"$f":"IFERROR((M$106*(HLOOKUP(M$105,'Hilfsblatt Ber. Wirtsch Wirk 3'!$D$11:$BW$96,$A144,FALSE)+IF(M$105=$C144,HLOOKUP(M$105,'Hilfsblatt Ber. Wirtsch Wirk 3'!$D$11:$BX$96,87,FALSE),0))/100),0)","v":0},{"$f":"IFERROR((N$106*(HLOOKUP(N$105,'Hilfsblatt Ber. Wirtsch Wirk 3'!$D$11:$BW$96,$A144,FALSE)+IF(N$105=$C144,HLOOKUP(N$105,'Hilfsblatt Ber. Wirtsch Wirk 3'!$D$11:$BX$96,87,FALSE),0))/100),0)","v":0},{"$f":"IFERROR((O$106*(HLOOKUP(O$105,'Hilfsblatt Ber. Wirtsch Wirk 3'!$D$11:$BW$96,$A144,FALSE)+IF(O$105=$C144,HLOOKUP(O$105,'Hilfsblatt Ber. Wirtsch Wirk 3'!$D$11:$BX$96,87,FALSE),0))/100),0)","v":0},{"$f":"IFERROR((P$106*(HLOOKUP(P$105,'Hilfsblatt Ber. Wirtsch Wirk 3'!$D$11:$BW$96,$A144,FALSE)+IF(P$105=$C144,HLOOKUP(P$105,'Hilfsblatt Ber. Wirtsch Wirk 3'!$D$11:$BX$96,87,FALSE),0))/100),0)","v":0},{"$f":"IFERROR((Q$106*(HLOOKUP(Q$105,'Hilfsblatt Ber. Wirtsch Wirk 3'!$D$11:$BW$96,$A144,FALSE)+IF(Q$105=$C144,HLOOKUP(Q$105,'Hilfsblatt Ber. Wirtsch Wirk 3'!$D$11:$BX$96,87,FALSE),0))/100),0)","v":0},{"$f":"R$106*('Hilfsblatt Ber. Wirtsch Wirk 3'!BX49+'Hilfsblatt Ber. Wirtsch Wirk 3'!BX49*'Hilfsblatt Ber. Wirtsch Wirk 3'!CA49/'Hilfsblatt Ber. Wirtsch Wirk 3'!CB49)/100","v":0},0,{"$f":"S144*'Hilfsblatt Ber. Wirtsch Wirk 3'!BZ49/('Hilfsblatt Ber. Wirtsch Wirk 3'!CA49)","v":0},{"$f":"S144/'Hilfsblatt Ber. Wirtsch Wirk 3'!CC49","v":0},{"$f":"T144*('Hilfsblatt Ber. Wirtsch Wirk 4'!B$14/'Hilfsblatt Ber. Wirtsch Wirk 4'!B$13)","v":0},{"$f":"S144*'Hilfsblatt Ber. Wirtsch Wirk 3'!CD49","v":0}]
[40,{"$f":"B45","v":"45"},"Handelsleistungen mit Kfz, Instandhaltung und Reparatur an Kfz",{"$f":"IFERROR((D$106*(HLOOKUP(D$105,'Hilfsblatt Ber. Wirtsch Wirk 3'!$D$11:$BW$96,$A145,FALSE)+IF(D$105=$C145,HLOOKUP(D$105,'Hilfsblatt Ber. Wirtsch Wirk 3'!$D$11:$BX$96,87,FALSE),0))/100),0)","v":0},{"$f":"IFERROR((E$106*(HLOOKUP(E$105,'Hilfsblatt Ber. Wirtsch Wirk 3'!$D$11:$BW$96,$A145,FALSE)+IF(E$105=$C145,HLOOKUP(E$105,'Hilfsblatt Ber. Wirtsch Wirk 3'!$D$11:$BX$96,87,FALSE),0))/100),0)","v":0},{"$f":"IFERROR((F$106*(HLOOKUP(F$105,'Hilfsblatt Ber. Wirtsch Wirk 3'!$D$11:$BW$96,$A145,FALSE)+IF(F$105=$C145,HLOOKUP(F$105,'Hilfsblatt Ber. Wirtsch Wirk 3'!$D$11:$BX$96,87,FALSE),0))/100),0)","v":0},{"$f":"IFERROR((G$106*(HLOOKUP(G$105,'Hilfsblatt Ber. Wirtsch Wirk 3'!$D$11:$BW$96,$A145,FALSE)+IF(G$105=$C145,HLOOKUP(G$105,'Hilfsblatt Ber. Wirtsch Wirk 3'!$D$11:$BX$96,87,FALSE),0))/100),0)","v":0},{"$f":"IFERROR((H$106*(HLOOKUP(H$105,'Hilfsblatt Ber. Wirtsch Wirk 3'!$D$11:$BW$96,$A145,FALSE)+IF(H$105=$C145,HLOOKUP(H$105,'Hilfsblatt Ber. Wirtsch Wirk 3'!$D$11:$BX$96,87,FALSE),0))/100),0)","v":0},{"$f":"IFERROR((I$106*(HLOOKUP(I$105,'Hilfsblatt Ber. Wirtsch Wirk 3'!$D$11:$BW$96,$A145,FALSE)+IF(I$105=$C145,HLOOKUP(I$105,'Hilfsblatt Ber. Wirtsch Wirk 3'!$D$11:$BX$96,87,FALSE),0))/100),0)","v":0},{"$f":"IFERROR((J$106*(HLOOKUP(J$105,'Hilfsblatt Ber. Wirtsch Wirk 3'!$D$11:$BW$96,$A145,FALSE)+IF(J$105=$C145,HLOOKUP(J$105,'Hilfsblatt Ber. Wirtsch Wirk 3'!$D$11:$BX$96,87,FALSE),0))/100),0)","v":0},{"$f":"IFERROR((K$106*(HLOOKUP(K$105,'Hilfsblatt Ber. Wirtsch Wirk 3'!$D$11:$BW$96,$A145,FALSE)+IF(K$105=$C145,HLOOKUP(K$105,'Hilfsblatt Ber. Wirtsch Wirk 3'!$D$11:$BX$96,87,FALSE),0))/100),0)","v":0},{"$f":"IFERROR((L$106*(HLOOKUP(L$105,'Hilfsblatt Ber. Wirtsch Wirk 3'!$D$11:$BW$96,$A145,FALSE)+IF(L$105=$C145,HLOOKUP(L$105,'Hilfsblatt Ber. Wirtsch Wirk 3'!$D$11:$BX$96,87,FALSE),0))/100),0)","v":0},{"$f":"IFERROR((M$106*(HLOOKUP(M$105,'Hilfsblatt Ber. Wirtsch Wirk 3'!$D$11:$BW$96,$A145,FALSE)+IF(M$105=$C145,HLOOKUP(M$105,'Hilfsblatt Ber. Wirtsch Wirk 3'!$D$11:$BX$96,87,FALSE),0))/100),0)","v":0},{"$f":"IFERROR((N$106*(HLOOKUP(N$105,'Hilfsblatt Ber. Wirtsch Wirk 3'!$D$11:$BW$96,$A145,FALSE)+IF(N$105=$C145,HLOOKUP(N$105,'Hilfsblatt Ber. Wirtsch Wirk 3'!$D$11:$BX$96,87,FALSE),0))/100),0)","v":0},{"$f":"IFERROR((O$106*(HLOOKUP(O$105,'Hilfsblatt Ber. Wirtsch Wirk 3'!$D$11:$BW$96,$A145,FALSE)+IF(O$105=$C145,HLOOKUP(O$105,'Hilfsblatt Ber. Wirtsch Wirk 3'!$D$11:$BX$96,87,FALSE),0))/100),0)","v":0},{"$f":"IFERROR((P$106*(HLOOKUP(P$105,'Hilfsblatt Ber. Wirtsch Wirk 3'!$D$11:$BW$96,$A145,FALSE)+IF(P$105=$C145,HLOOKUP(P$105,'Hilfsblatt Ber. Wirtsch Wirk 3'!$D$11:$BX$96,87,FALSE),0))/100),0)","v":0},{"$f":"IFERROR((Q$106*(HLOOKUP(Q$105,'Hilfsblatt Ber. Wirtsch Wirk 3'!$D$11:$BW$96,$A145,FALSE)+IF(Q$105=$C145,HLOOKUP(Q$105,'Hilfsblatt Ber. Wirtsch Wirk 3'!$D$11:$BX$96,87,FALSE),0))/100),0)","v":0},{"$f":"R$106*('Hilfsblatt Ber. Wirtsch Wirk 3'!BX50+'Hilfsblatt Ber. Wirtsch Wirk 3'!BX50*'Hilfsblatt Ber. Wirtsch Wirk 3'!CA50/'Hilfsblatt Ber. Wirtsch Wirk 3'!CB50)/100","v":0},0,{"$f":"S145*'Hilfsblatt Ber. Wirtsch Wirk 3'!BZ50/('Hilfsblatt Ber. Wirtsch Wirk 3'!CA50)","v":0},{"$f":"S145/'Hilfsblatt Ber. Wirtsch Wirk 3'!CC50","v":0},{"$f":"T145*('Hilfsblatt Ber. Wirtsch Wirk 4'!B$14/'Hilfsblatt Ber. Wirtsch Wirk 4'!B$13)","v":0},{"$f":"S145*'Hilfsblatt Ber. Wirtsch Wirk 3'!CD50","v":0}]
[41,{"$f":"B46","v":"46"},"Großhandelsleistungen (ohne Handelsleistungen mit Kfz) ",{"$f":"IFERROR((D$106*(HLOOKUP(D$105,'Hilfsblatt Ber. Wirtsch Wirk 3'!$D$11:$BW$96,$A146,FALSE)+IF(D$105=$C146,HLOOKUP(D$105,'Hilfsblatt Ber. Wirtsch Wirk 3'!$D$11:$BX$96,87,FALSE),0))/100),0)","v":0},{"$f":"IFERROR((E$106*(HLOOKUP(E$105,'Hilfsblatt Ber. Wirtsch Wirk 3'!$D$11:$BW$96,$A146,FALSE)+IF(E$105=$C146,HLOOKUP(E$105,'Hilfsblatt Ber. Wirtsch Wirk 3'!$D$11:$BX$96,87,FALSE),0))/100),0)","v":0},{"$f":"IFERROR((F$106*(HLOOKUP(F$105,'Hilfsblatt Ber. Wirtsch Wirk 3'!$D$11:$BW$96,$A146,FALSE)+IF(F$105=$C146,HLOOKUP(F$105,'Hilfsblatt Ber. Wirtsch Wirk 3'!$D$11:$BX$96,87,FALSE),0))/100),0)","v":0},{"$f":"IFERROR((G$106*(HLOOKUP(G$105,'Hilfsblatt Ber. Wirtsch Wirk 3'!$D$11:$BW$96,$A146,FALSE)+IF(G$105=$C146,HLOOKUP(G$105,'Hilfsblatt Ber. Wirtsch Wirk 3'!$D$11:$BX$96,87,FALSE),0))/100),0)","v":0},{"$f":"IFERROR((H$106*(HLOOKUP(H$105,'Hilfsblatt Ber. Wirtsch Wirk 3'!$D$11:$BW$96,$A146,FALSE)+IF(H$105=$C146,HLOOKUP(H$105,'Hilfsblatt Ber. Wirtsch Wirk 3'!$D$11:$BX$96,87,FALSE),0))/100),0)","v":0},{"$f":"IFERROR((I$106*(HLOOKUP(I$105,'Hilfsblatt Ber. Wirtsch Wirk 3'!$D$11:$BW$96,$A146,FALSE)+IF(I$105=$C146,HLOOKUP(I$105,'Hilfsblatt Ber. Wirtsch Wirk 3'!$D$11:$BX$96,87,FALSE),0))/100),0)","v":0},{"$f":"IFERROR((J$106*(HLOOKUP(J$105,'Hilfsblatt Ber. Wirtsch Wirk 3'!$D$11:$BW$96,$A146,FALSE)+IF(J$105=$C146,HLOOKUP(J$105,'Hilfsblatt Ber. Wirtsch Wirk 3'!$D$11:$BX$96,87,FALSE),0))/100),0)","v":0},{"$f":"IFERROR((K$106*(HLOOKUP(K$105,'Hilfsblatt Ber. Wirtsch Wirk 3'!$D$11:$BW$96,$A146,FALSE)+IF(K$105=$C146,HLOOKUP(K$105,'Hilfsblatt Ber. Wirtsch Wirk 3'!$D$11:$BX$96,87,FALSE),0))/100),0)","v":0},{"$f":"IFERROR((L$106*(HLOOKUP(L$105,'Hilfsblatt Ber. Wirtsch Wirk 3'!$D$11:$BW$96,$A146,FALSE)+IF(L$105=$C146,HLOOKUP(L$105,'Hilfsblatt Ber. Wirtsch Wirk 3'!$D$11:$BX$96,87,FALSE),0))/100),0)","v":0},{"$f":"IFERROR((M$106*(HLOOKUP(M$105,'Hilfsblatt Ber. Wirtsch Wirk 3'!$D$11:$BW$96,$A146,FALSE)+IF(M$105=$C146,HLOOKUP(M$105,'Hilfsblatt Ber. Wirtsch Wirk 3'!$D$11:$BX$96,87,FALSE),0))/100),0)","v":0},{"$f":"IFERROR((N$106*(HLOOKUP(N$105,'Hilfsblatt Ber. Wirtsch Wirk 3'!$D$11:$BW$96,$A146,FALSE)+IF(N$105=$C146,HLOOKUP(N$105,'Hilfsblatt Ber. Wirtsch Wirk 3'!$D$11:$BX$96,87,FALSE),0))/100),0)","v":0},{"$f":"IFERROR((O$106*(HLOOKUP(O$105,'Hilfsblatt Ber. Wirtsch Wirk 3'!$D$11:$BW$96,$A146,FALSE)+IF(O$105=$C146,HLOOKUP(O$105,'Hilfsblatt Ber. Wirtsch Wirk 3'!$D$11:$BX$96,87,FALSE),0))/100),0)","v":0},{"$f":"IFERROR((P$106*(HLOOKUP(P$105,'Hilfsblatt Ber. Wirtsch Wirk 3'!$D$11:$BW$96,$A146,FALSE)+IF(P$105=$C146,HLOOKUP(P$105,'Hilfsblatt Ber. Wirtsch Wirk 3'!$D$11:$BX$96,87,FALSE),0))/100),0)","v":0},{"$f":"IFERROR((Q$106*(HLOOKUP(Q$105,'Hilfsblatt Ber. Wirtsch Wirk 3'!$D$11:$BW$96,$A146,FALSE)+IF(Q$105=$C146,HLOOKUP(Q$105,'Hilfsblatt Ber. Wirtsch Wirk 3'!$D$11:$BX$96,87,FALSE),0))/100),0)","v":0},{"$f":"R$106*('Hilfsblatt Ber. Wirtsch Wirk 3'!BX51+'Hilfsblatt Ber. Wirtsch Wirk 3'!BX51*'Hilfsblatt Ber. Wirtsch Wirk 3'!CA51/'Hilfsblatt Ber. Wirtsch Wirk 3'!CB51)/100","v":0},0,{"$f":"S146*'Hilfsblatt Ber. Wirtsch Wirk 3'!BZ51/('Hilfsblatt Ber. Wirtsch Wirk 3'!CA51)","v":0},{"$f":"S146/'Hilfsblatt Ber. Wirtsch Wirk 3'!CC51","v":0},{"$f":"T146*('Hilfsblatt Ber. Wirtsch Wirk 4'!B$14/'Hilfsblatt Ber. Wirtsch Wirk 4'!B$13)","v":0},{"$f":"S146*'Hilfsblatt Ber. Wirtsch Wirk 3'!CD51","v":0}]
[42,{"$f":"B47","v":"47"},"Einzelhandelsleistungen (ohne Handelsleistungen mit Kfz) ",{"$f":"IFERROR((D$106*(HLOOKUP(D$105,'Hilfsblatt Ber. Wirtsch Wirk 3'!$D$11:$BW$96,$A147,FALSE)+IF(D$105=$C147,HLOOKUP(D$105,'Hilfsblatt Ber. Wirtsch Wirk 3'!$D$11:$BX$96,87,FALSE),0))/100),0)","v":0},{"$f":"IFERROR((E$106*(HLOOKUP(E$105,'Hilfsblatt Ber. Wirtsch Wirk 3'!$D$11:$BW$96,$A147,FALSE)+IF(E$105=$C147,HLOOKUP(E$105,'Hilfsblatt Ber. Wirtsch Wirk 3'!$D$11:$BX$96,87,FALSE),0))/100),0)","v":0},{"$f":"IFERROR((F$106*(HLOOKUP(F$105,'Hilfsblatt Ber. Wirtsch Wirk 3'!$D$11:$BW$96,$A147,FALSE)+IF(F$105=$C147,HLOOKUP(F$105,'Hilfsblatt Ber. Wirtsch Wirk 3'!$D$11:$BX$96,87,FALSE),0))/100),0)","v":0},{"$f":"IFERROR((G$106*(HLOOKUP(G$105,'Hilfsblatt Ber. Wirtsch Wirk 3'!$D$11:$BW$96,$A147,FALSE)+IF(G$105=$C147,HLOOKUP(G$105,'Hilfsblatt Ber. Wirtsch Wirk 3'!$D$11:$BX$96,87,FALSE),0))/100),0)","v":0},{"$f":"IFERROR((H$106*(HLOOKUP(H$105,'Hilfsblatt Ber. Wirtsch Wirk 3'!$D$11:$BW$96,$A147,FALSE)+IF(H$105=$C147,HLOOKUP(H$105,'Hilfsblatt Ber. Wirtsch Wirk 3'!$D$11:$BX$96,87,FALSE),0))/100),0)","v":0},{"$f":"IFERROR((I$106*(HLOOKUP(I$105,'Hilfsblatt Ber. Wirtsch Wirk 3'!$D$11:$BW$96,$A147,FALSE)+IF(I$105=$C147,HLOOKUP(I$105,'Hilfsblatt Ber. Wirtsch Wirk 3'!$D$11:$BX$96,87,FALSE),0))/100),0)","v":0},{"$f":"IFERROR((J$106*(HLOOKUP(J$105,'Hilfsblatt Ber. Wirtsch Wirk 3'!$D$11:$BW$96,$A147,FALSE)+IF(J$105=$C147,HLOOKUP(J$105,'Hilfsblatt Ber. Wirtsch Wirk 3'!$D$11:$BX$96,87,FALSE),0))/100),0)","v":0},{"$f":"IFERROR((K$106*(HLOOKUP(K$105,'Hilfsblatt Ber. Wirtsch Wirk 3'!$D$11:$BW$96,$A147,FALSE)+IF(K$105=$C147,HLOOKUP(K$105,'Hilfsblatt Ber. Wirtsch Wirk 3'!$D$11:$BX$96,87,FALSE),0))/100),0)","v":0},{"$f":"IFERROR((L$106*(HLOOKUP(L$105,'Hilfsblatt Ber. Wirtsch Wirk 3'!$D$11:$BW$96,$A147,FALSE)+IF(L$105=$C147,HLOOKUP(L$105,'Hilfsblatt Ber. Wirtsch Wirk 3'!$D$11:$BX$96,87,FALSE),0))/100),0)","v":0},{"$f":"IFERROR((M$106*(HLOOKUP(M$105,'Hilfsblatt Ber. Wirtsch Wirk 3'!$D$11:$BW$96,$A147,FALSE)+IF(M$105=$C147,HLOOKUP(M$105,'Hilfsblatt Ber. Wirtsch Wirk 3'!$D$11:$BX$96,87,FALSE),0))/100),0)","v":0},{"$f":"IFERROR((N$106*(HLOOKUP(N$105,'Hilfsblatt Ber. Wirtsch Wirk 3'!$D$11:$BW$96,$A147,FALSE)+IF(N$105=$C147,HLOOKUP(N$105,'Hilfsblatt Ber. Wirtsch Wirk 3'!$D$11:$BX$96,87,FALSE),0))/100),0)","v":0},{"$f":"IFERROR((O$106*(HLOOKUP(O$105,'Hilfsblatt Ber. Wirtsch Wirk 3'!$D$11:$BW$96,$A147,FALSE)+IF(O$105=$C147,HLOOKUP(O$105,'Hilfsblatt Ber. Wirtsch Wirk 3'!$D$11:$BX$96,87,FALSE),0))/100),0)","v":0},{"$f":"IFERROR((P$106*(HLOOKUP(P$105,'Hilfsblatt Ber. Wirtsch Wirk 3'!$D$11:$BW$96,$A147,FALSE)+IF(P$105=$C147,HLOOKUP(P$105,'Hilfsblatt Ber. Wirtsch Wirk 3'!$D$11:$BX$96,87,FALSE),0))/100),0)","v":0},{"$f":"IFERROR((Q$106*(HLOOKUP(Q$105,'Hilfsblatt Ber. Wirtsch Wirk 3'!$D$11:$BW$96,$A147,FALSE)+IF(Q$105=$C147,HLOOKUP(Q$105,'Hilfsblatt Ber. Wirtsch Wirk 3'!$D$11:$BX$96,87,FALSE),0))/100),0)","v":0},{"$f":"R$106*('Hilfsblatt Ber. Wirtsch Wirk 3'!BX52+'Hilfsblatt Ber. Wirtsch Wirk 3'!BX52*'Hilfsblatt Ber. Wirtsch Wirk 3'!CA52/'Hilfsblatt Ber. Wirtsch Wirk 3'!CB52)/100","v":0},0,{"$f":"S147*'Hilfsblatt Ber. Wirtsch Wirk 3'!BZ52/('Hilfsblatt Ber. Wirtsch Wirk 3'!CA52)","v":0},{"$f":"S147/'Hilfsblatt Ber. Wirtsch Wirk 3'!CC52","v":0},{"$f":"T147*('Hilfsblatt Ber. Wirtsch Wirk 4'!B$14/'Hilfsblatt Ber. Wirtsch Wirk 4'!B$13)","v":0},{"$f":"S147*'Hilfsblatt Ber. Wirtsch Wirk 3'!CD52","v":0}]
[43,{"$f":"B48","v":"49"},"Landverkehrs- und Transportleistungen in Rohrfernleitungen",{"$f":"IFERROR((D$106*(HLOOKUP(D$105,'Hilfsblatt Ber. Wirtsch Wirk 3'!$D$11:$BW$96,$A148,FALSE)+IF(D$105=$C148,HLOOKUP(D$105,'Hilfsblatt Ber. Wirtsch Wirk 3'!$D$11:$BX$96,87,FALSE),0))/100),0)","v":0},{"$f":"IFERROR((E$106*(HLOOKUP(E$105,'Hilfsblatt Ber. Wirtsch Wirk 3'!$D$11:$BW$96,$A148,FALSE)+IF(E$105=$C148,HLOOKUP(E$105,'Hilfsblatt Ber. Wirtsch Wirk 3'!$D$11:$BX$96,87,FALSE),0))/100),0)","v":0},{"$f":"IFERROR((F$106*(HLOOKUP(F$105,'Hilfsblatt Ber. Wirtsch Wirk 3'!$D$11:$BW$96,$A148,FALSE)+IF(F$105=$C148,HLOOKUP(F$105,'Hilfsblatt Ber. Wirtsch Wirk 3'!$D$11:$BX$96,87,FALSE),0))/100),0)","v":0},{"$f":"IFERROR((G$106*(HLOOKUP(G$105,'Hilfsblatt Ber. Wirtsch Wirk 3'!$D$11:$BW$96,$A148,FALSE)+IF(G$105=$C148,HLOOKUP(G$105,'Hilfsblatt Ber. Wirtsch Wirk 3'!$D$11:$BX$96,87,FALSE),0))/100),0)","v":0},{"$f":"IFERROR((H$106*(HLOOKUP(H$105,'Hilfsblatt Ber. Wirtsch Wirk 3'!$D$11:$BW$96,$A148,FALSE)+IF(H$105=$C148,HLOOKUP(H$105,'Hilfsblatt Ber. Wirtsch Wirk 3'!$D$11:$BX$96,87,FALSE),0))/100),0)","v":0},{"$f":"IFERROR((I$106*(HLOOKUP(I$105,'Hilfsblatt Ber. Wirtsch Wirk 3'!$D$11:$BW$96,$A148,FALSE)+IF(I$105=$C148,HLOOKUP(I$105,'Hilfsblatt Ber. Wirtsch Wirk 3'!$D$11:$BX$96,87,FALSE),0))/100),0)","v":0},{"$f":"IFERROR((J$106*(HLOOKUP(J$105,'Hilfsblatt Ber. Wirtsch Wirk 3'!$D$11:$BW$96,$A148,FALSE)+IF(J$105=$C148,HLOOKUP(J$105,'Hilfsblatt Ber. Wirtsch Wirk 3'!$D$11:$BX$96,87,FALSE),0))/100),0)","v":0},{"$f":"IFERROR((K$106*(HLOOKUP(K$105,'Hilfsblatt Ber. Wirtsch Wirk 3'!$D$11:$BW$96,$A148,FALSE)+IF(K$105=$C148,HLOOKUP(K$105,'Hilfsblatt Ber. Wirtsch Wirk 3'!$D$11:$BX$96,87,FALSE),0))/100),0)","v":0},{"$f":"IFERROR((L$106*(HLOOKUP(L$105,'Hilfsblatt Ber. Wirtsch Wirk 3'!$D$11:$BW$96,$A148,FALSE)+IF(L$105=$C148,HLOOKUP(L$105,'Hilfsblatt Ber. Wirtsch Wirk 3'!$D$11:$BX$96,87,FALSE),0))/100),0)","v":0},{"$f":"IFERROR((M$106*(HLOOKUP(M$105,'Hilfsblatt Ber. Wirtsch Wirk 3'!$D$11:$BW$96,$A148,FALSE)+IF(M$105=$C148,HLOOKUP(M$105,'Hilfsblatt Ber. Wirtsch Wirk 3'!$D$11:$BX$96,87,FALSE),0))/100),0)","v":0},{"$f":"IFERROR((N$106*(HLOOKUP(N$105,'Hilfsblatt Ber. Wirtsch Wirk 3'!$D$11:$BW$96,$A148,FALSE)+IF(N$105=$C148,HLOOKUP(N$105,'Hilfsblatt Ber. Wirtsch Wirk 3'!$D$11:$BX$96,87,FALSE),0))/100),0)","v":0},{"$f":"IFERROR((O$106*(HLOOKUP(O$105,'Hilfsblatt Ber. Wirtsch Wirk 3'!$D$11:$BW$96,$A148,FALSE)+IF(O$105=$C148,HLOOKUP(O$105,'Hilfsblatt Ber. Wirtsch Wirk 3'!$D$11:$BX$96,87,FALSE),0))/100),0)","v":0},{"$f":"IFERROR((P$106*(HLOOKUP(P$105,'Hilfsblatt Ber. Wirtsch Wirk 3'!$D$11:$BW$96,$A148,FALSE)+IF(P$105=$C148,HLOOKUP(P$105,'Hilfsblatt Ber. Wirtsch Wirk 3'!$D$11:$BX$96,87,FALSE),0))/100),0)","v":0},{"$f":"IFERROR((Q$106*(HLOOKUP(Q$105,'Hilfsblatt Ber. Wirtsch Wirk 3'!$D$11:$BW$96,$A148,FALSE)+IF(Q$105=$C148,HLOOKUP(Q$105,'Hilfsblatt Ber. Wirtsch Wirk 3'!$D$11:$BX$96,87,FALSE),0))/100),0)","v":0},{"$f":"R$106*('Hilfsblatt Ber. Wirtsch Wirk 3'!BX53+'Hilfsblatt Ber. Wirtsch Wirk 3'!BX53*'Hilfsblatt Ber. Wirtsch Wirk 3'!CA53/'Hilfsblatt Ber. Wirtsch Wirk 3'!CB53)/100","v":0},0,{"$f":"S148*'Hilfsblatt Ber. Wirtsch Wirk 3'!BZ53/('Hilfsblatt Ber. Wirtsch Wirk 3'!CA53)","v":0},{"$f":"S148/'Hilfsblatt Ber. Wirtsch Wirk 3'!CC53","v":0},{"$f":"T148*('Hilfsblatt Ber. Wirtsch Wirk 4'!B$14/'Hilfsblatt Ber. Wirtsch Wirk 4'!B$13)","v":0},{"$f":"S148*'Hilfsblatt Ber. Wirtsch Wirk 3'!CD53","v":0}]
[44,{"$f":"B49","v":"50"},"Schifffahrtsleistungen ",{"$f":"IFERROR((D$106*(HLOOKUP(D$105,'Hilfsblatt Ber. Wirtsch Wirk 3'!$D$11:$BW$96,$A149,FALSE)+IF(D$105=$C149,HLOOKUP(D$105,'Hilfsblatt Ber. Wirtsch Wirk 3'!$D$11:$BX$96,87,FALSE),0))/100),0)","v":0},{"$f":"IFERROR((E$106*(HLOOKUP(E$105,'Hilfsblatt Ber. Wirtsch Wirk 3'!$D$11:$BW$96,$A149,FALSE)+IF(E$105=$C149,HLOOKUP(E$105,'Hilfsblatt Ber. Wirtsch Wirk 3'!$D$11:$BX$96,87,FALSE),0))/100),0)","v":0},{"$f":"IFERROR((F$106*(HLOOKUP(F$105,'Hilfsblatt Ber. Wirtsch Wirk 3'!$D$11:$BW$96,$A149,FALSE)+IF(F$105=$C149,HLOOKUP(F$105,'Hilfsblatt Ber. Wirtsch Wirk 3'!$D$11:$BX$96,87,FALSE),0))/100),0)","v":0},{"$f":"IFERROR((G$106*(HLOOKUP(G$105,'Hilfsblatt Ber. Wirtsch Wirk 3'!$D$11:$BW$96,$A149,FALSE)+IF(G$105=$C149,HLOOKUP(G$105,'Hilfsblatt Ber. Wirtsch Wirk 3'!$D$11:$BX$96,87,FALSE),0))/100),0)","v":0},{"$f":"IFERROR((H$106*(HLOOKUP(H$105,'Hilfsblatt Ber. Wirtsch Wirk 3'!$D$11:$BW$96,$A149,FALSE)+IF(H$105=$C149,HLOOKUP(H$105,'Hilfsblatt Ber. Wirtsch Wirk 3'!$D$11:$BX$96,87,FALSE),0))/100),0)","v":0},{"$f":"IFERROR((I$106*(HLOOKUP(I$105,'Hilfsblatt Ber. Wirtsch Wirk 3'!$D$11:$BW$96,$A149,FALSE)+IF(I$105=$C149,HLOOKUP(I$105,'Hilfsblatt Ber. Wirtsch Wirk 3'!$D$11:$BX$96,87,FALSE),0))/100),0)","v":0},{"$f":"IFERROR((J$106*(HLOOKUP(J$105,'Hilfsblatt Ber. Wirtsch Wirk 3'!$D$11:$BW$96,$A149,FALSE)+IF(J$105=$C149,HLOOKUP(J$105,'Hilfsblatt Ber. Wirtsch Wirk 3'!$D$11:$BX$96,87,FALSE),0))/100),0)","v":0},{"$f":"IFERROR((K$106*(HLOOKUP(K$105,'Hilfsblatt Ber. Wirtsch Wirk 3'!$D$11:$BW$96,$A149,FALSE)+IF(K$105=$C149,HLOOKUP(K$105,'Hilfsblatt Ber. Wirtsch Wirk 3'!$D$11:$BX$96,87,FALSE),0))/100),0)","v":0},{"$f":"IFERROR((L$106*(HLOOKUP(L$105,'Hilfsblatt Ber. Wirtsch Wirk 3'!$D$11:$BW$96,$A149,FALSE)+IF(L$105=$C149,HLOOKUP(L$105,'Hilfsblatt Ber. Wirtsch Wirk 3'!$D$11:$BX$96,87,FALSE),0))/100),0)","v":0},{"$f":"IFERROR((M$106*(HLOOKUP(M$105,'Hilfsblatt Ber. Wirtsch Wirk 3'!$D$11:$BW$96,$A149,FALSE)+IF(M$105=$C149,HLOOKUP(M$105,'Hilfsblatt Ber. Wirtsch Wirk 3'!$D$11:$BX$96,87,FALSE),0))/100),0)","v":0},{"$f":"IFERROR((N$106*(HLOOKUP(N$105,'Hilfsblatt Ber. Wirtsch Wirk 3'!$D$11:$BW$96,$A149,FALSE)+IF(N$105=$C149,HLOOKUP(N$105,'Hilfsblatt Ber. Wirtsch Wirk 3'!$D$11:$BX$96,87,FALSE),0))/100),0)","v":0},{"$f":"IFERROR((O$106*(HLOOKUP(O$105,'Hilfsblatt Ber. Wirtsch Wirk 3'!$D$11:$BW$96,$A149,FALSE)+IF(O$105=$C149,HLOOKUP(O$105,'Hilfsblatt Ber. Wirtsch Wirk 3'!$D$11:$BX$96,87,FALSE),0))/100),0)","v":0},{"$f":"IFERROR((P$106*(HLOOKUP(P$105,'Hilfsblatt Ber. Wirtsch Wirk 3'!$D$11:$BW$96,$A149,FALSE)+IF(P$105=$C149,HLOOKUP(P$105,'Hilfsblatt Ber. Wirtsch Wirk 3'!$D$11:$BX$96,87,FALSE),0))/100),0)","v":0},{"$f":"IFERROR((Q$106*(HLOOKUP(Q$105,'Hilfsblatt Ber. Wirtsch Wirk 3'!$D$11:$BW$96,$A149,FALSE)+IF(Q$105=$C149,HLOOKUP(Q$105,'Hilfsblatt Ber. Wirtsch Wirk 3'!$D$11:$BX$96,87,FALSE),0))/100),0)","v":0},{"$f":"R$106*('Hilfsblatt Ber. Wirtsch Wirk 3'!BX54+'Hilfsblatt Ber. Wirtsch Wirk 3'!BX54*'Hilfsblatt Ber. Wirtsch Wirk 3'!CA54/'Hilfsblatt Ber. Wirtsch Wirk 3'!CB54)/100","v":0},0,{"$f":"S149*'Hilfsblatt Ber. Wirtsch Wirk 3'!BZ54/('Hilfsblatt Ber. Wirtsch Wirk 3'!CA54)","v":0},{"$f":"S149/'Hilfsblatt Ber. Wirtsch Wirk 3'!CC54","v":0},{"$f":"T149*('Hilfsblatt Ber. Wirtsch Wirk 4'!B$14/'Hilfsblatt Ber. Wirtsch Wirk 4'!B$13)","v":0},{"$f":"S149*'Hilfsblatt Ber. Wirtsch Wirk 3'!CD54","v":0}]
[45,{"$f":"B50","v":"51"},"Luftfahrtleistungen ",{"$f":"IFERROR((D$106*(HLOOKUP(D$105,'Hilfsblatt Ber. Wirtsch Wirk 3'!$D$11:$BW$96,$A150,FALSE)+IF(D$105=$C150,HLOOKUP(D$105,'Hilfsblatt Ber. Wirtsch Wirk 3'!$D$11:$BX$96,87,FALSE),0))/100),0)","v":0},{"$f":"IFERROR((E$106*(HLOOKUP(E$105,'Hilfsblatt Ber. Wirtsch Wirk 3'!$D$11:$BW$96,$A150,FALSE)+IF(E$105=$C150,HLOOKUP(E$105,'Hilfsblatt Ber. Wirtsch Wirk 3'!$D$11:$BX$96,87,FALSE),0))/100),0)","v":0},{"$f":"IFERROR((F$106*(HLOOKUP(F$105,'Hilfsblatt Ber. Wirtsch Wirk 3'!$D$11:$BW$96,$A150,FALSE)+IF(F$105=$C150,HLOOKUP(F$105,'Hilfsblatt Ber. Wirtsch Wirk 3'!$D$11:$BX$96,87,FALSE),0))/100),0)","v":0},{"$f":"IFERROR((G$106*(HLOOKUP(G$105,'Hilfsblatt Ber. Wirtsch Wirk 3'!$D$11:$BW$96,$A150,FALSE)+IF(G$105=$C150,HLOOKUP(G$105,'Hilfsblatt Ber. Wirtsch Wirk 3'!$D$11:$BX$96,87,FALSE),0))/100),0)","v":0},{"$f":"IFERROR((H$106*(HLOOKUP(H$105,'Hilfsblatt Ber. Wirtsch Wirk 3'!$D$11:$BW$96,$A150,FALSE)+IF(H$105=$C150,HLOOKUP(H$105,'Hilfsblatt Ber. Wirtsch Wirk 3'!$D$11:$BX$96,87,FALSE),0))/100),0)","v":0},{"$f":"IFERROR((I$106*(HLOOKUP(I$105,'Hilfsblatt Ber. Wirtsch Wirk 3'!$D$11:$BW$96,$A150,FALSE)+IF(I$105=$C150,HLOOKUP(I$105,'Hilfsblatt Ber. Wirtsch Wirk 3'!$D$11:$BX$96,87,FALSE),0))/100),0)","v":0},{"$f":"IFERROR((J$106*(HLOOKUP(J$105,'Hilfsblatt Ber. Wirtsch Wirk 3'!$D$11:$BW$96,$A150,FALSE)+IF(J$105=$C150,HLOOKUP(J$105,'Hilfsblatt Ber. Wirtsch Wirk 3'!$D$11:$BX$96,87,FALSE),0))/100),0)","v":0},{"$f":"IFERROR((K$106*(HLOOKUP(K$105,'Hilfsblatt Ber. Wirtsch Wirk 3'!$D$11:$BW$96,$A150,FALSE)+IF(K$105=$C150,HLOOKUP(K$105,'Hilfsblatt Ber. Wirtsch Wirk 3'!$D$11:$BX$96,87,FALSE),0))/100),0)","v":0},{"$f":"IFERROR((L$106*(HLOOKUP(L$105,'Hilfsblatt Ber. Wirtsch Wirk 3'!$D$11:$BW$96,$A150,FALSE)+IF(L$105=$C150,HLOOKUP(L$105,'Hilfsblatt Ber. Wirtsch Wirk 3'!$D$11:$BX$96,87,FALSE),0))/100),0)","v":0},{"$f":"IFERROR((M$106*(HLOOKUP(M$105,'Hilfsblatt Ber. Wirtsch Wirk 3'!$D$11:$BW$96,$A150,FALSE)+IF(M$105=$C150,HLOOKUP(M$105,'Hilfsblatt Ber. Wirtsch Wirk 3'!$D$11:$BX$96,87,FALSE),0))/100),0)","v":0},{"$f":"IFERROR((N$106*(HLOOKUP(N$105,'Hilfsblatt Ber. Wirtsch Wirk 3'!$D$11:$BW$96,$A150,FALSE)+IF(N$105=$C150,HLOOKUP(N$105,'Hilfsblatt Ber. Wirtsch Wirk 3'!$D$11:$BX$96,87,FALSE),0))/100),0)","v":0},{"$f":"IFERROR((O$106*(HLOOKUP(O$105,'Hilfsblatt Ber. Wirtsch Wirk 3'!$D$11:$BW$96,$A150,FALSE)+IF(O$105=$C150,HLOOKUP(O$105,'Hilfsblatt Ber. Wirtsch Wirk 3'!$D$11:$BX$96,87,FALSE),0))/100),0)","v":0},{"$f":"IFERROR((P$106*(HLOOKUP(P$105,'Hilfsblatt Ber. Wirtsch Wirk 3'!$D$11:$BW$96,$A150,FALSE)+IF(P$105=$C150,HLOOKUP(P$105,'Hilfsblatt Ber. Wirtsch Wirk 3'!$D$11:$BX$96,87,FALSE),0))/100),0)","v":0},{"$f":"IFERROR((Q$106*(HLOOKUP(Q$105,'Hilfsblatt Ber. Wirtsch Wirk 3'!$D$11:$BW$96,$A150,FALSE)+IF(Q$105=$C150,HLOOKUP(Q$105,'Hilfsblatt Ber. Wirtsch Wirk 3'!$D$11:$BX$96,87,FALSE),0))/100),0)","v":0},{"$f":"R$106*('Hilfsblatt Ber. Wirtsch Wirk 3'!BX55+'Hilfsblatt Ber. Wirtsch Wirk 3'!BX55*'Hilfsblatt Ber. Wirtsch Wirk 3'!CA55/'Hilfsblatt Ber. Wirtsch Wirk 3'!CB55)/100","v":0},0,{"$f":"S150*'Hilfsblatt Ber. Wirtsch Wirk 3'!BZ55/('Hilfsblatt Ber. Wirtsch Wirk 3'!CA55)","v":0},{"$f":"S150/'Hilfsblatt Ber. Wirtsch Wirk 3'!CC55","v":0},{"$f":"T150*('Hilfsblatt Ber. Wirtsch Wirk 4'!B$14/'Hilfsblatt Ber. Wirtsch Wirk 4'!B$13)","v":0},{"$f":"S150*'Hilfsblatt Ber. Wirtsch Wirk 3'!CD55","v":0}]
[46,{"$f":"B51","v":"52"},"Lagereileistungen, sonstige Dienstleistungen für den Verkehr ",{"$f":"IFERROR((D$106*(HLOOKUP(D$105,'Hilfsblatt Ber. Wirtsch Wirk 3'!$D$11:$BW$96,$A151,FALSE)+IF(D$105=$C151,HLOOKUP(D$105,'Hilfsblatt Ber. Wirtsch Wirk 3'!$D$11:$BX$96,87,FALSE),0))/100),0)","v":0},{"$f":"IFERROR((E$106*(HLOOKUP(E$105,'Hilfsblatt Ber. Wirtsch Wirk 3'!$D$11:$BW$96,$A151,FALSE)+IF(E$105=$C151,HLOOKUP(E$105,'Hilfsblatt Ber. Wirtsch Wirk 3'!$D$11:$BX$96,87,FALSE),0))/100),0)","v":0},{"$f":"IFERROR((F$106*(HLOOKUP(F$105,'Hilfsblatt Ber. Wirtsch Wirk 3'!$D$11:$BW$96,$A151,FALSE)+IF(F$105=$C151,HLOOKUP(F$105,'Hilfsblatt Ber. Wirtsch Wirk 3'!$D$11:$BX$96,87,FALSE),0))/100),0)","v":0},{"$f":"IFERROR((G$106*(HLOOKUP(G$105,'Hilfsblatt Ber. Wirtsch Wirk 3'!$D$11:$BW$96,$A151,FALSE)+IF(G$105=$C151,HLOOKUP(G$105,'Hilfsblatt Ber. Wirtsch Wirk 3'!$D$11:$BX$96,87,FALSE),0))/100),0)","v":0},{"$f":"IFERROR((H$106*(HLOOKUP(H$105,'Hilfsblatt Ber. Wirtsch Wirk 3'!$D$11:$BW$96,$A151,FALSE)+IF(H$105=$C151,HLOOKUP(H$105,'Hilfsblatt Ber. Wirtsch Wirk 3'!$D$11:$BX$96,87,FALSE),0))/100),0)","v":0},{"$f":"IFERROR((I$106*(HLOOKUP(I$105,'Hilfsblatt Ber. Wirtsch Wirk 3'!$D$11:$BW$96,$A151,FALSE)+IF(I$105=$C151,HLOOKUP(I$105,'Hilfsblatt Ber. Wirtsch Wirk 3'!$D$11:$BX$96,87,FALSE),0))/100),0)","v":0},{"$f":"IFERROR((J$106*(HLOOKUP(J$105,'Hilfsblatt Ber. Wirtsch Wirk 3'!$D$11:$BW$96,$A151,FALSE)+IF(J$105=$C151,HLOOKUP(J$105,'Hilfsblatt Ber. Wirtsch Wirk 3'!$D$11:$BX$96,87,FALSE),0))/100),0)","v":0},{"$f":"IFERROR((K$106*(HLOOKUP(K$105,'Hilfsblatt Ber. Wirtsch Wirk 3'!$D$11:$BW$96,$A151,FALSE)+IF(K$105=$C151,HLOOKUP(K$105,'Hilfsblatt Ber. Wirtsch Wirk 3'!$D$11:$BX$96,87,FALSE),0))/100),0)","v":0},{"$f":"IFERROR((L$106*(HLOOKUP(L$105,'Hilfsblatt Ber. Wirtsch Wirk 3'!$D$11:$BW$96,$A151,FALSE)+IF(L$105=$C151,HLOOKUP(L$105,'Hilfsblatt Ber. Wirtsch Wirk 3'!$D$11:$BX$96,87,FALSE),0))/100),0)","v":0},{"$f":"IFERROR((M$106*(HLOOKUP(M$105,'Hilfsblatt Ber. Wirtsch Wirk 3'!$D$11:$BW$96,$A151,FALSE)+IF(M$105=$C151,HLOOKUP(M$105,'Hilfsblatt Ber. Wirtsch Wirk 3'!$D$11:$BX$96,87,FALSE),0))/100),0)","v":0},{"$f":"IFERROR((N$106*(HLOOKUP(N$105,'Hilfsblatt Ber. Wirtsch Wirk 3'!$D$11:$BW$96,$A151,FALSE)+IF(N$105=$C151,HLOOKUP(N$105,'Hilfsblatt Ber. Wirtsch Wirk 3'!$D$11:$BX$96,87,FALSE),0))/100),0)","v":0},{"$f":"IFERROR((O$106*(HLOOKUP(O$105,'Hilfsblatt Ber. Wirtsch Wirk 3'!$D$11:$BW$96,$A151,FALSE)+IF(O$105=$C151,HLOOKUP(O$105,'Hilfsblatt Ber. Wirtsch Wirk 3'!$D$11:$BX$96,87,FALSE),0))/100),0)","v":0},{"$f":"IFERROR((P$106*(HLOOKUP(P$105,'Hilfsblatt Ber. Wirtsch Wirk 3'!$D$11:$BW$96,$A151,FALSE)+IF(P$105=$C151,HLOOKUP(P$105,'Hilfsblatt Ber. Wirtsch Wirk 3'!$D$11:$BX$96,87,FALSE),0))/100),0)","v":0},{"$f":"IFERROR((Q$106*(HLOOKUP(Q$105,'Hilfsblatt Ber. Wirtsch Wirk 3'!$D$11:$BW$96,$A151,FALSE)+IF(Q$105=$C151,HLOOKUP(Q$105,'Hilfsblatt Ber. Wirtsch Wirk 3'!$D$11:$BX$96,87,FALSE),0))/100),0)","v":0},{"$f":"R$106*('Hilfsblatt Ber. Wirtsch Wirk 3'!BX56+'Hilfsblatt Ber. Wirtsch Wirk 3'!BX56*'Hilfsblatt Ber. Wirtsch Wirk 3'!CA56/'Hilfsblatt Ber. Wirtsch Wirk 3'!CB56)/100","v":0},0,{"$f":"S151*'Hilfsblatt Ber. Wirtsch Wirk 3'!BZ56/('Hilfsblatt Ber. Wirtsch Wirk 3'!CA56)","v":0},{"$f":"S151/'Hilfsblatt Ber. Wirtsch Wirk 3'!CC56","v":0},{"$f":"T151*('Hilfsblatt Ber. Wirtsch Wirk 4'!B$14/'Hilfsblatt Ber. Wirtsch Wirk 4'!B$13)","v":0},{"$f":"S151*'Hilfsblatt Ber. Wirtsch Wirk 3'!CD56","v":0}]
[47,{"$f":"B52","v":"53"},"Post-, Kurier- und Expressdienstleistungen",{"$f":"IFERROR((D$106*(HLOOKUP(D$105,'Hilfsblatt Ber. Wirtsch Wirk 3'!$D$11:$BW$96,$A152,FALSE)+IF(D$105=$C152,HLOOKUP(D$105,'Hilfsblatt Ber. Wirtsch Wirk 3'!$D$11:$BX$96,87,FALSE),0))/100),0)","v":0},{"$f":"IFERROR((E$106*(HLOOKUP(E$105,'Hilfsblatt Ber. Wirtsch Wirk 3'!$D$11:$BW$96,$A152,FALSE)+IF(E$105=$C152,HLOOKUP(E$105,'Hilfsblatt Ber. Wirtsch Wirk 3'!$D$11:$BX$96,87,FALSE),0))/100),0)","v":0},{"$f":"IFERROR((F$106*(HLOOKUP(F$105,'Hilfsblatt Ber. Wirtsch Wirk 3'!$D$11:$BW$96,$A152,FALSE)+IF(F$105=$C152,HLOOKUP(F$105,'Hilfsblatt Ber. Wirtsch Wirk 3'!$D$11:$BX$96,87,FALSE),0))/100),0)","v":0},{"$f":"IFERROR((G$106*(HLOOKUP(G$105,'Hilfsblatt Ber. Wirtsch Wirk 3'!$D$11:$BW$96,$A152,FALSE)+IF(G$105=$C152,HLOOKUP(G$105,'Hilfsblatt Ber. Wirtsch Wirk 3'!$D$11:$BX$96,87,FALSE),0))/100),0)","v":0},{"$f":"IFERROR((H$106*(HLOOKUP(H$105,'Hilfsblatt Ber. Wirtsch Wirk 3'!$D$11:$BW$96,$A152,FALSE)+IF(H$105=$C152,HLOOKUP(H$105,'Hilfsblatt Ber. Wirtsch Wirk 3'!$D$11:$BX$96,87,FALSE),0))/100),0)","v":0},{"$f":"IFERROR((I$106*(HLOOKUP(I$105,'Hilfsblatt Ber. Wirtsch Wirk 3'!$D$11:$BW$96,$A152,FALSE)+IF(I$105=$C152,HLOOKUP(I$105,'Hilfsblatt Ber. Wirtsch Wirk 3'!$D$11:$BX$96,87,FALSE),0))/100),0)","v":0},{"$f":"IFERROR((J$106*(HLOOKUP(J$105,'Hilfsblatt Ber. Wirtsch Wirk 3'!$D$11:$BW$96,$A152,FALSE)+IF(J$105=$C152,HLOOKUP(J$105,'Hilfsblatt Ber. Wirtsch Wirk 3'!$D$11:$BX$96,87,FALSE),0))/100),0)","v":0},{"$f":"IFERROR((K$106*(HLOOKUP(K$105,'Hilfsblatt Ber. Wirtsch Wirk 3'!$D$11:$BW$96,$A152,FALSE)+IF(K$105=$C152,HLOOKUP(K$105,'Hilfsblatt Ber. Wirtsch Wirk 3'!$D$11:$BX$96,87,FALSE),0))/100),0)","v":0},{"$f":"IFERROR((L$106*(HLOOKUP(L$105,'Hilfsblatt Ber. Wirtsch Wirk 3'!$D$11:$BW$96,$A152,FALSE)+IF(L$105=$C152,HLOOKUP(L$105,'Hilfsblatt Ber. Wirtsch Wirk 3'!$D$11:$BX$96,87,FALSE),0))/100),0)","v":0},{"$f":"IFERROR((M$106*(HLOOKUP(M$105,'Hilfsblatt Ber. Wirtsch Wirk 3'!$D$11:$BW$96,$A152,FALSE)+IF(M$105=$C152,HLOOKUP(M$105,'Hilfsblatt Ber. Wirtsch Wirk 3'!$D$11:$BX$96,87,FALSE),0))/100),0)","v":0},{"$f":"IFERROR((N$106*(HLOOKUP(N$105,'Hilfsblatt Ber. Wirtsch Wirk 3'!$D$11:$BW$96,$A152,FALSE)+IF(N$105=$C152,HLOOKUP(N$105,'Hilfsblatt Ber. Wirtsch Wirk 3'!$D$11:$BX$96,87,FALSE),0))/100),0)","v":0},{"$f":"IFERROR((O$106*(HLOOKUP(O$105,'Hilfsblatt Ber. Wirtsch Wirk 3'!$D$11:$BW$96,$A152,FALSE)+IF(O$105=$C152,HLOOKUP(O$105,'Hilfsblatt Ber. Wirtsch Wirk 3'!$D$11:$BX$96,87,FALSE),0))/100),0)","v":0},{"$f":"IFERROR((P$106*(HLOOKUP(P$105,'Hilfsblatt Ber. Wirtsch Wirk 3'!$D$11:$BW$96,$A152,FALSE)+IF(P$105=$C152,HLOOKUP(P$105,'Hilfsblatt Ber. Wirtsch Wirk 3'!$D$11:$BX$96,87,FALSE),0))/100),0)","v":0},{"$f":"IFERROR((Q$106*(HLOOKUP(Q$105,'Hilfsblatt Ber. Wirtsch Wirk 3'!$D$11:$BW$96,$A152,FALSE)+IF(Q$105=$C152,HLOOKUP(Q$105,'Hilfsblatt Ber. Wirtsch Wirk 3'!$D$11:$BX$96,87,FALSE),0))/100),0)","v":0},{"$f":"R$106*('Hilfsblatt Ber. Wirtsch Wirk 3'!BX57+'Hilfsblatt Ber. Wirtsch Wirk 3'!BX57*'Hilfsblatt Ber. Wirtsch Wirk 3'!CA57/'Hilfsblatt Ber. Wirtsch Wirk 3'!CB57)/100","v":0},0,{"$f":"S152*'Hilfsblatt Ber. Wirtsch Wirk 3'!BZ57/('Hilfsblatt Ber. Wirtsch Wirk 3'!CA57)","v":0},{"$f":"S152/'Hilfsblatt Ber. Wirtsch Wirk 3'!CC57","v":0},{"$f":"T152*('Hilfsblatt Ber. Wirtsch Wirk 4'!B$14/'Hilfsblatt Ber. Wirtsch Wirk 4'!B$13)","v":0},{"$f":"S152*'Hilfsblatt Ber. Wirtsch Wirk 3'!CD57","v":0}]
[48,{"$f":"B53","v":"55-56"},"Beherbergungs-  und Gastronomiedienstleistungen ",{"$f":"IFERROR((D$106*(HLOOKUP(D$105,'Hilfsblatt Ber. Wirtsch Wirk 3'!$D$11:$BW$96,$A153,FALSE)+IF(D$105=$C153,HLOOKUP(D$105,'Hilfsblatt Ber. Wirtsch Wirk 3'!$D$11:$BX$96,87,FALSE),0))/100),0)","v":0},{"$f":"IFERROR((E$106*(HLOOKUP(E$105,'Hilfsblatt Ber. Wirtsch Wirk 3'!$D$11:$BW$96,$A153,FALSE)+IF(E$105=$C153,HLOOKUP(E$105,'Hilfsblatt Ber. Wirtsch Wirk 3'!$D$11:$BX$96,87,FALSE),0))/100),0)","v":0},{"$f":"IFERROR((F$106*(HLOOKUP(F$105,'Hilfsblatt Ber. Wirtsch Wirk 3'!$D$11:$BW$96,$A153,FALSE)+IF(F$105=$C153,HLOOKUP(F$105,'Hilfsblatt Ber. Wirtsch Wirk 3'!$D$11:$BX$96,87,FALSE),0))/100),0)","v":0},{"$f":"IFERROR((G$106*(HLOOKUP(G$105,'Hilfsblatt Ber. Wirtsch Wirk 3'!$D$11:$BW$96,$A153,FALSE)+IF(G$105=$C153,HLOOKUP(G$105,'Hilfsblatt Ber. Wirtsch Wirk 3'!$D$11:$BX$96,87,FALSE),0))/100),0)","v":0},{"$f":"IFERROR((H$106*(HLOOKUP(H$105,'Hilfsblatt Ber. Wirtsch Wirk 3'!$D$11:$BW$96,$A153,FALSE)+IF(H$105=$C153,HLOOKUP(H$105,'Hilfsblatt Ber. Wirtsch Wirk 3'!$D$11:$BX$96,87,FALSE),0))/100),0)","v":0},{"$f":"IFERROR((I$106*(HLOOKUP(I$105,'Hilfsblatt Ber. Wirtsch Wirk 3'!$D$11:$BW$96,$A153,FALSE)+IF(I$105=$C153,HLOOKUP(I$105,'Hilfsblatt Ber. Wirtsch Wirk 3'!$D$11:$BX$96,87,FALSE),0))/100),0)","v":0},{"$f":"IFERROR((J$106*(HLOOKUP(J$105,'Hilfsblatt Ber. Wirtsch Wirk 3'!$D$11:$BW$96,$A153,FALSE)+IF(J$105=$C153,HLOOKUP(J$105,'Hilfsblatt Ber. Wirtsch Wirk 3'!$D$11:$BX$96,87,FALSE),0))/100),0)","v":0},{"$f":"IFERROR((K$106*(HLOOKUP(K$105,'Hilfsblatt Ber. Wirtsch Wirk 3'!$D$11:$BW$96,$A153,FALSE)+IF(K$105=$C153,HLOOKUP(K$105,'Hilfsblatt Ber. Wirtsch Wirk 3'!$D$11:$BX$96,87,FALSE),0))/100),0)","v":0},{"$f":"IFERROR((L$106*(HLOOKUP(L$105,'Hilfsblatt Ber. Wirtsch Wirk 3'!$D$11:$BW$96,$A153,FALSE)+IF(L$105=$C153,HLOOKUP(L$105,'Hilfsblatt Ber. Wirtsch Wirk 3'!$D$11:$BX$96,87,FALSE),0))/100),0)","v":0},{"$f":"IFERROR((M$106*(HLOOKUP(M$105,'Hilfsblatt Ber. Wirtsch Wirk 3'!$D$11:$BW$96,$A153,FALSE)+IF(M$105=$C153,HLOOKUP(M$105,'Hilfsblatt Ber. Wirtsch Wirk 3'!$D$11:$BX$96,87,FALSE),0))/100),0)","v":0},{"$f":"IFERROR((N$106*(HLOOKUP(N$105,'Hilfsblatt Ber. Wirtsch Wirk 3'!$D$11:$BW$96,$A153,FALSE)+IF(N$105=$C153,HLOOKUP(N$105,'Hilfsblatt Ber. Wirtsch Wirk 3'!$D$11:$BX$96,87,FALSE),0))/100),0)","v":0},{"$f":"IFERROR((O$106*(HLOOKUP(O$105,'Hilfsblatt Ber. Wirtsch Wirk 3'!$D$11:$BW$96,$A153,FALSE)+IF(O$105=$C153,HLOOKUP(O$105,'Hilfsblatt Ber. Wirtsch Wirk 3'!$D$11:$BX$96,87,FALSE),0))/100),0)","v":0},{"$f":"IFERROR((P$106*(HLOOKUP(P$105,'Hilfsblatt Ber. Wirtsch Wirk 3'!$D$11:$BW$96,$A153,FALSE)+IF(P$105=$C153,HLOOKUP(P$105,'Hilfsblatt Ber. Wirtsch Wirk 3'!$D$11:$BX$96,87,FALSE),0))/100),0)","v":0},{"$f":"IFERROR((Q$106*(HLOOKUP(Q$105,'Hilfsblatt Ber. Wirtsch Wirk 3'!$D$11:$BW$96,$A153,FALSE)+IF(Q$105=$C153,HLOOKUP(Q$105,'Hilfsblatt Ber. Wirtsch Wirk 3'!$D$11:$BX$96,87,FALSE),0))/100),0)","v":0},{"$f":"R$106*('Hilfsblatt Ber. Wirtsch Wirk 3'!BX58+'Hilfsblatt Ber. Wirtsch Wirk 3'!BX58*'Hilfsblatt Ber. Wirtsch Wirk 3'!CA58/'Hilfsblatt Ber. Wirtsch Wirk 3'!CB58)/100","v":0},0,{"$f":"S153*'Hilfsblatt Ber. Wirtsch Wirk 3'!BZ58/('Hilfsblatt Ber. Wirtsch Wirk 3'!CA58)","v":0},{"$f":"S153/'Hilfsblatt Ber. Wirtsch Wirk 3'!CC58","v":0},{"$f":"T153*('Hilfsblatt Ber. Wirtsch Wirk 4'!B$14/'Hilfsblatt Ber. Wirtsch Wirk 4'!B$13)","v":0},{"$f":"S153*'Hilfsblatt Ber. Wirtsch Wirk 3'!CD58","v":0}]
[49,{"$f":"B54","v":"58"},"Dienstleistungen des Verlagswesen",{"$f":"IFERROR((D$106*(HLOOKUP(D$105,'Hilfsblatt Ber. Wirtsch Wirk 3'!$D$11:$BW$96,$A154,FALSE)+IF(D$105=$C154,HLOOKUP(D$105,'Hilfsblatt Ber. Wirtsch Wirk 3'!$D$11:$BX$96,87,FALSE),0))/100),0)","v":0},{"$f":"IFERROR((E$106*(HLOOKUP(E$105,'Hilfsblatt Ber. Wirtsch Wirk 3'!$D$11:$BW$96,$A154,FALSE)+IF(E$105=$C154,HLOOKUP(E$105,'Hilfsblatt Ber. Wirtsch Wirk 3'!$D$11:$BX$96,87,FALSE),0))/100),0)","v":0},{"$f":"IFERROR((F$106*(HLOOKUP(F$105,'Hilfsblatt Ber. Wirtsch Wirk 3'!$D$11:$BW$96,$A154,FALSE)+IF(F$105=$C154,HLOOKUP(F$105,'Hilfsblatt Ber. Wirtsch Wirk 3'!$D$11:$BX$96,87,FALSE),0))/100),0)","v":0},{"$f":"IFERROR((G$106*(HLOOKUP(G$105,'Hilfsblatt Ber. Wirtsch Wirk 3'!$D$11:$BW$96,$A154,FALSE)+IF(G$105=$C154,HLOOKUP(G$105,'Hilfsblatt Ber. Wirtsch Wirk 3'!$D$11:$BX$96,87,FALSE),0))/100),0)","v":0},{"$f":"IFERROR((H$106*(HLOOKUP(H$105,'Hilfsblatt Ber. Wirtsch Wirk 3'!$D$11:$BW$96,$A154,FALSE)+IF(H$105=$C154,HLOOKUP(H$105,'Hilfsblatt Ber. Wirtsch Wirk 3'!$D$11:$BX$96,87,FALSE),0))/100),0)","v":0},{"$f":"IFERROR((I$106*(HLOOKUP(I$105,'Hilfsblatt Ber. Wirtsch Wirk 3'!$D$11:$BW$96,$A154,FALSE)+IF(I$105=$C154,HLOOKUP(I$105,'Hilfsblatt Ber. Wirtsch Wirk 3'!$D$11:$BX$96,87,FALSE),0))/100),0)","v":0},{"$f":"IFERROR((J$106*(HLOOKUP(J$105,'Hilfsblatt Ber. Wirtsch Wirk 3'!$D$11:$BW$96,$A154,FALSE)+IF(J$105=$C154,HLOOKUP(J$105,'Hilfsblatt Ber. Wirtsch Wirk 3'!$D$11:$BX$96,87,FALSE),0))/100),0)","v":0},{"$f":"IFERROR((K$106*(HLOOKUP(K$105,'Hilfsblatt Ber. Wirtsch Wirk 3'!$D$11:$BW$96,$A154,FALSE)+IF(K$105=$C154,HLOOKUP(K$105,'Hilfsblatt Ber. Wirtsch Wirk 3'!$D$11:$BX$96,87,FALSE),0))/100),0)","v":0},{"$f":"IFERROR((L$106*(HLOOKUP(L$105,'Hilfsblatt Ber. Wirtsch Wirk 3'!$D$11:$BW$96,$A154,FALSE)+IF(L$105=$C154,HLOOKUP(L$105,'Hilfsblatt Ber. Wirtsch Wirk 3'!$D$11:$BX$96,87,FALSE),0))/100),0)","v":0},{"$f":"IFERROR((M$106*(HLOOKUP(M$105,'Hilfsblatt Ber. Wirtsch Wirk 3'!$D$11:$BW$96,$A154,FALSE)+IF(M$105=$C154,HLOOKUP(M$105,'Hilfsblatt Ber. Wirtsch Wirk 3'!$D$11:$BX$96,87,FALSE),0))/100),0)","v":0},{"$f":"IFERROR((N$106*(HLOOKUP(N$105,'Hilfsblatt Ber. Wirtsch Wirk 3'!$D$11:$BW$96,$A154,FALSE)+IF(N$105=$C154,HLOOKUP(N$105,'Hilfsblatt Ber. Wirtsch Wirk 3'!$D$11:$BX$96,87,FALSE),0))/100),0)","v":0},{"$f":"IFERROR((O$106*(HLOOKUP(O$105,'Hilfsblatt Ber. Wirtsch Wirk 3'!$D$11:$BW$96,$A154,FALSE)+IF(O$105=$C154,HLOOKUP(O$105,'Hilfsblatt Ber. Wirtsch Wirk 3'!$D$11:$BX$96,87,FALSE),0))/100),0)","v":0},{"$f":"IFERROR((P$106*(HLOOKUP(P$105,'Hilfsblatt Ber. Wirtsch Wirk 3'!$D$11:$BW$96,$A154,FALSE)+IF(P$105=$C154,HLOOKUP(P$105,'Hilfsblatt Ber. Wirtsch Wirk 3'!$D$11:$BX$96,87,FALSE),0))/100),0)","v":0},{"$f":"IFERROR((Q$106*(HLOOKUP(Q$105,'Hilfsblatt Ber. Wirtsch Wirk 3'!$D$11:$BW$96,$A154,FALSE)+IF(Q$105=$C154,HLOOKUP(Q$105,'Hilfsblatt Ber. Wirtsch Wirk 3'!$D$11:$BX$96,87,FALSE),0))/100),0)","v":0},{"$f":"R$106*('Hilfsblatt Ber. Wirtsch Wirk 3'!BX59+'Hilfsblatt Ber. Wirtsch Wirk 3'!BX59*'Hilfsblatt Ber. Wirtsch Wirk 3'!CA59/'Hilfsblatt Ber. Wirtsch Wirk 3'!CB59)/100","v":0},0,{"$f":"S154*'Hilfsblatt Ber. Wirtsch Wirk 3'!BZ59/('Hilfsblatt Ber. Wirtsch Wirk 3'!CA59)","v":0},{"$f":"S154/'Hilfsblatt Ber. Wirtsch Wirk 3'!CC59","v":0},{"$f":"T154*('Hilfsblatt Ber. Wirtsch Wirk 4'!B$14/'Hilfsblatt Ber. Wirtsch Wirk 4'!B$13)","v":0},{"$f":"S154*'Hilfsblatt Ber. Wirtsch Wirk 3'!CD59","v":0}]
[50,{"$f":"B55","v":"59-60"},"Dienstleistg. v. audiovisuell. Medien, Musikverlag. u. RF-veranstaltern",{"$f":"IFERROR((D$106*(HLOOKUP(D$105,'Hilfsblatt Ber. Wirtsch Wirk 3'!$D$11:$BW$96,$A155,FALSE)+IF(D$105=$C155,HLOOKUP(D$105,'Hilfsblatt Ber. Wirtsch Wirk 3'!$D$11:$BX$96,87,FALSE),0))/100),0)","v":0},{"$f":"IFERROR((E$106*(HLOOKUP(E$105,'Hilfsblatt Ber. Wirtsch Wirk 3'!$D$11:$BW$96,$A155,FALSE)+IF(E$105=$C155,HLOOKUP(E$105,'Hilfsblatt Ber. Wirtsch Wirk 3'!$D$11:$BX$96,87,FALSE),0))/100),0)","v":0},{"$f":"IFERROR((F$106*(HLOOKUP(F$105,'Hilfsblatt Ber. Wirtsch Wirk 3'!$D$11:$BW$96,$A155,FALSE)+IF(F$105=$C155,HLOOKUP(F$105,'Hilfsblatt Ber. Wirtsch Wirk 3'!$D$11:$BX$96,87,FALSE),0))/100),0)","v":0},{"$f":"IFERROR((G$106*(HLOOKUP(G$105,'Hilfsblatt Ber. Wirtsch Wirk 3'!$D$11:$BW$96,$A155,FALSE)+IF(G$105=$C155,HLOOKUP(G$105,'Hilfsblatt Ber. Wirtsch Wirk 3'!$D$11:$BX$96,87,FALSE),0))/100),0)","v":0},{"$f":"IFERROR((H$106*(HLOOKUP(H$105,'Hilfsblatt Ber. Wirtsch Wirk 3'!$D$11:$BW$96,$A155,FALSE)+IF(H$105=$C155,HLOOKUP(H$105,'Hilfsblatt Ber. Wirtsch Wirk 3'!$D$11:$BX$96,87,FALSE),0))/100),0)","v":0},{"$f":"IFERROR((I$106*(HLOOKUP(I$105,'Hilfsblatt Ber. Wirtsch Wirk 3'!$D$11:$BW$96,$A155,FALSE)+IF(I$105=$C155,HLOOKUP(I$105,'Hilfsblatt Ber. Wirtsch Wirk 3'!$D$11:$BX$96,87,FALSE),0))/100),0)","v":0},{"$f":"IFERROR((J$106*(HLOOKUP(J$105,'Hilfsblatt Ber. Wirtsch Wirk 3'!$D$11:$BW$96,$A155,FALSE)+IF(J$105=$C155,HLOOKUP(J$105,'Hilfsblatt Ber. Wirtsch Wirk 3'!$D$11:$BX$96,87,FALSE),0))/100),0)","v":0},{"$f":"IFERROR((K$106*(HLOOKUP(K$105,'Hilfsblatt Ber. Wirtsch Wirk 3'!$D$11:$BW$96,$A155,FALSE)+IF(K$105=$C155,HLOOKUP(K$105,'Hilfsblatt Ber. Wirtsch Wirk 3'!$D$11:$BX$96,87,FALSE),0))/100),0)","v":0},{"$f":"IFERROR((L$106*(HLOOKUP(L$105,'Hilfsblatt Ber. Wirtsch Wirk 3'!$D$11:$BW$96,$A155,FALSE)+IF(L$105=$C155,HLOOKUP(L$105,'Hilfsblatt Ber. Wirtsch Wirk 3'!$D$11:$BX$96,87,FALSE),0))/100),0)","v":0},{"$f":"IFERROR((M$106*(HLOOKUP(M$105,'Hilfsblatt Ber. Wirtsch Wirk 3'!$D$11:$BW$96,$A155,FALSE)+IF(M$105=$C155,HLOOKUP(M$105,'Hilfsblatt Ber. Wirtsch Wirk 3'!$D$11:$BX$96,87,FALSE),0))/100),0)","v":0},{"$f":"IFERROR((N$106*(HLOOKUP(N$105,'Hilfsblatt Ber. Wirtsch Wirk 3'!$D$11:$BW$96,$A155,FALSE)+IF(N$105=$C155,HLOOKUP(N$105,'Hilfsblatt Ber. Wirtsch Wirk 3'!$D$11:$BX$96,87,FALSE),0))/100),0)","v":0},{"$f":"IFERROR((O$106*(HLOOKUP(O$105,'Hilfsblatt Ber. Wirtsch Wirk 3'!$D$11:$BW$96,$A155,FALSE)+IF(O$105=$C155,HLOOKUP(O$105,'Hilfsblatt Ber. Wirtsch Wirk 3'!$D$11:$BX$96,87,FALSE),0))/100),0)","v":0},{"$f":"IFERROR((P$106*(HLOOKUP(P$105,'Hilfsblatt Ber. Wirtsch Wirk 3'!$D$11:$BW$96,$A155,FALSE)+IF(P$105=$C155,HLOOKUP(P$105,'Hilfsblatt Ber. Wirtsch Wirk 3'!$D$11:$BX$96,87,FALSE),0))/100),0)","v":0},{"$f":"IFERROR((Q$106*(HLOOKUP(Q$105,'Hilfsblatt Ber. Wirtsch Wirk 3'!$D$11:$BW$96,$A155,FALSE)+IF(Q$105=$C155,HLOOKUP(Q$105,'Hilfsblatt Ber. Wirtsch Wirk 3'!$D$11:$BX$96,87,FALSE),0))/100),0)","v":0},{"$f":"R$106*('Hilfsblatt Ber. Wirtsch Wirk 3'!BX60+'Hilfsblatt Ber. Wirtsch Wirk 3'!BX60*'Hilfsblatt Ber. Wirtsch Wirk 3'!CA60/'Hilfsblatt Ber. Wirtsch Wirk 3'!CB60)/100","v":0},0,{"$f":"S155*'Hilfsblatt Ber. Wirtsch Wirk 3'!BZ60/('Hilfsblatt Ber. Wirtsch Wirk 3'!CA60)","v":0},{"$f":"S155/'Hilfsblatt Ber. Wirtsch Wirk 3'!CC60","v":0},{"$f":"T155*('Hilfsblatt Ber. Wirtsch Wirk 4'!B$14/'Hilfsblatt Ber. Wirtsch Wirk 4'!B$13)","v":0},{"$f":"S155*'Hilfsblatt Ber. Wirtsch Wirk 3'!CD60","v":0}]
[51,{"$f":"B56","v":"61"},"Telekommunikationsdienstleistungen ",{"$f":"IFERROR((D$106*(HLOOKUP(D$105,'Hilfsblatt Ber. Wirtsch Wirk 3'!$D$11:$BW$96,$A156,FALSE)+IF(D$105=$C156,HLOOKUP(D$105,'Hilfsblatt Ber. Wirtsch Wirk 3'!$D$11:$BX$96,87,FALSE),0))/100),0)","v":0},{"$f":"IFERROR((E$106*(HLOOKUP(E$105,'Hilfsblatt Ber. Wirtsch Wirk 3'!$D$11:$BW$96,$A156,FALSE)+IF(E$105=$C156,HLOOKUP(E$105,'Hilfsblatt Ber. Wirtsch Wirk 3'!$D$11:$BX$96,87,FALSE),0))/100),0)","v":0},{"$f":"IFERROR((F$106*(HLOOKUP(F$105,'Hilfsblatt Ber. Wirtsch Wirk 3'!$D$11:$BW$96,$A156,FALSE)+IF(F$105=$C156,HLOOKUP(F$105,'Hilfsblatt Ber. Wirtsch Wirk 3'!$D$11:$BX$96,87,FALSE),0))/100),0)","v":0},{"$f":"IFERROR((G$106*(HLOOKUP(G$105,'Hilfsblatt Ber. Wirtsch Wirk 3'!$D$11:$BW$96,$A156,FALSE)+IF(G$105=$C156,HLOOKUP(G$105,'Hilfsblatt Ber. Wirtsch Wirk 3'!$D$11:$BX$96,87,FALSE),0))/100),0)","v":0},{"$f":"IFERROR((H$106*(HLOOKUP(H$105,'Hilfsblatt Ber. Wirtsch Wirk 3'!$D$11:$BW$96,$A156,FALSE)+IF(H$105=$C156,HLOOKUP(H$105,'Hilfsblatt Ber. Wirtsch Wirk 3'!$D$11:$BX$96,87,FALSE),0))/100),0)","v":0},{"$f":"IFERROR((I$106*(HLOOKUP(I$105,'Hilfsblatt Ber. Wirtsch Wirk 3'!$D$11:$BW$96,$A156,FALSE)+IF(I$105=$C156,HLOOKUP(I$105,'Hilfsblatt Ber. Wirtsch Wirk 3'!$D$11:$BX$96,87,FALSE),0))/100),0)","v":0},{"$f":"IFERROR((J$106*(HLOOKUP(J$105,'Hilfsblatt Ber. Wirtsch Wirk 3'!$D$11:$BW$96,$A156,FALSE)+IF(J$105=$C156,HLOOKUP(J$105,'Hilfsblatt Ber. Wirtsch Wirk 3'!$D$11:$BX$96,87,FALSE),0))/100),0)","v":0},{"$f":"IFERROR((K$106*(HLOOKUP(K$105,'Hilfsblatt Ber. Wirtsch Wirk 3'!$D$11:$BW$96,$A156,FALSE)+IF(K$105=$C156,HLOOKUP(K$105,'Hilfsblatt Ber. Wirtsch Wirk 3'!$D$11:$BX$96,87,FALSE),0))/100),0)","v":0},{"$f":"IFERROR((L$106*(HLOOKUP(L$105,'Hilfsblatt Ber. Wirtsch Wirk 3'!$D$11:$BW$96,$A156,FALSE)+IF(L$105=$C156,HLOOKUP(L$105,'Hilfsblatt Ber. Wirtsch Wirk 3'!$D$11:$BX$96,87,FALSE),0))/100),0)","v":0},{"$f":"IFERROR((M$106*(HLOOKUP(M$105,'Hilfsblatt Ber. Wirtsch Wirk 3'!$D$11:$BW$96,$A156,FALSE)+IF(M$105=$C156,HLOOKUP(M$105,'Hilfsblatt Ber. Wirtsch Wirk 3'!$D$11:$BX$96,87,FALSE),0))/100),0)","v":0},{"$f":"IFERROR((N$106*(HLOOKUP(N$105,'Hilfsblatt Ber. Wirtsch Wirk 3'!$D$11:$BW$96,$A156,FALSE)+IF(N$105=$C156,HLOOKUP(N$105,'Hilfsblatt Ber. Wirtsch Wirk 3'!$D$11:$BX$96,87,FALSE),0))/100),0)","v":0},{"$f":"IFERROR((O$106*(HLOOKUP(O$105,'Hilfsblatt Ber. Wirtsch Wirk 3'!$D$11:$BW$96,$A156,FALSE)+IF(O$105=$C156,HLOOKUP(O$105,'Hilfsblatt Ber. Wirtsch Wirk 3'!$D$11:$BX$96,87,FALSE),0))/100),0)","v":0},{"$f":"IFERROR((P$106*(HLOOKUP(P$105,'Hilfsblatt Ber. Wirtsch Wirk 3'!$D$11:$BW$96,$A156,FALSE)+IF(P$105=$C156,HLOOKUP(P$105,'Hilfsblatt Ber. Wirtsch Wirk 3'!$D$11:$BX$96,87,FALSE),0))/100),0)","v":0},{"$f":"IFERROR((Q$106*(HLOOKUP(Q$105,'Hilfsblatt Ber. Wirtsch Wirk 3'!$D$11:$BW$96,$A156,FALSE)+IF(Q$105=$C156,HLOOKUP(Q$105,'Hilfsblatt Ber. Wirtsch Wirk 3'!$D$11:$BX$96,87,FALSE),0))/100),0)","v":0},{"$f":"R$106*('Hilfsblatt Ber. Wirtsch Wirk 3'!BX61+'Hilfsblatt Ber. Wirtsch Wirk 3'!BX61*'Hilfsblatt Ber. Wirtsch Wirk 3'!CA61/'Hilfsblatt Ber. Wirtsch Wirk 3'!CB61)/100","v":0},0,{"$f":"S156*'Hilfsblatt Ber. Wirtsch Wirk 3'!BZ61/('Hilfsblatt Ber. Wirtsch Wirk 3'!CA61)","v":0},{"$f":"S156/'Hilfsblatt Ber. Wirtsch Wirk 3'!CC61","v":0},{"$f":"T156*('Hilfsblatt Ber. Wirtsch Wirk 4'!B$14/'Hilfsblatt Ber. Wirtsch Wirk 4'!B$13)","v":0},{"$f":"S156*'Hilfsblatt Ber. Wirtsch Wirk 3'!CD61","v":0}]
[52,{"$f":"B57","v":"62-63"},"IT- und Informationsdienstleistungen",{"$f":"IFERROR((D$106*(HLOOKUP(D$105,'Hilfsblatt Ber. Wirtsch Wirk 3'!$D$11:$BW$96,$A157,FALSE)+IF(D$105=$C157,HLOOKUP(D$105,'Hilfsblatt Ber. Wirtsch Wirk 3'!$D$11:$BX$96,87,FALSE),0))/100),0)","v":0},{"$f":"IFERROR((E$106*(HLOOKUP(E$105,'Hilfsblatt Ber. Wirtsch Wirk 3'!$D$11:$BW$96,$A157,FALSE)+IF(E$105=$C157,HLOOKUP(E$105,'Hilfsblatt Ber. Wirtsch Wirk 3'!$D$11:$BX$96,87,FALSE),0))/100),0)","v":0},{"$f":"IFERROR((F$106*(HLOOKUP(F$105,'Hilfsblatt Ber. Wirtsch Wirk 3'!$D$11:$BW$96,$A157,FALSE)+IF(F$105=$C157,HLOOKUP(F$105,'Hilfsblatt Ber. Wirtsch Wirk 3'!$D$11:$BX$96,87,FALSE),0))/100),0)","v":0},{"$f":"IFERROR((G$106*(HLOOKUP(G$105,'Hilfsblatt Ber. Wirtsch Wirk 3'!$D$11:$BW$96,$A157,FALSE)+IF(G$105=$C157,HLOOKUP(G$105,'Hilfsblatt Ber. Wirtsch Wirk 3'!$D$11:$BX$96,87,FALSE),0))/100),0)","v":0},{"$f":"IFERROR((H$106*(HLOOKUP(H$105,'Hilfsblatt Ber. Wirtsch Wirk 3'!$D$11:$BW$96,$A157,FALSE)+IF(H$105=$C157,HLOOKUP(H$105,'Hilfsblatt Ber. Wirtsch Wirk 3'!$D$11:$BX$96,87,FALSE),0))/100),0)","v":0},{"$f":"IFERROR((I$106*(HLOOKUP(I$105,'Hilfsblatt Ber. Wirtsch Wirk 3'!$D$11:$BW$96,$A157,FALSE)+IF(I$105=$C157,HLOOKUP(I$105,'Hilfsblatt Ber. Wirtsch Wirk 3'!$D$11:$BX$96,87,FALSE),0))/100),0)","v":0},{"$f":"IFERROR((J$106*(HLOOKUP(J$105,'Hilfsblatt Ber. Wirtsch Wirk 3'!$D$11:$BW$96,$A157,FALSE)+IF(J$105=$C157,HLOOKUP(J$105,'Hilfsblatt Ber. Wirtsch Wirk 3'!$D$11:$BX$96,87,FALSE),0))/100),0)","v":0},{"$f":"IFERROR((K$106*(HLOOKUP(K$105,'Hilfsblatt Ber. Wirtsch Wirk 3'!$D$11:$BW$96,$A157,FALSE)+IF(K$105=$C157,HLOOKUP(K$105,'Hilfsblatt Ber. Wirtsch Wirk 3'!$D$11:$BX$96,87,FALSE),0))/100),0)","v":0},{"$f":"IFERROR((L$106*(HLOOKUP(L$105,'Hilfsblatt Ber. Wirtsch Wirk 3'!$D$11:$BW$96,$A157,FALSE)+IF(L$105=$C157,HLOOKUP(L$105,'Hilfsblatt Ber. Wirtsch Wirk 3'!$D$11:$BX$96,87,FALSE),0))/100),0)","v":0},{"$f":"IFERROR((M$106*(HLOOKUP(M$105,'Hilfsblatt Ber. Wirtsch Wirk 3'!$D$11:$BW$96,$A157,FALSE)+IF(M$105=$C157,HLOOKUP(M$105,'Hilfsblatt Ber. Wirtsch Wirk 3'!$D$11:$BX$96,87,FALSE),0))/100),0)","v":0},{"$f":"IFERROR((N$106*(HLOOKUP(N$105,'Hilfsblatt Ber. Wirtsch Wirk 3'!$D$11:$BW$96,$A157,FALSE)+IF(N$105=$C157,HLOOKUP(N$105,'Hilfsblatt Ber. Wirtsch Wirk 3'!$D$11:$BX$96,87,FALSE),0))/100),0)","v":0},{"$f":"IFERROR((O$106*(HLOOKUP(O$105,'Hilfsblatt Ber. Wirtsch Wirk 3'!$D$11:$BW$96,$A157,FALSE)+IF(O$105=$C157,HLOOKUP(O$105,'Hilfsblatt Ber. Wirtsch Wirk 3'!$D$11:$BX$96,87,FALSE),0))/100),0)","v":0},{"$f":"IFERROR((P$106*(HLOOKUP(P$105,'Hilfsblatt Ber. Wirtsch Wirk 3'!$D$11:$BW$96,$A157,FALSE)+IF(P$105=$C157,HLOOKUP(P$105,'Hilfsblatt Ber. Wirtsch Wirk 3'!$D$11:$BX$96,87,FALSE),0))/100),0)","v":0},{"$f":"IFERROR((Q$106*(HLOOKUP(Q$105,'Hilfsblatt Ber. Wirtsch Wirk 3'!$D$11:$BW$96,$A157,FALSE)+IF(Q$105=$C157,HLOOKUP(Q$105,'Hilfsblatt Ber. Wirtsch Wirk 3'!$D$11:$BX$96,87,FALSE),0))/100),0)","v":0},{"$f":"R$106*('Hilfsblatt Ber. Wirtsch Wirk 3'!BX62+'Hilfsblatt Ber. Wirtsch Wirk 3'!BX62*'Hilfsblatt Ber. Wirtsch Wirk 3'!CA62/'Hilfsblatt Ber. Wirtsch Wirk 3'!CB62)/100","v":0},0,{"$f":"S157*'Hilfsblatt Ber. Wirtsch Wirk 3'!BZ62/('Hilfsblatt Ber. Wirtsch Wirk 3'!CA62)","v":0},{"$f":"S157/'Hilfsblatt Ber. Wirtsch Wirk 3'!CC62","v":0},{"$f":"T157*('Hilfsblatt Ber. Wirtsch Wirk 4'!B$14/'Hilfsblatt Ber. Wirtsch Wirk 4'!B$13)","v":0},{"$f":"S157*'Hilfsblatt Ber. Wirtsch Wirk 3'!CD62","v":0}]
[53,{"$f":"B58","v":"64"},"Finanzdienstleistungen",{"$f":"IFERROR((D$106*(HLOOKUP(D$105,'Hilfsblatt Ber. Wirtsch Wirk 3'!$D$11:$BW$96,$A158,FALSE)+IF(D$105=$C158,HLOOKUP(D$105,'Hilfsblatt Ber. Wirtsch Wirk 3'!$D$11:$BX$96,87,FALSE),0))/100),0)","v":0},{"$f":"IFERROR((E$106*(HLOOKUP(E$105,'Hilfsblatt Ber. Wirtsch Wirk 3'!$D$11:$BW$96,$A158,FALSE)+IF(E$105=$C158,HLOOKUP(E$105,'Hilfsblatt Ber. Wirtsch Wirk 3'!$D$11:$BX$96,87,FALSE),0))/100),0)","v":0},{"$f":"IFERROR((F$106*(HLOOKUP(F$105,'Hilfsblatt Ber. Wirtsch Wirk 3'!$D$11:$BW$96,$A158,FALSE)+IF(F$105=$C158,HLOOKUP(F$105,'Hilfsblatt Ber. Wirtsch Wirk 3'!$D$11:$BX$96,87,FALSE),0))/100),0)","v":0},{"$f":"IFERROR((G$106*(HLOOKUP(G$105,'Hilfsblatt Ber. Wirtsch Wirk 3'!$D$11:$BW$96,$A158,FALSE)+IF(G$105=$C158,HLOOKUP(G$105,'Hilfsblatt Ber. Wirtsch Wirk 3'!$D$11:$BX$96,87,FALSE),0))/100),0)","v":0},{"$f":"IFERROR((H$106*(HLOOKUP(H$105,'Hilfsblatt Ber. Wirtsch Wirk 3'!$D$11:$BW$96,$A158,FALSE)+IF(H$105=$C158,HLOOKUP(H$105,'Hilfsblatt Ber. Wirtsch Wirk 3'!$D$11:$BX$96,87,FALSE),0))/100),0)","v":0},{"$f":"IFERROR((I$106*(HLOOKUP(I$105,'Hilfsblatt Ber. Wirtsch Wirk 3'!$D$11:$BW$96,$A158,FALSE)+IF(I$105=$C158,HLOOKUP(I$105,'Hilfsblatt Ber. Wirtsch Wirk 3'!$D$11:$BX$96,87,FALSE),0))/100),0)","v":0},{"$f":"IFERROR((J$106*(HLOOKUP(J$105,'Hilfsblatt Ber. Wirtsch Wirk 3'!$D$11:$BW$96,$A158,FALSE)+IF(J$105=$C158,HLOOKUP(J$105,'Hilfsblatt Ber. Wirtsch Wirk 3'!$D$11:$BX$96,87,FALSE),0))/100),0)","v":0},{"$f":"IFERROR((K$106*(HLOOKUP(K$105,'Hilfsblatt Ber. Wirtsch Wirk 3'!$D$11:$BW$96,$A158,FALSE)+IF(K$105=$C158,HLOOKUP(K$105,'Hilfsblatt Ber. Wirtsch Wirk 3'!$D$11:$BX$96,87,FALSE),0))/100),0)","v":0},{"$f":"IFERROR((L$106*(HLOOKUP(L$105,'Hilfsblatt Ber. Wirtsch Wirk 3'!$D$11:$BW$96,$A158,FALSE)+IF(L$105=$C158,HLOOKUP(L$105,'Hilfsblatt Ber. Wirtsch Wirk 3'!$D$11:$BX$96,87,FALSE),0))/100),0)","v":0},{"$f":"IFERROR((M$106*(HLOOKUP(M$105,'Hilfsblatt Ber. Wirtsch Wirk 3'!$D$11:$BW$96,$A158,FALSE)+IF(M$105=$C158,HLOOKUP(M$105,'Hilfsblatt Ber. Wirtsch Wirk 3'!$D$11:$BX$96,87,FALSE),0))/100),0)","v":0},{"$f":"IFERROR((N$106*(HLOOKUP(N$105,'Hilfsblatt Ber. Wirtsch Wirk 3'!$D$11:$BW$96,$A158,FALSE)+IF(N$105=$C158,HLOOKUP(N$105,'Hilfsblatt Ber. Wirtsch Wirk 3'!$D$11:$BX$96,87,FALSE),0))/100),0)","v":0},{"$f":"IFERROR((O$106*(HLOOKUP(O$105,'Hilfsblatt Ber. Wirtsch Wirk 3'!$D$11:$BW$96,$A158,FALSE)+IF(O$105=$C158,HLOOKUP(O$105,'Hilfsblatt Ber. Wirtsch Wirk 3'!$D$11:$BX$96,87,FALSE),0))/100),0)","v":0},{"$f":"IFERROR((P$106*(HLOOKUP(P$105,'Hilfsblatt Ber. Wirtsch Wirk 3'!$D$11:$BW$96,$A158,FALSE)+IF(P$105=$C158,HLOOKUP(P$105,'Hilfsblatt Ber. Wirtsch Wirk 3'!$D$11:$BX$96,87,FALSE),0))/100),0)","v":0},{"$f":"IFERROR((Q$106*(HLOOKUP(Q$105,'Hilfsblatt Ber. Wirtsch Wirk 3'!$D$11:$BW$96,$A158,FALSE)+IF(Q$105=$C158,HLOOKUP(Q$105,'Hilfsblatt Ber. Wirtsch Wirk 3'!$D$11:$BX$96,87,FALSE),0))/100),0)","v":0},{"$f":"R$106*('Hilfsblatt Ber. Wirtsch Wirk 3'!BX63+'Hilfsblatt Ber. Wirtsch Wirk 3'!BX63*'Hilfsblatt Ber. Wirtsch Wirk 3'!CA63/'Hilfsblatt Ber. Wirtsch Wirk 3'!CB63)/100","v":0},0,{"$f":"S158*'Hilfsblatt Ber. Wirtsch Wirk 3'!BZ63/('Hilfsblatt Ber. Wirtsch Wirk 3'!CA63)","v":0},{"$f":"S158/'Hilfsblatt Ber. Wirtsch Wirk 3'!CC63","v":0},{"$f":"T158*('Hilfsblatt Ber. Wirtsch Wirk 4'!B$14/'Hilfsblatt Ber. Wirtsch Wirk 4'!B$13)","v":0},{"$f":"S158*'Hilfsblatt Ber. Wirtsch Wirk 3'!CD63","v":0}]
[54,{"$f":"B59","v":"65"},"Dienstleistungen von Versicherungen und Pensionskassen",{"$f":"IFERROR((D$106*(HLOOKUP(D$105,'Hilfsblatt Ber. Wirtsch Wirk 3'!$D$11:$BW$96,$A159,FALSE)+IF(D$105=$C159,HLOOKUP(D$105,'Hilfsblatt Ber. Wirtsch Wirk 3'!$D$11:$BX$96,87,FALSE),0))/100),0)","v":0},{"$f":"IFERROR((E$106*(HLOOKUP(E$105,'Hilfsblatt Ber. Wirtsch Wirk 3'!$D$11:$BW$96,$A159,FALSE)+IF(E$105=$C159,HLOOKUP(E$105,'Hilfsblatt Ber. Wirtsch Wirk 3'!$D$11:$BX$96,87,FALSE),0))/100),0)","v":0},{"$f":"IFERROR((F$106*(HLOOKUP(F$105,'Hilfsblatt Ber. Wirtsch Wirk 3'!$D$11:$BW$96,$A159,FALSE)+IF(F$105=$C159,HLOOKUP(F$105,'Hilfsblatt Ber. Wirtsch Wirk 3'!$D$11:$BX$96,87,FALSE),0))/100),0)","v":0},{"$f":"IFERROR((G$106*(HLOOKUP(G$105,'Hilfsblatt Ber. Wirtsch Wirk 3'!$D$11:$BW$96,$A159,FALSE)+IF(G$105=$C159,HLOOKUP(G$105,'Hilfsblatt Ber. Wirtsch Wirk 3'!$D$11:$BX$96,87,FALSE),0))/100),0)","v":0},{"$f":"IFERROR((H$106*(HLOOKUP(H$105,'Hilfsblatt Ber. Wirtsch Wirk 3'!$D$11:$BW$96,$A159,FALSE)+IF(H$105=$C159,HLOOKUP(H$105,'Hilfsblatt Ber. Wirtsch Wirk 3'!$D$11:$BX$96,87,FALSE),0))/100),0)","v":0},{"$f":"IFERROR((I$106*(HLOOKUP(I$105,'Hilfsblatt Ber. Wirtsch Wirk 3'!$D$11:$BW$96,$A159,FALSE)+IF(I$105=$C159,HLOOKUP(I$105,'Hilfsblatt Ber. Wirtsch Wirk 3'!$D$11:$BX$96,87,FALSE),0))/100),0)","v":0},{"$f":"IFERROR((J$106*(HLOOKUP(J$105,'Hilfsblatt Ber. Wirtsch Wirk 3'!$D$11:$BW$96,$A159,FALSE)+IF(J$105=$C159,HLOOKUP(J$105,'Hilfsblatt Ber. Wirtsch Wirk 3'!$D$11:$BX$96,87,FALSE),0))/100),0)","v":0},{"$f":"IFERROR((K$106*(HLOOKUP(K$105,'Hilfsblatt Ber. Wirtsch Wirk 3'!$D$11:$BW$96,$A159,FALSE)+IF(K$105=$C159,HLOOKUP(K$105,'Hilfsblatt Ber. Wirtsch Wirk 3'!$D$11:$BX$96,87,FALSE),0))/100),0)","v":0},{"$f":"IFERROR((L$106*(HLOOKUP(L$105,'Hilfsblatt Ber. Wirtsch Wirk 3'!$D$11:$BW$96,$A159,FALSE)+IF(L$105=$C159,HLOOKUP(L$105,'Hilfsblatt Ber. Wirtsch Wirk 3'!$D$11:$BX$96,87,FALSE),0))/100),0)","v":0},{"$f":"IFERROR((M$106*(HLOOKUP(M$105,'Hilfsblatt Ber. Wirtsch Wirk 3'!$D$11:$BW$96,$A159,FALSE)+IF(M$105=$C159,HLOOKUP(M$105,'Hilfsblatt Ber. Wirtsch Wirk 3'!$D$11:$BX$96,87,FALSE),0))/100),0)","v":0},{"$f":"IFERROR((N$106*(HLOOKUP(N$105,'Hilfsblatt Ber. Wirtsch Wirk 3'!$D$11:$BW$96,$A159,FALSE)+IF(N$105=$C159,HLOOKUP(N$105,'Hilfsblatt Ber. Wirtsch Wirk 3'!$D$11:$BX$96,87,FALSE),0))/100),0)","v":0},{"$f":"IFERROR((O$106*(HLOOKUP(O$105,'Hilfsblatt Ber. Wirtsch Wirk 3'!$D$11:$BW$96,$A159,FALSE)+IF(O$105=$C159,HLOOKUP(O$105,'Hilfsblatt Ber. Wirtsch Wirk 3'!$D$11:$BX$96,87,FALSE),0))/100),0)","v":0},{"$f":"IFERROR((P$106*(HLOOKUP(P$105,'Hilfsblatt Ber. Wirtsch Wirk 3'!$D$11:$BW$96,$A159,FALSE)+IF(P$105=$C159,HLOOKUP(P$105,'Hilfsblatt Ber. Wirtsch Wirk 3'!$D$11:$BX$96,87,FALSE),0))/100),0)","v":0},{"$f":"IFERROR((Q$106*(HLOOKUP(Q$105,'Hilfsblatt Ber. Wirtsch Wirk 3'!$D$11:$BW$96,$A159,FALSE)+IF(Q$105=$C159,HLOOKUP(Q$105,'Hilfsblatt Ber. Wirtsch Wirk 3'!$D$11:$BX$96,87,FALSE),0))/100),0)","v":0},{"$f":"R$106*('Hilfsblatt Ber. Wirtsch Wirk 3'!BX64+'Hilfsblatt Ber. Wirtsch Wirk 3'!BX64*'Hilfsblatt Ber. Wirtsch Wirk 3'!CA64/'Hilfsblatt Ber. Wirtsch Wirk 3'!CB64)/100","v":0},0,{"$f":"S159*'Hilfsblatt Ber. Wirtsch Wirk 3'!BZ64/('Hilfsblatt Ber. Wirtsch Wirk 3'!CA64)","v":0},{"$f":"S159/'Hilfsblatt Ber. Wirtsch Wirk 3'!CC64","v":0},{"$f":"T159*('Hilfsblatt Ber. Wirtsch Wirk 4'!B$14/'Hilfsblatt Ber. Wirtsch Wirk 4'!B$13)","v":0},{"$f":"S159*'Hilfsblatt Ber. Wirtsch Wirk 3'!CD64","v":0}]
[55,{"$f":"B60","v":"66"},"Mit Finanz- und Versicherungsdienstleistg. verbundene Dienstleistg.",{"$f":"IFERROR((D$106*(HLOOKUP(D$105,'Hilfsblatt Ber. Wirtsch Wirk 3'!$D$11:$BW$96,$A160,FALSE)+IF(D$105=$C160,HLOOKUP(D$105,'Hilfsblatt Ber. Wirtsch Wirk 3'!$D$11:$BX$96,87,FALSE),0))/100),0)","v":0},{"$f":"IFERROR((E$106*(HLOOKUP(E$105,'Hilfsblatt Ber. Wirtsch Wirk 3'!$D$11:$BW$96,$A160,FALSE)+IF(E$105=$C160,HLOOKUP(E$105,'Hilfsblatt Ber. Wirtsch Wirk 3'!$D$11:$BX$96,87,FALSE),0))/100),0)","v":0},{"$f":"IFERROR((F$106*(HLOOKUP(F$105,'Hilfsblatt Ber. Wirtsch Wirk 3'!$D$11:$BW$96,$A160,FALSE)+IF(F$105=$C160,HLOOKUP(F$105,'Hilfsblatt Ber. Wirtsch Wirk 3'!$D$11:$BX$96,87,FALSE),0))/100),0)","v":0},{"$f":"IFERROR((G$106*(HLOOKUP(G$105,'Hilfsblatt Ber. Wirtsch Wirk 3'!$D$11:$BW$96,$A160,FALSE)+IF(G$105=$C160,HLOOKUP(G$105,'Hilfsblatt Ber. Wirtsch Wirk 3'!$D$11:$BX$96,87,FALSE),0))/100),0)","v":0},{"$f":"IFERROR((H$106*(HLOOKUP(H$105,'Hilfsblatt Ber. Wirtsch Wirk 3'!$D$11:$BW$96,$A160,FALSE)+IF(H$105=$C160,HLOOKUP(H$105,'Hilfsblatt Ber. Wirtsch Wirk 3'!$D$11:$BX$96,87,FALSE),0))/100),0)","v":0},{"$f":"IFERROR((I$106*(HLOOKUP(I$105,'Hilfsblatt Ber. Wirtsch Wirk 3'!$D$11:$BW$96,$A160,FALSE)+IF(I$105=$C160,HLOOKUP(I$105,'Hilfsblatt Ber. Wirtsch Wirk 3'!$D$11:$BX$96,87,FALSE),0))/100),0)","v":0},{"$f":"IFERROR((J$106*(HLOOKUP(J$105,'Hilfsblatt Ber. Wirtsch Wirk 3'!$D$11:$BW$96,$A160,FALSE)+IF(J$105=$C160,HLOOKUP(J$105,'Hilfsblatt Ber. Wirtsch Wirk 3'!$D$11:$BX$96,87,FALSE),0))/100),0)","v":0},{"$f":"IFERROR((K$106*(HLOOKUP(K$105,'Hilfsblatt Ber. Wirtsch Wirk 3'!$D$11:$BW$96,$A160,FALSE)+IF(K$105=$C160,HLOOKUP(K$105,'Hilfsblatt Ber. Wirtsch Wirk 3'!$D$11:$BX$96,87,FALSE),0))/100),0)","v":0},{"$f":"IFERROR((L$106*(HLOOKUP(L$105,'Hilfsblatt Ber. Wirtsch Wirk 3'!$D$11:$BW$96,$A160,FALSE)+IF(L$105=$C160,HLOOKUP(L$105,'Hilfsblatt Ber. Wirtsch Wirk 3'!$D$11:$BX$96,87,FALSE),0))/100),0)","v":0},{"$f":"IFERROR((M$106*(HLOOKUP(M$105,'Hilfsblatt Ber. Wirtsch Wirk 3'!$D$11:$BW$96,$A160,FALSE)+IF(M$105=$C160,HLOOKUP(M$105,'Hilfsblatt Ber. Wirtsch Wirk 3'!$D$11:$BX$96,87,FALSE),0))/100),0)","v":0},{"$f":"IFERROR((N$106*(HLOOKUP(N$105,'Hilfsblatt Ber. Wirtsch Wirk 3'!$D$11:$BW$96,$A160,FALSE)+IF(N$105=$C160,HLOOKUP(N$105,'Hilfsblatt Ber. Wirtsch Wirk 3'!$D$11:$BX$96,87,FALSE),0))/100),0)","v":0},{"$f":"IFERROR((O$106*(HLOOKUP(O$105,'Hilfsblatt Ber. Wirtsch Wirk 3'!$D$11:$BW$96,$A160,FALSE)+IF(O$105=$C160,HLOOKUP(O$105,'Hilfsblatt Ber. Wirtsch Wirk 3'!$D$11:$BX$96,87,FALSE),0))/100),0)","v":0},{"$f":"IFERROR((P$106*(HLOOKUP(P$105,'Hilfsblatt Ber. Wirtsch Wirk 3'!$D$11:$BW$96,$A160,FALSE)+IF(P$105=$C160,HLOOKUP(P$105,'Hilfsblatt Ber. Wirtsch Wirk 3'!$D$11:$BX$96,87,FALSE),0))/100),0)","v":0},{"$f":"IFERROR((Q$106*(HLOOKUP(Q$105,'Hilfsblatt Ber. Wirtsch Wirk 3'!$D$11:$BW$96,$A160,FALSE)+IF(Q$105=$C160,HLOOKUP(Q$105,'Hilfsblatt Ber. Wirtsch Wirk 3'!$D$11:$BX$96,87,FALSE),0))/100),0)","v":0},{"$f":"R$106*('Hilfsblatt Ber. Wirtsch Wirk 3'!BX65+'Hilfsblatt Ber. Wirtsch Wirk 3'!BX65*'Hilfsblatt Ber. Wirtsch Wirk 3'!CA65/'Hilfsblatt Ber. Wirtsch Wirk 3'!CB65)/100","v":0},0,{"$f":"S160*'Hilfsblatt Ber. Wirtsch Wirk 3'!BZ65/('Hilfsblatt Ber. Wirtsch Wirk 3'!CA65)","v":0},{"$f":"S160/'Hilfsblatt Ber. Wirtsch Wirk 3'!CC65","v":0},{"$f":"T160*('Hilfsblatt Ber. Wirtsch Wirk 4'!B$14/'Hilfsblatt Ber. Wirtsch Wirk 4'!B$13)","v":0},{"$f":"S160*'Hilfsblatt Ber. Wirtsch Wirk 3'!CD65","v":0}]
[56,{"$f":"B61","v":"68"},"Dienstleistungen des Grundstücks- und Wohnungswesens ",{"$f":"IFERROR((D$106*(HLOOKUP(D$105,'Hilfsblatt Ber. Wirtsch Wirk 3'!$D$11:$BW$96,$A161,FALSE)+IF(D$105=$C161,HLOOKUP(D$105,'Hilfsblatt Ber. Wirtsch Wirk 3'!$D$11:$BX$96,87,FALSE),0))/100),0)","v":0},{"$f":"IFERROR((E$106*(HLOOKUP(E$105,'Hilfsblatt Ber. Wirtsch Wirk 3'!$D$11:$BW$96,$A161,FALSE)+IF(E$105=$C161,HLOOKUP(E$105,'Hilfsblatt Ber. Wirtsch Wirk 3'!$D$11:$BX$96,87,FALSE),0))/100),0)","v":0},{"$f":"IFERROR((F$106*(HLOOKUP(F$105,'Hilfsblatt Ber. Wirtsch Wirk 3'!$D$11:$BW$96,$A161,FALSE)+IF(F$105=$C161,HLOOKUP(F$105,'Hilfsblatt Ber. Wirtsch Wirk 3'!$D$11:$BX$96,87,FALSE),0))/100),0)","v":0},{"$f":"IFERROR((G$106*(HLOOKUP(G$105,'Hilfsblatt Ber. Wirtsch Wirk 3'!$D$11:$BW$96,$A161,FALSE)+IF(G$105=$C161,HLOOKUP(G$105,'Hilfsblatt Ber. Wirtsch Wirk 3'!$D$11:$BX$96,87,FALSE),0))/100),0)","v":0},{"$f":"IFERROR((H$106*(HLOOKUP(H$105,'Hilfsblatt Ber. Wirtsch Wirk 3'!$D$11:$BW$96,$A161,FALSE)+IF(H$105=$C161,HLOOKUP(H$105,'Hilfsblatt Ber. Wirtsch Wirk 3'!$D$11:$BX$96,87,FALSE),0))/100),0)","v":0},{"$f":"IFERROR((I$106*(HLOOKUP(I$105,'Hilfsblatt Ber. Wirtsch Wirk 3'!$D$11:$BW$96,$A161,FALSE)+IF(I$105=$C161,HLOOKUP(I$105,'Hilfsblatt Ber. Wirtsch Wirk 3'!$D$11:$BX$96,87,FALSE),0))/100),0)","v":0},{"$f":"IFERROR((J$106*(HLOOKUP(J$105,'Hilfsblatt Ber. Wirtsch Wirk 3'!$D$11:$BW$96,$A161,FALSE)+IF(J$105=$C161,HLOOKUP(J$105,'Hilfsblatt Ber. Wirtsch Wirk 3'!$D$11:$BX$96,87,FALSE),0))/100),0)","v":0},{"$f":"IFERROR((K$106*(HLOOKUP(K$105,'Hilfsblatt Ber. Wirtsch Wirk 3'!$D$11:$BW$96,$A161,FALSE)+IF(K$105=$C161,HLOOKUP(K$105,'Hilfsblatt Ber. Wirtsch Wirk 3'!$D$11:$BX$96,87,FALSE),0))/100),0)","v":0},{"$f":"IFERROR((L$106*(HLOOKUP(L$105,'Hilfsblatt Ber. Wirtsch Wirk 3'!$D$11:$BW$96,$A161,FALSE)+IF(L$105=$C161,HLOOKUP(L$105,'Hilfsblatt Ber. Wirtsch Wirk 3'!$D$11:$BX$96,87,FALSE),0))/100),0)","v":0},{"$f":"IFERROR((M$106*(HLOOKUP(M$105,'Hilfsblatt Ber. Wirtsch Wirk 3'!$D$11:$BW$96,$A161,FALSE)+IF(M$105=$C161,HLOOKUP(M$105,'Hilfsblatt Ber. Wirtsch Wirk 3'!$D$11:$BX$96,87,FALSE),0))/100),0)","v":0},{"$f":"IFERROR((N$106*(HLOOKUP(N$105,'Hilfsblatt Ber. Wirtsch Wirk 3'!$D$11:$BW$96,$A161,FALSE)+IF(N$105=$C161,HLOOKUP(N$105,'Hilfsblatt Ber. Wirtsch Wirk 3'!$D$11:$BX$96,87,FALSE),0))/100),0)","v":0},{"$f":"IFERROR((O$106*(HLOOKUP(O$105,'Hilfsblatt Ber. Wirtsch Wirk 3'!$D$11:$BW$96,$A161,FALSE)+IF(O$105=$C161,HLOOKUP(O$105,'Hilfsblatt Ber. Wirtsch Wirk 3'!$D$11:$BX$96,87,FALSE),0))/100),0)","v":0},{"$f":"IFERROR((P$106*(HLOOKUP(P$105,'Hilfsblatt Ber. Wirtsch Wirk 3'!$D$11:$BW$96,$A161,FALSE)+IF(P$105=$C161,HLOOKUP(P$105,'Hilfsblatt Ber. Wirtsch Wirk 3'!$D$11:$BX$96,87,FALSE),0))/100),0)","v":0},{"$f":"IFERROR((Q$106*(HLOOKUP(Q$105,'Hilfsblatt Ber. Wirtsch Wirk 3'!$D$11:$BW$96,$A161,FALSE)+IF(Q$105=$C161,HLOOKUP(Q$105,'Hilfsblatt Ber. Wirtsch Wirk 3'!$D$11:$BX$96,87,FALSE),0))/100),0)","v":0},{"$f":"R$106*('Hilfsblatt Ber. Wirtsch Wirk 3'!BX66+'Hilfsblatt Ber. Wirtsch Wirk 3'!BX66*'Hilfsblatt Ber. Wirtsch Wirk 3'!CA66/'Hilfsblatt Ber. Wirtsch Wirk 3'!CB66)/100","v":0},0,{"$f":"S161*'Hilfsblatt Ber. Wirtsch Wirk 3'!BZ66/('Hilfsblatt Ber. Wirtsch Wirk 3'!CA66)","v":0},{"$f":"S161/'Hilfsblatt Ber. Wirtsch Wirk 3'!CC66","v":0},{"$f":"T161*('Hilfsblatt Ber. Wirtsch Wirk 4'!B$14/'Hilfsblatt Ber. Wirtsch Wirk 4'!B$13)","v":0},{"$f":"S161*'Hilfsblatt Ber. Wirtsch Wirk 3'!CD66","v":0}]
[57,{"$f":"B62","v":"69-70"},"Dienstleistungen der Rechts-, Steuer- und Unternehmensberatung",{"$f":"IFERROR((D$106*(HLOOKUP(D$105,'Hilfsblatt Ber. Wirtsch Wirk 3'!$D$11:$BW$96,$A162,FALSE)+IF(D$105=$C162,HLOOKUP(D$105,'Hilfsblatt Ber. Wirtsch Wirk 3'!$D$11:$BX$96,87,FALSE),0))/100),0)","v":0},{"$f":"IFERROR((E$106*(HLOOKUP(E$105,'Hilfsblatt Ber. Wirtsch Wirk 3'!$D$11:$BW$96,$A162,FALSE)+IF(E$105=$C162,HLOOKUP(E$105,'Hilfsblatt Ber. Wirtsch Wirk 3'!$D$11:$BX$96,87,FALSE),0))/100),0)","v":0},{"$f":"IFERROR((F$106*(HLOOKUP(F$105,'Hilfsblatt Ber. Wirtsch Wirk 3'!$D$11:$BW$96,$A162,FALSE)+IF(F$105=$C162,HLOOKUP(F$105,'Hilfsblatt Ber. Wirtsch Wirk 3'!$D$11:$BX$96,87,FALSE),0))/100),0)","v":0},{"$f":"IFERROR((G$106*(HLOOKUP(G$105,'Hilfsblatt Ber. Wirtsch Wirk 3'!$D$11:$BW$96,$A162,FALSE)+IF(G$105=$C162,HLOOKUP(G$105,'Hilfsblatt Ber. Wirtsch Wirk 3'!$D$11:$BX$96,87,FALSE),0))/100),0)","v":0},{"$f":"IFERROR((H$106*(HLOOKUP(H$105,'Hilfsblatt Ber. Wirtsch Wirk 3'!$D$11:$BW$96,$A162,FALSE)+IF(H$105=$C162,HLOOKUP(H$105,'Hilfsblatt Ber. Wirtsch Wirk 3'!$D$11:$BX$96,87,FALSE),0))/100),0)","v":0},{"$f":"IFERROR((I$106*(HLOOKUP(I$105,'Hilfsblatt Ber. Wirtsch Wirk 3'!$D$11:$BW$96,$A162,FALSE)+IF(I$105=$C162,HLOOKUP(I$105,'Hilfsblatt Ber. Wirtsch Wirk 3'!$D$11:$BX$96,87,FALSE),0))/100),0)","v":0},{"$f":"IFERROR((J$106*(HLOOKUP(J$105,'Hilfsblatt Ber. Wirtsch Wirk 3'!$D$11:$BW$96,$A162,FALSE)+IF(J$105=$C162,HLOOKUP(J$105,'Hilfsblatt Ber. Wirtsch Wirk 3'!$D$11:$BX$96,87,FALSE),0))/100),0)","v":0},{"$f":"IFERROR((K$106*(HLOOKUP(K$105,'Hilfsblatt Ber. Wirtsch Wirk 3'!$D$11:$BW$96,$A162,FALSE)+IF(K$105=$C162,HLOOKUP(K$105,'Hilfsblatt Ber. Wirtsch Wirk 3'!$D$11:$BX$96,87,FALSE),0))/100),0)","v":0},{"$f":"IFERROR((L$106*(HLOOKUP(L$105,'Hilfsblatt Ber. Wirtsch Wirk 3'!$D$11:$BW$96,$A162,FALSE)+IF(L$105=$C162,HLOOKUP(L$105,'Hilfsblatt Ber. Wirtsch Wirk 3'!$D$11:$BX$96,87,FALSE),0))/100),0)","v":0},{"$f":"IFERROR((M$106*(HLOOKUP(M$105,'Hilfsblatt Ber. Wirtsch Wirk 3'!$D$11:$BW$96,$A162,FALSE)+IF(M$105=$C162,HLOOKUP(M$105,'Hilfsblatt Ber. Wirtsch Wirk 3'!$D$11:$BX$96,87,FALSE),0))/100),0)","v":0},{"$f":"IFERROR((N$106*(HLOOKUP(N$105,'Hilfsblatt Ber. Wirtsch Wirk 3'!$D$11:$BW$96,$A162,FALSE)+IF(N$105=$C162,HLOOKUP(N$105,'Hilfsblatt Ber. Wirtsch Wirk 3'!$D$11:$BX$96,87,FALSE),0))/100),0)","v":0},{"$f":"IFERROR((O$106*(HLOOKUP(O$105,'Hilfsblatt Ber. Wirtsch Wirk 3'!$D$11:$BW$96,$A162,FALSE)+IF(O$105=$C162,HLOOKUP(O$105,'Hilfsblatt Ber. Wirtsch Wirk 3'!$D$11:$BX$96,87,FALSE),0))/100),0)","v":0},{"$f":"IFERROR((P$106*(HLOOKUP(P$105,'Hilfsblatt Ber. Wirtsch Wirk 3'!$D$11:$BW$96,$A162,FALSE)+IF(P$105=$C162,HLOOKUP(P$105,'Hilfsblatt Ber. Wirtsch Wirk 3'!$D$11:$BX$96,87,FALSE),0))/100),0)","v":0},{"$f":"IFERROR((Q$106*(HLOOKUP(Q$105,'Hilfsblatt Ber. Wirtsch Wirk 3'!$D$11:$BW$96,$A162,FALSE)+IF(Q$105=$C162,HLOOKUP(Q$105,'Hilfsblatt Ber. Wirtsch Wirk 3'!$D$11:$BX$96,87,FALSE),0))/100),0)","v":0},{"$f":"R$106*('Hilfsblatt Ber. Wirtsch Wirk 3'!BX67+'Hilfsblatt Ber. Wirtsch Wirk 3'!BX67*'Hilfsblatt Ber. Wirtsch Wirk 3'!CA67/'Hilfsblatt Ber. Wirtsch Wirk 3'!CB67)/100","v":0},0,{"$f":"S162*'Hilfsblatt Ber. Wirtsch Wirk 3'!BZ67/('Hilfsblatt Ber. Wirtsch Wirk 3'!CA67)","v":0},{"$f":"S162/'Hilfsblatt Ber. Wirtsch Wirk 3'!CC67","v":0},{"$f":"T162*('Hilfsblatt Ber. Wirtsch Wirk 4'!B$14/'Hilfsblatt Ber. Wirtsch Wirk 4'!B$13)","v":0},{"$f":"S162*'Hilfsblatt Ber. Wirtsch Wirk 3'!CD67","v":0}]
[58,{"$f":"B63","v":"71"},"Dienstleistg. v. Architektur- u. Ing.büros u.d..techn.,physik.U.suchung ",{"$f":"IFERROR((D$106*(HLOOKUP(D$105,'Hilfsblatt Ber. Wirtsch Wirk 3'!$D$11:$BW$96,$A163,FALSE)+IF(D$105=$C163,HLOOKUP(D$105,'Hilfsblatt Ber. Wirtsch Wirk 3'!$D$11:$BX$96,87,FALSE),0))/100),0)","v":0},{"$f":"IFERROR((E$106*(HLOOKUP(E$105,'Hilfsblatt Ber. Wirtsch Wirk 3'!$D$11:$BW$96,$A163,FALSE)+IF(E$105=$C163,HLOOKUP(E$105,'Hilfsblatt Ber. Wirtsch Wirk 3'!$D$11:$BX$96,87,FALSE),0))/100),0)","v":0},{"$f":"IFERROR((F$106*(HLOOKUP(F$105,'Hilfsblatt Ber. Wirtsch Wirk 3'!$D$11:$BW$96,$A163,FALSE)+IF(F$105=$C163,HLOOKUP(F$105,'Hilfsblatt Ber. Wirtsch Wirk 3'!$D$11:$BX$96,87,FALSE),0))/100),0)","v":0},{"$f":"IFERROR((G$106*(HLOOKUP(G$105,'Hilfsblatt Ber. Wirtsch Wirk 3'!$D$11:$BW$96,$A163,FALSE)+IF(G$105=$C163,HLOOKUP(G$105,'Hilfsblatt Ber. Wirtsch Wirk 3'!$D$11:$BX$96,87,FALSE),0))/100),0)","v":0},{"$f":"IFERROR((H$106*(HLOOKUP(H$105,'Hilfsblatt Ber. Wirtsch Wirk 3'!$D$11:$BW$96,$A163,FALSE)+IF(H$105=$C163,HLOOKUP(H$105,'Hilfsblatt Ber. Wirtsch Wirk 3'!$D$11:$BX$96,87,FALSE),0))/100),0)","v":0},{"$f":"IFERROR((I$106*(HLOOKUP(I$105,'Hilfsblatt Ber. Wirtsch Wirk 3'!$D$11:$BW$96,$A163,FALSE)+IF(I$105=$C163,HLOOKUP(I$105,'Hilfsblatt Ber. Wirtsch Wirk 3'!$D$11:$BX$96,87,FALSE),0))/100),0)","v":0},{"$f":"IFERROR((J$106*(HLOOKUP(J$105,'Hilfsblatt Ber. Wirtsch Wirk 3'!$D$11:$BW$96,$A163,FALSE)+IF(J$105=$C163,HLOOKUP(J$105,'Hilfsblatt Ber. Wirtsch Wirk 3'!$D$11:$BX$96,87,FALSE),0))/100),0)","v":0},{"$f":"IFERROR((K$106*(HLOOKUP(K$105,'Hilfsblatt Ber. Wirtsch Wirk 3'!$D$11:$BW$96,$A163,FALSE)+IF(K$105=$C163,HLOOKUP(K$105,'Hilfsblatt Ber. Wirtsch Wirk 3'!$D$11:$BX$96,87,FALSE),0))/100),0)","v":0},{"$f":"IFERROR((L$106*(HLOOKUP(L$105,'Hilfsblatt Ber. Wirtsch Wirk 3'!$D$11:$BW$96,$A163,FALSE)+IF(L$105=$C163,HLOOKUP(L$105,'Hilfsblatt Ber. Wirtsch Wirk 3'!$D$11:$BX$96,87,FALSE),0))/100),0)","v":0},{"$f":"IFERROR((M$106*(HLOOKUP(M$105,'Hilfsblatt Ber. Wirtsch Wirk 3'!$D$11:$BW$96,$A163,FALSE)+IF(M$105=$C163,HLOOKUP(M$105,'Hilfsblatt Ber. Wirtsch Wirk 3'!$D$11:$BX$96,87,FALSE),0))/100),0)","v":0},{"$f":"IFERROR((N$106*(HLOOKUP(N$105,'Hilfsblatt Ber. Wirtsch Wirk 3'!$D$11:$BW$96,$A163,FALSE)+IF(N$105=$C163,HLOOKUP(N$105,'Hilfsblatt Ber. Wirtsch Wirk 3'!$D$11:$BX$96,87,FALSE),0))/100),0)","v":0},{"$f":"IFERROR((O$106*(HLOOKUP(O$105,'Hilfsblatt Ber. Wirtsch Wirk 3'!$D$11:$BW$96,$A163,FALSE)+IF(O$105=$C163,HLOOKUP(O$105,'Hilfsblatt Ber. Wirtsch Wirk 3'!$D$11:$BX$96,87,FALSE),0))/100),0)","v":0},{"$f":"IFERROR((P$106*(HLOOKUP(P$105,'Hilfsblatt Ber. Wirtsch Wirk 3'!$D$11:$BW$96,$A163,FALSE)+IF(P$105=$C163,HLOOKUP(P$105,'Hilfsblatt Ber. Wirtsch Wirk 3'!$D$11:$BX$96,87,FALSE),0))/100),0)","v":0},{"$f":"IFERROR((Q$106*(HLOOKUP(Q$105,'Hilfsblatt Ber. Wirtsch Wirk 3'!$D$11:$BW$96,$A163,FALSE)+IF(Q$105=$C163,HLOOKUP(Q$105,'Hilfsblatt Ber. Wirtsch Wirk 3'!$D$11:$BX$96,87,FALSE),0))/100),0)","v":0},{"$f":"R$106*('Hilfsblatt Ber. Wirtsch Wirk 3'!BX68+'Hilfsblatt Ber. Wirtsch Wirk 3'!BX68*'Hilfsblatt Ber. Wirtsch Wirk 3'!CA68/'Hilfsblatt Ber. Wirtsch Wirk 3'!CB68)/100","v":0},0,{"$f":"S163*'Hilfsblatt Ber. Wirtsch Wirk 3'!BZ68/('Hilfsblatt Ber. Wirtsch Wirk 3'!CA68)","v":0},{"$f":"S163/'Hilfsblatt Ber. Wirtsch Wirk 3'!CC68","v":0},{"$f":"T163*('Hilfsblatt Ber. Wirtsch Wirk 4'!B$14/'Hilfsblatt Ber. Wirtsch Wirk 4'!B$13)","v":0},{"$f":"S163*'Hilfsblatt Ber. Wirtsch Wirk 3'!CD68","v":0}]
[59,{"$f":"B64","v":"72"},"Forschungs- und Entwicklungsleistungen ",{"$f":"IFERROR((D$106*(HLOOKUP(D$105,'Hilfsblatt Ber. Wirtsch Wirk 3'!$D$11:$BW$96,$A164,FALSE)+IF(D$105=$C164,HLOOKUP(D$105,'Hilfsblatt Ber. Wirtsch Wirk 3'!$D$11:$BX$96,87,FALSE),0))/100),0)","v":0},{"$f":"IFERROR((E$106*(HLOOKUP(E$105,'Hilfsblatt Ber. Wirtsch Wirk 3'!$D$11:$BW$96,$A164,FALSE)+IF(E$105=$C164,HLOOKUP(E$105,'Hilfsblatt Ber. Wirtsch Wirk 3'!$D$11:$BX$96,87,FALSE),0))/100),0)","v":0},{"$f":"IFERROR((F$106*(HLOOKUP(F$105,'Hilfsblatt Ber. Wirtsch Wirk 3'!$D$11:$BW$96,$A164,FALSE)+IF(F$105=$C164,HLOOKUP(F$105,'Hilfsblatt Ber. Wirtsch Wirk 3'!$D$11:$BX$96,87,FALSE),0))/100),0)","v":0},{"$f":"IFERROR((G$106*(HLOOKUP(G$105,'Hilfsblatt Ber. Wirtsch Wirk 3'!$D$11:$BW$96,$A164,FALSE)+IF(G$105=$C164,HLOOKUP(G$105,'Hilfsblatt Ber. Wirtsch Wirk 3'!$D$11:$BX$96,87,FALSE),0))/100),0)","v":0},{"$f":"IFERROR((H$106*(HLOOKUP(H$105,'Hilfsblatt Ber. Wirtsch Wirk 3'!$D$11:$BW$96,$A164,FALSE)+IF(H$105=$C164,HLOOKUP(H$105,'Hilfsblatt Ber. Wirtsch Wirk 3'!$D$11:$BX$96,87,FALSE),0))/100),0)","v":0},{"$f":"IFERROR((I$106*(HLOOKUP(I$105,'Hilfsblatt Ber. Wirtsch Wirk 3'!$D$11:$BW$96,$A164,FALSE)+IF(I$105=$C164,HLOOKUP(I$105,'Hilfsblatt Ber. Wirtsch Wirk 3'!$D$11:$BX$96,87,FALSE),0))/100),0)","v":0},{"$f":"IFERROR((J$106*(HLOOKUP(J$105,'Hilfsblatt Ber. Wirtsch Wirk 3'!$D$11:$BW$96,$A164,FALSE)+IF(J$105=$C164,HLOOKUP(J$105,'Hilfsblatt Ber. Wirtsch Wirk 3'!$D$11:$BX$96,87,FALSE),0))/100),0)","v":0},{"$f":"IFERROR((K$106*(HLOOKUP(K$105,'Hilfsblatt Ber. Wirtsch Wirk 3'!$D$11:$BW$96,$A164,FALSE)+IF(K$105=$C164,HLOOKUP(K$105,'Hilfsblatt Ber. Wirtsch Wirk 3'!$D$11:$BX$96,87,FALSE),0))/100),0)","v":0},{"$f":"IFERROR((L$106*(HLOOKUP(L$105,'Hilfsblatt Ber. Wirtsch Wirk 3'!$D$11:$BW$96,$A164,FALSE)+IF(L$105=$C164,HLOOKUP(L$105,'Hilfsblatt Ber. Wirtsch Wirk 3'!$D$11:$BX$96,87,FALSE),0))/100),0)","v":0},{"$f":"IFERROR((M$106*(HLOOKUP(M$105,'Hilfsblatt Ber. Wirtsch Wirk 3'!$D$11:$BW$96,$A164,FALSE)+IF(M$105=$C164,HLOOKUP(M$105,'Hilfsblatt Ber. Wirtsch Wirk 3'!$D$11:$BX$96,87,FALSE),0))/100),0)","v":0},{"$f":"IFERROR((N$106*(HLOOKUP(N$105,'Hilfsblatt Ber. Wirtsch Wirk 3'!$D$11:$BW$96,$A164,FALSE)+IF(N$105=$C164,HLOOKUP(N$105,'Hilfsblatt Ber. Wirtsch Wirk 3'!$D$11:$BX$96,87,FALSE),0))/100),0)","v":0},{"$f":"IFERROR((O$106*(HLOOKUP(O$105,'Hilfsblatt Ber. Wirtsch Wirk 3'!$D$11:$BW$96,$A164,FALSE)+IF(O$105=$C164,HLOOKUP(O$105,'Hilfsblatt Ber. Wirtsch Wirk 3'!$D$11:$BX$96,87,FALSE),0))/100),0)","v":0},{"$f":"IFERROR((P$106*(HLOOKUP(P$105,'Hilfsblatt Ber. Wirtsch Wirk 3'!$D$11:$BW$96,$A164,FALSE)+IF(P$105=$C164,HLOOKUP(P$105,'Hilfsblatt Ber. Wirtsch Wirk 3'!$D$11:$BX$96,87,FALSE),0))/100),0)","v":0},{"$f":"IFERROR((Q$106*(HLOOKUP(Q$105,'Hilfsblatt Ber. Wirtsch Wirk 3'!$D$11:$BW$96,$A164,FALSE)+IF(Q$105=$C164,HLOOKUP(Q$105,'Hilfsblatt Ber. Wirtsch Wirk 3'!$D$11:$BX$96,87,FALSE),0))/100),0)","v":0},{"$f":"R$106*('Hilfsblatt Ber. Wirtsch Wirk 3'!BX69+'Hilfsblatt Ber. Wirtsch Wirk 3'!BX69*'Hilfsblatt Ber. Wirtsch Wirk 3'!CA69/'Hilfsblatt Ber. Wirtsch Wirk 3'!CB69)/100","v":0},0,{"$f":"S164*'Hilfsblatt Ber. Wirtsch Wirk 3'!BZ69/('Hilfsblatt Ber. Wirtsch Wirk 3'!CA69)","v":0},{"$f":"S164/'Hilfsblatt Ber. Wirtsch Wirk 3'!CC69","v":0},{"$f":"T164*('Hilfsblatt Ber. Wirtsch Wirk 4'!B$14/'Hilfsblatt Ber. Wirtsch Wirk 4'!B$13)","v":0},{"$f":"S164*'Hilfsblatt Ber. Wirtsch Wirk 3'!CD69","v":0}]
[60,{"$f":"B65","v":"73"},"Werbe- und Marktforschungsleistungen ",{"$f":"IFERROR((D$106*(HLOOKUP(D$105,'Hilfsblatt Ber. Wirtsch Wirk 3'!$D$11:$BW$96,$A165,FALSE)+IF(D$105=$C165,HLOOKUP(D$105,'Hilfsblatt Ber. Wirtsch Wirk 3'!$D$11:$BX$96,87,FALSE),0))/100),0)","v":0},{"$f":"IFERROR((E$106*(HLOOKUP(E$105,'Hilfsblatt Ber. Wirtsch Wirk 3'!$D$11:$BW$96,$A165,FALSE)+IF(E$105=$C165,HLOOKUP(E$105,'Hilfsblatt Ber. Wirtsch Wirk 3'!$D$11:$BX$96,87,FALSE),0))/100),0)","v":0},{"$f":"IFERROR((F$106*(HLOOKUP(F$105,'Hilfsblatt Ber. Wirtsch Wirk 3'!$D$11:$BW$96,$A165,FALSE)+IF(F$105=$C165,HLOOKUP(F$105,'Hilfsblatt Ber. Wirtsch Wirk 3'!$D$11:$BX$96,87,FALSE),0))/100),0)","v":0},{"$f":"IFERROR((G$106*(HLOOKUP(G$105,'Hilfsblatt Ber. Wirtsch Wirk 3'!$D$11:$BW$96,$A165,FALSE)+IF(G$105=$C165,HLOOKUP(G$105,'Hilfsblatt Ber. Wirtsch Wirk 3'!$D$11:$BX$96,87,FALSE),0))/100),0)","v":0},{"$f":"IFERROR((H$106*(HLOOKUP(H$105,'Hilfsblatt Ber. Wirtsch Wirk 3'!$D$11:$BW$96,$A165,FALSE)+IF(H$105=$C165,HLOOKUP(H$105,'Hilfsblatt Ber. Wirtsch Wirk 3'!$D$11:$BX$96,87,FALSE),0))/100),0)","v":0},{"$f":"IFERROR((I$106*(HLOOKUP(I$105,'Hilfsblatt Ber. Wirtsch Wirk 3'!$D$11:$BW$96,$A165,FALSE)+IF(I$105=$C165,HLOOKUP(I$105,'Hilfsblatt Ber. Wirtsch Wirk 3'!$D$11:$BX$96,87,FALSE),0))/100),0)","v":0},{"$f":"IFERROR((J$106*(HLOOKUP(J$105,'Hilfsblatt Ber. Wirtsch Wirk 3'!$D$11:$BW$96,$A165,FALSE)+IF(J$105=$C165,HLOOKUP(J$105,'Hilfsblatt Ber. Wirtsch Wirk 3'!$D$11:$BX$96,87,FALSE),0))/100),0)","v":0},{"$f":"IFERROR((K$106*(HLOOKUP(K$105,'Hilfsblatt Ber. Wirtsch Wirk 3'!$D$11:$BW$96,$A165,FALSE)+IF(K$105=$C165,HLOOKUP(K$105,'Hilfsblatt Ber. Wirtsch Wirk 3'!$D$11:$BX$96,87,FALSE),0))/100),0)","v":0},{"$f":"IFERROR((L$106*(HLOOKUP(L$105,'Hilfsblatt Ber. Wirtsch Wirk 3'!$D$11:$BW$96,$A165,FALSE)+IF(L$105=$C165,HLOOKUP(L$105,'Hilfsblatt Ber. Wirtsch Wirk 3'!$D$11:$BX$96,87,FALSE),0))/100),0)","v":0},{"$f":"IFERROR((M$106*(HLOOKUP(M$105,'Hilfsblatt Ber. Wirtsch Wirk 3'!$D$11:$BW$96,$A165,FALSE)+IF(M$105=$C165,HLOOKUP(M$105,'Hilfsblatt Ber. Wirtsch Wirk 3'!$D$11:$BX$96,87,FALSE),0))/100),0)","v":0},{"$f":"IFERROR((N$106*(HLOOKUP(N$105,'Hilfsblatt Ber. Wirtsch Wirk 3'!$D$11:$BW$96,$A165,FALSE)+IF(N$105=$C165,HLOOKUP(N$105,'Hilfsblatt Ber. Wirtsch Wirk 3'!$D$11:$BX$96,87,FALSE),0))/100),0)","v":0},{"$f":"IFERROR((O$106*(HLOOKUP(O$105,'Hilfsblatt Ber. Wirtsch Wirk 3'!$D$11:$BW$96,$A165,FALSE)+IF(O$105=$C165,HLOOKUP(O$105,'Hilfsblatt Ber. Wirtsch Wirk 3'!$D$11:$BX$96,87,FALSE),0))/100),0)","v":0},{"$f":"IFERROR((P$106*(HLOOKUP(P$105,'Hilfsblatt Ber. Wirtsch Wirk 3'!$D$11:$BW$96,$A165,FALSE)+IF(P$105=$C165,HLOOKUP(P$105,'Hilfsblatt Ber. Wirtsch Wirk 3'!$D$11:$BX$96,87,FALSE),0))/100),0)","v":0},{"$f":"IFERROR((Q$106*(HLOOKUP(Q$105,'Hilfsblatt Ber. Wirtsch Wirk 3'!$D$11:$BW$96,$A165,FALSE)+IF(Q$105=$C165,HLOOKUP(Q$105,'Hilfsblatt Ber. Wirtsch Wirk 3'!$D$11:$BX$96,87,FALSE),0))/100),0)","v":0},{"$f":"R$106*('Hilfsblatt Ber. Wirtsch Wirk 3'!BX70+'Hilfsblatt Ber. Wirtsch Wirk 3'!BX70*'Hilfsblatt Ber. Wirtsch Wirk 3'!CA70/'Hilfsblatt Ber. Wirtsch Wirk 3'!CB70)/100","v":0},0,{"$f":"S165*'Hilfsblatt Ber. Wirtsch Wirk 3'!BZ70/('Hilfsblatt Ber. Wirtsch Wirk 3'!CA70)","v":0},{"$f":"S165/'Hilfsblatt Ber. Wirtsch Wirk 3'!CC70","v":0},{"$f":"T165*('Hilfsblatt Ber. Wirtsch Wirk 4'!B$14/'Hilfsblatt Ber. Wirtsch Wirk 4'!B$13)","v":0},{"$f":"S165*'Hilfsblatt Ber. Wirtsch Wirk 3'!CD70","v":0}]
[61,{"$f":"B66","v":"74-75"},"Sonst. freiberuf., wiss., techn. u. veterinärmedizinische Dienstleistg. ",{"$f":"IFERROR((D$106*(HLOOKUP(D$105,'Hilfsblatt Ber. Wirtsch Wirk 3'!$D$11:$BW$96,$A166,FALSE)+IF(D$105=$C166,HLOOKUP(D$105,'Hilfsblatt Ber. Wirtsch Wirk 3'!$D$11:$BX$96,87,FALSE),0))/100),0)","v":0},{"$f":"IFERROR((E$106*(HLOOKUP(E$105,'Hilfsblatt Ber. Wirtsch Wirk 3'!$D$11:$BW$96,$A166,FALSE)+IF(E$105=$C166,HLOOKUP(E$105,'Hilfsblatt Ber. Wirtsch Wirk 3'!$D$11:$BX$96,87,FALSE),0))/100),0)","v":0},{"$f":"IFERROR((F$106*(HLOOKUP(F$105,'Hilfsblatt Ber. Wirtsch Wirk 3'!$D$11:$BW$96,$A166,FALSE)+IF(F$105=$C166,HLOOKUP(F$105,'Hilfsblatt Ber. Wirtsch Wirk 3'!$D$11:$BX$96,87,FALSE),0))/100),0)","v":0},{"$f":"IFERROR((G$106*(HLOOKUP(G$105,'Hilfsblatt Ber. Wirtsch Wirk 3'!$D$11:$BW$96,$A166,FALSE)+IF(G$105=$C166,HLOOKUP(G$105,'Hilfsblatt Ber. Wirtsch Wirk 3'!$D$11:$BX$96,87,FALSE),0))/100),0)","v":0},{"$f":"IFERROR((H$106*(HLOOKUP(H$105,'Hilfsblatt Ber. Wirtsch Wirk 3'!$D$11:$BW$96,$A166,FALSE)+IF(H$105=$C166,HLOOKUP(H$105,'Hilfsblatt Ber. Wirtsch Wirk 3'!$D$11:$BX$96,87,FALSE),0))/100),0)","v":0},{"$f":"IFERROR((I$106*(HLOOKUP(I$105,'Hilfsblatt Ber. Wirtsch Wirk 3'!$D$11:$BW$96,$A166,FALSE)+IF(I$105=$C166,HLOOKUP(I$105,'Hilfsblatt Ber. Wirtsch Wirk 3'!$D$11:$BX$96,87,FALSE),0))/100),0)","v":0},{"$f":"IFERROR((J$106*(HLOOKUP(J$105,'Hilfsblatt Ber. Wirtsch Wirk 3'!$D$11:$BW$96,$A166,FALSE)+IF(J$105=$C166,HLOOKUP(J$105,'Hilfsblatt Ber. Wirtsch Wirk 3'!$D$11:$BX$96,87,FALSE),0))/100),0)","v":0},{"$f":"IFERROR((K$106*(HLOOKUP(K$105,'Hilfsblatt Ber. Wirtsch Wirk 3'!$D$11:$BW$96,$A166,FALSE)+IF(K$105=$C166,HLOOKUP(K$105,'Hilfsblatt Ber. Wirtsch Wirk 3'!$D$11:$BX$96,87,FALSE),0))/100),0)","v":0},{"$f":"IFERROR((L$106*(HLOOKUP(L$105,'Hilfsblatt Ber. Wirtsch Wirk 3'!$D$11:$BW$96,$A166,FALSE)+IF(L$105=$C166,HLOOKUP(L$105,'Hilfsblatt Ber. Wirtsch Wirk 3'!$D$11:$BX$96,87,FALSE),0))/100),0)","v":0},{"$f":"IFERROR((M$106*(HLOOKUP(M$105,'Hilfsblatt Ber. Wirtsch Wirk 3'!$D$11:$BW$96,$A166,FALSE)+IF(M$105=$C166,HLOOKUP(M$105,'Hilfsblatt Ber. Wirtsch Wirk 3'!$D$11:$BX$96,87,FALSE),0))/100),0)","v":0},{"$f":"IFERROR((N$106*(HLOOKUP(N$105,'Hilfsblatt Ber. Wirtsch Wirk 3'!$D$11:$BW$96,$A166,FALSE)+IF(N$105=$C166,HLOOKUP(N$105,'Hilfsblatt Ber. Wirtsch Wirk 3'!$D$11:$BX$96,87,FALSE),0))/100),0)","v":0},{"$f":"IFERROR((O$106*(HLOOKUP(O$105,'Hilfsblatt Ber. Wirtsch Wirk 3'!$D$11:$BW$96,$A166,FALSE)+IF(O$105=$C166,HLOOKUP(O$105,'Hilfsblatt Ber. Wirtsch Wirk 3'!$D$11:$BX$96,87,FALSE),0))/100),0)","v":0},{"$f":"IFERROR((P$106*(HLOOKUP(P$105,'Hilfsblatt Ber. Wirtsch Wirk 3'!$D$11:$BW$96,$A166,FALSE)+IF(P$105=$C166,HLOOKUP(P$105,'Hilfsblatt Ber. Wirtsch Wirk 3'!$D$11:$BX$96,87,FALSE),0))/100),0)","v":0},{"$f":"IFERROR((Q$106*(HLOOKUP(Q$105,'Hilfsblatt Ber. Wirtsch Wirk 3'!$D$11:$BW$96,$A166,FALSE)+IF(Q$105=$C166,HLOOKUP(Q$105,'Hilfsblatt Ber. Wirtsch Wirk 3'!$D$11:$BX$96,87,FALSE),0))/100),0)","v":0},{"$f":"R$106*('Hilfsblatt Ber. Wirtsch Wirk 3'!BX71+'Hilfsblatt Ber. Wirtsch Wirk 3'!BX71*'Hilfsblatt Ber. Wirtsch Wirk 3'!CA71/'Hilfsblatt Ber. Wirtsch Wirk 3'!CB71)/100","v":0},0,{"$f":"S166*'Hilfsblatt Ber. Wirtsch Wirk 3'!BZ71/('Hilfsblatt Ber. Wirtsch Wirk 3'!CA71)","v":0},{"$f":"S166/'Hilfsblatt Ber. Wirtsch Wirk 3'!CC71","v":0},{"$f":"T166*('Hilfsblatt Ber. Wirtsch Wirk 4'!B$14/'Hilfsblatt Ber. Wirtsch Wirk 4'!B$13)","v":0},{"$f":"S166*'Hilfsblatt Ber. Wirtsch Wirk 3'!CD71","v":0}]
[62,{"$f":"B67","v":"77"},"Dienstleistungen der Vermietung von beweglichen Sachen ",{"$f":"IFERROR((D$106*(HLOOKUP(D$105,'Hilfsblatt Ber. Wirtsch Wirk 3'!$D$11:$BW$96,$A167,FALSE)+IF(D$105=$C167,HLOOKUP(D$105,'Hilfsblatt Ber. Wirtsch Wirk 3'!$D$11:$BX$96,87,FALSE),0))/100),0)","v":0},{"$f":"IFERROR((E$106*(HLOOKUP(E$105,'Hilfsblatt Ber. Wirtsch Wirk 3'!$D$11:$BW$96,$A167,FALSE)+IF(E$105=$C167,HLOOKUP(E$105,'Hilfsblatt Ber. Wirtsch Wirk 3'!$D$11:$BX$96,87,FALSE),0))/100),0)","v":0},{"$f":"IFERROR((F$106*(HLOOKUP(F$105,'Hilfsblatt Ber. Wirtsch Wirk 3'!$D$11:$BW$96,$A167,FALSE)+IF(F$105=$C167,HLOOKUP(F$105,'Hilfsblatt Ber. Wirtsch Wirk 3'!$D$11:$BX$96,87,FALSE),0))/100),0)","v":0},{"$f":"IFERROR((G$106*(HLOOKUP(G$105,'Hilfsblatt Ber. Wirtsch Wirk 3'!$D$11:$BW$96,$A167,FALSE)+IF(G$105=$C167,HLOOKUP(G$105,'Hilfsblatt Ber. Wirtsch Wirk 3'!$D$11:$BX$96,87,FALSE),0))/100),0)","v":0},{"$f":"IFERROR((H$106*(HLOOKUP(H$105,'Hilfsblatt Ber. Wirtsch Wirk 3'!$D$11:$BW$96,$A167,FALSE)+IF(H$105=$C167,HLOOKUP(H$105,'Hilfsblatt Ber. Wirtsch Wirk 3'!$D$11:$BX$96,87,FALSE),0))/100),0)","v":0},{"$f":"IFERROR((I$106*(HLOOKUP(I$105,'Hilfsblatt Ber. Wirtsch Wirk 3'!$D$11:$BW$96,$A167,FALSE)+IF(I$105=$C167,HLOOKUP(I$105,'Hilfsblatt Ber. Wirtsch Wirk 3'!$D$11:$BX$96,87,FALSE),0))/100),0)","v":0},{"$f":"IFERROR((J$106*(HLOOKUP(J$105,'Hilfsblatt Ber. Wirtsch Wirk 3'!$D$11:$BW$96,$A167,FALSE)+IF(J$105=$C167,HLOOKUP(J$105,'Hilfsblatt Ber. Wirtsch Wirk 3'!$D$11:$BX$96,87,FALSE),0))/100),0)","v":0},{"$f":"IFERROR((K$106*(HLOOKUP(K$105,'Hilfsblatt Ber. Wirtsch Wirk 3'!$D$11:$BW$96,$A167,FALSE)+IF(K$105=$C167,HLOOKUP(K$105,'Hilfsblatt Ber. Wirtsch Wirk 3'!$D$11:$BX$96,87,FALSE),0))/100),0)","v":0},{"$f":"IFERROR((L$106*(HLOOKUP(L$105,'Hilfsblatt Ber. Wirtsch Wirk 3'!$D$11:$BW$96,$A167,FALSE)+IF(L$105=$C167,HLOOKUP(L$105,'Hilfsblatt Ber. Wirtsch Wirk 3'!$D$11:$BX$96,87,FALSE),0))/100),0)","v":0},{"$f":"IFERROR((M$106*(HLOOKUP(M$105,'Hilfsblatt Ber. Wirtsch Wirk 3'!$D$11:$BW$96,$A167,FALSE)+IF(M$105=$C167,HLOOKUP(M$105,'Hilfsblatt Ber. Wirtsch Wirk 3'!$D$11:$BX$96,87,FALSE),0))/100),0)","v":0},{"$f":"IFERROR((N$106*(HLOOKUP(N$105,'Hilfsblatt Ber. Wirtsch Wirk 3'!$D$11:$BW$96,$A167,FALSE)+IF(N$105=$C167,HLOOKUP(N$105,'Hilfsblatt Ber. Wirtsch Wirk 3'!$D$11:$BX$96,87,FALSE),0))/100),0)","v":0},{"$f":"IFERROR((O$106*(HLOOKUP(O$105,'Hilfsblatt Ber. Wirtsch Wirk 3'!$D$11:$BW$96,$A167,FALSE)+IF(O$105=$C167,HLOOKUP(O$105,'Hilfsblatt Ber. Wirtsch Wirk 3'!$D$11:$BX$96,87,FALSE),0))/100),0)","v":0},{"$f":"IFERROR((P$106*(HLOOKUP(P$105,'Hilfsblatt Ber. Wirtsch Wirk 3'!$D$11:$BW$96,$A167,FALSE)+IF(P$105=$C167,HLOOKUP(P$105,'Hilfsblatt Ber. Wirtsch Wirk 3'!$D$11:$BX$96,87,FALSE),0))/100),0)","v":0},{"$f":"IFERROR((Q$106*(HLOOKUP(Q$105,'Hilfsblatt Ber. Wirtsch Wirk 3'!$D$11:$BW$96,$A167,FALSE)+IF(Q$105=$C167,HLOOKUP(Q$105,'Hilfsblatt Ber. Wirtsch Wirk 3'!$D$11:$BX$96,87,FALSE),0))/100),0)","v":0},{"$f":"R$106*('Hilfsblatt Ber. Wirtsch Wirk 3'!BX72+'Hilfsblatt Ber. Wirtsch Wirk 3'!BX72*'Hilfsblatt Ber. Wirtsch Wirk 3'!CA72/'Hilfsblatt Ber. Wirtsch Wirk 3'!CB72)/100","v":0},0,{"$f":"S167*'Hilfsblatt Ber. Wirtsch Wirk 3'!BZ72/('Hilfsblatt Ber. Wirtsch Wirk 3'!CA72)","v":0},{"$f":"S167/'Hilfsblatt Ber. Wirtsch Wirk 3'!CC72","v":0},{"$f":"T167*('Hilfsblatt Ber. Wirtsch Wirk 4'!B$14/'Hilfsblatt Ber. Wirtsch Wirk 4'!B$13)","v":0},{"$f":"S167*'Hilfsblatt Ber. Wirtsch Wirk 3'!CD72","v":0}]
[63,{"$f":"B68","v":"78"},"Dienstleistungen der Vermittlung und Überlassung von Arbeitskräften ",{"$f":"IFERROR((D$106*(HLOOKUP(D$105,'Hilfsblatt Ber. Wirtsch Wirk 3'!$D$11:$BW$96,$A168,FALSE)+IF(D$105=$C168,HLOOKUP(D$105,'Hilfsblatt Ber. Wirtsch Wirk 3'!$D$11:$BX$96,87,FALSE),0))/100),0)","v":0},{"$f":"IFERROR((E$106*(HLOOKUP(E$105,'Hilfsblatt Ber. Wirtsch Wirk 3'!$D$11:$BW$96,$A168,FALSE)+IF(E$105=$C168,HLOOKUP(E$105,'Hilfsblatt Ber. Wirtsch Wirk 3'!$D$11:$BX$96,87,FALSE),0))/100),0)","v":0},{"$f":"IFERROR((F$106*(HLOOKUP(F$105,'Hilfsblatt Ber. Wirtsch Wirk 3'!$D$11:$BW$96,$A168,FALSE)+IF(F$105=$C168,HLOOKUP(F$105,'Hilfsblatt Ber. Wirtsch Wirk 3'!$D$11:$BX$96,87,FALSE),0))/100),0)","v":0},{"$f":"IFERROR((G$106*(HLOOKUP(G$105,'Hilfsblatt Ber. Wirtsch Wirk 3'!$D$11:$BW$96,$A168,FALSE)+IF(G$105=$C168,HLOOKUP(G$105,'Hilfsblatt Ber. Wirtsch Wirk 3'!$D$11:$BX$96,87,FALSE),0))/100),0)","v":0},{"$f":"IFERROR((H$106*(HLOOKUP(H$105,'Hilfsblatt Ber. Wirtsch Wirk 3'!$D$11:$BW$96,$A168,FALSE)+IF(H$105=$C168,HLOOKUP(H$105,'Hilfsblatt Ber. Wirtsch Wirk 3'!$D$11:$BX$96,87,FALSE),0))/100),0)","v":0},{"$f":"IFERROR((I$106*(HLOOKUP(I$105,'Hilfsblatt Ber. Wirtsch Wirk 3'!$D$11:$BW$96,$A168,FALSE)+IF(I$105=$C168,HLOOKUP(I$105,'Hilfsblatt Ber. Wirtsch Wirk 3'!$D$11:$BX$96,87,FALSE),0))/100),0)","v":0},{"$f":"IFERROR((J$106*(HLOOKUP(J$105,'Hilfsblatt Ber. Wirtsch Wirk 3'!$D$11:$BW$96,$A168,FALSE)+IF(J$105=$C168,HLOOKUP(J$105,'Hilfsblatt Ber. Wirtsch Wirk 3'!$D$11:$BX$96,87,FALSE),0))/100),0)","v":0},{"$f":"IFERROR((K$106*(HLOOKUP(K$105,'Hilfsblatt Ber. Wirtsch Wirk 3'!$D$11:$BW$96,$A168,FALSE)+IF(K$105=$C168,HLOOKUP(K$105,'Hilfsblatt Ber. Wirtsch Wirk 3'!$D$11:$BX$96,87,FALSE),0))/100),0)","v":0},{"$f":"IFERROR((L$106*(HLOOKUP(L$105,'Hilfsblatt Ber. Wirtsch Wirk 3'!$D$11:$BW$96,$A168,FALSE)+IF(L$105=$C168,HLOOKUP(L$105,'Hilfsblatt Ber. Wirtsch Wirk 3'!$D$11:$BX$96,87,FALSE),0))/100),0)","v":0},{"$f":"IFERROR((M$106*(HLOOKUP(M$105,'Hilfsblatt Ber. Wirtsch Wirk 3'!$D$11:$BW$96,$A168,FALSE)+IF(M$105=$C168,HLOOKUP(M$105,'Hilfsblatt Ber. Wirtsch Wirk 3'!$D$11:$BX$96,87,FALSE),0))/100),0)","v":0},{"$f":"IFERROR((N$106*(HLOOKUP(N$105,'Hilfsblatt Ber. Wirtsch Wirk 3'!$D$11:$BW$96,$A168,FALSE)+IF(N$105=$C168,HLOOKUP(N$105,'Hilfsblatt Ber. Wirtsch Wirk 3'!$D$11:$BX$96,87,FALSE),0))/100),0)","v":0},{"$f":"IFERROR((O$106*(HLOOKUP(O$105,'Hilfsblatt Ber. Wirtsch Wirk 3'!$D$11:$BW$96,$A168,FALSE)+IF(O$105=$C168,HLOOKUP(O$105,'Hilfsblatt Ber. Wirtsch Wirk 3'!$D$11:$BX$96,87,FALSE),0))/100),0)","v":0},{"$f":"IFERROR((P$106*(HLOOKUP(P$105,'Hilfsblatt Ber. Wirtsch Wirk 3'!$D$11:$BW$96,$A168,FALSE)+IF(P$105=$C168,HLOOKUP(P$105,'Hilfsblatt Ber. Wirtsch Wirk 3'!$D$11:$BX$96,87,FALSE),0))/100),0)","v":0},{"$f":"IFERROR((Q$106*(HLOOKUP(Q$105,'Hilfsblatt Ber. Wirtsch Wirk 3'!$D$11:$BW$96,$A168,FALSE)+IF(Q$105=$C168,HLOOKUP(Q$105,'Hilfsblatt Ber. Wirtsch Wirk 3'!$D$11:$BX$96,87,FALSE),0))/100),0)","v":0},{"$f":"R$106*('Hilfsblatt Ber. Wirtsch Wirk 3'!BX73+'Hilfsblatt Ber. Wirtsch Wirk 3'!BX73*'Hilfsblatt Ber. Wirtsch Wirk 3'!CA73/'Hilfsblatt Ber. Wirtsch Wirk 3'!CB73)/100","v":0},0,{"$f":"S168*'Hilfsblatt Ber. Wirtsch Wirk 3'!BZ73/('Hilfsblatt Ber. Wirtsch Wirk 3'!CA73)","v":0},{"$f":"S168/'Hilfsblatt Ber. Wirtsch Wirk 3'!CC73","v":0},{"$f":"T168*('Hilfsblatt Ber. Wirtsch Wirk 4'!B$14/'Hilfsblatt Ber. Wirtsch Wirk 4'!B$13)","v":0},{"$f":"S168*'Hilfsblatt Ber. Wirtsch Wirk 3'!CD73","v":0}]
[64,{"$f":"B69","v":"79"},"Dienstleistg. v. Reisebüros, -veranstaltern u. sonst. Reservierungen",{"$f":"IFERROR((D$106*(HLOOKUP(D$105,'Hilfsblatt Ber. Wirtsch Wirk 3'!$D$11:$BW$96,$A169,FALSE)+IF(D$105=$C169,HLOOKUP(D$105,'Hilfsblatt Ber. Wirtsch Wirk 3'!$D$11:$BX$96,87,FALSE),0))/100),0)","v":0},{"$f":"IFERROR((E$106*(HLOOKUP(E$105,'Hilfsblatt Ber. Wirtsch Wirk 3'!$D$11:$BW$96,$A169,FALSE)+IF(E$105=$C169,HLOOKUP(E$105,'Hilfsblatt Ber. Wirtsch Wirk 3'!$D$11:$BX$96,87,FALSE),0))/100),0)","v":0},{"$f":"IFERROR((F$106*(HLOOKUP(F$105,'Hilfsblatt Ber. Wirtsch Wirk 3'!$D$11:$BW$96,$A169,FALSE)+IF(F$105=$C169,HLOOKUP(F$105,'Hilfsblatt Ber. Wirtsch Wirk 3'!$D$11:$BX$96,87,FALSE),0))/100),0)","v":0},{"$f":"IFERROR((G$106*(HLOOKUP(G$105,'Hilfsblatt Ber. Wirtsch Wirk 3'!$D$11:$BW$96,$A169,FALSE)+IF(G$105=$C169,HLOOKUP(G$105,'Hilfsblatt Ber. Wirtsch Wirk 3'!$D$11:$BX$96,87,FALSE),0))/100),0)","v":0},{"$f":"IFERROR((H$106*(HLOOKUP(H$105,'Hilfsblatt Ber. Wirtsch Wirk 3'!$D$11:$BW$96,$A169,FALSE)+IF(H$105=$C169,HLOOKUP(H$105,'Hilfsblatt Ber. Wirtsch Wirk 3'!$D$11:$BX$96,87,FALSE),0))/100),0)","v":0},{"$f":"IFERROR((I$106*(HLOOKUP(I$105,'Hilfsblatt Ber. Wirtsch Wirk 3'!$D$11:$BW$96,$A169,FALSE)+IF(I$105=$C169,HLOOKUP(I$105,'Hilfsblatt Ber. Wirtsch Wirk 3'!$D$11:$BX$96,87,FALSE),0))/100),0)","v":0},{"$f":"IFERROR((J$106*(HLOOKUP(J$105,'Hilfsblatt Ber. Wirtsch Wirk 3'!$D$11:$BW$96,$A169,FALSE)+IF(J$105=$C169,HLOOKUP(J$105,'Hilfsblatt Ber. Wirtsch Wirk 3'!$D$11:$BX$96,87,FALSE),0))/100),0)","v":0},{"$f":"IFERROR((K$106*(HLOOKUP(K$105,'Hilfsblatt Ber. Wirtsch Wirk 3'!$D$11:$BW$96,$A169,FALSE)+IF(K$105=$C169,HLOOKUP(K$105,'Hilfsblatt Ber. Wirtsch Wirk 3'!$D$11:$BX$96,87,FALSE),0))/100),0)","v":0},{"$f":"IFERROR((L$106*(HLOOKUP(L$105,'Hilfsblatt Ber. Wirtsch Wirk 3'!$D$11:$BW$96,$A169,FALSE)+IF(L$105=$C169,HLOOKUP(L$105,'Hilfsblatt Ber. Wirtsch Wirk 3'!$D$11:$BX$96,87,FALSE),0))/100),0)","v":0},{"$f":"IFERROR((M$106*(HLOOKUP(M$105,'Hilfsblatt Ber. Wirtsch Wirk 3'!$D$11:$BW$96,$A169,FALSE)+IF(M$105=$C169,HLOOKUP(M$105,'Hilfsblatt Ber. Wirtsch Wirk 3'!$D$11:$BX$96,87,FALSE),0))/100),0)","v":0},{"$f":"IFERROR((N$106*(HLOOKUP(N$105,'Hilfsblatt Ber. Wirtsch Wirk 3'!$D$11:$BW$96,$A169,FALSE)+IF(N$105=$C169,HLOOKUP(N$105,'Hilfsblatt Ber. Wirtsch Wirk 3'!$D$11:$BX$96,87,FALSE),0))/100),0)","v":0},{"$f":"IFERROR((O$106*(HLOOKUP(O$105,'Hilfsblatt Ber. Wirtsch Wirk 3'!$D$11:$BW$96,$A169,FALSE)+IF(O$105=$C169,HLOOKUP(O$105,'Hilfsblatt Ber. Wirtsch Wirk 3'!$D$11:$BX$96,87,FALSE),0))/100),0)","v":0},{"$f":"IFERROR((P$106*(HLOOKUP(P$105,'Hilfsblatt Ber. Wirtsch Wirk 3'!$D$11:$BW$96,$A169,FALSE)+IF(P$105=$C169,HLOOKUP(P$105,'Hilfsblatt Ber. Wirtsch Wirk 3'!$D$11:$BX$96,87,FALSE),0))/100),0)","v":0},{"$f":"IFERROR((Q$106*(HLOOKUP(Q$105,'Hilfsblatt Ber. Wirtsch Wirk 3'!$D$11:$BW$96,$A169,FALSE)+IF(Q$105=$C169,HLOOKUP(Q$105,'Hilfsblatt Ber. Wirtsch Wirk 3'!$D$11:$BX$96,87,FALSE),0))/100),0)","v":0},{"$f":"R$106*('Hilfsblatt Ber. Wirtsch Wirk 3'!BX74+'Hilfsblatt Ber. Wirtsch Wirk 3'!BX74*'Hilfsblatt Ber. Wirtsch Wirk 3'!CA74/'Hilfsblatt Ber. Wirtsch Wirk 3'!CB74)/100","v":0},0,{"$f":"S169*'Hilfsblatt Ber. Wirtsch Wirk 3'!BZ74/('Hilfsblatt Ber. Wirtsch Wirk 3'!CA74)","v":0},{"$f":"S169/'Hilfsblatt Ber. Wirtsch Wirk 3'!CC74","v":0},{"$f":"T169*('Hilfsblatt Ber. Wirtsch Wirk 4'!B$14/'Hilfsblatt Ber. Wirtsch Wirk 4'!B$13)","v":0},{"$f":"S169*'Hilfsblatt Ber. Wirtsch Wirk 3'!CD74","v":0}]
[65,{"$f":"B70","v":"80-82"},"Wach-, Sicherheitsdienstlg., wirtschaftl. Dienstleistg. a.n.g",{"$f":"IFERROR((D$106*(HLOOKUP(D$105,'Hilfsblatt Ber. Wirtsch Wirk 3'!$D$11:$BW$96,$A170,FALSE)+IF(D$105=$C170,HLOOKUP(D$105,'Hilfsblatt Ber. Wirtsch Wirk 3'!$D$11:$BX$96,87,FALSE),0))/100),0)","v":0},{"$f":"IFERROR((E$106*(HLOOKUP(E$105,'Hilfsblatt Ber. Wirtsch Wirk 3'!$D$11:$BW$96,$A170,FALSE)+IF(E$105=$C170,HLOOKUP(E$105,'Hilfsblatt Ber. Wirtsch Wirk 3'!$D$11:$BX$96,87,FALSE),0))/100),0)","v":0},{"$f":"IFERROR((F$106*(HLOOKUP(F$105,'Hilfsblatt Ber. Wirtsch Wirk 3'!$D$11:$BW$96,$A170,FALSE)+IF(F$105=$C170,HLOOKUP(F$105,'Hilfsblatt Ber. Wirtsch Wirk 3'!$D$11:$BX$96,87,FALSE),0))/100),0)","v":0},{"$f":"IFERROR((G$106*(HLOOKUP(G$105,'Hilfsblatt Ber. Wirtsch Wirk 3'!$D$11:$BW$96,$A170,FALSE)+IF(G$105=$C170,HLOOKUP(G$105,'Hilfsblatt Ber. Wirtsch Wirk 3'!$D$11:$BX$96,87,FALSE),0))/100),0)","v":0},{"$f":"IFERROR((H$106*(HLOOKUP(H$105,'Hilfsblatt Ber. Wirtsch Wirk 3'!$D$11:$BW$96,$A170,FALSE)+IF(H$105=$C170,HLOOKUP(H$105,'Hilfsblatt Ber. Wirtsch Wirk 3'!$D$11:$BX$96,87,FALSE),0))/100),0)","v":0},{"$f":"IFERROR((I$106*(HLOOKUP(I$105,'Hilfsblatt Ber. Wirtsch Wirk 3'!$D$11:$BW$96,$A170,FALSE)+IF(I$105=$C170,HLOOKUP(I$105,'Hilfsblatt Ber. Wirtsch Wirk 3'!$D$11:$BX$96,87,FALSE),0))/100),0)","v":0},{"$f":"IFERROR((J$106*(HLOOKUP(J$105,'Hilfsblatt Ber. Wirtsch Wirk 3'!$D$11:$BW$96,$A170,FALSE)+IF(J$105=$C170,HLOOKUP(J$105,'Hilfsblatt Ber. Wirtsch Wirk 3'!$D$11:$BX$96,87,FALSE),0))/100),0)","v":0},{"$f":"IFERROR((K$106*(HLOOKUP(K$105,'Hilfsblatt Ber. Wirtsch Wirk 3'!$D$11:$BW$96,$A170,FALSE)+IF(K$105=$C170,HLOOKUP(K$105,'Hilfsblatt Ber. Wirtsch Wirk 3'!$D$11:$BX$96,87,FALSE),0))/100),0)","v":0},{"$f":"IFERROR((L$106*(HLOOKUP(L$105,'Hilfsblatt Ber. Wirtsch Wirk 3'!$D$11:$BW$96,$A170,FALSE)+IF(L$105=$C170,HLOOKUP(L$105,'Hilfsblatt Ber. Wirtsch Wirk 3'!$D$11:$BX$96,87,FALSE),0))/100),0)","v":0},{"$f":"IFERROR((M$106*(HLOOKUP(M$105,'Hilfsblatt Ber. Wirtsch Wirk 3'!$D$11:$BW$96,$A170,FALSE)+IF(M$105=$C170,HLOOKUP(M$105,'Hilfsblatt Ber. Wirtsch Wirk 3'!$D$11:$BX$96,87,FALSE),0))/100),0)","v":0},{"$f":"IFERROR((N$106*(HLOOKUP(N$105,'Hilfsblatt Ber. Wirtsch Wirk 3'!$D$11:$BW$96,$A170,FALSE)+IF(N$105=$C170,HLOOKUP(N$105,'Hilfsblatt Ber. Wirtsch Wirk 3'!$D$11:$BX$96,87,FALSE),0))/100),0)","v":0},{"$f":"IFERROR((O$106*(HLOOKUP(O$105,'Hilfsblatt Ber. Wirtsch Wirk 3'!$D$11:$BW$96,$A170,FALSE)+IF(O$105=$C170,HLOOKUP(O$105,'Hilfsblatt Ber. Wirtsch Wirk 3'!$D$11:$BX$96,87,FALSE),0))/100),0)","v":0},{"$f":"IFERROR((P$106*(HLOOKUP(P$105,'Hilfsblatt Ber. Wirtsch Wirk 3'!$D$11:$BW$96,$A170,FALSE)+IF(P$105=$C170,HLOOKUP(P$105,'Hilfsblatt Ber. Wirtsch Wirk 3'!$D$11:$BX$96,87,FALSE),0))/100),0)","v":0},{"$f":"IFERROR((Q$106*(HLOOKUP(Q$105,'Hilfsblatt Ber. Wirtsch Wirk 3'!$D$11:$BW$96,$A170,FALSE)+IF(Q$105=$C170,HLOOKUP(Q$105,'Hilfsblatt Ber. Wirtsch Wirk 3'!$D$11:$BX$96,87,FALSE),0))/100),0)","v":0},{"$f":"R$106*('Hilfsblatt Ber. Wirtsch Wirk 3'!BX75+'Hilfsblatt Ber. Wirtsch Wirk 3'!BX75*'Hilfsblatt Ber. Wirtsch Wirk 3'!CA75/'Hilfsblatt Ber. Wirtsch Wirk 3'!CB75)/100","v":0},0,{"$f":"S170*'Hilfsblatt Ber. Wirtsch Wirk 3'!BZ75/('Hilfsblatt Ber. Wirtsch Wirk 3'!CA75)","v":0},{"$f":"S170/'Hilfsblatt Ber. Wirtsch Wirk 3'!CC75","v":0},{"$f":"T170*('Hilfsblatt Ber. Wirtsch Wirk 4'!B$14/'Hilfsblatt Ber. Wirtsch Wirk 4'!B$13)","v":0},{"$f":"S170*'Hilfsblatt Ber. Wirtsch Wirk 3'!CD75","v":0}]
[66,{"$f":"B71","v":"84.1-84.2"},"Dienstleistungen der öffentlichen Verwaltung und der Verteidigung",{"$f":"IFERROR((D$106*(HLOOKUP(D$105,'Hilfsblatt Ber. Wirtsch Wirk 3'!$D$11:$BW$96,$A171,FALSE)+IF(D$105=$C171,HLOOKUP(D$105,'Hilfsblatt Ber. Wirtsch Wirk 3'!$D$11:$BX$96,87,FALSE),0))/100),0)","v":0},{"$f":"IFERROR((E$106*(HLOOKUP(E$105,'Hilfsblatt Ber. Wirtsch Wirk 3'!$D$11:$BW$96,$A171,FALSE)+IF(E$105=$C171,HLOOKUP(E$105,'Hilfsblatt Ber. Wirtsch Wirk 3'!$D$11:$BX$96,87,FALSE),0))/100),0)","v":0},{"$f":"IFERROR((F$106*(HLOOKUP(F$105,'Hilfsblatt Ber. Wirtsch Wirk 3'!$D$11:$BW$96,$A171,FALSE)+IF(F$105=$C171,HLOOKUP(F$105,'Hilfsblatt Ber. Wirtsch Wirk 3'!$D$11:$BX$96,87,FALSE),0))/100),0)","v":0},{"$f":"IFERROR((G$106*(HLOOKUP(G$105,'Hilfsblatt Ber. Wirtsch Wirk 3'!$D$11:$BW$96,$A171,FALSE)+IF(G$105=$C171,HLOOKUP(G$105,'Hilfsblatt Ber. Wirtsch Wirk 3'!$D$11:$BX$96,87,FALSE),0))/100),0)","v":0},{"$f":"IFERROR((H$106*(HLOOKUP(H$105,'Hilfsblatt Ber. Wirtsch Wirk 3'!$D$11:$BW$96,$A171,FALSE)+IF(H$105=$C171,HLOOKUP(H$105,'Hilfsblatt Ber. Wirtsch Wirk 3'!$D$11:$BX$96,87,FALSE),0))/100),0)","v":0},{"$f":"IFERROR((I$106*(HLOOKUP(I$105,'Hilfsblatt Ber. Wirtsch Wirk 3'!$D$11:$BW$96,$A171,FALSE)+IF(I$105=$C171,HLOOKUP(I$105,'Hilfsblatt Ber. Wirtsch Wirk 3'!$D$11:$BX$96,87,FALSE),0))/100),0)","v":0},{"$f":"IFERROR((J$106*(HLOOKUP(J$105,'Hilfsblatt Ber. Wirtsch Wirk 3'!$D$11:$BW$96,$A171,FALSE)+IF(J$105=$C171,HLOOKUP(J$105,'Hilfsblatt Ber. Wirtsch Wirk 3'!$D$11:$BX$96,87,FALSE),0))/100),0)","v":0},{"$f":"IFERROR((K$106*(HLOOKUP(K$105,'Hilfsblatt Ber. Wirtsch Wirk 3'!$D$11:$BW$96,$A171,FALSE)+IF(K$105=$C171,HLOOKUP(K$105,'Hilfsblatt Ber. Wirtsch Wirk 3'!$D$11:$BX$96,87,FALSE),0))/100),0)","v":0},{"$f":"IFERROR((L$106*(HLOOKUP(L$105,'Hilfsblatt Ber. Wirtsch Wirk 3'!$D$11:$BW$96,$A171,FALSE)+IF(L$105=$C171,HLOOKUP(L$105,'Hilfsblatt Ber. Wirtsch Wirk 3'!$D$11:$BX$96,87,FALSE),0))/100),0)","v":0},{"$f":"IFERROR((M$106*(HLOOKUP(M$105,'Hilfsblatt Ber. Wirtsch Wirk 3'!$D$11:$BW$96,$A171,FALSE)+IF(M$105=$C171,HLOOKUP(M$105,'Hilfsblatt Ber. Wirtsch Wirk 3'!$D$11:$BX$96,87,FALSE),0))/100),0)","v":0},{"$f":"IFERROR((N$106*(HLOOKUP(N$105,'Hilfsblatt Ber. Wirtsch Wirk 3'!$D$11:$BW$96,$A171,FALSE)+IF(N$105=$C171,HLOOKUP(N$105,'Hilfsblatt Ber. Wirtsch Wirk 3'!$D$11:$BX$96,87,FALSE),0))/100),0)","v":0},{"$f":"IFERROR((O$106*(HLOOKUP(O$105,'Hilfsblatt Ber. Wirtsch Wirk 3'!$D$11:$BW$96,$A171,FALSE)+IF(O$105=$C171,HLOOKUP(O$105,'Hilfsblatt Ber. Wirtsch Wirk 3'!$D$11:$BX$96,87,FALSE),0))/100),0)","v":0},{"$f":"IFERROR((P$106*(HLOOKUP(P$105,'Hilfsblatt Ber. Wirtsch Wirk 3'!$D$11:$BW$96,$A171,FALSE)+IF(P$105=$C171,HLOOKUP(P$105,'Hilfsblatt Ber. Wirtsch Wirk 3'!$D$11:$BX$96,87,FALSE),0))/100),0)","v":0},{"$f":"IFERROR((Q$106*(HLOOKUP(Q$105,'Hilfsblatt Ber. Wirtsch Wirk 3'!$D$11:$BW$96,$A171,FALSE)+IF(Q$105=$C171,HLOOKUP(Q$105,'Hilfsblatt Ber. Wirtsch Wirk 3'!$D$11:$BX$96,87,FALSE),0))/100),0)","v":0},{"$f":"R$106*('Hilfsblatt Ber. Wirtsch Wirk 3'!BX76+'Hilfsblatt Ber. Wirtsch Wirk 3'!BX76*'Hilfsblatt Ber. Wirtsch Wirk 3'!CA76/'Hilfsblatt Ber. Wirtsch Wirk 3'!CB76)/100","v":0},0,{"$f":"S171*'Hilfsblatt Ber. Wirtsch Wirk 3'!BZ76/('Hilfsblatt Ber. Wirtsch Wirk 3'!CA76)","v":0},{"$f":"S171/'Hilfsblatt Ber. Wirtsch Wirk 3'!CC76","v":0},{"$f":"T171*('Hilfsblatt Ber. Wirtsch Wirk 4'!B$14/'Hilfsblatt Ber. Wirtsch Wirk 4'!B$13)","v":0},{"$f":"S171*'Hilfsblatt Ber. Wirtsch Wirk 3'!CD76","v":0}]
[67,{"$f":"B72","v":"84.3"},"Dienstleistungen der Sozialversicherung",{"$f":"IFERROR((D$106*(HLOOKUP(D$105,'Hilfsblatt Ber. Wirtsch Wirk 3'!$D$11:$BW$96,$A172,FALSE)+IF(D$105=$C172,HLOOKUP(D$105,'Hilfsblatt Ber. Wirtsch Wirk 3'!$D$11:$BX$96,87,FALSE),0))/100),0)","v":0},{"$f":"IFERROR((E$106*(HLOOKUP(E$105,'Hilfsblatt Ber. Wirtsch Wirk 3'!$D$11:$BW$96,$A172,FALSE)+IF(E$105=$C172,HLOOKUP(E$105,'Hilfsblatt Ber. Wirtsch Wirk 3'!$D$11:$BX$96,87,FALSE),0))/100),0)","v":0},{"$f":"IFERROR((F$106*(HLOOKUP(F$105,'Hilfsblatt Ber. Wirtsch Wirk 3'!$D$11:$BW$96,$A172,FALSE)+IF(F$105=$C172,HLOOKUP(F$105,'Hilfsblatt Ber. Wirtsch Wirk 3'!$D$11:$BX$96,87,FALSE),0))/100),0)","v":0},{"$f":"IFERROR((G$106*(HLOOKUP(G$105,'Hilfsblatt Ber. Wirtsch Wirk 3'!$D$11:$BW$96,$A172,FALSE)+IF(G$105=$C172,HLOOKUP(G$105,'Hilfsblatt Ber. Wirtsch Wirk 3'!$D$11:$BX$96,87,FALSE),0))/100),0)","v":0},{"$f":"IFERROR((H$106*(HLOOKUP(H$105,'Hilfsblatt Ber. Wirtsch Wirk 3'!$D$11:$BW$96,$A172,FALSE)+IF(H$105=$C172,HLOOKUP(H$105,'Hilfsblatt Ber. Wirtsch Wirk 3'!$D$11:$BX$96,87,FALSE),0))/100),0)","v":0},{"$f":"IFERROR((I$106*(HLOOKUP(I$105,'Hilfsblatt Ber. Wirtsch Wirk 3'!$D$11:$BW$96,$A172,FALSE)+IF(I$105=$C172,HLOOKUP(I$105,'Hilfsblatt Ber. Wirtsch Wirk 3'!$D$11:$BX$96,87,FALSE),0))/100),0)","v":0},{"$f":"IFERROR((J$106*(HLOOKUP(J$105,'Hilfsblatt Ber. Wirtsch Wirk 3'!$D$11:$BW$96,$A172,FALSE)+IF(J$105=$C172,HLOOKUP(J$105,'Hilfsblatt Ber. Wirtsch Wirk 3'!$D$11:$BX$96,87,FALSE),0))/100),0)","v":0},{"$f":"IFERROR((K$106*(HLOOKUP(K$105,'Hilfsblatt Ber. Wirtsch Wirk 3'!$D$11:$BW$96,$A172,FALSE)+IF(K$105=$C172,HLOOKUP(K$105,'Hilfsblatt Ber. Wirtsch Wirk 3'!$D$11:$BX$96,87,FALSE),0))/100),0)","v":0},{"$f":"IFERROR((L$106*(HLOOKUP(L$105,'Hilfsblatt Ber. Wirtsch Wirk 3'!$D$11:$BW$96,$A172,FALSE)+IF(L$105=$C172,HLOOKUP(L$105,'Hilfsblatt Ber. Wirtsch Wirk 3'!$D$11:$BX$96,87,FALSE),0))/100),0)","v":0},{"$f":"IFERROR((M$106*(HLOOKUP(M$105,'Hilfsblatt Ber. Wirtsch Wirk 3'!$D$11:$BW$96,$A172,FALSE)+IF(M$105=$C172,HLOOKUP(M$105,'Hilfsblatt Ber. Wirtsch Wirk 3'!$D$11:$BX$96,87,FALSE),0))/100),0)","v":0},{"$f":"IFERROR((N$106*(HLOOKUP(N$105,'Hilfsblatt Ber. Wirtsch Wirk 3'!$D$11:$BW$96,$A172,FALSE)+IF(N$105=$C172,HLOOKUP(N$105,'Hilfsblatt Ber. Wirtsch Wirk 3'!$D$11:$BX$96,87,FALSE),0))/100),0)","v":0},{"$f":"IFERROR((O$106*(HLOOKUP(O$105,'Hilfsblatt Ber. Wirtsch Wirk 3'!$D$11:$BW$96,$A172,FALSE)+IF(O$105=$C172,HLOOKUP(O$105,'Hilfsblatt Ber. Wirtsch Wirk 3'!$D$11:$BX$96,87,FALSE),0))/100),0)","v":0},{"$f":"IFERROR((P$106*(HLOOKUP(P$105,'Hilfsblatt Ber. Wirtsch Wirk 3'!$D$11:$BW$96,$A172,FALSE)+IF(P$105=$C172,HLOOKUP(P$105,'Hilfsblatt Ber. Wirtsch Wirk 3'!$D$11:$BX$96,87,FALSE),0))/100),0)","v":0},{"$f":"IFERROR((Q$106*(HLOOKUP(Q$105,'Hilfsblatt Ber. Wirtsch Wirk 3'!$D$11:$BW$96,$A172,FALSE)+IF(Q$105=$C172,HLOOKUP(Q$105,'Hilfsblatt Ber. Wirtsch Wirk 3'!$D$11:$BX$96,87,FALSE),0))/100),0)","v":0},{"$f":"R$106*('Hilfsblatt Ber. Wirtsch Wirk 3'!BX77+'Hilfsblatt Ber. Wirtsch Wirk 3'!BX77*'Hilfsblatt Ber. Wirtsch Wirk 3'!CA77/'Hilfsblatt Ber. Wirtsch Wirk 3'!CB77)/100","v":0},0,{"$f":"S172*'Hilfsblatt Ber. Wirtsch Wirk 3'!BZ77/('Hilfsblatt Ber. Wirtsch Wirk 3'!CA77)","v":0},{"$f":"S172/'Hilfsblatt Ber. Wirtsch Wirk 3'!CC77","v":0},{"$f":"T172*('Hilfsblatt Ber. Wirtsch Wirk 4'!B$14/'Hilfsblatt Ber. Wirtsch Wirk 4'!B$13)","v":0},{"$f":"S172*'Hilfsblatt Ber. Wirtsch Wirk 3'!CD77","v":0}]
[68,{"$f":"B73","v":"85"},"Erziehungs- und Unterrichtsdienstleistungen",{"$f":"IFERROR((D$106*(HLOOKUP(D$105,'Hilfsblatt Ber. Wirtsch Wirk 3'!$D$11:$BW$96,$A173,FALSE)+IF(D$105=$C173,HLOOKUP(D$105,'Hilfsblatt Ber. Wirtsch Wirk 3'!$D$11:$BX$96,87,FALSE),0))/100),0)","v":0},{"$f":"IFERROR((E$106*(HLOOKUP(E$105,'Hilfsblatt Ber. Wirtsch Wirk 3'!$D$11:$BW$96,$A173,FALSE)+IF(E$105=$C173,HLOOKUP(E$105,'Hilfsblatt Ber. Wirtsch Wirk 3'!$D$11:$BX$96,87,FALSE),0))/100),0)","v":0},{"$f":"IFERROR((F$106*(HLOOKUP(F$105,'Hilfsblatt Ber. Wirtsch Wirk 3'!$D$11:$BW$96,$A173,FALSE)+IF(F$105=$C173,HLOOKUP(F$105,'Hilfsblatt Ber. Wirtsch Wirk 3'!$D$11:$BX$96,87,FALSE),0))/100),0)","v":0},{"$f":"IFERROR((G$106*(HLOOKUP(G$105,'Hilfsblatt Ber. Wirtsch Wirk 3'!$D$11:$BW$96,$A173,FALSE)+IF(G$105=$C173,HLOOKUP(G$105,'Hilfsblatt Ber. Wirtsch Wirk 3'!$D$11:$BX$96,87,FALSE),0))/100),0)","v":0},{"$f":"IFERROR((H$106*(HLOOKUP(H$105,'Hilfsblatt Ber. Wirtsch Wirk 3'!$D$11:$BW$96,$A173,FALSE)+IF(H$105=$C173,HLOOKUP(H$105,'Hilfsblatt Ber. Wirtsch Wirk 3'!$D$11:$BX$96,87,FALSE),0))/100),0)","v":0},{"$f":"IFERROR((I$106*(HLOOKUP(I$105,'Hilfsblatt Ber. Wirtsch Wirk 3'!$D$11:$BW$96,$A173,FALSE)+IF(I$105=$C173,HLOOKUP(I$105,'Hilfsblatt Ber. Wirtsch Wirk 3'!$D$11:$BX$96,87,FALSE),0))/100),0)","v":0},{"$f":"IFERROR((J$106*(HLOOKUP(J$105,'Hilfsblatt Ber. Wirtsch Wirk 3'!$D$11:$BW$96,$A173,FALSE)+IF(J$105=$C173,HLOOKUP(J$105,'Hilfsblatt Ber. Wirtsch Wirk 3'!$D$11:$BX$96,87,FALSE),0))/100),0)","v":0},{"$f":"IFERROR((K$106*(HLOOKUP(K$105,'Hilfsblatt Ber. Wirtsch Wirk 3'!$D$11:$BW$96,$A173,FALSE)+IF(K$105=$C173,HLOOKUP(K$105,'Hilfsblatt Ber. Wirtsch Wirk 3'!$D$11:$BX$96,87,FALSE),0))/100),0)","v":0},{"$f":"IFERROR((L$106*(HLOOKUP(L$105,'Hilfsblatt Ber. Wirtsch Wirk 3'!$D$11:$BW$96,$A173,FALSE)+IF(L$105=$C173,HLOOKUP(L$105,'Hilfsblatt Ber. Wirtsch Wirk 3'!$D$11:$BX$96,87,FALSE),0))/100),0)","v":0},{"$f":"IFERROR((M$106*(HLOOKUP(M$105,'Hilfsblatt Ber. Wirtsch Wirk 3'!$D$11:$BW$96,$A173,FALSE)+IF(M$105=$C173,HLOOKUP(M$105,'Hilfsblatt Ber. Wirtsch Wirk 3'!$D$11:$BX$96,87,FALSE),0))/100),0)","v":0},{"$f":"IFERROR((N$106*(HLOOKUP(N$105,'Hilfsblatt Ber. Wirtsch Wirk 3'!$D$11:$BW$96,$A173,FALSE)+IF(N$105=$C173,HLOOKUP(N$105,'Hilfsblatt Ber. Wirtsch Wirk 3'!$D$11:$BX$96,87,FALSE),0))/100),0)","v":0},{"$f":"IFERROR((O$106*(HLOOKUP(O$105,'Hilfsblatt Ber. Wirtsch Wirk 3'!$D$11:$BW$96,$A173,FALSE)+IF(O$105=$C173,HLOOKUP(O$105,'Hilfsblatt Ber. Wirtsch Wirk 3'!$D$11:$BX$96,87,FALSE),0))/100),0)","v":0},{"$f":"IFERROR((P$106*(HLOOKUP(P$105,'Hilfsblatt Ber. Wirtsch Wirk 3'!$D$11:$BW$96,$A173,FALSE)+IF(P$105=$C173,HLOOKUP(P$105,'Hilfsblatt Ber. Wirtsch Wirk 3'!$D$11:$BX$96,87,FALSE),0))/100),0)","v":0},{"$f":"IFERROR((Q$106*(HLOOKUP(Q$105,'Hilfsblatt Ber. Wirtsch Wirk 3'!$D$11:$BW$96,$A173,FALSE)+IF(Q$105=$C173,HLOOKUP(Q$105,'Hilfsblatt Ber. Wirtsch Wirk 3'!$D$11:$BX$96,87,FALSE),0))/100),0)","v":0},{"$f":"R$106*('Hilfsblatt Ber. Wirtsch Wirk 3'!BX78+'Hilfsblatt Ber. Wirtsch Wirk 3'!BX78*'Hilfsblatt Ber. Wirtsch Wirk 3'!CA78/'Hilfsblatt Ber. Wirtsch Wirk 3'!CB78)/100","v":0},0,{"$f":"S173*'Hilfsblatt Ber. Wirtsch Wirk 3'!BZ78/('Hilfsblatt Ber. Wirtsch Wirk 3'!CA78)","v":0},{"$f":"S173/'Hilfsblatt Ber. Wirtsch Wirk 3'!CC78","v":0},{"$f":"T173*('Hilfsblatt Ber. Wirtsch Wirk 4'!B$14/'Hilfsblatt Ber. Wirtsch Wirk 4'!B$13)","v":0},{"$f":"S173*'Hilfsblatt Ber. Wirtsch Wirk 3'!CD78","v":0}]
[69,{"$f":"B74","v":"86"},"Dienstleistungen des Gesundheitswesens ",{"$f":"IFERROR((D$106*(HLOOKUP(D$105,'Hilfsblatt Ber. Wirtsch Wirk 3'!$D$11:$BW$96,$A174,FALSE)+IF(D$105=$C174,HLOOKUP(D$105,'Hilfsblatt Ber. Wirtsch Wirk 3'!$D$11:$BX$96,87,FALSE),0))/100),0)","v":0},{"$f":"IFERROR((E$106*(HLOOKUP(E$105,'Hilfsblatt Ber. Wirtsch Wirk 3'!$D$11:$BW$96,$A174,FALSE)+IF(E$105=$C174,HLOOKUP(E$105,'Hilfsblatt Ber. Wirtsch Wirk 3'!$D$11:$BX$96,87,FALSE),0))/100),0)","v":0},{"$f":"IFERROR((F$106*(HLOOKUP(F$105,'Hilfsblatt Ber. Wirtsch Wirk 3'!$D$11:$BW$96,$A174,FALSE)+IF(F$105=$C174,HLOOKUP(F$105,'Hilfsblatt Ber. Wirtsch Wirk 3'!$D$11:$BX$96,87,FALSE),0))/100),0)","v":0},{"$f":"IFERROR((G$106*(HLOOKUP(G$105,'Hilfsblatt Ber. Wirtsch Wirk 3'!$D$11:$BW$96,$A174,FALSE)+IF(G$105=$C174,HLOOKUP(G$105,'Hilfsblatt Ber. Wirtsch Wirk 3'!$D$11:$BX$96,87,FALSE),0))/100),0)","v":0},{"$f":"IFERROR((H$106*(HLOOKUP(H$105,'Hilfsblatt Ber. Wirtsch Wirk 3'!$D$11:$BW$96,$A174,FALSE)+IF(H$105=$C174,HLOOKUP(H$105,'Hilfsblatt Ber. Wirtsch Wirk 3'!$D$11:$BX$96,87,FALSE),0))/100),0)","v":0},{"$f":"IFERROR((I$106*(HLOOKUP(I$105,'Hilfsblatt Ber. Wirtsch Wirk 3'!$D$11:$BW$96,$A174,FALSE)+IF(I$105=$C174,HLOOKUP(I$105,'Hilfsblatt Ber. Wirtsch Wirk 3'!$D$11:$BX$96,87,FALSE),0))/100),0)","v":0},{"$f":"IFERROR((J$106*(HLOOKUP(J$105,'Hilfsblatt Ber. Wirtsch Wirk 3'!$D$11:$BW$96,$A174,FALSE)+IF(J$105=$C174,HLOOKUP(J$105,'Hilfsblatt Ber. Wirtsch Wirk 3'!$D$11:$BX$96,87,FALSE),0))/100),0)","v":0},{"$f":"IFERROR((K$106*(HLOOKUP(K$105,'Hilfsblatt Ber. Wirtsch Wirk 3'!$D$11:$BW$96,$A174,FALSE)+IF(K$105=$C174,HLOOKUP(K$105,'Hilfsblatt Ber. Wirtsch Wirk 3'!$D$11:$BX$96,87,FALSE),0))/100),0)","v":0},{"$f":"IFERROR((L$106*(HLOOKUP(L$105,'Hilfsblatt Ber. Wirtsch Wirk 3'!$D$11:$BW$96,$A174,FALSE)+IF(L$105=$C174,HLOOKUP(L$105,'Hilfsblatt Ber. Wirtsch Wirk 3'!$D$11:$BX$96,87,FALSE),0))/100),0)","v":0},{"$f":"IFERROR((M$106*(HLOOKUP(M$105,'Hilfsblatt Ber. Wirtsch Wirk 3'!$D$11:$BW$96,$A174,FALSE)+IF(M$105=$C174,HLOOKUP(M$105,'Hilfsblatt Ber. Wirtsch Wirk 3'!$D$11:$BX$96,87,FALSE),0))/100),0)","v":0},{"$f":"IFERROR((N$106*(HLOOKUP(N$105,'Hilfsblatt Ber. Wirtsch Wirk 3'!$D$11:$BW$96,$A174,FALSE)+IF(N$105=$C174,HLOOKUP(N$105,'Hilfsblatt Ber. Wirtsch Wirk 3'!$D$11:$BX$96,87,FALSE),0))/100),0)","v":0},{"$f":"IFERROR((O$106*(HLOOKUP(O$105,'Hilfsblatt Ber. Wirtsch Wirk 3'!$D$11:$BW$96,$A174,FALSE)+IF(O$105=$C174,HLOOKUP(O$105,'Hilfsblatt Ber. Wirtsch Wirk 3'!$D$11:$BX$96,87,FALSE),0))/100),0)","v":0},{"$f":"IFERROR((P$106*(HLOOKUP(P$105,'Hilfsblatt Ber. Wirtsch Wirk 3'!$D$11:$BW$96,$A174,FALSE)+IF(P$105=$C174,HLOOKUP(P$105,'Hilfsblatt Ber. Wirtsch Wirk 3'!$D$11:$BX$96,87,FALSE),0))/100),0)","v":0},{"$f":"IFERROR((Q$106*(HLOOKUP(Q$105,'Hilfsblatt Ber. Wirtsch Wirk 3'!$D$11:$BW$96,$A174,FALSE)+IF(Q$105=$C174,HLOOKUP(Q$105,'Hilfsblatt Ber. Wirtsch Wirk 3'!$D$11:$BX$96,87,FALSE),0))/100),0)","v":0},{"$f":"R$106*('Hilfsblatt Ber. Wirtsch Wirk 3'!BX79+'Hilfsblatt Ber. Wirtsch Wirk 3'!BX79*'Hilfsblatt Ber. Wirtsch Wirk 3'!CA79/'Hilfsblatt Ber. Wirtsch Wirk 3'!CB79)/100","v":0},0,{"$f":"S174*'Hilfsblatt Ber. Wirtsch Wirk 3'!BZ79/('Hilfsblatt Ber. Wirtsch Wirk 3'!CA79)","v":0},{"$f":"S174/'Hilfsblatt Ber. Wirtsch Wirk 3'!CC79","v":0},{"$f":"T174*('Hilfsblatt Ber. Wirtsch Wirk 4'!B$14/'Hilfsblatt Ber. Wirtsch Wirk 4'!B$13)","v":0},{"$f":"S174*'Hilfsblatt Ber. Wirtsch Wirk 3'!CD79","v":0}]
[70,{"$f":"B75","v":"87-88"},"Dienstleistungen von Heimen und des Sozialwesens ",{"$f":"IFERROR((D$106*(HLOOKUP(D$105,'Hilfsblatt Ber. Wirtsch Wirk 3'!$D$11:$BW$96,$A175,FALSE)+IF(D$105=$C175,HLOOKUP(D$105,'Hilfsblatt Ber. Wirtsch Wirk 3'!$D$11:$BX$96,87,FALSE),0))/100),0)","v":0},{"$f":"IFERROR((E$106*(HLOOKUP(E$105,'Hilfsblatt Ber. Wirtsch Wirk 3'!$D$11:$BW$96,$A175,FALSE)+IF(E$105=$C175,HLOOKUP(E$105,'Hilfsblatt Ber. Wirtsch Wirk 3'!$D$11:$BX$96,87,FALSE),0))/100),0)","v":0},{"$f":"IFERROR((F$106*(HLOOKUP(F$105,'Hilfsblatt Ber. Wirtsch Wirk 3'!$D$11:$BW$96,$A175,FALSE)+IF(F$105=$C175,HLOOKUP(F$105,'Hilfsblatt Ber. Wirtsch Wirk 3'!$D$11:$BX$96,87,FALSE),0))/100),0)","v":0},{"$f":"IFERROR((G$106*(HLOOKUP(G$105,'Hilfsblatt Ber. Wirtsch Wirk 3'!$D$11:$BW$96,$A175,FALSE)+IF(G$105=$C175,HLOOKUP(G$105,'Hilfsblatt Ber. Wirtsch Wirk 3'!$D$11:$BX$96,87,FALSE),0))/100),0)","v":0},{"$f":"IFERROR((H$106*(HLOOKUP(H$105,'Hilfsblatt Ber. Wirtsch Wirk 3'!$D$11:$BW$96,$A175,FALSE)+IF(H$105=$C175,HLOOKUP(H$105,'Hilfsblatt Ber. Wirtsch Wirk 3'!$D$11:$BX$96,87,FALSE),0))/100),0)","v":0},{"$f":"IFERROR((I$106*(HLOOKUP(I$105,'Hilfsblatt Ber. Wirtsch Wirk 3'!$D$11:$BW$96,$A175,FALSE)+IF(I$105=$C175,HLOOKUP(I$105,'Hilfsblatt Ber. Wirtsch Wirk 3'!$D$11:$BX$96,87,FALSE),0))/100),0)","v":0},{"$f":"IFERROR((J$106*(HLOOKUP(J$105,'Hilfsblatt Ber. Wirtsch Wirk 3'!$D$11:$BW$96,$A175,FALSE)+IF(J$105=$C175,HLOOKUP(J$105,'Hilfsblatt Ber. Wirtsch Wirk 3'!$D$11:$BX$96,87,FALSE),0))/100),0)","v":0},{"$f":"IFERROR((K$106*(HLOOKUP(K$105,'Hilfsblatt Ber. Wirtsch Wirk 3'!$D$11:$BW$96,$A175,FALSE)+IF(K$105=$C175,HLOOKUP(K$105,'Hilfsblatt Ber. Wirtsch Wirk 3'!$D$11:$BX$96,87,FALSE),0))/100),0)","v":0},{"$f":"IFERROR((L$106*(HLOOKUP(L$105,'Hilfsblatt Ber. Wirtsch Wirk 3'!$D$11:$BW$96,$A175,FALSE)+IF(L$105=$C175,HLOOKUP(L$105,'Hilfsblatt Ber. Wirtsch Wirk 3'!$D$11:$BX$96,87,FALSE),0))/100),0)","v":0},{"$f":"IFERROR((M$106*(HLOOKUP(M$105,'Hilfsblatt Ber. Wirtsch Wirk 3'!$D$11:$BW$96,$A175,FALSE)+IF(M$105=$C175,HLOOKUP(M$105,'Hilfsblatt Ber. Wirtsch Wirk 3'!$D$11:$BX$96,87,FALSE),0))/100),0)","v":0},{"$f":"IFERROR((N$106*(HLOOKUP(N$105,'Hilfsblatt Ber. Wirtsch Wirk 3'!$D$11:$BW$96,$A175,FALSE)+IF(N$105=$C175,HLOOKUP(N$105,'Hilfsblatt Ber. Wirtsch Wirk 3'!$D$11:$BX$96,87,FALSE),0))/100),0)","v":0},{"$f":"IFERROR((O$106*(HLOOKUP(O$105,'Hilfsblatt Ber. Wirtsch Wirk 3'!$D$11:$BW$96,$A175,FALSE)+IF(O$105=$C175,HLOOKUP(O$105,'Hilfsblatt Ber. Wirtsch Wirk 3'!$D$11:$BX$96,87,FALSE),0))/100),0)","v":0},{"$f":"IFERROR((P$106*(HLOOKUP(P$105,'Hilfsblatt Ber. Wirtsch Wirk 3'!$D$11:$BW$96,$A175,FALSE)+IF(P$105=$C175,HLOOKUP(P$105,'Hilfsblatt Ber. Wirtsch Wirk 3'!$D$11:$BX$96,87,FALSE),0))/100),0)","v":0},{"$f":"IFERROR((Q$106*(HLOOKUP(Q$105,'Hilfsblatt Ber. Wirtsch Wirk 3'!$D$11:$BW$96,$A175,FALSE)+IF(Q$105=$C175,HLOOKUP(Q$105,'Hilfsblatt Ber. Wirtsch Wirk 3'!$D$11:$BX$96,87,FALSE),0))/100),0)","v":0},{"$f":"R$106*('Hilfsblatt Ber. Wirtsch Wirk 3'!BX80+'Hilfsblatt Ber. Wirtsch Wirk 3'!BX80*'Hilfsblatt Ber. Wirtsch Wirk 3'!CA80/'Hilfsblatt Ber. Wirtsch Wirk 3'!CB80)/100","v":0},0,{"$f":"S175*'Hilfsblatt Ber. Wirtsch Wirk 3'!BZ80/('Hilfsblatt Ber. Wirtsch Wirk 3'!CA80)","v":0},{"$f":"S175/'Hilfsblatt Ber. Wirtsch Wirk 3'!CC80","v":0},{"$f":"T175*('Hilfsblatt Ber. Wirtsch Wirk 4'!B$14/'Hilfsblatt Ber. Wirtsch Wirk 4'!B$13)","v":0},{"$f":"S175*'Hilfsblatt Ber. Wirtsch Wirk 3'!CD80","v":0}]
[71,{"$f":"B76","v":"90-92"},"Dienstleistungen der Kunst,  der Kultur und des Glücksspiels",{"$f":"IFERROR((D$106*(HLOOKUP(D$105,'Hilfsblatt Ber. Wirtsch Wirk 3'!$D$11:$BW$96,$A176,FALSE)+IF(D$105=$C176,HLOOKUP(D$105,'Hilfsblatt Ber. Wirtsch Wirk 3'!$D$11:$BX$96,87,FALSE),0))/100),0)","v":0},{"$f":"IFERROR((E$106*(HLOOKUP(E$105,'Hilfsblatt Ber. Wirtsch Wirk 3'!$D$11:$BW$96,$A176,FALSE)+IF(E$105=$C176,HLOOKUP(E$105,'Hilfsblatt Ber. Wirtsch Wirk 3'!$D$11:$BX$96,87,FALSE),0))/100),0)","v":0},{"$f":"IFERROR((F$106*(HLOOKUP(F$105,'Hilfsblatt Ber. Wirtsch Wirk 3'!$D$11:$BW$96,$A176,FALSE)+IF(F$105=$C176,HLOOKUP(F$105,'Hilfsblatt Ber. Wirtsch Wirk 3'!$D$11:$BX$96,87,FALSE),0))/100),0)","v":0},{"$f":"IFERROR((G$106*(HLOOKUP(G$105,'Hilfsblatt Ber. Wirtsch Wirk 3'!$D$11:$BW$96,$A176,FALSE)+IF(G$105=$C176,HLOOKUP(G$105,'Hilfsblatt Ber. Wirtsch Wirk 3'!$D$11:$BX$96,87,FALSE),0))/100),0)","v":0},{"$f":"IFERROR((H$106*(HLOOKUP(H$105,'Hilfsblatt Ber. Wirtsch Wirk 3'!$D$11:$BW$96,$A176,FALSE)+IF(H$105=$C176,HLOOKUP(H$105,'Hilfsblatt Ber. Wirtsch Wirk 3'!$D$11:$BX$96,87,FALSE),0))/100),0)","v":0},{"$f":"IFERROR((I$106*(HLOOKUP(I$105,'Hilfsblatt Ber. Wirtsch Wirk 3'!$D$11:$BW$96,$A176,FALSE)+IF(I$105=$C176,HLOOKUP(I$105,'Hilfsblatt Ber. Wirtsch Wirk 3'!$D$11:$BX$96,87,FALSE),0))/100),0)","v":0},{"$f":"IFERROR((J$106*(HLOOKUP(J$105,'Hilfsblatt Ber. Wirtsch Wirk 3'!$D$11:$BW$96,$A176,FALSE)+IF(J$105=$C176,HLOOKUP(J$105,'Hilfsblatt Ber. Wirtsch Wirk 3'!$D$11:$BX$96,87,FALSE),0))/100),0)","v":0},{"$f":"IFERROR((K$106*(HLOOKUP(K$105,'Hilfsblatt Ber. Wirtsch Wirk 3'!$D$11:$BW$96,$A176,FALSE)+IF(K$105=$C176,HLOOKUP(K$105,'Hilfsblatt Ber. Wirtsch Wirk 3'!$D$11:$BX$96,87,FALSE),0))/100),0)","v":0},{"$f":"IFERROR((L$106*(HLOOKUP(L$105,'Hilfsblatt Ber. Wirtsch Wirk 3'!$D$11:$BW$96,$A176,FALSE)+IF(L$105=$C176,HLOOKUP(L$105,'Hilfsblatt Ber. Wirtsch Wirk 3'!$D$11:$BX$96,87,FALSE),0))/100),0)","v":0},{"$f":"IFERROR((M$106*(HLOOKUP(M$105,'Hilfsblatt Ber. Wirtsch Wirk 3'!$D$11:$BW$96,$A176,FALSE)+IF(M$105=$C176,HLOOKUP(M$105,'Hilfsblatt Ber. Wirtsch Wirk 3'!$D$11:$BX$96,87,FALSE),0))/100),0)","v":0},{"$f":"IFERROR((N$106*(HLOOKUP(N$105,'Hilfsblatt Ber. Wirtsch Wirk 3'!$D$11:$BW$96,$A176,FALSE)+IF(N$105=$C176,HLOOKUP(N$105,'Hilfsblatt Ber. Wirtsch Wirk 3'!$D$11:$BX$96,87,FALSE),0))/100),0)","v":0},{"$f":"IFERROR((O$106*(HLOOKUP(O$105,'Hilfsblatt Ber. Wirtsch Wirk 3'!$D$11:$BW$96,$A176,FALSE)+IF(O$105=$C176,HLOOKUP(O$105,'Hilfsblatt Ber. Wirtsch Wirk 3'!$D$11:$BX$96,87,FALSE),0))/100),0)","v":0},{"$f":"IFERROR((P$106*(HLOOKUP(P$105,'Hilfsblatt Ber. Wirtsch Wirk 3'!$D$11:$BW$96,$A176,FALSE)+IF(P$105=$C176,HLOOKUP(P$105,'Hilfsblatt Ber. Wirtsch Wirk 3'!$D$11:$BX$96,87,FALSE),0))/100),0)","v":0},{"$f":"IFERROR((Q$106*(HLOOKUP(Q$105,'Hilfsblatt Ber. Wirtsch Wirk 3'!$D$11:$BW$96,$A176,FALSE)+IF(Q$105=$C176,HLOOKUP(Q$105,'Hilfsblatt Ber. Wirtsch Wirk 3'!$D$11:$BX$96,87,FALSE),0))/100),0)","v":0},{"$f":"R$106*('Hilfsblatt Ber. Wirtsch Wirk 3'!BX81+'Hilfsblatt Ber. Wirtsch Wirk 3'!BX81*'Hilfsblatt Ber. Wirtsch Wirk 3'!CA81/'Hilfsblatt Ber. Wirtsch Wirk 3'!CB81)/100","v":0},{"$f":"SUM(D176:R176)","v":0},{"$f":"S176*'Hilfsblatt Ber. Wirtsch Wirk 3'!BZ81/('Hilfsblatt Ber. Wirtsch Wirk 3'!CA81)","v":0},{"$f":"S176/'Hilfsblatt Ber. Wirtsch Wirk 3'!CC81","v":0},{"$f":"T176*('Hilfsblatt Ber. Wirtsch Wirk 4'!B$14/'Hilfsblatt Ber. Wirtsch Wirk 4'!B$13)","v":0},{"$f":"S176*'Hilfsblatt Ber. Wirtsch Wirk 3'!CD81","v":0}]
[72,{"$f":"B77","v":"93"},"Dienstleistungen des Sports, der Unterhaltung und der Erholung",{"$f":"IFERROR((D$106*(HLOOKUP(D$105,'Hilfsblatt Ber. Wirtsch Wirk 3'!$D$11:$BW$96,$A177,FALSE)+IF(D$105=$C177,HLOOKUP(D$105,'Hilfsblatt Ber. Wirtsch Wirk 3'!$D$11:$BX$96,87,FALSE),0))/100),0)","v":0},{"$f":"IFERROR((E$106*(HLOOKUP(E$105,'Hilfsblatt Ber. Wirtsch Wirk 3'!$D$11:$BW$96,$A177,FALSE)+IF(E$105=$C177,HLOOKUP(E$105,'Hilfsblatt Ber. Wirtsch Wirk 3'!$D$11:$BX$96,87,FALSE),0))/100),0)","v":0},{"$f":"IFERROR((F$106*(HLOOKUP(F$105,'Hilfsblatt Ber. Wirtsch Wirk 3'!$D$11:$BW$96,$A177,FALSE)+IF(F$105=$C177,HLOOKUP(F$105,'Hilfsblatt Ber. Wirtsch Wirk 3'!$D$11:$BX$96,87,FALSE),0))/100),0)","v":0},{"$f":"IFERROR((G$106*(HLOOKUP(G$105,'Hilfsblatt Ber. Wirtsch Wirk 3'!$D$11:$BW$96,$A177,FALSE)+IF(G$105=$C177,HLOOKUP(G$105,'Hilfsblatt Ber. Wirtsch Wirk 3'!$D$11:$BX$96,87,FALSE),0))/100),0)","v":0},{"$f":"IFERROR((H$106*(HLOOKUP(H$105,'Hilfsblatt Ber. Wirtsch Wirk 3'!$D$11:$BW$96,$A177,FALSE)+IF(H$105=$C177,HLOOKUP(H$105,'Hilfsblatt Ber. Wirtsch Wirk 3'!$D$11:$BX$96,87,FALSE),0))/100),0)","v":0},{"$f":"IFERROR((I$106*(HLOOKUP(I$105,'Hilfsblatt Ber. Wirtsch Wirk 3'!$D$11:$BW$96,$A177,FALSE)+IF(I$105=$C177,HLOOKUP(I$105,'Hilfsblatt Ber. Wirtsch Wirk 3'!$D$11:$BX$96,87,FALSE),0))/100),0)","v":0},{"$f":"IFERROR((J$106*(HLOOKUP(J$105,'Hilfsblatt Ber. Wirtsch Wirk 3'!$D$11:$BW$96,$A177,FALSE)+IF(J$105=$C177,HLOOKUP(J$105,'Hilfsblatt Ber. Wirtsch Wirk 3'!$D$11:$BX$96,87,FALSE),0))/100),0)","v":0},{"$f":"IFERROR((K$106*(HLOOKUP(K$105,'Hilfsblatt Ber. Wirtsch Wirk 3'!$D$11:$BW$96,$A177,FALSE)+IF(K$105=$C177,HLOOKUP(K$105,'Hilfsblatt Ber. Wirtsch Wirk 3'!$D$11:$BX$96,87,FALSE),0))/100),0)","v":0},{"$f":"IFERROR((L$106*(HLOOKUP(L$105,'Hilfsblatt Ber. Wirtsch Wirk 3'!$D$11:$BW$96,$A177,FALSE)+IF(L$105=$C177,HLOOKUP(L$105,'Hilfsblatt Ber. Wirtsch Wirk 3'!$D$11:$BX$96,87,FALSE),0))/100),0)","v":0},{"$f":"IFERROR((M$106*(HLOOKUP(M$105,'Hilfsblatt Ber. Wirtsch Wirk 3'!$D$11:$BW$96,$A177,FALSE)+IF(M$105=$C177,HLOOKUP(M$105,'Hilfsblatt Ber. Wirtsch Wirk 3'!$D$11:$BX$96,87,FALSE),0))/100),0)","v":0},{"$f":"IFERROR((N$106*(HLOOKUP(N$105,'Hilfsblatt Ber. Wirtsch Wirk 3'!$D$11:$BW$96,$A177,FALSE)+IF(N$105=$C177,HLOOKUP(N$105,'Hilfsblatt Ber. Wirtsch Wirk 3'!$D$11:$BX$96,87,FALSE),0))/100),0)","v":0},{"$f":"IFERROR((O$106*(HLOOKUP(O$105,'Hilfsblatt Ber. Wirtsch Wirk 3'!$D$11:$BW$96,$A177,FALSE)+IF(O$105=$C177,HLOOKUP(O$105,'Hilfsblatt Ber. Wirtsch Wirk 3'!$D$11:$BX$96,87,FALSE),0))/100),0)","v":0},{"$f":"IFERROR((P$106*(HLOOKUP(P$105,'Hilfsblatt Ber. Wirtsch Wirk 3'!$D$11:$BW$96,$A177,FALSE)+IF(P$105=$C177,HLOOKUP(P$105,'Hilfsblatt Ber. Wirtsch Wirk 3'!$D$11:$BX$96,87,FALSE),0))/100),0)","v":0},{"$f":"IFERROR((Q$106*(HLOOKUP(Q$105,'Hilfsblatt Ber. Wirtsch Wirk 3'!$D$11:$BW$96,$A177,FALSE)+IF(Q$105=$C177,HLOOKUP(Q$105,'Hilfsblatt Ber. Wirtsch Wirk 3'!$D$11:$BX$96,87,FALSE),0))/100),0)","v":0},{"$f":"R$106*('Hilfsblatt Ber. Wirtsch Wirk 3'!BX82+'Hilfsblatt Ber. Wirtsch Wirk 3'!BX82*'Hilfsblatt Ber. Wirtsch Wirk 3'!CA82/'Hilfsblatt Ber. Wirtsch Wirk 3'!CB82)/100","v":0},0,{"$f":"S177*'Hilfsblatt Ber. Wirtsch Wirk 3'!BZ82/('Hilfsblatt Ber. Wirtsch Wirk 3'!CA82)","v":0},{"$f":"S177/'Hilfsblatt Ber. Wirtsch Wirk 3'!CC82","v":0},{"$f":"T177*('Hilfsblatt Ber. Wirtsch Wirk 4'!B$14/'Hilfsblatt Ber. Wirtsch Wirk 4'!B$13)","v":0},{"$f":"S177*'Hilfsblatt Ber. Wirtsch Wirk 3'!CD82","v":0}]
[73,{"$f":"B78","v":"94"},"Dienstleistg. d. Interessenvertr., kirchl. u. sonst. Vereinigungen",{"$f":"IFERROR((D$106*(HLOOKUP(D$105,'Hilfsblatt Ber. Wirtsch Wirk 3'!$D$11:$BW$96,$A178,FALSE)+IF(D$105=$C178,HLOOKUP(D$105,'Hilfsblatt Ber. Wirtsch Wirk 3'!$D$11:$BX$96,87,FALSE),0))/100),0)","v":0},{"$f":"IFERROR((E$106*(HLOOKUP(E$105,'Hilfsblatt Ber. Wirtsch Wirk 3'!$D$11:$BW$96,$A178,FALSE)+IF(E$105=$C178,HLOOKUP(E$105,'Hilfsblatt Ber. Wirtsch Wirk 3'!$D$11:$BX$96,87,FALSE),0))/100),0)","v":0},{"$f":"IFERROR((F$106*(HLOOKUP(F$105,'Hilfsblatt Ber. Wirtsch Wirk 3'!$D$11:$BW$96,$A178,FALSE)+IF(F$105=$C178,HLOOKUP(F$105,'Hilfsblatt Ber. Wirtsch Wirk 3'!$D$11:$BX$96,87,FALSE),0))/100),0)","v":0},{"$f":"IFERROR((G$106*(HLOOKUP(G$105,'Hilfsblatt Ber. Wirtsch Wirk 3'!$D$11:$BW$96,$A178,FALSE)+IF(G$105=$C178,HLOOKUP(G$105,'Hilfsblatt Ber. Wirtsch Wirk 3'!$D$11:$BX$96,87,FALSE),0))/100),0)","v":0},{"$f":"IFERROR((H$106*(HLOOKUP(H$105,'Hilfsblatt Ber. Wirtsch Wirk 3'!$D$11:$BW$96,$A178,FALSE)+IF(H$105=$C178,HLOOKUP(H$105,'Hilfsblatt Ber. Wirtsch Wirk 3'!$D$11:$BX$96,87,FALSE),0))/100),0)","v":0},{"$f":"IFERROR((I$106*(HLOOKUP(I$105,'Hilfsblatt Ber. Wirtsch Wirk 3'!$D$11:$BW$96,$A178,FALSE)+IF(I$105=$C178,HLOOKUP(I$105,'Hilfsblatt Ber. Wirtsch Wirk 3'!$D$11:$BX$96,87,FALSE),0))/100),0)","v":0},{"$f":"IFERROR((J$106*(HLOOKUP(J$105,'Hilfsblatt Ber. Wirtsch Wirk 3'!$D$11:$BW$96,$A178,FALSE)+IF(J$105=$C178,HLOOKUP(J$105,'Hilfsblatt Ber. Wirtsch Wirk 3'!$D$11:$BX$96,87,FALSE),0))/100),0)","v":0},{"$f":"IFERROR((K$106*(HLOOKUP(K$105,'Hilfsblatt Ber. Wirtsch Wirk 3'!$D$11:$BW$96,$A178,FALSE)+IF(K$105=$C178,HLOOKUP(K$105,'Hilfsblatt Ber. Wirtsch Wirk 3'!$D$11:$BX$96,87,FALSE),0))/100),0)","v":0},{"$f":"IFERROR((L$106*(HLOOKUP(L$105,'Hilfsblatt Ber. Wirtsch Wirk 3'!$D$11:$BW$96,$A178,FALSE)+IF(L$105=$C178,HLOOKUP(L$105,'Hilfsblatt Ber. Wirtsch Wirk 3'!$D$11:$BX$96,87,FALSE),0))/100),0)","v":0},{"$f":"IFERROR((M$106*(HLOOKUP(M$105,'Hilfsblatt Ber. Wirtsch Wirk 3'!$D$11:$BW$96,$A178,FALSE)+IF(M$105=$C178,HLOOKUP(M$105,'Hilfsblatt Ber. Wirtsch Wirk 3'!$D$11:$BX$96,87,FALSE),0))/100),0)","v":0},{"$f":"IFERROR((N$106*(HLOOKUP(N$105,'Hilfsblatt Ber. Wirtsch Wirk 3'!$D$11:$BW$96,$A178,FALSE)+IF(N$105=$C178,HLOOKUP(N$105,'Hilfsblatt Ber. Wirtsch Wirk 3'!$D$11:$BX$96,87,FALSE),0))/100),0)","v":0},{"$f":"IFERROR((O$106*(HLOOKUP(O$105,'Hilfsblatt Ber. Wirtsch Wirk 3'!$D$11:$BW$96,$A178,FALSE)+IF(O$105=$C178,HLOOKUP(O$105,'Hilfsblatt Ber. Wirtsch Wirk 3'!$D$11:$BX$96,87,FALSE),0))/100),0)","v":0},{"$f":"IFERROR((P$106*(HLOOKUP(P$105,'Hilfsblatt Ber. Wirtsch Wirk 3'!$D$11:$BW$96,$A178,FALSE)+IF(P$105=$C178,HLOOKUP(P$105,'Hilfsblatt Ber. Wirtsch Wirk 3'!$D$11:$BX$96,87,FALSE),0))/100),0)","v":0},{"$f":"IFERROR((Q$106*(HLOOKUP(Q$105,'Hilfsblatt Ber. Wirtsch Wirk 3'!$D$11:$BW$96,$A178,FALSE)+IF(Q$105=$C178,HLOOKUP(Q$105,'Hilfsblatt Ber. Wirtsch Wirk 3'!$D$11:$BX$96,87,FALSE),0))/100),0)","v":0},{"$f":"R$106*('Hilfsblatt Ber. Wirtsch Wirk 3'!BX83+'Hilfsblatt Ber. Wirtsch Wirk 3'!BX83*'Hilfsblatt Ber. Wirtsch Wirk 3'!CA83/'Hilfsblatt Ber. Wirtsch Wirk 3'!CB83)/100","v":0},0,{"$f":"S178*'Hilfsblatt Ber. Wirtsch Wirk 3'!BZ83/('Hilfsblatt Ber. Wirtsch Wirk 3'!CA83)","v":0},{"$f":"S178/'Hilfsblatt Ber. Wirtsch Wirk 3'!CC83","v":0},{"$f":"T178*('Hilfsblatt Ber. Wirtsch Wirk 4'!B$14/'Hilfsblatt Ber. Wirtsch Wirk 4'!B$13)","v":0},{"$f":"S178*'Hilfsblatt Ber. Wirtsch Wirk 3'!CD83","v":0}]
[74,{"$f":"B79","v":"95"},"Reparaturarbeiten an DV-Geräten und Gebrauchsgütern",{"$f":"IFERROR((D$106*(HLOOKUP(D$105,'Hilfsblatt Ber. Wirtsch Wirk 3'!$D$11:$BW$96,$A179,FALSE)+IF(D$105=$C179,HLOOKUP(D$105,'Hilfsblatt Ber. Wirtsch Wirk 3'!$D$11:$BX$96,87,FALSE),0))/100),0)","v":0},{"$f":"IFERROR((E$106*(HLOOKUP(E$105,'Hilfsblatt Ber. Wirtsch Wirk 3'!$D$11:$BW$96,$A179,FALSE)+IF(E$105=$C179,HLOOKUP(E$105,'Hilfsblatt Ber. Wirtsch Wirk 3'!$D$11:$BX$96,87,FALSE),0))/100),0)","v":0},{"$f":"IFERROR((F$106*(HLOOKUP(F$105,'Hilfsblatt Ber. Wirtsch Wirk 3'!$D$11:$BW$96,$A179,FALSE)+IF(F$105=$C179,HLOOKUP(F$105,'Hilfsblatt Ber. Wirtsch Wirk 3'!$D$11:$BX$96,87,FALSE),0))/100),0)","v":0},{"$f":"IFERROR((G$106*(HLOOKUP(G$105,'Hilfsblatt Ber. Wirtsch Wirk 3'!$D$11:$BW$96,$A179,FALSE)+IF(G$105=$C179,HLOOKUP(G$105,'Hilfsblatt Ber. Wirtsch Wirk 3'!$D$11:$BX$96,87,FALSE),0))/100),0)","v":0},{"$f":"IFERROR((H$106*(HLOOKUP(H$105,'Hilfsblatt Ber. Wirtsch Wirk 3'!$D$11:$BW$96,$A179,FALSE)+IF(H$105=$C179,HLOOKUP(H$105,'Hilfsblatt Ber. Wirtsch Wirk 3'!$D$11:$BX$96,87,FALSE),0))/100),0)","v":0},{"$f":"IFERROR((I$106*(HLOOKUP(I$105,'Hilfsblatt Ber. Wirtsch Wirk 3'!$D$11:$BW$96,$A179,FALSE)+IF(I$105=$C179,HLOOKUP(I$105,'Hilfsblatt Ber. Wirtsch Wirk 3'!$D$11:$BX$96,87,FALSE),0))/100),0)","v":0},{"$f":"IFERROR((J$106*(HLOOKUP(J$105,'Hilfsblatt Ber. Wirtsch Wirk 3'!$D$11:$BW$96,$A179,FALSE)+IF(J$105=$C179,HLOOKUP(J$105,'Hilfsblatt Ber. Wirtsch Wirk 3'!$D$11:$BX$96,87,FALSE),0))/100),0)","v":0},{"$f":"IFERROR((K$106*(HLOOKUP(K$105,'Hilfsblatt Ber. Wirtsch Wirk 3'!$D$11:$BW$96,$A179,FALSE)+IF(K$105=$C179,HLOOKUP(K$105,'Hilfsblatt Ber. Wirtsch Wirk 3'!$D$11:$BX$96,87,FALSE),0))/100),0)","v":0},{"$f":"IFERROR((L$106*(HLOOKUP(L$105,'Hilfsblatt Ber. Wirtsch Wirk 3'!$D$11:$BW$96,$A179,FALSE)+IF(L$105=$C179,HLOOKUP(L$105,'Hilfsblatt Ber. Wirtsch Wirk 3'!$D$11:$BX$96,87,FALSE),0))/100),0)","v":0},{"$f":"IFERROR((M$106*(HLOOKUP(M$105,'Hilfsblatt Ber. Wirtsch Wirk 3'!$D$11:$BW$96,$A179,FALSE)+IF(M$105=$C179,HLOOKUP(M$105,'Hilfsblatt Ber. Wirtsch Wirk 3'!$D$11:$BX$96,87,FALSE),0))/100),0)","v":0},{"$f":"IFERROR((N$106*(HLOOKUP(N$105,'Hilfsblatt Ber. Wirtsch Wirk 3'!$D$11:$BW$96,$A179,FALSE)+IF(N$105=$C179,HLOOKUP(N$105,'Hilfsblatt Ber. Wirtsch Wirk 3'!$D$11:$BX$96,87,FALSE),0))/100),0)","v":0},{"$f":"IFERROR((O$106*(HLOOKUP(O$105,'Hilfsblatt Ber. Wirtsch Wirk 3'!$D$11:$BW$96,$A179,FALSE)+IF(O$105=$C179,HLOOKUP(O$105,'Hilfsblatt Ber. Wirtsch Wirk 3'!$D$11:$BX$96,87,FALSE),0))/100),0)","v":0},{"$f":"IFERROR((P$106*(HLOOKUP(P$105,'Hilfsblatt Ber. Wirtsch Wirk 3'!$D$11:$BW$96,$A179,FALSE)+IF(P$105=$C179,HLOOKUP(P$105,'Hilfsblatt Ber. Wirtsch Wirk 3'!$D$11:$BX$96,87,FALSE),0))/100),0)","v":0},{"$f":"IFERROR((Q$106*(HLOOKUP(Q$105,'Hilfsblatt Ber. Wirtsch Wirk 3'!$D$11:$BW$96,$A179,FALSE)+IF(Q$105=$C179,HLOOKUP(Q$105,'Hilfsblatt Ber. Wirtsch Wirk 3'!$D$11:$BX$96,87,FALSE),0))/100),0)","v":0},{"$f":"R$106*('Hilfsblatt Ber. Wirtsch Wirk 3'!BX84+'Hilfsblatt Ber. Wirtsch Wirk 3'!BX84*'Hilfsblatt Ber. Wirtsch Wirk 3'!CA84/'Hilfsblatt Ber. Wirtsch Wirk 3'!CB84)/100","v":0},0,{"$f":"S179*'Hilfsblatt Ber. Wirtsch Wirk 3'!BZ84/('Hilfsblatt Ber. Wirtsch Wirk 3'!CA84)","v":0},{"$f":"S179/'Hilfsblatt Ber. Wirtsch Wirk 3'!CC84","v":0},{"$f":"T179*('Hilfsblatt Ber. Wirtsch Wirk 4'!B$14/'Hilfsblatt Ber. Wirtsch Wirk 4'!B$13)","v":0},{"$f":"S179*'Hilfsblatt Ber. Wirtsch Wirk 3'!CD84","v":0}]
[75,{"$f":"B80","v":"96"},"Sonstige überwiegend persönliche Dienstleistungen",{"$f":"IFERROR((D$106*(HLOOKUP(D$105,'Hilfsblatt Ber. Wirtsch Wirk 3'!$D$11:$BW$96,$A180,FALSE)+IF(D$105=$C180,HLOOKUP(D$105,'Hilfsblatt Ber. Wirtsch Wirk 3'!$D$11:$BX$96,87,FALSE),0))/100),0)","v":0},{"$f":"IFERROR((E$106*(HLOOKUP(E$105,'Hilfsblatt Ber. Wirtsch Wirk 3'!$D$11:$BW$96,$A180,FALSE)+IF(E$105=$C180,HLOOKUP(E$105,'Hilfsblatt Ber. Wirtsch Wirk 3'!$D$11:$BX$96,87,FALSE),0))/100),0)","v":0},{"$f":"IFERROR((F$106*(HLOOKUP(F$105,'Hilfsblatt Ber. Wirtsch Wirk 3'!$D$11:$BW$96,$A180,FALSE)+IF(F$105=$C180,HLOOKUP(F$105,'Hilfsblatt Ber. Wirtsch Wirk 3'!$D$11:$BX$96,87,FALSE),0))/100),0)","v":0},{"$f":"IFERROR((G$106*(HLOOKUP(G$105,'Hilfsblatt Ber. Wirtsch Wirk 3'!$D$11:$BW$96,$A180,FALSE)+IF(G$105=$C180,HLOOKUP(G$105,'Hilfsblatt Ber. Wirtsch Wirk 3'!$D$11:$BX$96,87,FALSE),0))/100),0)","v":0},{"$f":"IFERROR((H$106*(HLOOKUP(H$105,'Hilfsblatt Ber. Wirtsch Wirk 3'!$D$11:$BW$96,$A180,FALSE)+IF(H$105=$C180,HLOOKUP(H$105,'Hilfsblatt Ber. Wirtsch Wirk 3'!$D$11:$BX$96,87,FALSE),0))/100),0)","v":0},{"$f":"IFERROR((I$106*(HLOOKUP(I$105,'Hilfsblatt Ber. Wirtsch Wirk 3'!$D$11:$BW$96,$A180,FALSE)+IF(I$105=$C180,HLOOKUP(I$105,'Hilfsblatt Ber. Wirtsch Wirk 3'!$D$11:$BX$96,87,FALSE),0))/100),0)","v":0},{"$f":"IFERROR((J$106*(HLOOKUP(J$105,'Hilfsblatt Ber. Wirtsch Wirk 3'!$D$11:$BW$96,$A180,FALSE)+IF(J$105=$C180,HLOOKUP(J$105,'Hilfsblatt Ber. Wirtsch Wirk 3'!$D$11:$BX$96,87,FALSE),0))/100),0)","v":0},{"$f":"IFERROR((K$106*(HLOOKUP(K$105,'Hilfsblatt Ber. Wirtsch Wirk 3'!$D$11:$BW$96,$A180,FALSE)+IF(K$105=$C180,HLOOKUP(K$105,'Hilfsblatt Ber. Wirtsch Wirk 3'!$D$11:$BX$96,87,FALSE),0))/100),0)","v":0},{"$f":"IFERROR((L$106*(HLOOKUP(L$105,'Hilfsblatt Ber. Wirtsch Wirk 3'!$D$11:$BW$96,$A180,FALSE)+IF(L$105=$C180,HLOOKUP(L$105,'Hilfsblatt Ber. Wirtsch Wirk 3'!$D$11:$BX$96,87,FALSE),0))/100),0)","v":0},{"$f":"IFERROR((M$106*(HLOOKUP(M$105,'Hilfsblatt Ber. Wirtsch Wirk 3'!$D$11:$BW$96,$A180,FALSE)+IF(M$105=$C180,HLOOKUP(M$105,'Hilfsblatt Ber. Wirtsch Wirk 3'!$D$11:$BX$96,87,FALSE),0))/100),0)","v":0},{"$f":"IFERROR((N$106*(HLOOKUP(N$105,'Hilfsblatt Ber. Wirtsch Wirk 3'!$D$11:$BW$96,$A180,FALSE)+IF(N$105=$C180,HLOOKUP(N$105,'Hilfsblatt Ber. Wirtsch Wirk 3'!$D$11:$BX$96,87,FALSE),0))/100),0)","v":0},{"$f":"IFERROR((O$106*(HLOOKUP(O$105,'Hilfsblatt Ber. Wirtsch Wirk 3'!$D$11:$BW$96,$A180,FALSE)+IF(O$105=$C180,HLOOKUP(O$105,'Hilfsblatt Ber. Wirtsch Wirk 3'!$D$11:$BX$96,87,FALSE),0))/100),0)","v":0},{"$f":"IFERROR((P$106*(HLOOKUP(P$105,'Hilfsblatt Ber. Wirtsch Wirk 3'!$D$11:$BW$96,$A180,FALSE)+IF(P$105=$C180,HLOOKUP(P$105,'Hilfsblatt Ber. Wirtsch Wirk 3'!$D$11:$BX$96,87,FALSE),0))/100),0)","v":0},{"$f":"IFERROR((Q$106*(HLOOKUP(Q$105,'Hilfsblatt Ber. Wirtsch Wirk 3'!$D$11:$BW$96,$A180,FALSE)+IF(Q$105=$C180,HLOOKUP(Q$105,'Hilfsblatt Ber. Wirtsch Wirk 3'!$D$11:$BX$96,87,FALSE),0))/100),0)","v":0},{"$f":"R$106*('Hilfsblatt Ber. Wirtsch Wirk 3'!BX85+'Hilfsblatt Ber. Wirtsch Wirk 3'!BX85*'Hilfsblatt Ber. Wirtsch Wirk 3'!CA85/'Hilfsblatt Ber. Wirtsch Wirk 3'!CB85)/100","v":0},0,{"$f":"S180*'Hilfsblatt Ber. Wirtsch Wirk 3'!BZ85/('Hilfsblatt Ber. Wirtsch Wirk 3'!CA85)","v":0},{"$f":"S180/'Hilfsblatt Ber. Wirtsch Wirk 3'!CC85","v":0},{"$f":"T180*('Hilfsblatt Ber. Wirtsch Wirk 4'!B$14/'Hilfsblatt Ber. Wirtsch Wirk 4'!B$13)","v":0},{"$f":"S180*'Hilfsblatt Ber. Wirtsch Wirk 3'!CD85","v":0}]
[76,{"$f":"B81","v":"97-98"},"Waren und Dienstleistungen privater Haushalte o.a.S.",{"$f":"IFERROR((D$106*(HLOOKUP(D$105,'Hilfsblatt Ber. Wirtsch Wirk 3'!$D$11:$BW$96,$A181,FALSE)+IF(D$105=$C181,HLOOKUP(D$105,'Hilfsblatt Ber. Wirtsch Wirk 3'!$D$11:$BX$96,87,FALSE),0))/100),0)","v":0},{"$f":"IFERROR((E$106*(HLOOKUP(E$105,'Hilfsblatt Ber. Wirtsch Wirk 3'!$D$11:$BW$96,$A181,FALSE)+IF(E$105=$C181,HLOOKUP(E$105,'Hilfsblatt Ber. Wirtsch Wirk 3'!$D$11:$BX$96,87,FALSE),0))/100),0)","v":0},{"$f":"IFERROR((F$106*(HLOOKUP(F$105,'Hilfsblatt Ber. Wirtsch Wirk 3'!$D$11:$BW$96,$A181,FALSE)+IF(F$105=$C181,HLOOKUP(F$105,'Hilfsblatt Ber. Wirtsch Wirk 3'!$D$11:$BX$96,87,FALSE),0))/100),0)","v":0},{"$f":"IFERROR((G$106*(HLOOKUP(G$105,'Hilfsblatt Ber. Wirtsch Wirk 3'!$D$11:$BW$96,$A181,FALSE)+IF(G$105=$C181,HLOOKUP(G$105,'Hilfsblatt Ber. Wirtsch Wirk 3'!$D$11:$BX$96,87,FALSE),0))/100),0)","v":0},{"$f":"IFERROR((H$106*(HLOOKUP(H$105,'Hilfsblatt Ber. Wirtsch Wirk 3'!$D$11:$BW$96,$A181,FALSE)+IF(H$105=$C181,HLOOKUP(H$105,'Hilfsblatt Ber. Wirtsch Wirk 3'!$D$11:$BX$96,87,FALSE),0))/100),0)","v":0},{"$f":"IFERROR((I$106*(HLOOKUP(I$105,'Hilfsblatt Ber. Wirtsch Wirk 3'!$D$11:$BW$96,$A181,FALSE)+IF(I$105=$C181,HLOOKUP(I$105,'Hilfsblatt Ber. Wirtsch Wirk 3'!$D$11:$BX$96,87,FALSE),0))/100),0)","v":0},{"$f":"IFERROR((J$106*(HLOOKUP(J$105,'Hilfsblatt Ber. Wirtsch Wirk 3'!$D$11:$BW$96,$A181,FALSE)+IF(J$105=$C181,HLOOKUP(J$105,'Hilfsblatt Ber. Wirtsch Wirk 3'!$D$11:$BX$96,87,FALSE),0))/100),0)","v":0},{"$f":"IFERROR((K$106*(HLOOKUP(K$105,'Hilfsblatt Ber. Wirtsch Wirk 3'!$D$11:$BW$96,$A181,FALSE)+IF(K$105=$C181,HLOOKUP(K$105,'Hilfsblatt Ber. Wirtsch Wirk 3'!$D$11:$BX$96,87,FALSE),0))/100),0)","v":0},{"$f":"IFERROR((L$106*(HLOOKUP(L$105,'Hilfsblatt Ber. Wirtsch Wirk 3'!$D$11:$BW$96,$A181,FALSE)+IF(L$105=$C181,HLOOKUP(L$105,'Hilfsblatt Ber. Wirtsch Wirk 3'!$D$11:$BX$96,87,FALSE),0))/100),0)","v":0},{"$f":"IFERROR((M$106*(HLOOKUP(M$105,'Hilfsblatt Ber. Wirtsch Wirk 3'!$D$11:$BW$96,$A181,FALSE)+IF(M$105=$C181,HLOOKUP(M$105,'Hilfsblatt Ber. Wirtsch Wirk 3'!$D$11:$BX$96,87,FALSE),0))/100),0)","v":0},{"$f":"IFERROR((N$106*(HLOOKUP(N$105,'Hilfsblatt Ber. Wirtsch Wirk 3'!$D$11:$BW$96,$A181,FALSE)+IF(N$105=$C181,HLOOKUP(N$105,'Hilfsblatt Ber. Wirtsch Wirk 3'!$D$11:$BX$96,87,FALSE),0))/100),0)","v":0},{"$f":"IFERROR((O$106*(HLOOKUP(O$105,'Hilfsblatt Ber. Wirtsch Wirk 3'!$D$11:$BW$96,$A181,FALSE)+IF(O$105=$C181,HLOOKUP(O$105,'Hilfsblatt Ber. Wirtsch Wirk 3'!$D$11:$BX$96,87,FALSE),0))/100),0)","v":0},{"$f":"IFERROR((P$106*(HLOOKUP(P$105,'Hilfsblatt Ber. Wirtsch Wirk 3'!$D$11:$BW$96,$A181,FALSE)+IF(P$105=$C181,HLOOKUP(P$105,'Hilfsblatt Ber. Wirtsch Wirk 3'!$D$11:$BX$96,87,FALSE),0))/100),0)","v":0},{"$f":"IFERROR((Q$106*(HLOOKUP(Q$105,'Hilfsblatt Ber. Wirtsch Wirk 3'!$D$11:$BW$96,$A181,FALSE)+IF(Q$105=$C181,HLOOKUP(Q$105,'Hilfsblatt Ber. Wirtsch Wirk 3'!$D$11:$BX$96,87,FALSE),0))/100),0)","v":0},{"$f":"R$106*('Hilfsblatt Ber. Wirtsch Wirk 3'!BX86+'Hilfsblatt Ber. Wirtsch Wirk 3'!BX86*'Hilfsblatt Ber. Wirtsch Wirk 3'!CA86/0.00000000000001)/100","v":0},0,{"$f":"S181*'Hilfsblatt Ber. Wirtsch Wirk 3'!BZ86/('Hilfsblatt Ber. Wirtsch Wirk 3'!CA86)","v":0},{"$f":"S181/'Hilfsblatt Ber. Wirtsch Wirk 3'!CC86","v":0},{"$f":"T181*('Hilfsblatt Ber. Wirtsch Wirk 4'!B$14/'Hilfsblatt Ber. Wirtsch Wirk 4'!B$13)","v":0},{"$f":"S181*'Hilfsblatt Ber. Wirtsch Wirk 3'!CD86","v":0}]
[null,null,null,null,null,null,null,null,null,null,null,null,null,null,null,null,null,"*Aus rechentechnischen Gründen wird in der Zelle N181 statt mit den Vorleistungen mit dem Wert: 0,00000000000001 gerechnet"]
[]
[]
[]
[]
[]
[]
[]
[]
[]
[]
[]
[]
[]
[]
[]
[]
[]
[]
[null,null,{"$f":"Eingabevariablen!D7","v":0},null,"Wertschöpfung",null,null,null,null,null,null,null,null,null,null,null,null,null,null,"Arbeitsentgelte","Erwerbstätige","Sozialversicherungs-einnahmen","Produktsteuern"]
[null,null,null,null,"Produktionskosten",null,null,null,"Nachfrageänderungen",null,null,null,null,null,"Treibstoffverbrauch und Verkehrsmenge",null,null,"Konsumverlagerung"]
[null,null,null,{"$f":"D103","v":"Branche 1"},{"$f":"E103","v":"Branche 2"},{"$f":"F103","v":"Branche 3"},"Branche 4","Branche 5","Branche 6","Branche 7","Branche 8","Branche 9","Branche 10","Treibstoff","Benzin ","Diesel","Verkehrsmenge","Alle Branchen ","Gesamt"]
[null,null,"Ausgangsbranche",{"$f":"Eingabevariablen!B23","v":0},{"$f":"Eingabevariablen!B24","v":0},{"$f":"Eingabevariablen!B25","v":0},{"$f":"Eingabevariablen!B26","v":0},{"$f":"Eingabevariablen!B27","v":0},{"$f":"Eingabevariablen!B31","v":0},{"$f":"Eingabevariablen!B32","v":0},{"$f":"Eingabevariablen!B33","v":0},{"$f":"Eingabevariablen!B34","v":0},{"$f":"Eingabevariablen!B35","v":0},"Mineralölerzeugnisse ","Mineralölerzeugnisse ","Mineralölerzeugnisse ","Mineralölerzeugnisse "]
[null,null,"Ausgangsbranche (in zusammengefassten Branchen)",{"$f":"IFERROR((VLOOKUP(D204,'Hilfsblatt Ber. Wirtsch Wirk 4'!$A$23:$B$107,2,FALSE)),\"\")","v":""},{"$f":"IFERROR((VLOOKUP(E204,'Hilfsblatt Ber. Wirtsch Wirk 4'!$A$23:$B$107,2,FALSE)),\"\")","v":""},{"$f":"IFERROR((VLOOKUP(F204,'Hilfsblatt Ber. Wirtsch Wirk 4'!$A$23:$B$107,2,FALSE)),\"\")","v":""},{"$f":"IFERROR((VLOOKUP(G204,'Hilfsblatt Ber. Wirtsch Wirk 4'!$A$23:$B$107,2,FALSE)),\"\")","v":""},{"$f":"IFERROR((VLOOKUP(H204,'Hilfsblatt Ber. Wirtsch Wirk 4'!$A$23:$B$107,2,FALSE)),\"\")","v":""},{"$f":"IFERROR((VLOOKUP(I204,'Hilfsblatt Ber. Wirtsch Wirk 4'!$A$23:$B$107,2,FALSE)),\"\")","v":""},{"$f":"IFERROR((VLOOKUP(J204,'Hilfsblatt Ber. Wirtsch Wirk 4'!$A$23:$B$107,2,FALSE)),\"\")","v":""},{"$f":"IFERROR((VLOOKUP(K204,'Hilfsblatt Ber. Wirtsch Wirk 4'!$A$23:$B$107,2,FALSE)),\"\")","v":""},{"$f":"IFERROR((VLOOKUP(L204,'Hilfsblatt Ber. Wirtsch Wirk 4'!$A$23:$B$107,2,FALSE)),\"\")","v":""},{"$f":"IFERROR((VLOOKUP(M204,'Hilfsblatt Ber. Wirtsch Wirk 4'!$A$23:$B$107,2,FALSE)),\"\")","v":""},"Kokerei- und Mineralölerzeugnisse","Kokerei- und Mineralölerzeugnisse","Kokerei- und Mineralölerzeugnisse","Kokerei- und Mineralölerzeugnisse"]
[null,null,"Herstellungskosten",{"$f":"Eingabevariablen!E23*(Eingabevariablen!F23)","v":0},{"$f":"Eingabevariablen!E24*(Eingabevariablen!F24)","v":0},{"$f":"Eingabevariablen!E25*(Eingabevariablen!F25)","v":0},{"$f":"Eingabevariablen!E26*(Eingabevariablen!F26)","v":0},{"$f":"Eingabevariablen!E27*(Eingabevariablen!F27)","v":0},{"$f":"Eingabevariablen!$E31","v":0},{"$f":"Eingabevariablen!$E32","v":0},{"$f":"Eingabevariablen!$E33","v":0},{"$f":"Eingabevariablen!E34","v":0},{"$f":"Eingabevariablen!E35","v":0},{"$f":"Eingabevariablen!D38*Eingabevariablen!E38","v":0},{"$f":"Eingabevariablen!D39*Eingabevariablen!E39","v":0},{"$f":"Eingabevariablen!D40*Eingabevariablen!E40","v":0},{"$f":"Eingabevariablen!D41*'Hilfsblatt Ber. Wirtsch Wirk 4'!B3*Eingabevariablen!E41","v":0},{"$f":"(1-'Hilfsblatt Ber. Wirtsch Wirk 4'!B8)*(-SUM(D206:Q206)-Eingabevariablen!D45+SUM(D207:Q207))","v":0}]
[null,null,"Produktsteuern",{"$f":"IFERROR((D206*VLOOKUP(D204,'Hilfsblatt Ber. Wirtsch Wirk 2'!$C14:$BU99,70,FALSE)/VLOOKUP(D204,'Hilfsblatt Ber. Wirtsch Wirk 2'!$C14:$BU99,71,FALSE)),0)","v":0},{"$f":"IFERROR((E206*VLOOKUP(E204,'Hilfsblatt Ber. Wirtsch Wirk 2'!$C14:$BU99,70,FALSE)/VLOOKUP(E204,'Hilfsblatt Ber. Wirtsch Wirk 2'!$C14:$BU99,71,FALSE)),0)","v":0},{"$f":"IFERROR((F206*VLOOKUP(F204,'Hilfsblatt Ber. Wirtsch Wirk 2'!$C14:$BU99,70,FALSE)/VLOOKUP(F204,'Hilfsblatt Ber. Wirtsch Wirk 2'!$C14:$BU99,71,FALSE)),0)","v":0},{"$f":"IFERROR((G206*VLOOKUP(G204,'Hilfsblatt Ber. Wirtsch Wirk 2'!$C14:$BU99,70,FALSE)/VLOOKUP(G204,'Hilfsblatt Ber. Wirtsch Wirk 2'!$C14:$BU99,71,FALSE)),0)","v":0},{"$f":"IFERROR((H206*VLOOKUP(H204,'Hilfsblatt Ber. Wirtsch Wirk 2'!$C14:$BU99,70,FALSE)/VLOOKUP(H204,'Hilfsblatt Ber. Wirtsch Wirk 2'!$C14:$BU99,71,FALSE)),0)","v":0},{"$f":"IFERROR((I206*VLOOKUP(I204,'Hilfsblatt Ber. Wirtsch Wirk 2'!$C14:$BU99,70,FALSE)/VLOOKUP(I204,'Hilfsblatt Ber. Wirtsch Wirk 2'!$C14:$BU99,71,FALSE)),0)","v":0},{"$f":"IFERROR((J206*VLOOKUP(J204,'Hilfsblatt Ber. Wirtsch Wirk 2'!$C14:$BU99,70,FALSE)/VLOOKUP(J204,'Hilfsblatt Ber. Wirtsch Wirk 2'!$C14:$BU99,71,FALSE)),0)","v":0},{"$f":"IFERROR((K206*VLOOKUP(K204,'Hilfsblatt Ber. Wirtsch Wirk 2'!$C14:$BU99,70,FALSE)/VLOOKUP(K204,'Hilfsblatt Ber. Wirtsch Wirk 2'!$C14:$BU99,71,FALSE)),0)","v":0},{"$f":"IFERROR((L206*VLOOKUP(L204,'Hilfsblatt Ber. Wirtsch Wirk 2'!$C14:$BU99,70,FALSE)/VLOOKUP(L204,'Hilfsblatt Ber. Wirtsch Wirk 2'!$C14:$BU99,71,FALSE)),0)","v":0},{"$f":"IFERROR((M206*VLOOKUP(M204,'Hilfsblatt Ber. Wirtsch Wirk 2'!$C14:$BU99,70,FALSE)/VLOOKUP(M204,'Hilfsblatt Ber. Wirtsch Wirk 2'!$C14:$BU99,71,FALSE)),0)","v":0},{"$f":"N206*VLOOKUP(N204,'Hilfsblatt Ber. Wirtsch Wirk 2'!$C14:$BU99,70,FALSE)/VLOOKUP(N204,'Hilfsblatt Ber. Wirtsch Wirk 2'!$C14:$BU99,71,FALSE)","v":0},{"$f":"O206*VLOOKUP(O204,'Hilfsblatt Ber. Wirtsch Wirk 2'!$C14:$BU99,70,FALSE)/VLOOKUP(O204,'Hilfsblatt Ber. Wirtsch Wirk 2'!$C14:$BU99,71,FALSE)","v":0},{"$f":"P206*VLOOKUP(P204,'Hilfsblatt Ber. Wirtsch Wirk 2'!$C14:$BU99,70,FALSE)/VLOOKUP(P204,'Hilfsblatt Ber. Wirtsch Wirk 2'!$C14:$BU99,71,FALSE)","v":0},{"$f":"Q206*VLOOKUP(Q204,'Hilfsblatt Ber. Wirtsch Wirk 2'!$C14:$BU99,70,FALSE)/VLOOKUP(Q204,'Hilfsblatt Ber. Wirtsch Wirk 2'!$C14:$BU99,71,FALSE)","v":0}]
[]
[null,null,"Alle Branchen",{"$f":"SUM(D210:D281)","v":0},0,0,0,0,0,0,0,0,0,0,0,0,0,0,0,0,0,0,0]
[5,{"$f":"B110","v":"01"},{"$f":"C110","v":"Erzeugnisse der Landwirtschaft, Jagd und Dienstleistungen"},{"$f":"IFERROR((D$206*(HLOOKUP(D$205,'Hilfsblatt Ber. Wirtsch Wirk 3'!$D$11:$BW$96,$A210,FALSE)+IF(D$205=$C210,HLOOKUP(D$205,'Hilfsblatt Ber. Wirtsch Wirk 3'!$D$11:$BX$96,87,FALSE),0))/100),0)","v":0},{"$f":"IFERROR((E$206*(HLOOKUP(E$205,'Hilfsblatt Ber. Wirtsch Wirk 3'!$D$11:$BW$96,$A210,FALSE)+IF(E$205=$C210,HLOOKUP(E$205,'Hilfsblatt Ber. Wirtsch Wirk 3'!$D$11:$BX$96,87,FALSE),0))/100),0)","v":0},{"$f":"IFERROR((F$206*(HLOOKUP(F$205,'Hilfsblatt Ber. Wirtsch Wirk 3'!$D$11:$BW$96,$A210,FALSE)+IF(F$205=$C210,HLOOKUP(F$205,'Hilfsblatt Ber. Wirtsch Wirk 3'!$D$11:$BX$96,87,FALSE),0))/100),0)","v":0},{"$f":"IFERROR((G$206*(HLOOKUP(G$205,'Hilfsblatt Ber. Wirtsch Wirk 3'!$D$11:$BW$96,$A210,FALSE)+IF(G$205=$C210,HLOOKUP(G$205,'Hilfsblatt Ber. Wirtsch Wirk 3'!$D$11:$BX$96,87,FALSE),0))/100),0)","v":0},{"$f":"IFERROR((H$206*(HLOOKUP(H$205,'Hilfsblatt Ber. Wirtsch Wirk 3'!$D$11:$BW$96,$A210,FALSE)+IF(H$205=$C210,HLOOKUP(H$205,'Hilfsblatt Ber. Wirtsch Wirk 3'!$D$11:$BX$96,87,FALSE),0))/100),0)","v":0},{"$f":"IFERROR((I$206*(HLOOKUP(I$205,'Hilfsblatt Ber. Wirtsch Wirk 3'!$D$11:$BW$96,$A210,FALSE)+IF(I$205=$C210,HLOOKUP(I$205,'Hilfsblatt Ber. Wirtsch Wirk 3'!$D$11:$BX$96,87,FALSE),0))/100),0)","v":0},{"$f":"IFERROR((J$206*(HLOOKUP(J$205,'Hilfsblatt Ber. Wirtsch Wirk 3'!$D$11:$BW$96,$A210,FALSE)+IF(J$205=$C210,HLOOKUP(J$205,'Hilfsblatt Ber. Wirtsch Wirk 3'!$D$11:$BX$96,87,FALSE),0))/100),0)","v":0},{"$f":"IFERROR((K$206*(HLOOKUP(K$205,'Hilfsblatt Ber. Wirtsch Wirk 3'!$D$11:$BW$96,$A210,FALSE)+IF(K$205=$C210,HLOOKUP(K$205,'Hilfsblatt Ber. Wirtsch Wirk 3'!$D$11:$BX$96,87,FALSE),0))/100),0)","v":0},{"$f":"IFERROR((L$206*(HLOOKUP(L$205,'Hilfsblatt Ber. Wirtsch Wirk 3'!$D$11:$BW$96,$A210,FALSE)+IF(L$205=$C210,HLOOKUP(L$205,'Hilfsblatt Ber. Wirtsch Wirk 3'!$D$11:$BX$96,87,FALSE),0))/100),0)","v":0},{"$f":"IFERROR((M$206*(HLOOKUP(M$205,'Hilfsblatt Ber. Wirtsch Wirk 3'!$D$11:$BW$96,$A210,FALSE)+IF(M$205=$C210,HLOOKUP(M$205,'Hilfsblatt Ber. Wirtsch Wirk 3'!$D$11:$BX$96,87,FALSE),0))/100),0)","v":0},{"$f":"IFERROR((N$206*(HLOOKUP(N$205,'Hilfsblatt Ber. Wirtsch Wirk 3'!$D$11:$BW$96,$A210,FALSE)+IF(N$205=$C210,HLOOKUP(N$205,'Hilfsblatt Ber. Wirtsch Wirk 3'!$D$11:$BX$96,87,FALSE),0))/100),0)","v":0},{"$f":"IFERROR((O$206*(HLOOKUP(O$205,'Hilfsblatt Ber. Wirtsch Wirk 3'!$D$11:$BW$96,$A210,FALSE)+IF(O$205=$C210,HLOOKUP(O$205,'Hilfsblatt Ber. Wirtsch Wirk 3'!$D$11:$BX$96,87,FALSE),0))/100),0)","v":0},{"$f":"IFERROR((P$206*(HLOOKUP(P$205,'Hilfsblatt Ber. Wirtsch Wirk 3'!$D$11:$BW$96,$A210,FALSE)+IF(P$205=$C210,HLOOKUP(P$205,'Hilfsblatt Ber. Wirtsch Wirk 3'!$D$11:$BX$96,87,FALSE),0))/100),0)","v":0},{"$f":"IFERROR((Q$206*(HLOOKUP(Q$205,'Hilfsblatt Ber. Wirtsch Wirk 3'!$D$11:$BW$96,$A210,FALSE)+IF(Q$205=$C210,HLOOKUP(Q$205,'Hilfsblatt Ber. Wirtsch Wirk 3'!$D$11:$BX$96,87,FALSE),0))/100),0)","v":0},{"$f":"R$206*('Hilfsblatt Ber. Wirtsch Wirk 3'!BX15+'Hilfsblatt Ber. Wirtsch Wirk 3'!BX15*'Hilfsblatt Ber. Wirtsch Wirk 3'!CA15/'Hilfsblatt Ber. Wirtsch Wirk 3'!CB15)/100","v":0},{"$f":"SUM(D210:R210)","v":0},{"$f":"S210*'Hilfsblatt Ber. Wirtsch Wirk 3'!BZ15/('Hilfsblatt Ber. Wirtsch Wirk 3'!CA15)","v":0},{"$f":"S210/'Hilfsblatt Ber. Wirtsch Wirk 3'!CC15","v":0},{"$f":"T210*('Hilfsblatt Ber. Wirtsch Wirk 4'!B$14/'Hilfsblatt Ber. Wirtsch Wirk 4'!B$13)","v":0},{"$f":"S210*'Hilfsblatt Ber. Wirtsch Wirk 3'!CD15","v":0}]
[6,{"$f":"B111","v":"02"},{"$f":"C111","v":"Forstwirtschaftliche Erzeugnisse und Dienstleistungen"},{"$f":"IFERROR((D$206*(HLOOKUP(D$205,'Hilfsblatt Ber. Wirtsch Wirk 3'!$D$11:$BW$96,$A211,FALSE)+IF(D$205=$C211,HLOOKUP(D$205,'Hilfsblatt Ber. Wirtsch Wirk 3'!$D$11:$BX$96,87,FALSE),0))/100),0)","v":0},{"$f":"IFERROR((E$206*(HLOOKUP(E$205,'Hilfsblatt Ber. Wirtsch Wirk 3'!$D$11:$BW$96,$A211,FALSE)+IF(E$205=$C211,HLOOKUP(E$205,'Hilfsblatt Ber. Wirtsch Wirk 3'!$D$11:$BX$96,87,FALSE),0))/100),0)","v":0},{"$f":"IFERROR((F$206*(HLOOKUP(F$205,'Hilfsblatt Ber. Wirtsch Wirk 3'!$D$11:$BW$96,$A211,FALSE)+IF(F$205=$C211,HLOOKUP(F$205,'Hilfsblatt Ber. Wirtsch Wirk 3'!$D$11:$BX$96,87,FALSE),0))/100),0)","v":0},{"$f":"IFERROR((G$206*(HLOOKUP(G$205,'Hilfsblatt Ber. Wirtsch Wirk 3'!$D$11:$BW$96,$A211,FALSE)+IF(G$205=$C211,HLOOKUP(G$205,'Hilfsblatt Ber. Wirtsch Wirk 3'!$D$11:$BX$96,87,FALSE),0))/100),0)","v":0},{"$f":"IFERROR((H$206*(HLOOKUP(H$205,'Hilfsblatt Ber. Wirtsch Wirk 3'!$D$11:$BW$96,$A211,FALSE)+IF(H$205=$C211,HLOOKUP(H$205,'Hilfsblatt Ber. Wirtsch Wirk 3'!$D$11:$BX$96,87,FALSE),0))/100),0)","v":0},{"$f":"IFERROR((I$206*(HLOOKUP(I$205,'Hilfsblatt Ber. Wirtsch Wirk 3'!$D$11:$BW$96,$A211,FALSE)+IF(I$205=$C211,HLOOKUP(I$205,'Hilfsblatt Ber. Wirtsch Wirk 3'!$D$11:$BX$96,87,FALSE),0))/100),0)","v":0},{"$f":"IFERROR((J$206*(HLOOKUP(J$205,'Hilfsblatt Ber. Wirtsch Wirk 3'!$D$11:$BW$96,$A211,FALSE)+IF(J$205=$C211,HLOOKUP(J$205,'Hilfsblatt Ber. Wirtsch Wirk 3'!$D$11:$BX$96,87,FALSE),0))/100),0)","v":0},{"$f":"IFERROR((K$206*(HLOOKUP(K$205,'Hilfsblatt Ber. Wirtsch Wirk 3'!$D$11:$BW$96,$A211,FALSE)+IF(K$205=$C211,HLOOKUP(K$205,'Hilfsblatt Ber. Wirtsch Wirk 3'!$D$11:$BX$96,87,FALSE),0))/100),0)","v":0},{"$f":"IFERROR((L$206*(HLOOKUP(L$205,'Hilfsblatt Ber. Wirtsch Wirk 3'!$D$11:$BW$96,$A211,FALSE)+IF(L$205=$C211,HLOOKUP(L$205,'Hilfsblatt Ber. Wirtsch Wirk 3'!$D$11:$BX$96,87,FALSE),0))/100),0)","v":0},{"$f":"IFERROR((M$206*(HLOOKUP(M$205,'Hilfsblatt Ber. Wirtsch Wirk 3'!$D$11:$BW$96,$A211,FALSE)+IF(M$205=$C211,HLOOKUP(M$205,'Hilfsblatt Ber. Wirtsch Wirk 3'!$D$11:$BX$96,87,FALSE),0))/100),0)","v":0},{"$f":"IFERROR((N$206*(HLOOKUP(N$205,'Hilfsblatt Ber. Wirtsch Wirk 3'!$D$11:$BW$96,$A211,FALSE)+IF(N$205=$C211,HLOOKUP(N$205,'Hilfsblatt Ber. Wirtsch Wirk 3'!$D$11:$BX$96,87,FALSE),0))/100),0)","v":0},{"$f":"IFERROR((O$206*(HLOOKUP(O$205,'Hilfsblatt Ber. Wirtsch Wirk 3'!$D$11:$BW$96,$A211,FALSE)+IF(O$205=$C211,HLOOKUP(O$205,'Hilfsblatt Ber. Wirtsch Wirk 3'!$D$11:$BX$96,87,FALSE),0))/100),0)","v":0},{"$f":"IFERROR((P$206*(HLOOKUP(P$205,'Hilfsblatt Ber. Wirtsch Wirk 3'!$D$11:$BW$96,$A211,FALSE)+IF(P$205=$C211,HLOOKUP(P$205,'Hilfsblatt Ber. Wirtsch Wirk 3'!$D$11:$BX$96,87,FALSE),0))/100),0)","v":0},{"$f":"IFERROR((Q$206*(HLOOKUP(Q$205,'Hilfsblatt Ber. Wirtsch Wirk 3'!$D$11:$BW$96,$A211,FALSE)+IF(Q$205=$C211,HLOOKUP(Q$205,'Hilfsblatt Ber. Wirtsch Wirk 3'!$D$11:$BX$96,87,FALSE),0))/100),0)","v":0},{"$f":"R$206*('Hilfsblatt Ber. Wirtsch Wirk 3'!BX16+'Hilfsblatt Ber. Wirtsch Wirk 3'!BX16*'Hilfsblatt Ber. Wirtsch Wirk 3'!CA16/'Hilfsblatt Ber. Wirtsch Wirk 3'!CB16)/100","v":0},{"$f":"SUM(D211:R211)","v":0},{"$f":"S211*'Hilfsblatt Ber. Wirtsch Wirk 3'!BZ16/('Hilfsblatt Ber. Wirtsch Wirk 3'!CA16)","v":0},{"$f":"S211/'Hilfsblatt Ber. Wirtsch Wirk 3'!CC16","v":0},{"$f":"T211*('Hilfsblatt Ber. Wirtsch Wirk 4'!B$14/'Hilfsblatt Ber. Wirtsch Wirk 4'!B$13)","v":0},{"$f":"S211*'Hilfsblatt Ber. Wirtsch Wirk 3'!CD16","v":0}]
[7,{"$f":"B112","v":"03"},"Fische, Fischerei- und Aquakulturerzeugnisse",{"$f":"IFERROR((D$206*(HLOOKUP(D$205,'Hilfsblatt Ber. Wirtsch Wirk 3'!$D$11:$BW$96,$A212,FALSE)+IF(D$205=$C212,HLOOKUP(D$205,'Hilfsblatt Ber. Wirtsch Wirk 3'!$D$11:$BX$96,87,FALSE),0))/100),0)","v":0},{"$f":"IFERROR((E$206*(HLOOKUP(E$205,'Hilfsblatt Ber. Wirtsch Wirk 3'!$D$11:$BW$96,$A212,FALSE)+IF(E$205=$C212,HLOOKUP(E$205,'Hilfsblatt Ber. Wirtsch Wirk 3'!$D$11:$BX$96,87,FALSE),0))/100),0)","v":0},{"$f":"IFERROR((F$206*(HLOOKUP(F$205,'Hilfsblatt Ber. Wirtsch Wirk 3'!$D$11:$BW$96,$A212,FALSE)+IF(F$205=$C212,HLOOKUP(F$205,'Hilfsblatt Ber. Wirtsch Wirk 3'!$D$11:$BX$96,87,FALSE),0))/100),0)","v":0},{"$f":"IFERROR((G$206*(HLOOKUP(G$205,'Hilfsblatt Ber. Wirtsch Wirk 3'!$D$11:$BW$96,$A212,FALSE)+IF(G$205=$C212,HLOOKUP(G$205,'Hilfsblatt Ber. Wirtsch Wirk 3'!$D$11:$BX$96,87,FALSE),0))/100),0)","v":0},{"$f":"IFERROR((H$206*(HLOOKUP(H$205,'Hilfsblatt Ber. Wirtsch Wirk 3'!$D$11:$BW$96,$A212,FALSE)+IF(H$205=$C212,HLOOKUP(H$205,'Hilfsblatt Ber. Wirtsch Wirk 3'!$D$11:$BX$96,87,FALSE),0))/100),0)","v":0},{"$f":"IFERROR((I$206*(HLOOKUP(I$205,'Hilfsblatt Ber. Wirtsch Wirk 3'!$D$11:$BW$96,$A212,FALSE)+IF(I$205=$C212,HLOOKUP(I$205,'Hilfsblatt Ber. Wirtsch Wirk 3'!$D$11:$BX$96,87,FALSE),0))/100),0)","v":0},{"$f":"IFERROR((J$206*(HLOOKUP(J$205,'Hilfsblatt Ber. Wirtsch Wirk 3'!$D$11:$BW$96,$A212,FALSE)+IF(J$205=$C212,HLOOKUP(J$205,'Hilfsblatt Ber. Wirtsch Wirk 3'!$D$11:$BX$96,87,FALSE),0))/100),0)","v":0},{"$f":"IFERROR((K$206*(HLOOKUP(K$205,'Hilfsblatt Ber. Wirtsch Wirk 3'!$D$11:$BW$96,$A212,FALSE)+IF(K$205=$C212,HLOOKUP(K$205,'Hilfsblatt Ber. Wirtsch Wirk 3'!$D$11:$BX$96,87,FALSE),0))/100),0)","v":0},{"$f":"IFERROR((L$206*(HLOOKUP(L$205,'Hilfsblatt Ber. Wirtsch Wirk 3'!$D$11:$BW$96,$A212,FALSE)+IF(L$205=$C212,HLOOKUP(L$205,'Hilfsblatt Ber. Wirtsch Wirk 3'!$D$11:$BX$96,87,FALSE),0))/100),0)","v":0},{"$f":"IFERROR((M$206*(HLOOKUP(M$205,'Hilfsblatt Ber. Wirtsch Wirk 3'!$D$11:$BW$96,$A212,FALSE)+IF(M$205=$C212,HLOOKUP(M$205,'Hilfsblatt Ber. Wirtsch Wirk 3'!$D$11:$BX$96,87,FALSE),0))/100),0)","v":0},{"$f":"IFERROR((N$206*(HLOOKUP(N$205,'Hilfsblatt Ber. Wirtsch Wirk 3'!$D$11:$BW$96,$A212,FALSE)+IF(N$205=$C212,HLOOKUP(N$205,'Hilfsblatt Ber. Wirtsch Wirk 3'!$D$11:$BX$96,87,FALSE),0))/100),0)","v":0},{"$f":"IFERROR((O$206*(HLOOKUP(O$205,'Hilfsblatt Ber. Wirtsch Wirk 3'!$D$11:$BW$96,$A212,FALSE)+IF(O$205=$C212,HLOOKUP(O$205,'Hilfsblatt Ber. Wirtsch Wirk 3'!$D$11:$BX$96,87,FALSE),0))/100),0)","v":0},{"$f":"IFERROR((P$206*(HLOOKUP(P$205,'Hilfsblatt Ber. Wirtsch Wirk 3'!$D$11:$BW$96,$A212,FALSE)+IF(P$205=$C212,HLOOKUP(P$205,'Hilfsblatt Ber. Wirtsch Wirk 3'!$D$11:$BX$96,87,FALSE),0))/100),0)","v":0},{"$f":"IFERROR((Q$206*(HLOOKUP(Q$205,'Hilfsblatt Ber. Wirtsch Wirk 3'!$D$11:$BW$96,$A212,FALSE)+IF(Q$205=$C212,HLOOKUP(Q$205,'Hilfsblatt Ber. Wirtsch Wirk 3'!$D$11:$BX$96,87,FALSE),0))/100),0)","v":0},{"$f":"R$206*('Hilfsblatt Ber. Wirtsch Wirk 3'!BX17+'Hilfsblatt Ber. Wirtsch Wirk 3'!BX17*'Hilfsblatt Ber. Wirtsch Wirk 3'!CA17/'Hilfsblatt Ber. Wirtsch Wirk 3'!CB17)/100","v":0},0,{"$f":"S212*'Hilfsblatt Ber. Wirtsch Wirk 3'!BZ17/('Hilfsblatt Ber. Wirtsch Wirk 3'!CA17)","v":0},{"$f":"S212/'Hilfsblatt Ber. Wirtsch Wirk 3'!CC17","v":0},{"$f":"T212*('Hilfsblatt Ber. Wirtsch Wirk 4'!B$14/'Hilfsblatt Ber. Wirtsch Wirk 4'!B$13)","v":0},{"$f":"S212*'Hilfsblatt Ber. Wirtsch Wirk 3'!CD17","v":0}]
[8,{"$f":"B113","v":"05"},"Kohle",{"$f":"IFERROR((D$206*(HLOOKUP(D$205,'Hilfsblatt Ber. Wirtsch Wirk 3'!$D$11:$BW$96,$A213,FALSE)+IF(D$205=$C213,HLOOKUP(D$205,'Hilfsblatt Ber. Wirtsch Wirk 3'!$D$11:$BX$96,87,FALSE),0))/100),0)","v":0},{"$f":"IFERROR((E$206*(HLOOKUP(E$205,'Hilfsblatt Ber. Wirtsch Wirk 3'!$D$11:$BW$96,$A213,FALSE)+IF(E$205=$C213,HLOOKUP(E$205,'Hilfsblatt Ber. Wirtsch Wirk 3'!$D$11:$BX$96,87,FALSE),0))/100),0)","v":0},{"$f":"IFERROR((F$206*(HLOOKUP(F$205,'Hilfsblatt Ber. Wirtsch Wirk 3'!$D$11:$BW$96,$A213,FALSE)+IF(F$205=$C213,HLOOKUP(F$205,'Hilfsblatt Ber. Wirtsch Wirk 3'!$D$11:$BX$96,87,FALSE),0))/100),0)","v":0},{"$f":"IFERROR((G$206*(HLOOKUP(G$205,'Hilfsblatt Ber. Wirtsch Wirk 3'!$D$11:$BW$96,$A213,FALSE)+IF(G$205=$C213,HLOOKUP(G$205,'Hilfsblatt Ber. Wirtsch Wirk 3'!$D$11:$BX$96,87,FALSE),0))/100),0)","v":0},{"$f":"IFERROR((H$206*(HLOOKUP(H$205,'Hilfsblatt Ber. Wirtsch Wirk 3'!$D$11:$BW$96,$A213,FALSE)+IF(H$205=$C213,HLOOKUP(H$205,'Hilfsblatt Ber. Wirtsch Wirk 3'!$D$11:$BX$96,87,FALSE),0))/100),0)","v":0},{"$f":"IFERROR((I$206*(HLOOKUP(I$205,'Hilfsblatt Ber. Wirtsch Wirk 3'!$D$11:$BW$96,$A213,FALSE)+IF(I$205=$C213,HLOOKUP(I$205,'Hilfsblatt Ber. Wirtsch Wirk 3'!$D$11:$BX$96,87,FALSE),0))/100),0)","v":0},{"$f":"IFERROR((J$206*(HLOOKUP(J$205,'Hilfsblatt Ber. Wirtsch Wirk 3'!$D$11:$BW$96,$A213,FALSE)+IF(J$205=$C213,HLOOKUP(J$205,'Hilfsblatt Ber. Wirtsch Wirk 3'!$D$11:$BX$96,87,FALSE),0))/100),0)","v":0},{"$f":"IFERROR((K$206*(HLOOKUP(K$205,'Hilfsblatt Ber. Wirtsch Wirk 3'!$D$11:$BW$96,$A213,FALSE)+IF(K$205=$C213,HLOOKUP(K$205,'Hilfsblatt Ber. Wirtsch Wirk 3'!$D$11:$BX$96,87,FALSE),0))/100),0)","v":0},{"$f":"IFERROR((L$206*(HLOOKUP(L$205,'Hilfsblatt Ber. Wirtsch Wirk 3'!$D$11:$BW$96,$A213,FALSE)+IF(L$205=$C213,HLOOKUP(L$205,'Hilfsblatt Ber. Wirtsch Wirk 3'!$D$11:$BX$96,87,FALSE),0))/100),0)","v":0},{"$f":"IFERROR((M$206*(HLOOKUP(M$205,'Hilfsblatt Ber. Wirtsch Wirk 3'!$D$11:$BW$96,$A213,FALSE)+IF(M$205=$C213,HLOOKUP(M$205,'Hilfsblatt Ber. Wirtsch Wirk 3'!$D$11:$BX$96,87,FALSE),0))/100),0)","v":0},{"$f":"IFERROR((N$206*(HLOOKUP(N$205,'Hilfsblatt Ber. Wirtsch Wirk 3'!$D$11:$BW$96,$A213,FALSE)+IF(N$205=$C213,HLOOKUP(N$205,'Hilfsblatt Ber. Wirtsch Wirk 3'!$D$11:$BX$96,87,FALSE),0))/100),0)","v":0},{"$f":"IFERROR((O$206*(HLOOKUP(O$205,'Hilfsblatt Ber. Wirtsch Wirk 3'!$D$11:$BW$96,$A213,FALSE)+IF(O$205=$C213,HLOOKUP(O$205,'Hilfsblatt Ber. Wirtsch Wirk 3'!$D$11:$BX$96,87,FALSE),0))/100),0)","v":0},{"$f":"IFERROR((P$206*(HLOOKUP(P$205,'Hilfsblatt Ber. Wirtsch Wirk 3'!$D$11:$BW$96,$A213,FALSE)+IF(P$205=$C213,HLOOKUP(P$205,'Hilfsblatt Ber. Wirtsch Wirk 3'!$D$11:$BX$96,87,FALSE),0))/100),0)","v":0},{"$f":"IFERROR((Q$206*(HLOOKUP(Q$205,'Hilfsblatt Ber. Wirtsch Wirk 3'!$D$11:$BW$96,$A213,FALSE)+IF(Q$205=$C213,HLOOKUP(Q$205,'Hilfsblatt Ber. Wirtsch Wirk 3'!$D$11:$BX$96,87,FALSE),0))/100),0)","v":0},{"$f":"R$206*('Hilfsblatt Ber. Wirtsch Wirk 3'!BX18+'Hilfsblatt Ber. Wirtsch Wirk 3'!BX18*'Hilfsblatt Ber. Wirtsch Wirk 3'!CA18/'Hilfsblatt Ber. Wirtsch Wirk 3'!CB18)/100","v":0},0,{"$f":"S213*'Hilfsblatt Ber. Wirtsch Wirk 3'!BZ18/('Hilfsblatt Ber. Wirtsch Wirk 3'!CA18)","v":0},{"$f":"S213/'Hilfsblatt Ber. Wirtsch Wirk 3'!CC18","v":0},{"$f":"T213*('Hilfsblatt Ber. Wirtsch Wirk 4'!B$14/'Hilfsblatt Ber. Wirtsch Wirk 4'!B$13)","v":0},{"$f":"S213*'Hilfsblatt Ber. Wirtsch Wirk 3'!CD18","v":0}]
[9,{"$f":"B114","v":"06"},"Erdöl und Erdgas",{"$f":"IFERROR((D$206*(HLOOKUP(D$205,'Hilfsblatt Ber. Wirtsch Wirk 3'!$D$11:$BW$96,$A214,FALSE)+IF(D$205=$C214,HLOOKUP(D$205,'Hilfsblatt Ber. Wirtsch Wirk 3'!$D$11:$BX$96,87,FALSE),0))/100),0)","v":0},{"$f":"IFERROR((E$206*(HLOOKUP(E$205,'Hilfsblatt Ber. Wirtsch Wirk 3'!$D$11:$BW$96,$A214,FALSE)+IF(E$205=$C214,HLOOKUP(E$205,'Hilfsblatt Ber. Wirtsch Wirk 3'!$D$11:$BX$96,87,FALSE),0))/100),0)","v":0},{"$f":"IFERROR((F$206*(HLOOKUP(F$205,'Hilfsblatt Ber. Wirtsch Wirk 3'!$D$11:$BW$96,$A214,FALSE)+IF(F$205=$C214,HLOOKUP(F$205,'Hilfsblatt Ber. Wirtsch Wirk 3'!$D$11:$BX$96,87,FALSE),0))/100),0)","v":0},{"$f":"IFERROR((G$206*(HLOOKUP(G$205,'Hilfsblatt Ber. Wirtsch Wirk 3'!$D$11:$BW$96,$A214,FALSE)+IF(G$205=$C214,HLOOKUP(G$205,'Hilfsblatt Ber. Wirtsch Wirk 3'!$D$11:$BX$96,87,FALSE),0))/100),0)","v":0},{"$f":"IFERROR((H$206*(HLOOKUP(H$205,'Hilfsblatt Ber. Wirtsch Wirk 3'!$D$11:$BW$96,$A214,FALSE)+IF(H$205=$C214,HLOOKUP(H$205,'Hilfsblatt Ber. Wirtsch Wirk 3'!$D$11:$BX$96,87,FALSE),0))/100),0)","v":0},{"$f":"IFERROR((I$206*(HLOOKUP(I$205,'Hilfsblatt Ber. Wirtsch Wirk 3'!$D$11:$BW$96,$A214,FALSE)+IF(I$205=$C214,HLOOKUP(I$205,'Hilfsblatt Ber. Wirtsch Wirk 3'!$D$11:$BX$96,87,FALSE),0))/100),0)","v":0},{"$f":"IFERROR((J$206*(HLOOKUP(J$205,'Hilfsblatt Ber. Wirtsch Wirk 3'!$D$11:$BW$96,$A214,FALSE)+IF(J$205=$C214,HLOOKUP(J$205,'Hilfsblatt Ber. Wirtsch Wirk 3'!$D$11:$BX$96,87,FALSE),0))/100),0)","v":0},{"$f":"IFERROR((K$206*(HLOOKUP(K$205,'Hilfsblatt Ber. Wirtsch Wirk 3'!$D$11:$BW$96,$A214,FALSE)+IF(K$205=$C214,HLOOKUP(K$205,'Hilfsblatt Ber. Wirtsch Wirk 3'!$D$11:$BX$96,87,FALSE),0))/100),0)","v":0},{"$f":"IFERROR((L$206*(HLOOKUP(L$205,'Hilfsblatt Ber. Wirtsch Wirk 3'!$D$11:$BW$96,$A214,FALSE)+IF(L$205=$C214,HLOOKUP(L$205,'Hilfsblatt Ber. Wirtsch Wirk 3'!$D$11:$BX$96,87,FALSE),0))/100),0)","v":0},{"$f":"IFERROR((M$206*(HLOOKUP(M$205,'Hilfsblatt Ber. Wirtsch Wirk 3'!$D$11:$BW$96,$A214,FALSE)+IF(M$205=$C214,HLOOKUP(M$205,'Hilfsblatt Ber. Wirtsch Wirk 3'!$D$11:$BX$96,87,FALSE),0))/100),0)","v":0},{"$f":"IFERROR((N$206*(HLOOKUP(N$205,'Hilfsblatt Ber. Wirtsch Wirk 3'!$D$11:$BW$96,$A214,FALSE)+IF(N$205=$C214,HLOOKUP(N$205,'Hilfsblatt Ber. Wirtsch Wirk 3'!$D$11:$BX$96,87,FALSE),0))/100),0)","v":0},{"$f":"IFERROR((O$206*(HLOOKUP(O$205,'Hilfsblatt Ber. Wirtsch Wirk 3'!$D$11:$BW$96,$A214,FALSE)+IF(O$205=$C214,HLOOKUP(O$205,'Hilfsblatt Ber. Wirtsch Wirk 3'!$D$11:$BX$96,87,FALSE),0))/100),0)","v":0},{"$f":"IFERROR((P$206*(HLOOKUP(P$205,'Hilfsblatt Ber. Wirtsch Wirk 3'!$D$11:$BW$96,$A214,FALSE)+IF(P$205=$C214,HLOOKUP(P$205,'Hilfsblatt Ber. Wirtsch Wirk 3'!$D$11:$BX$96,87,FALSE),0))/100),0)","v":0},{"$f":"IFERROR((Q$206*(HLOOKUP(Q$205,'Hilfsblatt Ber. Wirtsch Wirk 3'!$D$11:$BW$96,$A214,FALSE)+IF(Q$205=$C214,HLOOKUP(Q$205,'Hilfsblatt Ber. Wirtsch Wirk 3'!$D$11:$BX$96,87,FALSE),0))/100),0)","v":0},{"$f":"R$206*('Hilfsblatt Ber. Wirtsch Wirk 3'!BX19+'Hilfsblatt Ber. Wirtsch Wirk 3'!BX19*'Hilfsblatt Ber. Wirtsch Wirk 3'!CA19/'Hilfsblatt Ber. Wirtsch Wirk 3'!CB19)/100","v":0},0,{"$f":"S214*'Hilfsblatt Ber. Wirtsch Wirk 3'!BZ19/('Hilfsblatt Ber. Wirtsch Wirk 3'!CA19)","v":0},{"$f":"S214/'Hilfsblatt Ber. Wirtsch Wirk 3'!CC19","v":0},{"$f":"T214*('Hilfsblatt Ber. Wirtsch Wirk 4'!B$14/'Hilfsblatt Ber. Wirtsch Wirk 4'!B$13)","v":0},{"$f":"S214*'Hilfsblatt Ber. Wirtsch Wirk 3'!CD19","v":0}]
[10,{"$f":"B115","v":"07-09"},"Erze, Steine u. Erden, sonst. Bergbauerzeugn. u. Dienstleistg.",{"$f":"IFERROR((D$206*(HLOOKUP(D$205,'Hilfsblatt Ber. Wirtsch Wirk 3'!$D$11:$BW$96,$A215,FALSE)+IF(D$205=$C215,HLOOKUP(D$205,'Hilfsblatt Ber. Wirtsch Wirk 3'!$D$11:$BX$96,87,FALSE),0))/100),0)","v":0},{"$f":"IFERROR((E$206*(HLOOKUP(E$205,'Hilfsblatt Ber. Wirtsch Wirk 3'!$D$11:$BW$96,$A215,FALSE)+IF(E$205=$C215,HLOOKUP(E$205,'Hilfsblatt Ber. Wirtsch Wirk 3'!$D$11:$BX$96,87,FALSE),0))/100),0)","v":0},{"$f":"IFERROR((F$206*(HLOOKUP(F$205,'Hilfsblatt Ber. Wirtsch Wirk 3'!$D$11:$BW$96,$A215,FALSE)+IF(F$205=$C215,HLOOKUP(F$205,'Hilfsblatt Ber. Wirtsch Wirk 3'!$D$11:$BX$96,87,FALSE),0))/100),0)","v":0},{"$f":"IFERROR((G$206*(HLOOKUP(G$205,'Hilfsblatt Ber. Wirtsch Wirk 3'!$D$11:$BW$96,$A215,FALSE)+IF(G$205=$C215,HLOOKUP(G$205,'Hilfsblatt Ber. Wirtsch Wirk 3'!$D$11:$BX$96,87,FALSE),0))/100),0)","v":0},{"$f":"IFERROR((H$206*(HLOOKUP(H$205,'Hilfsblatt Ber. Wirtsch Wirk 3'!$D$11:$BW$96,$A215,FALSE)+IF(H$205=$C215,HLOOKUP(H$205,'Hilfsblatt Ber. Wirtsch Wirk 3'!$D$11:$BX$96,87,FALSE),0))/100),0)","v":0},{"$f":"IFERROR((I$206*(HLOOKUP(I$205,'Hilfsblatt Ber. Wirtsch Wirk 3'!$D$11:$BW$96,$A215,FALSE)+IF(I$205=$C215,HLOOKUP(I$205,'Hilfsblatt Ber. Wirtsch Wirk 3'!$D$11:$BX$96,87,FALSE),0))/100),0)","v":0},{"$f":"IFERROR((J$206*(HLOOKUP(J$205,'Hilfsblatt Ber. Wirtsch Wirk 3'!$D$11:$BW$96,$A215,FALSE)+IF(J$205=$C215,HLOOKUP(J$205,'Hilfsblatt Ber. Wirtsch Wirk 3'!$D$11:$BX$96,87,FALSE),0))/100),0)","v":0},{"$f":"IFERROR((K$206*(HLOOKUP(K$205,'Hilfsblatt Ber. Wirtsch Wirk 3'!$D$11:$BW$96,$A215,FALSE)+IF(K$205=$C215,HLOOKUP(K$205,'Hilfsblatt Ber. Wirtsch Wirk 3'!$D$11:$BX$96,87,FALSE),0))/100),0)","v":0},{"$f":"IFERROR((L$206*(HLOOKUP(L$205,'Hilfsblatt Ber. Wirtsch Wirk 3'!$D$11:$BW$96,$A215,FALSE)+IF(L$205=$C215,HLOOKUP(L$205,'Hilfsblatt Ber. Wirtsch Wirk 3'!$D$11:$BX$96,87,FALSE),0))/100),0)","v":0},{"$f":"IFERROR((M$206*(HLOOKUP(M$205,'Hilfsblatt Ber. Wirtsch Wirk 3'!$D$11:$BW$96,$A215,FALSE)+IF(M$205=$C215,HLOOKUP(M$205,'Hilfsblatt Ber. Wirtsch Wirk 3'!$D$11:$BX$96,87,FALSE),0))/100),0)","v":0},{"$f":"IFERROR((N$206*(HLOOKUP(N$205,'Hilfsblatt Ber. Wirtsch Wirk 3'!$D$11:$BW$96,$A215,FALSE)+IF(N$205=$C215,HLOOKUP(N$205,'Hilfsblatt Ber. Wirtsch Wirk 3'!$D$11:$BX$96,87,FALSE),0))/100),0)","v":0},{"$f":"IFERROR((O$206*(HLOOKUP(O$205,'Hilfsblatt Ber. Wirtsch Wirk 3'!$D$11:$BW$96,$A215,FALSE)+IF(O$205=$C215,HLOOKUP(O$205,'Hilfsblatt Ber. Wirtsch Wirk 3'!$D$11:$BX$96,87,FALSE),0))/100),0)","v":0},{"$f":"IFERROR((P$206*(HLOOKUP(P$205,'Hilfsblatt Ber. Wirtsch Wirk 3'!$D$11:$BW$96,$A215,FALSE)+IF(P$205=$C215,HLOOKUP(P$205,'Hilfsblatt Ber. Wirtsch Wirk 3'!$D$11:$BX$96,87,FALSE),0))/100),0)","v":0},{"$f":"IFERROR((Q$206*(HLOOKUP(Q$205,'Hilfsblatt Ber. Wirtsch Wirk 3'!$D$11:$BW$96,$A215,FALSE)+IF(Q$205=$C215,HLOOKUP(Q$205,'Hilfsblatt Ber. Wirtsch Wirk 3'!$D$11:$BX$96,87,FALSE),0))/100),0)","v":0},{"$f":"R$206*('Hilfsblatt Ber. Wirtsch Wirk 3'!BX20+'Hilfsblatt Ber. Wirtsch Wirk 3'!BX20*'Hilfsblatt Ber. Wirtsch Wirk 3'!CA20/'Hilfsblatt Ber. Wirtsch Wirk 3'!CB20)/100","v":0},0,{"$f":"S215*'Hilfsblatt Ber. Wirtsch Wirk 3'!BZ20/('Hilfsblatt Ber. Wirtsch Wirk 3'!CA20)","v":0},{"$f":"S215/'Hilfsblatt Ber. Wirtsch Wirk 3'!CC20","v":0},{"$f":"T215*('Hilfsblatt Ber. Wirtsch Wirk 4'!B$14/'Hilfsblatt Ber. Wirtsch Wirk 4'!B$13)","v":0},{"$f":"S215*'Hilfsblatt Ber. Wirtsch Wirk 3'!CD20","v":0}]
[11,{"$f":"B116","v":"10-12"},"Nahrungs- und Futtermittel, Getränke, Tabakerzeugnisse",{"$f":"IFERROR((D$206*(HLOOKUP(D$205,'Hilfsblatt Ber. Wirtsch Wirk 3'!$D$11:$BW$96,$A216,FALSE)+IF(D$205=$C216,HLOOKUP(D$205,'Hilfsblatt Ber. Wirtsch Wirk 3'!$D$11:$BX$96,87,FALSE),0))/100),0)","v":0},{"$f":"IFERROR((E$206*(HLOOKUP(E$205,'Hilfsblatt Ber. Wirtsch Wirk 3'!$D$11:$BW$96,$A216,FALSE)+IF(E$205=$C216,HLOOKUP(E$205,'Hilfsblatt Ber. Wirtsch Wirk 3'!$D$11:$BX$96,87,FALSE),0))/100),0)","v":0},{"$f":"IFERROR((F$206*(HLOOKUP(F$205,'Hilfsblatt Ber. Wirtsch Wirk 3'!$D$11:$BW$96,$A216,FALSE)+IF(F$205=$C216,HLOOKUP(F$205,'Hilfsblatt Ber. Wirtsch Wirk 3'!$D$11:$BX$96,87,FALSE),0))/100),0)","v":0},{"$f":"IFERROR((G$206*(HLOOKUP(G$205,'Hilfsblatt Ber. Wirtsch Wirk 3'!$D$11:$BW$96,$A216,FALSE)+IF(G$205=$C216,HLOOKUP(G$205,'Hilfsblatt Ber. Wirtsch Wirk 3'!$D$11:$BX$96,87,FALSE),0))/100),0)","v":0},{"$f":"IFERROR((H$206*(HLOOKUP(H$205,'Hilfsblatt Ber. Wirtsch Wirk 3'!$D$11:$BW$96,$A216,FALSE)+IF(H$205=$C216,HLOOKUP(H$205,'Hilfsblatt Ber. Wirtsch Wirk 3'!$D$11:$BX$96,87,FALSE),0))/100),0)","v":0},{"$f":"IFERROR((I$206*(HLOOKUP(I$205,'Hilfsblatt Ber. Wirtsch Wirk 3'!$D$11:$BW$96,$A216,FALSE)+IF(I$205=$C216,HLOOKUP(I$205,'Hilfsblatt Ber. Wirtsch Wirk 3'!$D$11:$BX$96,87,FALSE),0))/100),0)","v":0},{"$f":"IFERROR((J$206*(HLOOKUP(J$205,'Hilfsblatt Ber. Wirtsch Wirk 3'!$D$11:$BW$96,$A216,FALSE)+IF(J$205=$C216,HLOOKUP(J$205,'Hilfsblatt Ber. Wirtsch Wirk 3'!$D$11:$BX$96,87,FALSE),0))/100),0)","v":0},{"$f":"IFERROR((K$206*(HLOOKUP(K$205,'Hilfsblatt Ber. Wirtsch Wirk 3'!$D$11:$BW$96,$A216,FALSE)+IF(K$205=$C216,HLOOKUP(K$205,'Hilfsblatt Ber. Wirtsch Wirk 3'!$D$11:$BX$96,87,FALSE),0))/100),0)","v":0},{"$f":"IFERROR((L$206*(HLOOKUP(L$205,'Hilfsblatt Ber. Wirtsch Wirk 3'!$D$11:$BW$96,$A216,FALSE)+IF(L$205=$C216,HLOOKUP(L$205,'Hilfsblatt Ber. Wirtsch Wirk 3'!$D$11:$BX$96,87,FALSE),0))/100),0)","v":0},{"$f":"IFERROR((M$206*(HLOOKUP(M$205,'Hilfsblatt Ber. Wirtsch Wirk 3'!$D$11:$BW$96,$A216,FALSE)+IF(M$205=$C216,HLOOKUP(M$205,'Hilfsblatt Ber. Wirtsch Wirk 3'!$D$11:$BX$96,87,FALSE),0))/100),0)","v":0},{"$f":"IFERROR((N$206*(HLOOKUP(N$205,'Hilfsblatt Ber. Wirtsch Wirk 3'!$D$11:$BW$96,$A216,FALSE)+IF(N$205=$C216,HLOOKUP(N$205,'Hilfsblatt Ber. Wirtsch Wirk 3'!$D$11:$BX$96,87,FALSE),0))/100),0)","v":0},{"$f":"IFERROR((O$206*(HLOOKUP(O$205,'Hilfsblatt Ber. Wirtsch Wirk 3'!$D$11:$BW$96,$A216,FALSE)+IF(O$205=$C216,HLOOKUP(O$205,'Hilfsblatt Ber. Wirtsch Wirk 3'!$D$11:$BX$96,87,FALSE),0))/100),0)","v":0},{"$f":"IFERROR((P$206*(HLOOKUP(P$205,'Hilfsblatt Ber. Wirtsch Wirk 3'!$D$11:$BW$96,$A216,FALSE)+IF(P$205=$C216,HLOOKUP(P$205,'Hilfsblatt Ber. Wirtsch Wirk 3'!$D$11:$BX$96,87,FALSE),0))/100),0)","v":0},{"$f":"IFERROR((Q$206*(HLOOKUP(Q$205,'Hilfsblatt Ber. Wirtsch Wirk 3'!$D$11:$BW$96,$A216,FALSE)+IF(Q$205=$C216,HLOOKUP(Q$205,'Hilfsblatt Ber. Wirtsch Wirk 3'!$D$11:$BX$96,87,FALSE),0))/100),0)","v":0},{"$f":"R$206*('Hilfsblatt Ber. Wirtsch Wirk 3'!BX21+'Hilfsblatt Ber. Wirtsch Wirk 3'!BX21*'Hilfsblatt Ber. Wirtsch Wirk 3'!CA21/'Hilfsblatt Ber. Wirtsch Wirk 3'!CB21)/100","v":0},0,{"$f":"S216*'Hilfsblatt Ber. Wirtsch Wirk 3'!BZ21/('Hilfsblatt Ber. Wirtsch Wirk 3'!CA21)","v":0},{"$f":"S216/'Hilfsblatt Ber. Wirtsch Wirk 3'!CC21","v":0},{"$f":"T216*('Hilfsblatt Ber. Wirtsch Wirk 4'!B$14/'Hilfsblatt Ber. Wirtsch Wirk 4'!B$13)","v":0},{"$f":"S216*'Hilfsblatt Ber. Wirtsch Wirk 3'!CD21","v":0}]
[12,{"$f":"B117","v":"13-15"},"Textilien, Bekleidung, Leder- und Lederwaren",{"$f":"IFERROR((D$206*(HLOOKUP(D$205,'Hilfsblatt Ber. Wirtsch Wirk 3'!$D$11:$BW$96,$A217,FALSE)+IF(D$205=$C217,HLOOKUP(D$205,'Hilfsblatt Ber. Wirtsch Wirk 3'!$D$11:$BX$96,87,FALSE),0))/100),0)","v":0},{"$f":"IFERROR((E$206*(HLOOKUP(E$205,'Hilfsblatt Ber. Wirtsch Wirk 3'!$D$11:$BW$96,$A217,FALSE)+IF(E$205=$C217,HLOOKUP(E$205,'Hilfsblatt Ber. Wirtsch Wirk 3'!$D$11:$BX$96,87,FALSE),0))/100),0)","v":0},{"$f":"IFERROR((F$206*(HLOOKUP(F$205,'Hilfsblatt Ber. Wirtsch Wirk 3'!$D$11:$BW$96,$A217,FALSE)+IF(F$205=$C217,HLOOKUP(F$205,'Hilfsblatt Ber. Wirtsch Wirk 3'!$D$11:$BX$96,87,FALSE),0))/100),0)","v":0},{"$f":"IFERROR((G$206*(HLOOKUP(G$205,'Hilfsblatt Ber. Wirtsch Wirk 3'!$D$11:$BW$96,$A217,FALSE)+IF(G$205=$C217,HLOOKUP(G$205,'Hilfsblatt Ber. Wirtsch Wirk 3'!$D$11:$BX$96,87,FALSE),0))/100),0)","v":0},{"$f":"IFERROR((H$206*(HLOOKUP(H$205,'Hilfsblatt Ber. Wirtsch Wirk 3'!$D$11:$BW$96,$A217,FALSE)+IF(H$205=$C217,HLOOKUP(H$205,'Hilfsblatt Ber. Wirtsch Wirk 3'!$D$11:$BX$96,87,FALSE),0))/100),0)","v":0},{"$f":"IFERROR((I$206*(HLOOKUP(I$205,'Hilfsblatt Ber. Wirtsch Wirk 3'!$D$11:$BW$96,$A217,FALSE)+IF(I$205=$C217,HLOOKUP(I$205,'Hilfsblatt Ber. Wirtsch Wirk 3'!$D$11:$BX$96,87,FALSE),0))/100),0)","v":0},{"$f":"IFERROR((J$206*(HLOOKUP(J$205,'Hilfsblatt Ber. Wirtsch Wirk 3'!$D$11:$BW$96,$A217,FALSE)+IF(J$205=$C217,HLOOKUP(J$205,'Hilfsblatt Ber. Wirtsch Wirk 3'!$D$11:$BX$96,87,FALSE),0))/100),0)","v":0},{"$f":"IFERROR((K$206*(HLOOKUP(K$205,'Hilfsblatt Ber. Wirtsch Wirk 3'!$D$11:$BW$96,$A217,FALSE)+IF(K$205=$C217,HLOOKUP(K$205,'Hilfsblatt Ber. Wirtsch Wirk 3'!$D$11:$BX$96,87,FALSE),0))/100),0)","v":0},{"$f":"IFERROR((L$206*(HLOOKUP(L$205,'Hilfsblatt Ber. Wirtsch Wirk 3'!$D$11:$BW$96,$A217,FALSE)+IF(L$205=$C217,HLOOKUP(L$205,'Hilfsblatt Ber. Wirtsch Wirk 3'!$D$11:$BX$96,87,FALSE),0))/100),0)","v":0},{"$f":"IFERROR((M$206*(HLOOKUP(M$205,'Hilfsblatt Ber. Wirtsch Wirk 3'!$D$11:$BW$96,$A217,FALSE)+IF(M$205=$C217,HLOOKUP(M$205,'Hilfsblatt Ber. Wirtsch Wirk 3'!$D$11:$BX$96,87,FALSE),0))/100),0)","v":0},{"$f":"IFERROR((N$206*(HLOOKUP(N$205,'Hilfsblatt Ber. Wirtsch Wirk 3'!$D$11:$BW$96,$A217,FALSE)+IF(N$205=$C217,HLOOKUP(N$205,'Hilfsblatt Ber. Wirtsch Wirk 3'!$D$11:$BX$96,87,FALSE),0))/100),0)","v":0},{"$f":"IFERROR((O$206*(HLOOKUP(O$205,'Hilfsblatt Ber. Wirtsch Wirk 3'!$D$11:$BW$96,$A217,FALSE)+IF(O$205=$C217,HLOOKUP(O$205,'Hilfsblatt Ber. Wirtsch Wirk 3'!$D$11:$BX$96,87,FALSE),0))/100),0)","v":0},{"$f":"IFERROR((P$206*(HLOOKUP(P$205,'Hilfsblatt Ber. Wirtsch Wirk 3'!$D$11:$BW$96,$A217,FALSE)+IF(P$205=$C217,HLOOKUP(P$205,'Hilfsblatt Ber. Wirtsch Wirk 3'!$D$11:$BX$96,87,FALSE),0))/100),0)","v":0},{"$f":"IFERROR((Q$206*(HLOOKUP(Q$205,'Hilfsblatt Ber. Wirtsch Wirk 3'!$D$11:$BW$96,$A217,FALSE)+IF(Q$205=$C217,HLOOKUP(Q$205,'Hilfsblatt Ber. Wirtsch Wirk 3'!$D$11:$BX$96,87,FALSE),0))/100),0)","v":0},{"$f":"R$206*('Hilfsblatt Ber. Wirtsch Wirk 3'!BX22+'Hilfsblatt Ber. Wirtsch Wirk 3'!BX22*'Hilfsblatt Ber. Wirtsch Wirk 3'!CA22/'Hilfsblatt Ber. Wirtsch Wirk 3'!CB22)/100","v":0},0,{"$f":"S217*'Hilfsblatt Ber. Wirtsch Wirk 3'!BZ22/('Hilfsblatt Ber. Wirtsch Wirk 3'!CA22)","v":0},{"$f":"S217/'Hilfsblatt Ber. Wirtsch Wirk 3'!CC22","v":0},{"$f":"T217*('Hilfsblatt Ber. Wirtsch Wirk 4'!B$14/'Hilfsblatt Ber. Wirtsch Wirk 4'!B$13)","v":0},{"$f":"S217*'Hilfsblatt Ber. Wirtsch Wirk 3'!CD22","v":0}]
[13,{"$f":"B118","v":"16"},"Holz, Holz-, Flecht-, Korb- und Korkwaren (ohne Möbel)",{"$f":"IFERROR((D$206*(HLOOKUP(D$205,'Hilfsblatt Ber. Wirtsch Wirk 3'!$D$11:$BW$96,$A218,FALSE)+IF(D$205=$C218,HLOOKUP(D$205,'Hilfsblatt Ber. Wirtsch Wirk 3'!$D$11:$BX$96,87,FALSE),0))/100),0)","v":0},{"$f":"IFERROR((E$206*(HLOOKUP(E$205,'Hilfsblatt Ber. Wirtsch Wirk 3'!$D$11:$BW$96,$A218,FALSE)+IF(E$205=$C218,HLOOKUP(E$205,'Hilfsblatt Ber. Wirtsch Wirk 3'!$D$11:$BX$96,87,FALSE),0))/100),0)","v":0},{"$f":"IFERROR((F$206*(HLOOKUP(F$205,'Hilfsblatt Ber. Wirtsch Wirk 3'!$D$11:$BW$96,$A218,FALSE)+IF(F$205=$C218,HLOOKUP(F$205,'Hilfsblatt Ber. Wirtsch Wirk 3'!$D$11:$BX$96,87,FALSE),0))/100),0)","v":0},{"$f":"IFERROR((G$206*(HLOOKUP(G$205,'Hilfsblatt Ber. Wirtsch Wirk 3'!$D$11:$BW$96,$A218,FALSE)+IF(G$205=$C218,HLOOKUP(G$205,'Hilfsblatt Ber. Wirtsch Wirk 3'!$D$11:$BX$96,87,FALSE),0))/100),0)","v":0},{"$f":"IFERROR((H$206*(HLOOKUP(H$205,'Hilfsblatt Ber. Wirtsch Wirk 3'!$D$11:$BW$96,$A218,FALSE)+IF(H$205=$C218,HLOOKUP(H$205,'Hilfsblatt Ber. Wirtsch Wirk 3'!$D$11:$BX$96,87,FALSE),0))/100),0)","v":0},{"$f":"IFERROR((I$206*(HLOOKUP(I$205,'Hilfsblatt Ber. Wirtsch Wirk 3'!$D$11:$BW$96,$A218,FALSE)+IF(I$205=$C218,HLOOKUP(I$205,'Hilfsblatt Ber. Wirtsch Wirk 3'!$D$11:$BX$96,87,FALSE),0))/100),0)","v":0},{"$f":"IFERROR((J$206*(HLOOKUP(J$205,'Hilfsblatt Ber. Wirtsch Wirk 3'!$D$11:$BW$96,$A218,FALSE)+IF(J$205=$C218,HLOOKUP(J$205,'Hilfsblatt Ber. Wirtsch Wirk 3'!$D$11:$BX$96,87,FALSE),0))/100),0)","v":0},{"$f":"IFERROR((K$206*(HLOOKUP(K$205,'Hilfsblatt Ber. Wirtsch Wirk 3'!$D$11:$BW$96,$A218,FALSE)+IF(K$205=$C218,HLOOKUP(K$205,'Hilfsblatt Ber. Wirtsch Wirk 3'!$D$11:$BX$96,87,FALSE),0))/100),0)","v":0},{"$f":"IFERROR((L$206*(HLOOKUP(L$205,'Hilfsblatt Ber. Wirtsch Wirk 3'!$D$11:$BW$96,$A218,FALSE)+IF(L$205=$C218,HLOOKUP(L$205,'Hilfsblatt Ber. Wirtsch Wirk 3'!$D$11:$BX$96,87,FALSE),0))/100),0)","v":0},{"$f":"IFERROR((M$206*(HLOOKUP(M$205,'Hilfsblatt Ber. Wirtsch Wirk 3'!$D$11:$BW$96,$A218,FALSE)+IF(M$205=$C218,HLOOKUP(M$205,'Hilfsblatt Ber. Wirtsch Wirk 3'!$D$11:$BX$96,87,FALSE),0))/100),0)","v":0},{"$f":"IFERROR((N$206*(HLOOKUP(N$205,'Hilfsblatt Ber. Wirtsch Wirk 3'!$D$11:$BW$96,$A218,FALSE)+IF(N$205=$C218,HLOOKUP(N$205,'Hilfsblatt Ber. Wirtsch Wirk 3'!$D$11:$BX$96,87,FALSE),0))/100),0)","v":0},{"$f":"IFERROR((O$206*(HLOOKUP(O$205,'Hilfsblatt Ber. Wirtsch Wirk 3'!$D$11:$BW$96,$A218,FALSE)+IF(O$205=$C218,HLOOKUP(O$205,'Hilfsblatt Ber. Wirtsch Wirk 3'!$D$11:$BX$96,87,FALSE),0))/100),0)","v":0},{"$f":"IFERROR((P$206*(HLOOKUP(P$205,'Hilfsblatt Ber. Wirtsch Wirk 3'!$D$11:$BW$96,$A218,FALSE)+IF(P$205=$C218,HLOOKUP(P$205,'Hilfsblatt Ber. Wirtsch Wirk 3'!$D$11:$BX$96,87,FALSE),0))/100),0)","v":0},{"$f":"IFERROR((Q$206*(HLOOKUP(Q$205,'Hilfsblatt Ber. Wirtsch Wirk 3'!$D$11:$BW$96,$A218,FALSE)+IF(Q$205=$C218,HLOOKUP(Q$205,'Hilfsblatt Ber. Wirtsch Wirk 3'!$D$11:$BX$96,87,FALSE),0))/100),0)","v":0},{"$f":"R$206*('Hilfsblatt Ber. Wirtsch Wirk 3'!BX23+'Hilfsblatt Ber. Wirtsch Wirk 3'!BX23*'Hilfsblatt Ber. Wirtsch Wirk 3'!CA23/'Hilfsblatt Ber. Wirtsch Wirk 3'!CB23)/100","v":0},0,{"$f":"S218*'Hilfsblatt Ber. Wirtsch Wirk 3'!BZ23/('Hilfsblatt Ber. Wirtsch Wirk 3'!CA23)","v":0},{"$f":"S218/'Hilfsblatt Ber. Wirtsch Wirk 3'!CC23","v":0},{"$f":"T218*('Hilfsblatt Ber. Wirtsch Wirk 4'!B$14/'Hilfsblatt Ber. Wirtsch Wirk 4'!B$13)","v":0},{"$f":"S218*'Hilfsblatt Ber. Wirtsch Wirk 3'!CD23","v":0}]
[14,{"$f":"B119","v":"17"},"Papier, Pappe und Waren daraus",{"$f":"IFERROR((D$206*(HLOOKUP(D$205,'Hilfsblatt Ber. Wirtsch Wirk 3'!$D$11:$BW$96,$A219,FALSE)+IF(D$205=$C219,HLOOKUP(D$205,'Hilfsblatt Ber. Wirtsch Wirk 3'!$D$11:$BX$96,87,FALSE),0))/100),0)","v":0},{"$f":"IFERROR((E$206*(HLOOKUP(E$205,'Hilfsblatt Ber. Wirtsch Wirk 3'!$D$11:$BW$96,$A219,FALSE)+IF(E$205=$C219,HLOOKUP(E$205,'Hilfsblatt Ber. Wirtsch Wirk 3'!$D$11:$BX$96,87,FALSE),0))/100),0)","v":0},{"$f":"IFERROR((F$206*(HLOOKUP(F$205,'Hilfsblatt Ber. Wirtsch Wirk 3'!$D$11:$BW$96,$A219,FALSE)+IF(F$205=$C219,HLOOKUP(F$205,'Hilfsblatt Ber. Wirtsch Wirk 3'!$D$11:$BX$96,87,FALSE),0))/100),0)","v":0},{"$f":"IFERROR((G$206*(HLOOKUP(G$205,'Hilfsblatt Ber. Wirtsch Wirk 3'!$D$11:$BW$96,$A219,FALSE)+IF(G$205=$C219,HLOOKUP(G$205,'Hilfsblatt Ber. Wirtsch Wirk 3'!$D$11:$BX$96,87,FALSE),0))/100),0)","v":0},{"$f":"IFERROR((H$206*(HLOOKUP(H$205,'Hilfsblatt Ber. Wirtsch Wirk 3'!$D$11:$BW$96,$A219,FALSE)+IF(H$205=$C219,HLOOKUP(H$205,'Hilfsblatt Ber. Wirtsch Wirk 3'!$D$11:$BX$96,87,FALSE),0))/100),0)","v":0},{"$f":"IFERROR((I$206*(HLOOKUP(I$205,'Hilfsblatt Ber. Wirtsch Wirk 3'!$D$11:$BW$96,$A219,FALSE)+IF(I$205=$C219,HLOOKUP(I$205,'Hilfsblatt Ber. Wirtsch Wirk 3'!$D$11:$BX$96,87,FALSE),0))/100),0)","v":0},{"$f":"IFERROR((J$206*(HLOOKUP(J$205,'Hilfsblatt Ber. Wirtsch Wirk 3'!$D$11:$BW$96,$A219,FALSE)+IF(J$205=$C219,HLOOKUP(J$205,'Hilfsblatt Ber. Wirtsch Wirk 3'!$D$11:$BX$96,87,FALSE),0))/100),0)","v":0},{"$f":"IFERROR((K$206*(HLOOKUP(K$205,'Hilfsblatt Ber. Wirtsch Wirk 3'!$D$11:$BW$96,$A219,FALSE)+IF(K$205=$C219,HLOOKUP(K$205,'Hilfsblatt Ber. Wirtsch Wirk 3'!$D$11:$BX$96,87,FALSE),0))/100),0)","v":0},{"$f":"IFERROR((L$206*(HLOOKUP(L$205,'Hilfsblatt Ber. Wirtsch Wirk 3'!$D$11:$BW$96,$A219,FALSE)+IF(L$205=$C219,HLOOKUP(L$205,'Hilfsblatt Ber. Wirtsch Wirk 3'!$D$11:$BX$96,87,FALSE),0))/100),0)","v":0},{"$f":"IFERROR((M$206*(HLOOKUP(M$205,'Hilfsblatt Ber. Wirtsch Wirk 3'!$D$11:$BW$96,$A219,FALSE)+IF(M$205=$C219,HLOOKUP(M$205,'Hilfsblatt Ber. Wirtsch Wirk 3'!$D$11:$BX$96,87,FALSE),0))/100),0)","v":0},{"$f":"IFERROR((N$206*(HLOOKUP(N$205,'Hilfsblatt Ber. Wirtsch Wirk 3'!$D$11:$BW$96,$A219,FALSE)+IF(N$205=$C219,HLOOKUP(N$205,'Hilfsblatt Ber. Wirtsch Wirk 3'!$D$11:$BX$96,87,FALSE),0))/100),0)","v":0},{"$f":"IFERROR((O$206*(HLOOKUP(O$205,'Hilfsblatt Ber. Wirtsch Wirk 3'!$D$11:$BW$96,$A219,FALSE)+IF(O$205=$C219,HLOOKUP(O$205,'Hilfsblatt Ber. Wirtsch Wirk 3'!$D$11:$BX$96,87,FALSE),0))/100),0)","v":0},{"$f":"IFERROR((P$206*(HLOOKUP(P$205,'Hilfsblatt Ber. Wirtsch Wirk 3'!$D$11:$BW$96,$A219,FALSE)+IF(P$205=$C219,HLOOKUP(P$205,'Hilfsblatt Ber. Wirtsch Wirk 3'!$D$11:$BX$96,87,FALSE),0))/100),0)","v":0},{"$f":"IFERROR((Q$206*(HLOOKUP(Q$205,'Hilfsblatt Ber. Wirtsch Wirk 3'!$D$11:$BW$96,$A219,FALSE)+IF(Q$205=$C219,HLOOKUP(Q$205,'Hilfsblatt Ber. Wirtsch Wirk 3'!$D$11:$BX$96,87,FALSE),0))/100),0)","v":0},{"$f":"R$206*('Hilfsblatt Ber. Wirtsch Wirk 3'!BX24+'Hilfsblatt Ber. Wirtsch Wirk 3'!BX24*'Hilfsblatt Ber. Wirtsch Wirk 3'!CA24/'Hilfsblatt Ber. Wirtsch Wirk 3'!CB24)/100","v":0},0,{"$f":"S219*'Hilfsblatt Ber. Wirtsch Wirk 3'!BZ24/('Hilfsblatt Ber. Wirtsch Wirk 3'!CA24)","v":0},{"$f":"S219/'Hilfsblatt Ber. Wirtsch Wirk 3'!CC24","v":0},{"$f":"T219*('Hilfsblatt Ber. Wirtsch Wirk 4'!B$14/'Hilfsblatt Ber. Wirtsch Wirk 4'!B$13)","v":0},{"$f":"S219*'Hilfsblatt Ber. Wirtsch Wirk 3'!CD24","v":0}]
[15,{"$f":"B120","v":"18"},"Druckereileistungen, bespielte Ton-, Bild- und Datenträger",{"$f":"IFERROR((D$206*(HLOOKUP(D$205,'Hilfsblatt Ber. Wirtsch Wirk 3'!$D$11:$BW$96,$A220,FALSE)+IF(D$205=$C220,HLOOKUP(D$205,'Hilfsblatt Ber. Wirtsch Wirk 3'!$D$11:$BX$96,87,FALSE),0))/100),0)","v":0},{"$f":"IFERROR((E$206*(HLOOKUP(E$205,'Hilfsblatt Ber. Wirtsch Wirk 3'!$D$11:$BW$96,$A220,FALSE)+IF(E$205=$C220,HLOOKUP(E$205,'Hilfsblatt Ber. Wirtsch Wirk 3'!$D$11:$BX$96,87,FALSE),0))/100),0)","v":0},{"$f":"IFERROR((F$206*(HLOOKUP(F$205,'Hilfsblatt Ber. Wirtsch Wirk 3'!$D$11:$BW$96,$A220,FALSE)+IF(F$205=$C220,HLOOKUP(F$205,'Hilfsblatt Ber. Wirtsch Wirk 3'!$D$11:$BX$96,87,FALSE),0))/100),0)","v":0},{"$f":"IFERROR((G$206*(HLOOKUP(G$205,'Hilfsblatt Ber. Wirtsch Wirk 3'!$D$11:$BW$96,$A220,FALSE)+IF(G$205=$C220,HLOOKUP(G$205,'Hilfsblatt Ber. Wirtsch Wirk 3'!$D$11:$BX$96,87,FALSE),0))/100),0)","v":0},{"$f":"IFERROR((H$206*(HLOOKUP(H$205,'Hilfsblatt Ber. Wirtsch Wirk 3'!$D$11:$BW$96,$A220,FALSE)+IF(H$205=$C220,HLOOKUP(H$205,'Hilfsblatt Ber. Wirtsch Wirk 3'!$D$11:$BX$96,87,FALSE),0))/100),0)","v":0},{"$f":"IFERROR((I$206*(HLOOKUP(I$205,'Hilfsblatt Ber. Wirtsch Wirk 3'!$D$11:$BW$96,$A220,FALSE)+IF(I$205=$C220,HLOOKUP(I$205,'Hilfsblatt Ber. Wirtsch Wirk 3'!$D$11:$BX$96,87,FALSE),0))/100),0)","v":0},{"$f":"IFERROR((J$206*(HLOOKUP(J$205,'Hilfsblatt Ber. Wirtsch Wirk 3'!$D$11:$BW$96,$A220,FALSE)+IF(J$205=$C220,HLOOKUP(J$205,'Hilfsblatt Ber. Wirtsch Wirk 3'!$D$11:$BX$96,87,FALSE),0))/100),0)","v":0},{"$f":"IFERROR((K$206*(HLOOKUP(K$205,'Hilfsblatt Ber. Wirtsch Wirk 3'!$D$11:$BW$96,$A220,FALSE)+IF(K$205=$C220,HLOOKUP(K$205,'Hilfsblatt Ber. Wirtsch Wirk 3'!$D$11:$BX$96,87,FALSE),0))/100),0)","v":0},{"$f":"IFERROR((L$206*(HLOOKUP(L$205,'Hilfsblatt Ber. Wirtsch Wirk 3'!$D$11:$BW$96,$A220,FALSE)+IF(L$205=$C220,HLOOKUP(L$205,'Hilfsblatt Ber. Wirtsch Wirk 3'!$D$11:$BX$96,87,FALSE),0))/100),0)","v":0},{"$f":"IFERROR((M$206*(HLOOKUP(M$205,'Hilfsblatt Ber. Wirtsch Wirk 3'!$D$11:$BW$96,$A220,FALSE)+IF(M$205=$C220,HLOOKUP(M$205,'Hilfsblatt Ber. Wirtsch Wirk 3'!$D$11:$BX$96,87,FALSE),0))/100),0)","v":0},{"$f":"IFERROR((N$206*(HLOOKUP(N$205,'Hilfsblatt Ber. Wirtsch Wirk 3'!$D$11:$BW$96,$A220,FALSE)+IF(N$205=$C220,HLOOKUP(N$205,'Hilfsblatt Ber. Wirtsch Wirk 3'!$D$11:$BX$96,87,FALSE),0))/100),0)","v":0},{"$f":"IFERROR((O$206*(HLOOKUP(O$205,'Hilfsblatt Ber. Wirtsch Wirk 3'!$D$11:$BW$96,$A220,FALSE)+IF(O$205=$C220,HLOOKUP(O$205,'Hilfsblatt Ber. Wirtsch Wirk 3'!$D$11:$BX$96,87,FALSE),0))/100),0)","v":0},{"$f":"IFERROR((P$206*(HLOOKUP(P$205,'Hilfsblatt Ber. Wirtsch Wirk 3'!$D$11:$BW$96,$A220,FALSE)+IF(P$205=$C220,HLOOKUP(P$205,'Hilfsblatt Ber. Wirtsch Wirk 3'!$D$11:$BX$96,87,FALSE),0))/100),0)","v":0},{"$f":"IFERROR((Q$206*(HLOOKUP(Q$205,'Hilfsblatt Ber. Wirtsch Wirk 3'!$D$11:$BW$96,$A220,FALSE)+IF(Q$205=$C220,HLOOKUP(Q$205,'Hilfsblatt Ber. Wirtsch Wirk 3'!$D$11:$BX$96,87,FALSE),0))/100),0)","v":0},{"$f":"R$206*('Hilfsblatt Ber. Wirtsch Wirk 3'!BX25+'Hilfsblatt Ber. Wirtsch Wirk 3'!BX25*'Hilfsblatt Ber. Wirtsch Wirk 3'!CA25/'Hilfsblatt Ber. Wirtsch Wirk 3'!CB25)/100","v":0},0,{"$f":"S220*'Hilfsblatt Ber. Wirtsch Wirk 3'!BZ25/('Hilfsblatt Ber. Wirtsch Wirk 3'!CA25)","v":0},{"$f":"S220/'Hilfsblatt Ber. Wirtsch Wirk 3'!CC25","v":0},{"$f":"T220*('Hilfsblatt Ber. Wirtsch Wirk 4'!B$14/'Hilfsblatt Ber. Wirtsch Wirk 4'!B$13)","v":0},{"$f":"S220*'Hilfsblatt Ber. Wirtsch Wirk 3'!CD25","v":0}]
[16,{"$f":"B121","v":"19"},"Kokerei- und Mineralölerzeugnisse",{"$f":"IFERROR((D$206*(HLOOKUP(D$205,'Hilfsblatt Ber. Wirtsch Wirk 3'!$D$11:$BW$96,$A221,FALSE)+IF(D$205=$C221,HLOOKUP(D$205,'Hilfsblatt Ber. Wirtsch Wirk 3'!$D$11:$BX$96,87,FALSE),0))/100),0)","v":0},{"$f":"IFERROR((E$206*(HLOOKUP(E$205,'Hilfsblatt Ber. Wirtsch Wirk 3'!$D$11:$BW$96,$A221,FALSE)+IF(E$205=$C221,HLOOKUP(E$205,'Hilfsblatt Ber. Wirtsch Wirk 3'!$D$11:$BX$96,87,FALSE),0))/100),0)","v":0},{"$f":"IFERROR((F$206*(HLOOKUP(F$205,'Hilfsblatt Ber. Wirtsch Wirk 3'!$D$11:$BW$96,$A221,FALSE)+IF(F$205=$C221,HLOOKUP(F$205,'Hilfsblatt Ber. Wirtsch Wirk 3'!$D$11:$BX$96,87,FALSE),0))/100),0)","v":0},{"$f":"IFERROR((G$206*(HLOOKUP(G$205,'Hilfsblatt Ber. Wirtsch Wirk 3'!$D$11:$BW$96,$A221,FALSE)+IF(G$205=$C221,HLOOKUP(G$205,'Hilfsblatt Ber. Wirtsch Wirk 3'!$D$11:$BX$96,87,FALSE),0))/100),0)","v":0},{"$f":"IFERROR((H$206*(HLOOKUP(H$205,'Hilfsblatt Ber. Wirtsch Wirk 3'!$D$11:$BW$96,$A221,FALSE)+IF(H$205=$C221,HLOOKUP(H$205,'Hilfsblatt Ber. Wirtsch Wirk 3'!$D$11:$BX$96,87,FALSE),0))/100),0)","v":0},{"$f":"IFERROR((I$206*(HLOOKUP(I$205,'Hilfsblatt Ber. Wirtsch Wirk 3'!$D$11:$BW$96,$A221,FALSE)+IF(I$205=$C221,HLOOKUP(I$205,'Hilfsblatt Ber. Wirtsch Wirk 3'!$D$11:$BX$96,87,FALSE),0))/100),0)","v":0},{"$f":"IFERROR((J$206*(HLOOKUP(J$205,'Hilfsblatt Ber. Wirtsch Wirk 3'!$D$11:$BW$96,$A221,FALSE)+IF(J$205=$C221,HLOOKUP(J$205,'Hilfsblatt Ber. Wirtsch Wirk 3'!$D$11:$BX$96,87,FALSE),0))/100),0)","v":0},{"$f":"IFERROR((K$206*(HLOOKUP(K$205,'Hilfsblatt Ber. Wirtsch Wirk 3'!$D$11:$BW$96,$A221,FALSE)+IF(K$205=$C221,HLOOKUP(K$205,'Hilfsblatt Ber. Wirtsch Wirk 3'!$D$11:$BX$96,87,FALSE),0))/100),0)","v":0},{"$f":"IFERROR((L$206*(HLOOKUP(L$205,'Hilfsblatt Ber. Wirtsch Wirk 3'!$D$11:$BW$96,$A221,FALSE)+IF(L$205=$C221,HLOOKUP(L$205,'Hilfsblatt Ber. Wirtsch Wirk 3'!$D$11:$BX$96,87,FALSE),0))/100),0)","v":0},{"$f":"IFERROR((M$206*(HLOOKUP(M$205,'Hilfsblatt Ber. Wirtsch Wirk 3'!$D$11:$BW$96,$A221,FALSE)+IF(M$205=$C221,HLOOKUP(M$205,'Hilfsblatt Ber. Wirtsch Wirk 3'!$D$11:$BX$96,87,FALSE),0))/100),0)","v":0},{"$f":"IFERROR((N$206*(HLOOKUP(N$205,'Hilfsblatt Ber. Wirtsch Wirk 3'!$D$11:$BW$96,$A221,FALSE)+IF(N$205=$C221,HLOOKUP(N$205,'Hilfsblatt Ber. Wirtsch Wirk 3'!$D$11:$BX$96,87,FALSE),0))/100),0)","v":0},{"$f":"IFERROR((O$206*(HLOOKUP(O$205,'Hilfsblatt Ber. Wirtsch Wirk 3'!$D$11:$BW$96,$A221,FALSE)+IF(O$205=$C221,HLOOKUP(O$205,'Hilfsblatt Ber. Wirtsch Wirk 3'!$D$11:$BX$96,87,FALSE),0))/100),0)","v":0},{"$f":"IFERROR((P$206*(HLOOKUP(P$205,'Hilfsblatt Ber. Wirtsch Wirk 3'!$D$11:$BW$96,$A221,FALSE)+IF(P$205=$C221,HLOOKUP(P$205,'Hilfsblatt Ber. Wirtsch Wirk 3'!$D$11:$BX$96,87,FALSE),0))/100),0)","v":0},{"$f":"IFERROR((Q$206*(HLOOKUP(Q$205,'Hilfsblatt Ber. Wirtsch Wirk 3'!$D$11:$BW$96,$A221,FALSE)+IF(Q$205=$C221,HLOOKUP(Q$205,'Hilfsblatt Ber. Wirtsch Wirk 3'!$D$11:$BX$96,87,FALSE),0))/100),0)","v":0},{"$f":"R$206*('Hilfsblatt Ber. Wirtsch Wirk 3'!BX26+'Hilfsblatt Ber. Wirtsch Wirk 3'!BX26*'Hilfsblatt Ber. Wirtsch Wirk 3'!CA26/'Hilfsblatt Ber. Wirtsch Wirk 3'!CB26)/100","v":0},0,{"$f":"S221*'Hilfsblatt Ber. Wirtsch Wirk 3'!BZ26/('Hilfsblatt Ber. Wirtsch Wirk 3'!CA26)","v":0},{"$f":"S221/'Hilfsblatt Ber. Wirtsch Wirk 3'!CC26","v":0},{"$f":"T221*('Hilfsblatt Ber. Wirtsch Wirk 4'!B$14/'Hilfsblatt Ber. Wirtsch Wirk 4'!B$13)","v":0},{"$f":"S221*'Hilfsblatt Ber. Wirtsch Wirk 3'!CD26","v":0}]
[17,{"$f":"B122","v":"20"},"Chemische Erzeugnisse ",{"$f":"IFERROR((D$206*(HLOOKUP(D$205,'Hilfsblatt Ber. Wirtsch Wirk 3'!$D$11:$BW$96,$A222,FALSE)+IF(D$205=$C222,HLOOKUP(D$205,'Hilfsblatt Ber. Wirtsch Wirk 3'!$D$11:$BX$96,87,FALSE),0))/100),0)","v":0},{"$f":"IFERROR((E$206*(HLOOKUP(E$205,'Hilfsblatt Ber. Wirtsch Wirk 3'!$D$11:$BW$96,$A222,FALSE)+IF(E$205=$C222,HLOOKUP(E$205,'Hilfsblatt Ber. Wirtsch Wirk 3'!$D$11:$BX$96,87,FALSE),0))/100),0)","v":0},{"$f":"IFERROR((F$206*(HLOOKUP(F$205,'Hilfsblatt Ber. Wirtsch Wirk 3'!$D$11:$BW$96,$A222,FALSE)+IF(F$205=$C222,HLOOKUP(F$205,'Hilfsblatt Ber. Wirtsch Wirk 3'!$D$11:$BX$96,87,FALSE),0))/100),0)","v":0},{"$f":"IFERROR((G$206*(HLOOKUP(G$205,'Hilfsblatt Ber. Wirtsch Wirk 3'!$D$11:$BW$96,$A222,FALSE)+IF(G$205=$C222,HLOOKUP(G$205,'Hilfsblatt Ber. Wirtsch Wirk 3'!$D$11:$BX$96,87,FALSE),0))/100),0)","v":0},{"$f":"IFERROR((H$206*(HLOOKUP(H$205,'Hilfsblatt Ber. Wirtsch Wirk 3'!$D$11:$BW$96,$A222,FALSE)+IF(H$205=$C222,HLOOKUP(H$205,'Hilfsblatt Ber. Wirtsch Wirk 3'!$D$11:$BX$96,87,FALSE),0))/100),0)","v":0},{"$f":"IFERROR((I$206*(HLOOKUP(I$205,'Hilfsblatt Ber. Wirtsch Wirk 3'!$D$11:$BW$96,$A222,FALSE)+IF(I$205=$C222,HLOOKUP(I$205,'Hilfsblatt Ber. Wirtsch Wirk 3'!$D$11:$BX$96,87,FALSE),0))/100),0)","v":0},{"$f":"IFERROR((J$206*(HLOOKUP(J$205,'Hilfsblatt Ber. Wirtsch Wirk 3'!$D$11:$BW$96,$A222,FALSE)+IF(J$205=$C222,HLOOKUP(J$205,'Hilfsblatt Ber. Wirtsch Wirk 3'!$D$11:$BX$96,87,FALSE),0))/100),0)","v":0},{"$f":"IFERROR((K$206*(HLOOKUP(K$205,'Hilfsblatt Ber. Wirtsch Wirk 3'!$D$11:$BW$96,$A222,FALSE)+IF(K$205=$C222,HLOOKUP(K$205,'Hilfsblatt Ber. Wirtsch Wirk 3'!$D$11:$BX$96,87,FALSE),0))/100),0)","v":0},{"$f":"IFERROR((L$206*(HLOOKUP(L$205,'Hilfsblatt Ber. Wirtsch Wirk 3'!$D$11:$BW$96,$A222,FALSE)+IF(L$205=$C222,HLOOKUP(L$205,'Hilfsblatt Ber. Wirtsch Wirk 3'!$D$11:$BX$96,87,FALSE),0))/100),0)","v":0},{"$f":"IFERROR((M$206*(HLOOKUP(M$205,'Hilfsblatt Ber. Wirtsch Wirk 3'!$D$11:$BW$96,$A222,FALSE)+IF(M$205=$C222,HLOOKUP(M$205,'Hilfsblatt Ber. Wirtsch Wirk 3'!$D$11:$BX$96,87,FALSE),0))/100),0)","v":0},{"$f":"IFERROR((N$206*(HLOOKUP(N$205,'Hilfsblatt Ber. Wirtsch Wirk 3'!$D$11:$BW$96,$A222,FALSE)+IF(N$205=$C222,HLOOKUP(N$205,'Hilfsblatt Ber. Wirtsch Wirk 3'!$D$11:$BX$96,87,FALSE),0))/100),0)","v":0},{"$f":"IFERROR((O$206*(HLOOKUP(O$205,'Hilfsblatt Ber. Wirtsch Wirk 3'!$D$11:$BW$96,$A222,FALSE)+IF(O$205=$C222,HLOOKUP(O$205,'Hilfsblatt Ber. Wirtsch Wirk 3'!$D$11:$BX$96,87,FALSE),0))/100),0)","v":0},{"$f":"IFERROR((P$206*(HLOOKUP(P$205,'Hilfsblatt Ber. Wirtsch Wirk 3'!$D$11:$BW$96,$A222,FALSE)+IF(P$205=$C222,HLOOKUP(P$205,'Hilfsblatt Ber. Wirtsch Wirk 3'!$D$11:$BX$96,87,FALSE),0))/100),0)","v":0},{"$f":"IFERROR((Q$206*(HLOOKUP(Q$205,'Hilfsblatt Ber. Wirtsch Wirk 3'!$D$11:$BW$96,$A222,FALSE)+IF(Q$205=$C222,HLOOKUP(Q$205,'Hilfsblatt Ber. Wirtsch Wirk 3'!$D$11:$BX$96,87,FALSE),0))/100),0)","v":0},{"$f":"R$206*('Hilfsblatt Ber. Wirtsch Wirk 3'!BX27+'Hilfsblatt Ber. Wirtsch Wirk 3'!BX27*'Hilfsblatt Ber. Wirtsch Wirk 3'!CA27/'Hilfsblatt Ber. Wirtsch Wirk 3'!CB27)/100","v":0},0,{"$f":"S222*'Hilfsblatt Ber. Wirtsch Wirk 3'!BZ27/('Hilfsblatt Ber. Wirtsch Wirk 3'!CA27)","v":0},{"$f":"S222/'Hilfsblatt Ber. Wirtsch Wirk 3'!CC27","v":0},{"$f":"T222*('Hilfsblatt Ber. Wirtsch Wirk 4'!B$14/'Hilfsblatt Ber. Wirtsch Wirk 4'!B$13)","v":0},{"$f":"S222*'Hilfsblatt Ber. Wirtsch Wirk 3'!CD27","v":0}]
[18,{"$f":"B123","v":"21"},"Pharmazeutische Erzeugnisse ",{"$f":"IFERROR((D$206*(HLOOKUP(D$205,'Hilfsblatt Ber. Wirtsch Wirk 3'!$D$11:$BW$96,$A223,FALSE)+IF(D$205=$C223,HLOOKUP(D$205,'Hilfsblatt Ber. Wirtsch Wirk 3'!$D$11:$BX$96,87,FALSE),0))/100),0)","v":0},{"$f":"IFERROR((E$206*(HLOOKUP(E$205,'Hilfsblatt Ber. Wirtsch Wirk 3'!$D$11:$BW$96,$A223,FALSE)+IF(E$205=$C223,HLOOKUP(E$205,'Hilfsblatt Ber. Wirtsch Wirk 3'!$D$11:$BX$96,87,FALSE),0))/100),0)","v":0},{"$f":"IFERROR((F$206*(HLOOKUP(F$205,'Hilfsblatt Ber. Wirtsch Wirk 3'!$D$11:$BW$96,$A223,FALSE)+IF(F$205=$C223,HLOOKUP(F$205,'Hilfsblatt Ber. Wirtsch Wirk 3'!$D$11:$BX$96,87,FALSE),0))/100),0)","v":0},{"$f":"IFERROR((G$206*(HLOOKUP(G$205,'Hilfsblatt Ber. Wirtsch Wirk 3'!$D$11:$BW$96,$A223,FALSE)+IF(G$205=$C223,HLOOKUP(G$205,'Hilfsblatt Ber. Wirtsch Wirk 3'!$D$11:$BX$96,87,FALSE),0))/100),0)","v":0},{"$f":"IFERROR((H$206*(HLOOKUP(H$205,'Hilfsblatt Ber. Wirtsch Wirk 3'!$D$11:$BW$96,$A223,FALSE)+IF(H$205=$C223,HLOOKUP(H$205,'Hilfsblatt Ber. Wirtsch Wirk 3'!$D$11:$BX$96,87,FALSE),0))/100),0)","v":0},{"$f":"IFERROR((I$206*(HLOOKUP(I$205,'Hilfsblatt Ber. Wirtsch Wirk 3'!$D$11:$BW$96,$A223,FALSE)+IF(I$205=$C223,HLOOKUP(I$205,'Hilfsblatt Ber. Wirtsch Wirk 3'!$D$11:$BX$96,87,FALSE),0))/100),0)","v":0},{"$f":"IFERROR((J$206*(HLOOKUP(J$205,'Hilfsblatt Ber. Wirtsch Wirk 3'!$D$11:$BW$96,$A223,FALSE)+IF(J$205=$C223,HLOOKUP(J$205,'Hilfsblatt Ber. Wirtsch Wirk 3'!$D$11:$BX$96,87,FALSE),0))/100),0)","v":0},{"$f":"IFERROR((K$206*(HLOOKUP(K$205,'Hilfsblatt Ber. Wirtsch Wirk 3'!$D$11:$BW$96,$A223,FALSE)+IF(K$205=$C223,HLOOKUP(K$205,'Hilfsblatt Ber. Wirtsch Wirk 3'!$D$11:$BX$96,87,FALSE),0))/100),0)","v":0},{"$f":"IFERROR((L$206*(HLOOKUP(L$205,'Hilfsblatt Ber. Wirtsch Wirk 3'!$D$11:$BW$96,$A223,FALSE)+IF(L$205=$C223,HLOOKUP(L$205,'Hilfsblatt Ber. Wirtsch Wirk 3'!$D$11:$BX$96,87,FALSE),0))/100),0)","v":0},{"$f":"IFERROR((M$206*(HLOOKUP(M$205,'Hilfsblatt Ber. Wirtsch Wirk 3'!$D$11:$BW$96,$A223,FALSE)+IF(M$205=$C223,HLOOKUP(M$205,'Hilfsblatt Ber. Wirtsch Wirk 3'!$D$11:$BX$96,87,FALSE),0))/100),0)","v":0},{"$f":"IFERROR((N$206*(HLOOKUP(N$205,'Hilfsblatt Ber. Wirtsch Wirk 3'!$D$11:$BW$96,$A223,FALSE)+IF(N$205=$C223,HLOOKUP(N$205,'Hilfsblatt Ber. Wirtsch Wirk 3'!$D$11:$BX$96,87,FALSE),0))/100),0)","v":0},{"$f":"IFERROR((O$206*(HLOOKUP(O$205,'Hilfsblatt Ber. Wirtsch Wirk 3'!$D$11:$BW$96,$A223,FALSE)+IF(O$205=$C223,HLOOKUP(O$205,'Hilfsblatt Ber. Wirtsch Wirk 3'!$D$11:$BX$96,87,FALSE),0))/100),0)","v":0},{"$f":"IFERROR((P$206*(HLOOKUP(P$205,'Hilfsblatt Ber. Wirtsch Wirk 3'!$D$11:$BW$96,$A223,FALSE)+IF(P$205=$C223,HLOOKUP(P$205,'Hilfsblatt Ber. Wirtsch Wirk 3'!$D$11:$BX$96,87,FALSE),0))/100),0)","v":0},{"$f":"IFERROR((Q$206*(HLOOKUP(Q$205,'Hilfsblatt Ber. Wirtsch Wirk 3'!$D$11:$BW$96,$A223,FALSE)+IF(Q$205=$C223,HLOOKUP(Q$205,'Hilfsblatt Ber. Wirtsch Wirk 3'!$D$11:$BX$96,87,FALSE),0))/100),0)","v":0},{"$f":"R$206*('Hilfsblatt Ber. Wirtsch Wirk 3'!BX28+'Hilfsblatt Ber. Wirtsch Wirk 3'!BX28*'Hilfsblatt Ber. Wirtsch Wirk 3'!CA28/'Hilfsblatt Ber. Wirtsch Wirk 3'!CB28)/100","v":0},0,{"$f":"S223*'Hilfsblatt Ber. Wirtsch Wirk 3'!BZ28/('Hilfsblatt Ber. Wirtsch Wirk 3'!CA28)","v":0},{"$f":"S223/'Hilfsblatt Ber. Wirtsch Wirk 3'!CC28","v":0},{"$f":"T223*('Hilfsblatt Ber. Wirtsch Wirk 4'!B$14/'Hilfsblatt Ber. Wirtsch Wirk 4'!B$13)","v":0},{"$f":"S223*'Hilfsblatt Ber. Wirtsch Wirk 3'!CD28","v":0}]
[19,{"$f":"B124","v":"22"},"Gummi- und Kunststoffwaren",{"$f":"IFERROR((D$206*(HLOOKUP(D$205,'Hilfsblatt Ber. Wirtsch Wirk 3'!$D$11:$BW$96,$A224,FALSE)+IF(D$205=$C224,HLOOKUP(D$205,'Hilfsblatt Ber. Wirtsch Wirk 3'!$D$11:$BX$96,87,FALSE),0))/100),0)","v":0},{"$f":"IFERROR((E$206*(HLOOKUP(E$205,'Hilfsblatt Ber. Wirtsch Wirk 3'!$D$11:$BW$96,$A224,FALSE)+IF(E$205=$C224,HLOOKUP(E$205,'Hilfsblatt Ber. Wirtsch Wirk 3'!$D$11:$BX$96,87,FALSE),0))/100),0)","v":0},{"$f":"IFERROR((F$206*(HLOOKUP(F$205,'Hilfsblatt Ber. Wirtsch Wirk 3'!$D$11:$BW$96,$A224,FALSE)+IF(F$205=$C224,HLOOKUP(F$205,'Hilfsblatt Ber. Wirtsch Wirk 3'!$D$11:$BX$96,87,FALSE),0))/100),0)","v":0},{"$f":"IFERROR((G$206*(HLOOKUP(G$205,'Hilfsblatt Ber. Wirtsch Wirk 3'!$D$11:$BW$96,$A224,FALSE)+IF(G$205=$C224,HLOOKUP(G$205,'Hilfsblatt Ber. Wirtsch Wirk 3'!$D$11:$BX$96,87,FALSE),0))/100),0)","v":0},{"$f":"IFERROR((H$206*(HLOOKUP(H$205,'Hilfsblatt Ber. Wirtsch Wirk 3'!$D$11:$BW$96,$A224,FALSE)+IF(H$205=$C224,HLOOKUP(H$205,'Hilfsblatt Ber. Wirtsch Wirk 3'!$D$11:$BX$96,87,FALSE),0))/100),0)","v":0},{"$f":"IFERROR((I$206*(HLOOKUP(I$205,'Hilfsblatt Ber. Wirtsch Wirk 3'!$D$11:$BW$96,$A224,FALSE)+IF(I$205=$C224,HLOOKUP(I$205,'Hilfsblatt Ber. Wirtsch Wirk 3'!$D$11:$BX$96,87,FALSE),0))/100),0)","v":0},{"$f":"IFERROR((J$206*(HLOOKUP(J$205,'Hilfsblatt Ber. Wirtsch Wirk 3'!$D$11:$BW$96,$A224,FALSE)+IF(J$205=$C224,HLOOKUP(J$205,'Hilfsblatt Ber. Wirtsch Wirk 3'!$D$11:$BX$96,87,FALSE),0))/100),0)","v":0},{"$f":"IFERROR((K$206*(HLOOKUP(K$205,'Hilfsblatt Ber. Wirtsch Wirk 3'!$D$11:$BW$96,$A224,FALSE)+IF(K$205=$C224,HLOOKUP(K$205,'Hilfsblatt Ber. Wirtsch Wirk 3'!$D$11:$BX$96,87,FALSE),0))/100),0)","v":0},{"$f":"IFERROR((L$206*(HLOOKUP(L$205,'Hilfsblatt Ber. Wirtsch Wirk 3'!$D$11:$BW$96,$A224,FALSE)+IF(L$205=$C224,HLOOKUP(L$205,'Hilfsblatt Ber. Wirtsch Wirk 3'!$D$11:$BX$96,87,FALSE),0))/100),0)","v":0},{"$f":"IFERROR((M$206*(HLOOKUP(M$205,'Hilfsblatt Ber. Wirtsch Wirk 3'!$D$11:$BW$96,$A224,FALSE)+IF(M$205=$C224,HLOOKUP(M$205,'Hilfsblatt Ber. Wirtsch Wirk 3'!$D$11:$BX$96,87,FALSE),0))/100),0)","v":0},{"$f":"IFERROR((N$206*(HLOOKUP(N$205,'Hilfsblatt Ber. Wirtsch Wirk 3'!$D$11:$BW$96,$A224,FALSE)+IF(N$205=$C224,HLOOKUP(N$205,'Hilfsblatt Ber. Wirtsch Wirk 3'!$D$11:$BX$96,87,FALSE),0))/100),0)","v":0},{"$f":"IFERROR((O$206*(HLOOKUP(O$205,'Hilfsblatt Ber. Wirtsch Wirk 3'!$D$11:$BW$96,$A224,FALSE)+IF(O$205=$C224,HLOOKUP(O$205,'Hilfsblatt Ber. Wirtsch Wirk 3'!$D$11:$BX$96,87,FALSE),0))/100),0)","v":0},{"$f":"IFERROR((P$206*(HLOOKUP(P$205,'Hilfsblatt Ber. Wirtsch Wirk 3'!$D$11:$BW$96,$A224,FALSE)+IF(P$205=$C224,HLOOKUP(P$205,'Hilfsblatt Ber. Wirtsch Wirk 3'!$D$11:$BX$96,87,FALSE),0))/100),0)","v":0},{"$f":"IFERROR((Q$206*(HLOOKUP(Q$205,'Hilfsblatt Ber. Wirtsch Wirk 3'!$D$11:$BW$96,$A224,FALSE)+IF(Q$205=$C224,HLOOKUP(Q$205,'Hilfsblatt Ber. Wirtsch Wirk 3'!$D$11:$BX$96,87,FALSE),0))/100),0)","v":0},{"$f":"R$206*('Hilfsblatt Ber. Wirtsch Wirk 3'!BX29+'Hilfsblatt Ber. Wirtsch Wirk 3'!BX29*'Hilfsblatt Ber. Wirtsch Wirk 3'!CA29/'Hilfsblatt Ber. Wirtsch Wirk 3'!CB29)/100","v":0},0,{"$f":"S224*'Hilfsblatt Ber. Wirtsch Wirk 3'!BZ29/('Hilfsblatt Ber. Wirtsch Wirk 3'!CA29)","v":0},{"$f":"S224/'Hilfsblatt Ber. Wirtsch Wirk 3'!CC29","v":0},{"$f":"T224*('Hilfsblatt Ber. Wirtsch Wirk 4'!B$14/'Hilfsblatt Ber. Wirtsch Wirk 4'!B$13)","v":0},{"$f":"S224*'Hilfsblatt Ber. Wirtsch Wirk 3'!CD29","v":0}]
[20,{"$f":"B125","v":"23.1"},"Glas und Glaswaren",{"$f":"IFERROR((D$206*(HLOOKUP(D$205,'Hilfsblatt Ber. Wirtsch Wirk 3'!$D$11:$BW$96,$A225,FALSE)+IF(D$205=$C225,HLOOKUP(D$205,'Hilfsblatt Ber. Wirtsch Wirk 3'!$D$11:$BX$96,87,FALSE),0))/100),0)","v":0},{"$f":"IFERROR((E$206*(HLOOKUP(E$205,'Hilfsblatt Ber. Wirtsch Wirk 3'!$D$11:$BW$96,$A225,FALSE)+IF(E$205=$C225,HLOOKUP(E$205,'Hilfsblatt Ber. Wirtsch Wirk 3'!$D$11:$BX$96,87,FALSE),0))/100),0)","v":0},{"$f":"IFERROR((F$206*(HLOOKUP(F$205,'Hilfsblatt Ber. Wirtsch Wirk 3'!$D$11:$BW$96,$A225,FALSE)+IF(F$205=$C225,HLOOKUP(F$205,'Hilfsblatt Ber. Wirtsch Wirk 3'!$D$11:$BX$96,87,FALSE),0))/100),0)","v":0},{"$f":"IFERROR((G$206*(HLOOKUP(G$205,'Hilfsblatt Ber. Wirtsch Wirk 3'!$D$11:$BW$96,$A225,FALSE)+IF(G$205=$C225,HLOOKUP(G$205,'Hilfsblatt Ber. Wirtsch Wirk 3'!$D$11:$BX$96,87,FALSE),0))/100),0)","v":0},{"$f":"IFERROR((H$206*(HLOOKUP(H$205,'Hilfsblatt Ber. Wirtsch Wirk 3'!$D$11:$BW$96,$A225,FALSE)+IF(H$205=$C225,HLOOKUP(H$205,'Hilfsblatt Ber. Wirtsch Wirk 3'!$D$11:$BX$96,87,FALSE),0))/100),0)","v":0},{"$f":"IFERROR((I$206*(HLOOKUP(I$205,'Hilfsblatt Ber. Wirtsch Wirk 3'!$D$11:$BW$96,$A225,FALSE)+IF(I$205=$C225,HLOOKUP(I$205,'Hilfsblatt Ber. Wirtsch Wirk 3'!$D$11:$BX$96,87,FALSE),0))/100),0)","v":0},{"$f":"IFERROR((J$206*(HLOOKUP(J$205,'Hilfsblatt Ber. Wirtsch Wirk 3'!$D$11:$BW$96,$A225,FALSE)+IF(J$205=$C225,HLOOKUP(J$205,'Hilfsblatt Ber. Wirtsch Wirk 3'!$D$11:$BX$96,87,FALSE),0))/100),0)","v":0},{"$f":"IFERROR((K$206*(HLOOKUP(K$205,'Hilfsblatt Ber. Wirtsch Wirk 3'!$D$11:$BW$96,$A225,FALSE)+IF(K$205=$C225,HLOOKUP(K$205,'Hilfsblatt Ber. Wirtsch Wirk 3'!$D$11:$BX$96,87,FALSE),0))/100),0)","v":0},{"$f":"IFERROR((L$206*(HLOOKUP(L$205,'Hilfsblatt Ber. Wirtsch Wirk 3'!$D$11:$BW$96,$A225,FALSE)+IF(L$205=$C225,HLOOKUP(L$205,'Hilfsblatt Ber. Wirtsch Wirk 3'!$D$11:$BX$96,87,FALSE),0))/100),0)","v":0},{"$f":"IFERROR((M$206*(HLOOKUP(M$205,'Hilfsblatt Ber. Wirtsch Wirk 3'!$D$11:$BW$96,$A225,FALSE)+IF(M$205=$C225,HLOOKUP(M$205,'Hilfsblatt Ber. Wirtsch Wirk 3'!$D$11:$BX$96,87,FALSE),0))/100),0)","v":0},{"$f":"IFERROR((N$206*(HLOOKUP(N$205,'Hilfsblatt Ber. Wirtsch Wirk 3'!$D$11:$BW$96,$A225,FALSE)+IF(N$205=$C225,HLOOKUP(N$205,'Hilfsblatt Ber. Wirtsch Wirk 3'!$D$11:$BX$96,87,FALSE),0))/100),0)","v":0},{"$f":"IFERROR((O$206*(HLOOKUP(O$205,'Hilfsblatt Ber. Wirtsch Wirk 3'!$D$11:$BW$96,$A225,FALSE)+IF(O$205=$C225,HLOOKUP(O$205,'Hilfsblatt Ber. Wirtsch Wirk 3'!$D$11:$BX$96,87,FALSE),0))/100),0)","v":0},{"$f":"IFERROR((P$206*(HLOOKUP(P$205,'Hilfsblatt Ber. Wirtsch Wirk 3'!$D$11:$BW$96,$A225,FALSE)+IF(P$205=$C225,HLOOKUP(P$205,'Hilfsblatt Ber. Wirtsch Wirk 3'!$D$11:$BX$96,87,FALSE),0))/100),0)","v":0},{"$f":"IFERROR((Q$206*(HLOOKUP(Q$205,'Hilfsblatt Ber. Wirtsch Wirk 3'!$D$11:$BW$96,$A225,FALSE)+IF(Q$205=$C225,HLOOKUP(Q$205,'Hilfsblatt Ber. Wirtsch Wirk 3'!$D$11:$BX$96,87,FALSE),0))/100),0)","v":0},{"$f":"R$206*('Hilfsblatt Ber. Wirtsch Wirk 3'!BX30+'Hilfsblatt Ber. Wirtsch Wirk 3'!BX30*'Hilfsblatt Ber. Wirtsch Wirk 3'!CA30/'Hilfsblatt Ber. Wirtsch Wirk 3'!CB30)/100","v":0},0,{"$f":"S225*'Hilfsblatt Ber. Wirtsch Wirk 3'!BZ30/('Hilfsblatt Ber. Wirtsch Wirk 3'!CA30)","v":0},{"$f":"S225/'Hilfsblatt Ber. Wirtsch Wirk 3'!CC30","v":0},{"$f":"T225*('Hilfsblatt Ber. Wirtsch Wirk 4'!B$14/'Hilfsblatt Ber. Wirtsch Wirk 4'!B$13)","v":0},{"$f":"S225*'Hilfsblatt Ber. Wirtsch Wirk 3'!CD30","v":0}]
[21,{"$f":"B126","v":"23.2-23.9"},"Keramik, bearbeitete Steine und Erden",{"$f":"IFERROR((D$206*(HLOOKUP(D$205,'Hilfsblatt Ber. Wirtsch Wirk 3'!$D$11:$BW$96,$A226,FALSE)+IF(D$205=$C226,HLOOKUP(D$205,'Hilfsblatt Ber. Wirtsch Wirk 3'!$D$11:$BX$96,87,FALSE),0))/100),0)","v":0},{"$f":"IFERROR((E$206*(HLOOKUP(E$205,'Hilfsblatt Ber. Wirtsch Wirk 3'!$D$11:$BW$96,$A226,FALSE)+IF(E$205=$C226,HLOOKUP(E$205,'Hilfsblatt Ber. Wirtsch Wirk 3'!$D$11:$BX$96,87,FALSE),0))/100),0)","v":0},{"$f":"IFERROR((F$206*(HLOOKUP(F$205,'Hilfsblatt Ber. Wirtsch Wirk 3'!$D$11:$BW$96,$A226,FALSE)+IF(F$205=$C226,HLOOKUP(F$205,'Hilfsblatt Ber. Wirtsch Wirk 3'!$D$11:$BX$96,87,FALSE),0))/100),0)","v":0},{"$f":"IFERROR((G$206*(HLOOKUP(G$205,'Hilfsblatt Ber. Wirtsch Wirk 3'!$D$11:$BW$96,$A226,FALSE)+IF(G$205=$C226,HLOOKUP(G$205,'Hilfsblatt Ber. Wirtsch Wirk 3'!$D$11:$BX$96,87,FALSE),0))/100),0)","v":0},{"$f":"IFERROR((H$206*(HLOOKUP(H$205,'Hilfsblatt Ber. Wirtsch Wirk 3'!$D$11:$BW$96,$A226,FALSE)+IF(H$205=$C226,HLOOKUP(H$205,'Hilfsblatt Ber. Wirtsch Wirk 3'!$D$11:$BX$96,87,FALSE),0))/100),0)","v":0},{"$f":"IFERROR((I$206*(HLOOKUP(I$205,'Hilfsblatt Ber. Wirtsch Wirk 3'!$D$11:$BW$96,$A226,FALSE)+IF(I$205=$C226,HLOOKUP(I$205,'Hilfsblatt Ber. Wirtsch Wirk 3'!$D$11:$BX$96,87,FALSE),0))/100),0)","v":0},{"$f":"IFERROR((J$206*(HLOOKUP(J$205,'Hilfsblatt Ber. Wirtsch Wirk 3'!$D$11:$BW$96,$A226,FALSE)+IF(J$205=$C226,HLOOKUP(J$205,'Hilfsblatt Ber. Wirtsch Wirk 3'!$D$11:$BX$96,87,FALSE),0))/100),0)","v":0},{"$f":"IFERROR((K$206*(HLOOKUP(K$205,'Hilfsblatt Ber. Wirtsch Wirk 3'!$D$11:$BW$96,$A226,FALSE)+IF(K$205=$C226,HLOOKUP(K$205,'Hilfsblatt Ber. Wirtsch Wirk 3'!$D$11:$BX$96,87,FALSE),0))/100),0)","v":0},{"$f":"IFERROR((L$206*(HLOOKUP(L$205,'Hilfsblatt Ber. Wirtsch Wirk 3'!$D$11:$BW$96,$A226,FALSE)+IF(L$205=$C226,HLOOKUP(L$205,'Hilfsblatt Ber. Wirtsch Wirk 3'!$D$11:$BX$96,87,FALSE),0))/100),0)","v":0},{"$f":"IFERROR((M$206*(HLOOKUP(M$205,'Hilfsblatt Ber. Wirtsch Wirk 3'!$D$11:$BW$96,$A226,FALSE)+IF(M$205=$C226,HLOOKUP(M$205,'Hilfsblatt Ber. Wirtsch Wirk 3'!$D$11:$BX$96,87,FALSE),0))/100),0)","v":0},{"$f":"IFERROR((N$206*(HLOOKUP(N$205,'Hilfsblatt Ber. Wirtsch Wirk 3'!$D$11:$BW$96,$A226,FALSE)+IF(N$205=$C226,HLOOKUP(N$205,'Hilfsblatt Ber. Wirtsch Wirk 3'!$D$11:$BX$96,87,FALSE),0))/100),0)","v":0},{"$f":"IFERROR((O$206*(HLOOKUP(O$205,'Hilfsblatt Ber. Wirtsch Wirk 3'!$D$11:$BW$96,$A226,FALSE)+IF(O$205=$C226,HLOOKUP(O$205,'Hilfsblatt Ber. Wirtsch Wirk 3'!$D$11:$BX$96,87,FALSE),0))/100),0)","v":0},{"$f":"IFERROR((P$206*(HLOOKUP(P$205,'Hilfsblatt Ber. Wirtsch Wirk 3'!$D$11:$BW$96,$A226,FALSE)+IF(P$205=$C226,HLOOKUP(P$205,'Hilfsblatt Ber. Wirtsch Wirk 3'!$D$11:$BX$96,87,FALSE),0))/100),0)","v":0},{"$f":"IFERROR((Q$206*(HLOOKUP(Q$205,'Hilfsblatt Ber. Wirtsch Wirk 3'!$D$11:$BW$96,$A226,FALSE)+IF(Q$205=$C226,HLOOKUP(Q$205,'Hilfsblatt Ber. Wirtsch Wirk 3'!$D$11:$BX$96,87,FALSE),0))/100),0)","v":0},{"$f":"R$206*('Hilfsblatt Ber. Wirtsch Wirk 3'!BX31+'Hilfsblatt Ber. Wirtsch Wirk 3'!BX31*'Hilfsblatt Ber. Wirtsch Wirk 3'!CA31/'Hilfsblatt Ber. Wirtsch Wirk 3'!CB31)/100","v":0},0,{"$f":"S226*'Hilfsblatt Ber. Wirtsch Wirk 3'!BZ31/('Hilfsblatt Ber. Wirtsch Wirk 3'!CA31)","v":0},{"$f":"S226/'Hilfsblatt Ber. Wirtsch Wirk 3'!CC31","v":0},{"$f":"T226*('Hilfsblatt Ber. Wirtsch Wirk 4'!B$14/'Hilfsblatt Ber. Wirtsch Wirk 4'!B$13)","v":0},{"$f":"S226*'Hilfsblatt Ber. Wirtsch Wirk 3'!CD31","v":0}]
[22,{"$f":"B127","v":"24.1-24.3"},"Roheisen, Stahl, Erzeugn. der ersten Bearbeitung von Eisen und Stahl",{"$f":"IFERROR((D$206*(HLOOKUP(D$205,'Hilfsblatt Ber. Wirtsch Wirk 3'!$D$11:$BW$96,$A227,FALSE)+IF(D$205=$C227,HLOOKUP(D$205,'Hilfsblatt Ber. Wirtsch Wirk 3'!$D$11:$BX$96,87,FALSE),0))/100),0)","v":0},{"$f":"IFERROR((E$206*(HLOOKUP(E$205,'Hilfsblatt Ber. Wirtsch Wirk 3'!$D$11:$BW$96,$A227,FALSE)+IF(E$205=$C227,HLOOKUP(E$205,'Hilfsblatt Ber. Wirtsch Wirk 3'!$D$11:$BX$96,87,FALSE),0))/100),0)","v":0},{"$f":"IFERROR((F$206*(HLOOKUP(F$205,'Hilfsblatt Ber. Wirtsch Wirk 3'!$D$11:$BW$96,$A227,FALSE)+IF(F$205=$C227,HLOOKUP(F$205,'Hilfsblatt Ber. Wirtsch Wirk 3'!$D$11:$BX$96,87,FALSE),0))/100),0)","v":0},{"$f":"IFERROR((G$206*(HLOOKUP(G$205,'Hilfsblatt Ber. Wirtsch Wirk 3'!$D$11:$BW$96,$A227,FALSE)+IF(G$205=$C227,HLOOKUP(G$205,'Hilfsblatt Ber. Wirtsch Wirk 3'!$D$11:$BX$96,87,FALSE),0))/100),0)","v":0},{"$f":"IFERROR((H$206*(HLOOKUP(H$205,'Hilfsblatt Ber. Wirtsch Wirk 3'!$D$11:$BW$96,$A227,FALSE)+IF(H$205=$C227,HLOOKUP(H$205,'Hilfsblatt Ber. Wirtsch Wirk 3'!$D$11:$BX$96,87,FALSE),0))/100),0)","v":0},{"$f":"IFERROR((I$206*(HLOOKUP(I$205,'Hilfsblatt Ber. Wirtsch Wirk 3'!$D$11:$BW$96,$A227,FALSE)+IF(I$205=$C227,HLOOKUP(I$205,'Hilfsblatt Ber. Wirtsch Wirk 3'!$D$11:$BX$96,87,FALSE),0))/100),0)","v":0},{"$f":"IFERROR((J$206*(HLOOKUP(J$205,'Hilfsblatt Ber. Wirtsch Wirk 3'!$D$11:$BW$96,$A227,FALSE)+IF(J$205=$C227,HLOOKUP(J$205,'Hilfsblatt Ber. Wirtsch Wirk 3'!$D$11:$BX$96,87,FALSE),0))/100),0)","v":0},{"$f":"IFERROR((K$206*(HLOOKUP(K$205,'Hilfsblatt Ber. Wirtsch Wirk 3'!$D$11:$BW$96,$A227,FALSE)+IF(K$205=$C227,HLOOKUP(K$205,'Hilfsblatt Ber. Wirtsch Wirk 3'!$D$11:$BX$96,87,FALSE),0))/100),0)","v":0},{"$f":"IFERROR((L$206*(HLOOKUP(L$205,'Hilfsblatt Ber. Wirtsch Wirk 3'!$D$11:$BW$96,$A227,FALSE)+IF(L$205=$C227,HLOOKUP(L$205,'Hilfsblatt Ber. Wirtsch Wirk 3'!$D$11:$BX$96,87,FALSE),0))/100),0)","v":0},{"$f":"IFERROR((M$206*(HLOOKUP(M$205,'Hilfsblatt Ber. Wirtsch Wirk 3'!$D$11:$BW$96,$A227,FALSE)+IF(M$205=$C227,HLOOKUP(M$205,'Hilfsblatt Ber. Wirtsch Wirk 3'!$D$11:$BX$96,87,FALSE),0))/100),0)","v":0},{"$f":"IFERROR((N$206*(HLOOKUP(N$205,'Hilfsblatt Ber. Wirtsch Wirk 3'!$D$11:$BW$96,$A227,FALSE)+IF(N$205=$C227,HLOOKUP(N$205,'Hilfsblatt Ber. Wirtsch Wirk 3'!$D$11:$BX$96,87,FALSE),0))/100),0)","v":0},{"$f":"IFERROR((O$206*(HLOOKUP(O$205,'Hilfsblatt Ber. Wirtsch Wirk 3'!$D$11:$BW$96,$A227,FALSE)+IF(O$205=$C227,HLOOKUP(O$205,'Hilfsblatt Ber. Wirtsch Wirk 3'!$D$11:$BX$96,87,FALSE),0))/100),0)","v":0},{"$f":"IFERROR((P$206*(HLOOKUP(P$205,'Hilfsblatt Ber. Wirtsch Wirk 3'!$D$11:$BW$96,$A227,FALSE)+IF(P$205=$C227,HLOOKUP(P$205,'Hilfsblatt Ber. Wirtsch Wirk 3'!$D$11:$BX$96,87,FALSE),0))/100),0)","v":0},{"$f":"IFERROR((Q$206*(HLOOKUP(Q$205,'Hilfsblatt Ber. Wirtsch Wirk 3'!$D$11:$BW$96,$A227,FALSE)+IF(Q$205=$C227,HLOOKUP(Q$205,'Hilfsblatt Ber. Wirtsch Wirk 3'!$D$11:$BX$96,87,FALSE),0))/100),0)","v":0},{"$f":"R$206*('Hilfsblatt Ber. Wirtsch Wirk 3'!BX32+'Hilfsblatt Ber. Wirtsch Wirk 3'!BX32*'Hilfsblatt Ber. Wirtsch Wirk 3'!CA32/'Hilfsblatt Ber. Wirtsch Wirk 3'!CB32)/100","v":0},0,{"$f":"S227*'Hilfsblatt Ber. Wirtsch Wirk 3'!BZ32/('Hilfsblatt Ber. Wirtsch Wirk 3'!CA32)","v":0},{"$f":"S227/'Hilfsblatt Ber. Wirtsch Wirk 3'!CC32","v":0},{"$f":"T227*('Hilfsblatt Ber. Wirtsch Wirk 4'!B$14/'Hilfsblatt Ber. Wirtsch Wirk 4'!B$13)","v":0},{"$f":"S227*'Hilfsblatt Ber. Wirtsch Wirk 3'!CD32","v":0}]
[23,{"$f":"B128","v":"24.4"},"NE-Metalle und Halbzeug daraus ",{"$f":"IFERROR((D$206*(HLOOKUP(D$205,'Hilfsblatt Ber. Wirtsch Wirk 3'!$D$11:$BW$96,$A228,FALSE)+IF(D$205=$C228,HLOOKUP(D$205,'Hilfsblatt Ber. Wirtsch Wirk 3'!$D$11:$BX$96,87,FALSE),0))/100),0)","v":0},{"$f":"IFERROR((E$206*(HLOOKUP(E$205,'Hilfsblatt Ber. Wirtsch Wirk 3'!$D$11:$BW$96,$A228,FALSE)+IF(E$205=$C228,HLOOKUP(E$205,'Hilfsblatt Ber. Wirtsch Wirk 3'!$D$11:$BX$96,87,FALSE),0))/100),0)","v":0},{"$f":"IFERROR((F$206*(HLOOKUP(F$205,'Hilfsblatt Ber. Wirtsch Wirk 3'!$D$11:$BW$96,$A228,FALSE)+IF(F$205=$C228,HLOOKUP(F$205,'Hilfsblatt Ber. Wirtsch Wirk 3'!$D$11:$BX$96,87,FALSE),0))/100),0)","v":0},{"$f":"IFERROR((G$206*(HLOOKUP(G$205,'Hilfsblatt Ber. Wirtsch Wirk 3'!$D$11:$BW$96,$A228,FALSE)+IF(G$205=$C228,HLOOKUP(G$205,'Hilfsblatt Ber. Wirtsch Wirk 3'!$D$11:$BX$96,87,FALSE),0))/100),0)","v":0},{"$f":"IFERROR((H$206*(HLOOKUP(H$205,'Hilfsblatt Ber. Wirtsch Wirk 3'!$D$11:$BW$96,$A228,FALSE)+IF(H$205=$C228,HLOOKUP(H$205,'Hilfsblatt Ber. Wirtsch Wirk 3'!$D$11:$BX$96,87,FALSE),0))/100),0)","v":0},{"$f":"IFERROR((I$206*(HLOOKUP(I$205,'Hilfsblatt Ber. Wirtsch Wirk 3'!$D$11:$BW$96,$A228,FALSE)+IF(I$205=$C228,HLOOKUP(I$205,'Hilfsblatt Ber. Wirtsch Wirk 3'!$D$11:$BX$96,87,FALSE),0))/100),0)","v":0},{"$f":"IFERROR((J$206*(HLOOKUP(J$205,'Hilfsblatt Ber. Wirtsch Wirk 3'!$D$11:$BW$96,$A228,FALSE)+IF(J$205=$C228,HLOOKUP(J$205,'Hilfsblatt Ber. Wirtsch Wirk 3'!$D$11:$BX$96,87,FALSE),0))/100),0)","v":0},{"$f":"IFERROR((K$206*(HLOOKUP(K$205,'Hilfsblatt Ber. Wirtsch Wirk 3'!$D$11:$BW$96,$A228,FALSE)+IF(K$205=$C228,HLOOKUP(K$205,'Hilfsblatt Ber. Wirtsch Wirk 3'!$D$11:$BX$96,87,FALSE),0))/100),0)","v":0},{"$f":"IFERROR((L$206*(HLOOKUP(L$205,'Hilfsblatt Ber. Wirtsch Wirk 3'!$D$11:$BW$96,$A228,FALSE)+IF(L$205=$C228,HLOOKUP(L$205,'Hilfsblatt Ber. Wirtsch Wirk 3'!$D$11:$BX$96,87,FALSE),0))/100),0)","v":0},{"$f":"IFERROR((M$206*(HLOOKUP(M$205,'Hilfsblatt Ber. Wirtsch Wirk 3'!$D$11:$BW$96,$A228,FALSE)+IF(M$205=$C228,HLOOKUP(M$205,'Hilfsblatt Ber. Wirtsch Wirk 3'!$D$11:$BX$96,87,FALSE),0))/100),0)","v":0},{"$f":"IFERROR((N$206*(HLOOKUP(N$205,'Hilfsblatt Ber. Wirtsch Wirk 3'!$D$11:$BW$96,$A228,FALSE)+IF(N$205=$C228,HLOOKUP(N$205,'Hilfsblatt Ber. Wirtsch Wirk 3'!$D$11:$BX$96,87,FALSE),0))/100),0)","v":0},{"$f":"IFERROR((O$206*(HLOOKUP(O$205,'Hilfsblatt Ber. Wirtsch Wirk 3'!$D$11:$BW$96,$A228,FALSE)+IF(O$205=$C228,HLOOKUP(O$205,'Hilfsblatt Ber. Wirtsch Wirk 3'!$D$11:$BX$96,87,FALSE),0))/100),0)","v":0},{"$f":"IFERROR((P$206*(HLOOKUP(P$205,'Hilfsblatt Ber. Wirtsch Wirk 3'!$D$11:$BW$96,$A228,FALSE)+IF(P$205=$C228,HLOOKUP(P$205,'Hilfsblatt Ber. Wirtsch Wirk 3'!$D$11:$BX$96,87,FALSE),0))/100),0)","v":0},{"$f":"IFERROR((Q$206*(HLOOKUP(Q$205,'Hilfsblatt Ber. Wirtsch Wirk 3'!$D$11:$BW$96,$A228,FALSE)+IF(Q$205=$C228,HLOOKUP(Q$205,'Hilfsblatt Ber. Wirtsch Wirk 3'!$D$11:$BX$96,87,FALSE),0))/100),0)","v":0},{"$f":"R$206*('Hilfsblatt Ber. Wirtsch Wirk 3'!BX33+'Hilfsblatt Ber. Wirtsch Wirk 3'!BX33*'Hilfsblatt Ber. Wirtsch Wirk 3'!CA33/'Hilfsblatt Ber. Wirtsch Wirk 3'!CB33)/100","v":0},0,{"$f":"S228*'Hilfsblatt Ber. Wirtsch Wirk 3'!BZ33/('Hilfsblatt Ber. Wirtsch Wirk 3'!CA33)","v":0},{"$f":"S228/'Hilfsblatt Ber. Wirtsch Wirk 3'!CC33","v":0},{"$f":"T228*('Hilfsblatt Ber. Wirtsch Wirk 4'!B$14/'Hilfsblatt Ber. Wirtsch Wirk 4'!B$13)","v":0},{"$f":"S228*'Hilfsblatt Ber. Wirtsch Wirk 3'!CD33","v":0}]
[24,{"$f":"B129","v":"24.5"},"Gießereierzeugnisse",{"$f":"IFERROR((D$206*(HLOOKUP(D$205,'Hilfsblatt Ber. Wirtsch Wirk 3'!$D$11:$BW$96,$A229,FALSE)+IF(D$205=$C229,HLOOKUP(D$205,'Hilfsblatt Ber. Wirtsch Wirk 3'!$D$11:$BX$96,87,FALSE),0))/100),0)","v":0},{"$f":"IFERROR((E$206*(HLOOKUP(E$205,'Hilfsblatt Ber. Wirtsch Wirk 3'!$D$11:$BW$96,$A229,FALSE)+IF(E$205=$C229,HLOOKUP(E$205,'Hilfsblatt Ber. Wirtsch Wirk 3'!$D$11:$BX$96,87,FALSE),0))/100),0)","v":0},{"$f":"IFERROR((F$206*(HLOOKUP(F$205,'Hilfsblatt Ber. Wirtsch Wirk 3'!$D$11:$BW$96,$A229,FALSE)+IF(F$205=$C229,HLOOKUP(F$205,'Hilfsblatt Ber. Wirtsch Wirk 3'!$D$11:$BX$96,87,FALSE),0))/100),0)","v":0},{"$f":"IFERROR((G$206*(HLOOKUP(G$205,'Hilfsblatt Ber. Wirtsch Wirk 3'!$D$11:$BW$96,$A229,FALSE)+IF(G$205=$C229,HLOOKUP(G$205,'Hilfsblatt Ber. Wirtsch Wirk 3'!$D$11:$BX$96,87,FALSE),0))/100),0)","v":0},{"$f":"IFERROR((H$206*(HLOOKUP(H$205,'Hilfsblatt Ber. Wirtsch Wirk 3'!$D$11:$BW$96,$A229,FALSE)+IF(H$205=$C229,HLOOKUP(H$205,'Hilfsblatt Ber. Wirtsch Wirk 3'!$D$11:$BX$96,87,FALSE),0))/100),0)","v":0},{"$f":"IFERROR((I$206*(HLOOKUP(I$205,'Hilfsblatt Ber. Wirtsch Wirk 3'!$D$11:$BW$96,$A229,FALSE)+IF(I$205=$C229,HLOOKUP(I$205,'Hilfsblatt Ber. Wirtsch Wirk 3'!$D$11:$BX$96,87,FALSE),0))/100),0)","v":0},{"$f":"IFERROR((J$206*(HLOOKUP(J$205,'Hilfsblatt Ber. Wirtsch Wirk 3'!$D$11:$BW$96,$A229,FALSE)+IF(J$205=$C229,HLOOKUP(J$205,'Hilfsblatt Ber. Wirtsch Wirk 3'!$D$11:$BX$96,87,FALSE),0))/100),0)","v":0},{"$f":"IFERROR((K$206*(HLOOKUP(K$205,'Hilfsblatt Ber. Wirtsch Wirk 3'!$D$11:$BW$96,$A229,FALSE)+IF(K$205=$C229,HLOOKUP(K$205,'Hilfsblatt Ber. Wirtsch Wirk 3'!$D$11:$BX$96,87,FALSE),0))/100),0)","v":0},{"$f":"IFERROR((L$206*(HLOOKUP(L$205,'Hilfsblatt Ber. Wirtsch Wirk 3'!$D$11:$BW$96,$A229,FALSE)+IF(L$205=$C229,HLOOKUP(L$205,'Hilfsblatt Ber. Wirtsch Wirk 3'!$D$11:$BX$96,87,FALSE),0))/100),0)","v":0},{"$f":"IFERROR((M$206*(HLOOKUP(M$205,'Hilfsblatt Ber. Wirtsch Wirk 3'!$D$11:$BW$96,$A229,FALSE)+IF(M$205=$C229,HLOOKUP(M$205,'Hilfsblatt Ber. Wirtsch Wirk 3'!$D$11:$BX$96,87,FALSE),0))/100),0)","v":0},{"$f":"IFERROR((N$206*(HLOOKUP(N$205,'Hilfsblatt Ber. Wirtsch Wirk 3'!$D$11:$BW$96,$A229,FALSE)+IF(N$205=$C229,HLOOKUP(N$205,'Hilfsblatt Ber. Wirtsch Wirk 3'!$D$11:$BX$96,87,FALSE),0))/100),0)","v":0},{"$f":"IFERROR((O$206*(HLOOKUP(O$205,'Hilfsblatt Ber. Wirtsch Wirk 3'!$D$11:$BW$96,$A229,FALSE)+IF(O$205=$C229,HLOOKUP(O$205,'Hilfsblatt Ber. Wirtsch Wirk 3'!$D$11:$BX$96,87,FALSE),0))/100),0)","v":0},{"$f":"IFERROR((P$206*(HLOOKUP(P$205,'Hilfsblatt Ber. Wirtsch Wirk 3'!$D$11:$BW$96,$A229,FALSE)+IF(P$205=$C229,HLOOKUP(P$205,'Hilfsblatt Ber. Wirtsch Wirk 3'!$D$11:$BX$96,87,FALSE),0))/100),0)","v":0},{"$f":"IFERROR((Q$206*(HLOOKUP(Q$205,'Hilfsblatt Ber. Wirtsch Wirk 3'!$D$11:$BW$96,$A229,FALSE)+IF(Q$205=$C229,HLOOKUP(Q$205,'Hilfsblatt Ber. Wirtsch Wirk 3'!$D$11:$BX$96,87,FALSE),0))/100),0)","v":0},{"$f":"R$206*('Hilfsblatt Ber. Wirtsch Wirk 3'!BX34+'Hilfsblatt Ber. Wirtsch Wirk 3'!BX34*'Hilfsblatt Ber. Wirtsch Wirk 3'!CA34/'Hilfsblatt Ber. Wirtsch Wirk 3'!CB34)/100","v":0},0,{"$f":"S229*'Hilfsblatt Ber. Wirtsch Wirk 3'!BZ34/('Hilfsblatt Ber. Wirtsch Wirk 3'!CA34)","v":0},{"$f":"S229/'Hilfsblatt Ber. Wirtsch Wirk 3'!CC34","v":0},{"$f":"T229*('Hilfsblatt Ber. Wirtsch Wirk 4'!B$14/'Hilfsblatt Ber. Wirtsch Wirk 4'!B$13)","v":0},{"$f":"S229*'Hilfsblatt Ber. Wirtsch Wirk 3'!CD34","v":0}]
[25,{"$f":"B130","v":25},"Metallerzeugnisse ",{"$f":"IFERROR((D$206*(HLOOKUP(D$205,'Hilfsblatt Ber. Wirtsch Wirk 3'!$D$11:$BW$96,$A230,FALSE)+IF(D$205=$C230,HLOOKUP(D$205,'Hilfsblatt Ber. Wirtsch Wirk 3'!$D$11:$BX$96,87,FALSE),0))/100),0)","v":0},{"$f":"IFERROR((E$206*(HLOOKUP(E$205,'Hilfsblatt Ber. Wirtsch Wirk 3'!$D$11:$BW$96,$A230,FALSE)+IF(E$205=$C230,HLOOKUP(E$205,'Hilfsblatt Ber. Wirtsch Wirk 3'!$D$11:$BX$96,87,FALSE),0))/100),0)","v":0},{"$f":"IFERROR((F$206*(HLOOKUP(F$205,'Hilfsblatt Ber. Wirtsch Wirk 3'!$D$11:$BW$96,$A230,FALSE)+IF(F$205=$C230,HLOOKUP(F$205,'Hilfsblatt Ber. Wirtsch Wirk 3'!$D$11:$BX$96,87,FALSE),0))/100),0)","v":0},{"$f":"IFERROR((G$206*(HLOOKUP(G$205,'Hilfsblatt Ber. Wirtsch Wirk 3'!$D$11:$BW$96,$A230,FALSE)+IF(G$205=$C230,HLOOKUP(G$205,'Hilfsblatt Ber. Wirtsch Wirk 3'!$D$11:$BX$96,87,FALSE),0))/100),0)","v":0},{"$f":"IFERROR((H$206*(HLOOKUP(H$205,'Hilfsblatt Ber. Wirtsch Wirk 3'!$D$11:$BW$96,$A230,FALSE)+IF(H$205=$C230,HLOOKUP(H$205,'Hilfsblatt Ber. Wirtsch Wirk 3'!$D$11:$BX$96,87,FALSE),0))/100),0)","v":0},{"$f":"IFERROR((I$206*(HLOOKUP(I$205,'Hilfsblatt Ber. Wirtsch Wirk 3'!$D$11:$BW$96,$A230,FALSE)+IF(I$205=$C230,HLOOKUP(I$205,'Hilfsblatt Ber. Wirtsch Wirk 3'!$D$11:$BX$96,87,FALSE),0))/100),0)","v":0},{"$f":"IFERROR((J$206*(HLOOKUP(J$205,'Hilfsblatt Ber. Wirtsch Wirk 3'!$D$11:$BW$96,$A230,FALSE)+IF(J$205=$C230,HLOOKUP(J$205,'Hilfsblatt Ber. Wirtsch Wirk 3'!$D$11:$BX$96,87,FALSE),0))/100),0)","v":0},{"$f":"IFERROR((K$206*(HLOOKUP(K$205,'Hilfsblatt Ber. Wirtsch Wirk 3'!$D$11:$BW$96,$A230,FALSE)+IF(K$205=$C230,HLOOKUP(K$205,'Hilfsblatt Ber. Wirtsch Wirk 3'!$D$11:$BX$96,87,FALSE),0))/100),0)","v":0},{"$f":"IFERROR((L$206*(HLOOKUP(L$205,'Hilfsblatt Ber. Wirtsch Wirk 3'!$D$11:$BW$96,$A230,FALSE)+IF(L$205=$C230,HLOOKUP(L$205,'Hilfsblatt Ber. Wirtsch Wirk 3'!$D$11:$BX$96,87,FALSE),0))/100),0)","v":0},{"$f":"IFERROR((M$206*(HLOOKUP(M$205,'Hilfsblatt Ber. Wirtsch Wirk 3'!$D$11:$BW$96,$A230,FALSE)+IF(M$205=$C230,HLOOKUP(M$205,'Hilfsblatt Ber. Wirtsch Wirk 3'!$D$11:$BX$96,87,FALSE),0))/100),0)","v":0},{"$f":"IFERROR((N$206*(HLOOKUP(N$205,'Hilfsblatt Ber. Wirtsch Wirk 3'!$D$11:$BW$96,$A230,FALSE)+IF(N$205=$C230,HLOOKUP(N$205,'Hilfsblatt Ber. Wirtsch Wirk 3'!$D$11:$BX$96,87,FALSE),0))/100),0)","v":0},{"$f":"IFERROR((O$206*(HLOOKUP(O$205,'Hilfsblatt Ber. Wirtsch Wirk 3'!$D$11:$BW$96,$A230,FALSE)+IF(O$205=$C230,HLOOKUP(O$205,'Hilfsblatt Ber. Wirtsch Wirk 3'!$D$11:$BX$96,87,FALSE),0))/100),0)","v":0},{"$f":"IFERROR((P$206*(HLOOKUP(P$205,'Hilfsblatt Ber. Wirtsch Wirk 3'!$D$11:$BW$96,$A230,FALSE)+IF(P$205=$C230,HLOOKUP(P$205,'Hilfsblatt Ber. Wirtsch Wirk 3'!$D$11:$BX$96,87,FALSE),0))/100),0)","v":0},{"$f":"IFERROR((Q$206*(HLOOKUP(Q$205,'Hilfsblatt Ber. Wirtsch Wirk 3'!$D$11:$BW$96,$A230,FALSE)+IF(Q$205=$C230,HLOOKUP(Q$205,'Hilfsblatt Ber. Wirtsch Wirk 3'!$D$11:$BX$96,87,FALSE),0))/100),0)","v":0},{"$f":"R$206*('Hilfsblatt Ber. Wirtsch Wirk 3'!BX35+'Hilfsblatt Ber. Wirtsch Wirk 3'!BX35*'Hilfsblatt Ber. Wirtsch Wirk 3'!CA35/'Hilfsblatt Ber. Wirtsch Wirk 3'!CB35)/100","v":0},0,{"$f":"S230*'Hilfsblatt Ber. Wirtsch Wirk 3'!BZ35/('Hilfsblatt Ber. Wirtsch Wirk 3'!CA35)","v":0},{"$f":"S230/'Hilfsblatt Ber. Wirtsch Wirk 3'!CC35","v":0},{"$f":"T230*('Hilfsblatt Ber. Wirtsch Wirk 4'!B$14/'Hilfsblatt Ber. Wirtsch Wirk 4'!B$13)","v":0},{"$f":"S230*'Hilfsblatt Ber. Wirtsch Wirk 3'!CD35","v":0}]
[26,{"$f":"B131","v":"26"},"DV-geräte, elektron. u. optische Erzeugnisse",{"$f":"IFERROR((D$206*(HLOOKUP(D$205,'Hilfsblatt Ber. Wirtsch Wirk 3'!$D$11:$BW$96,$A231,FALSE)+IF(D$205=$C231,HLOOKUP(D$205,'Hilfsblatt Ber. Wirtsch Wirk 3'!$D$11:$BX$96,87,FALSE),0))/100),0)","v":0},{"$f":"IFERROR((E$206*(HLOOKUP(E$205,'Hilfsblatt Ber. Wirtsch Wirk 3'!$D$11:$BW$96,$A231,FALSE)+IF(E$205=$C231,HLOOKUP(E$205,'Hilfsblatt Ber. Wirtsch Wirk 3'!$D$11:$BX$96,87,FALSE),0))/100),0)","v":0},{"$f":"IFERROR((F$206*(HLOOKUP(F$205,'Hilfsblatt Ber. Wirtsch Wirk 3'!$D$11:$BW$96,$A231,FALSE)+IF(F$205=$C231,HLOOKUP(F$205,'Hilfsblatt Ber. Wirtsch Wirk 3'!$D$11:$BX$96,87,FALSE),0))/100),0)","v":0},{"$f":"IFERROR((G$206*(HLOOKUP(G$205,'Hilfsblatt Ber. Wirtsch Wirk 3'!$D$11:$BW$96,$A231,FALSE)+IF(G$205=$C231,HLOOKUP(G$205,'Hilfsblatt Ber. Wirtsch Wirk 3'!$D$11:$BX$96,87,FALSE),0))/100),0)","v":0},{"$f":"IFERROR((H$206*(HLOOKUP(H$205,'Hilfsblatt Ber. Wirtsch Wirk 3'!$D$11:$BW$96,$A231,FALSE)+IF(H$205=$C231,HLOOKUP(H$205,'Hilfsblatt Ber. Wirtsch Wirk 3'!$D$11:$BX$96,87,FALSE),0))/100),0)","v":0},{"$f":"IFERROR((I$206*(HLOOKUP(I$205,'Hilfsblatt Ber. Wirtsch Wirk 3'!$D$11:$BW$96,$A231,FALSE)+IF(I$205=$C231,HLOOKUP(I$205,'Hilfsblatt Ber. Wirtsch Wirk 3'!$D$11:$BX$96,87,FALSE),0))/100),0)","v":0},{"$f":"IFERROR((J$206*(HLOOKUP(J$205,'Hilfsblatt Ber. Wirtsch Wirk 3'!$D$11:$BW$96,$A231,FALSE)+IF(J$205=$C231,HLOOKUP(J$205,'Hilfsblatt Ber. Wirtsch Wirk 3'!$D$11:$BX$96,87,FALSE),0))/100),0)","v":0},{"$f":"IFERROR((K$206*(HLOOKUP(K$205,'Hilfsblatt Ber. Wirtsch Wirk 3'!$D$11:$BW$96,$A231,FALSE)+IF(K$205=$C231,HLOOKUP(K$205,'Hilfsblatt Ber. Wirtsch Wirk 3'!$D$11:$BX$96,87,FALSE),0))/100),0)","v":0},{"$f":"IFERROR((L$206*(HLOOKUP(L$205,'Hilfsblatt Ber. Wirtsch Wirk 3'!$D$11:$BW$96,$A231,FALSE)+IF(L$205=$C231,HLOOKUP(L$205,'Hilfsblatt Ber. Wirtsch Wirk 3'!$D$11:$BX$96,87,FALSE),0))/100),0)","v":0},{"$f":"IFERROR((M$206*(HLOOKUP(M$205,'Hilfsblatt Ber. Wirtsch Wirk 3'!$D$11:$BW$96,$A231,FALSE)+IF(M$205=$C231,HLOOKUP(M$205,'Hilfsblatt Ber. Wirtsch Wirk 3'!$D$11:$BX$96,87,FALSE),0))/100),0)","v":0},{"$f":"IFERROR((N$206*(HLOOKUP(N$205,'Hilfsblatt Ber. Wirtsch Wirk 3'!$D$11:$BW$96,$A231,FALSE)+IF(N$205=$C231,HLOOKUP(N$205,'Hilfsblatt Ber. Wirtsch Wirk 3'!$D$11:$BX$96,87,FALSE),0))/100),0)","v":0},{"$f":"IFERROR((O$206*(HLOOKUP(O$205,'Hilfsblatt Ber. Wirtsch Wirk 3'!$D$11:$BW$96,$A231,FALSE)+IF(O$205=$C231,HLOOKUP(O$205,'Hilfsblatt Ber. Wirtsch Wirk 3'!$D$11:$BX$96,87,FALSE),0))/100),0)","v":0},{"$f":"IFERROR((P$206*(HLOOKUP(P$205,'Hilfsblatt Ber. Wirtsch Wirk 3'!$D$11:$BW$96,$A231,FALSE)+IF(P$205=$C231,HLOOKUP(P$205,'Hilfsblatt Ber. Wirtsch Wirk 3'!$D$11:$BX$96,87,FALSE),0))/100),0)","v":0},{"$f":"IFERROR((Q$206*(HLOOKUP(Q$205,'Hilfsblatt Ber. Wirtsch Wirk 3'!$D$11:$BW$96,$A231,FALSE)+IF(Q$205=$C231,HLOOKUP(Q$205,'Hilfsblatt Ber. Wirtsch Wirk 3'!$D$11:$BX$96,87,FALSE),0))/100),0)","v":0},{"$f":"R$206*('Hilfsblatt Ber. Wirtsch Wirk 3'!BX36+'Hilfsblatt Ber. Wirtsch Wirk 3'!BX36*'Hilfsblatt Ber. Wirtsch Wirk 3'!CA36/'Hilfsblatt Ber. Wirtsch Wirk 3'!CB36)/100","v":0},0,{"$f":"S231*'Hilfsblatt Ber. Wirtsch Wirk 3'!BZ36/('Hilfsblatt Ber. Wirtsch Wirk 3'!CA36)","v":0},{"$f":"S231/'Hilfsblatt Ber. Wirtsch Wirk 3'!CC36","v":0},{"$f":"T231*('Hilfsblatt Ber. Wirtsch Wirk 4'!B$14/'Hilfsblatt Ber. Wirtsch Wirk 4'!B$13)","v":0},{"$f":"S231*'Hilfsblatt Ber. Wirtsch Wirk 3'!CD36","v":0}]
[27,{"$f":"B132","v":"27"},{"$f":"C132","v":"Elektrische Ausrüstungen"},{"$f":"IFERROR((D$206*(HLOOKUP(D$205,'Hilfsblatt Ber. Wirtsch Wirk 3'!$D$11:$BW$96,$A232,FALSE)+IF(D$205=$C232,HLOOKUP(D$205,'Hilfsblatt Ber. Wirtsch Wirk 3'!$D$11:$BX$96,87,FALSE),0))/100),0)","v":0},{"$f":"IFERROR((E$206*(HLOOKUP(E$205,'Hilfsblatt Ber. Wirtsch Wirk 3'!$D$11:$BW$96,$A232,FALSE)+IF(E$205=$C232,HLOOKUP(E$205,'Hilfsblatt Ber. Wirtsch Wirk 3'!$D$11:$BX$96,87,FALSE),0))/100),0)","v":0},{"$f":"IFERROR((F$206*(HLOOKUP(F$205,'Hilfsblatt Ber. Wirtsch Wirk 3'!$D$11:$BW$96,$A232,FALSE)+IF(F$205=$C232,HLOOKUP(F$205,'Hilfsblatt Ber. Wirtsch Wirk 3'!$D$11:$BX$96,87,FALSE),0))/100),0)","v":0},{"$f":"IFERROR((G$206*(HLOOKUP(G$205,'Hilfsblatt Ber. Wirtsch Wirk 3'!$D$11:$BW$96,$A232,FALSE)+IF(G$205=$C232,HLOOKUP(G$205,'Hilfsblatt Ber. Wirtsch Wirk 3'!$D$11:$BX$96,87,FALSE),0))/100),0)","v":0},{"$f":"IFERROR((H$206*(HLOOKUP(H$205,'Hilfsblatt Ber. Wirtsch Wirk 3'!$D$11:$BW$96,$A232,FALSE)+IF(H$205=$C232,HLOOKUP(H$205,'Hilfsblatt Ber. Wirtsch Wirk 3'!$D$11:$BX$96,87,FALSE),0))/100),0)","v":0},{"$f":"IFERROR((I$206*(HLOOKUP(I$205,'Hilfsblatt Ber. Wirtsch Wirk 3'!$D$11:$BW$96,$A232,FALSE)+IF(I$205=$C232,HLOOKUP(I$205,'Hilfsblatt Ber. Wirtsch Wirk 3'!$D$11:$BX$96,87,FALSE),0))/100),0)","v":0},{"$f":"IFERROR((J$206*(HLOOKUP(J$205,'Hilfsblatt Ber. Wirtsch Wirk 3'!$D$11:$BW$96,$A232,FALSE)+IF(J$205=$C232,HLOOKUP(J$205,'Hilfsblatt Ber. Wirtsch Wirk 3'!$D$11:$BX$96,87,FALSE),0))/100),0)","v":0},{"$f":"IFERROR((K$206*(HLOOKUP(K$205,'Hilfsblatt Ber. Wirtsch Wirk 3'!$D$11:$BW$96,$A232,FALSE)+IF(K$205=$C232,HLOOKUP(K$205,'Hilfsblatt Ber. Wirtsch Wirk 3'!$D$11:$BX$96,87,FALSE),0))/100),0)","v":0},{"$f":"IFERROR((L$206*(HLOOKUP(L$205,'Hilfsblatt Ber. Wirtsch Wirk 3'!$D$11:$BW$96,$A232,FALSE)+IF(L$205=$C232,HLOOKUP(L$205,'Hilfsblatt Ber. Wirtsch Wirk 3'!$D$11:$BX$96,87,FALSE),0))/100),0)","v":0},{"$f":"IFERROR((M$206*(HLOOKUP(M$205,'Hilfsblatt Ber. Wirtsch Wirk 3'!$D$11:$BW$96,$A232,FALSE)+IF(M$205=$C232,HLOOKUP(M$205,'Hilfsblatt Ber. Wirtsch Wirk 3'!$D$11:$BX$96,87,FALSE),0))/100),0)","v":0},{"$f":"IFERROR((N$206*(HLOOKUP(N$205,'Hilfsblatt Ber. Wirtsch Wirk 3'!$D$11:$BW$96,$A232,FALSE)+IF(N$205=$C232,HLOOKUP(N$205,'Hilfsblatt Ber. Wirtsch Wirk 3'!$D$11:$BX$96,87,FALSE),0))/100),0)","v":0},{"$f":"IFERROR((O$206*(HLOOKUP(O$205,'Hilfsblatt Ber. Wirtsch Wirk 3'!$D$11:$BW$96,$A232,FALSE)+IF(O$205=$C232,HLOOKUP(O$205,'Hilfsblatt Ber. Wirtsch Wirk 3'!$D$11:$BX$96,87,FALSE),0))/100),0)","v":0},{"$f":"IFERROR((P$206*(HLOOKUP(P$205,'Hilfsblatt Ber. Wirtsch Wirk 3'!$D$11:$BW$96,$A232,FALSE)+IF(P$205=$C232,HLOOKUP(P$205,'Hilfsblatt Ber. Wirtsch Wirk 3'!$D$11:$BX$96,87,FALSE),0))/100),0)","v":0},{"$f":"IFERROR((Q$206*(HLOOKUP(Q$205,'Hilfsblatt Ber. Wirtsch Wirk 3'!$D$11:$BW$96,$A232,FALSE)+IF(Q$205=$C232,HLOOKUP(Q$205,'Hilfsblatt Ber. Wirtsch Wirk 3'!$D$11:$BX$96,87,FALSE),0))/100),0)","v":0},{"$f":"R$206*('Hilfsblatt Ber. Wirtsch Wirk 3'!BX37+'Hilfsblatt Ber. Wirtsch Wirk 3'!BX37*'Hilfsblatt Ber. Wirtsch Wirk 3'!CA37/'Hilfsblatt Ber. Wirtsch Wirk 3'!CB37)/100","v":0},0,{"$f":"S232*'Hilfsblatt Ber. Wirtsch Wirk 3'!BZ37/('Hilfsblatt Ber. Wirtsch Wirk 3'!CA37)","v":0},{"$f":"S232/'Hilfsblatt Ber. Wirtsch Wirk 3'!CC37","v":0},{"$f":"T232*('Hilfsblatt Ber. Wirtsch Wirk 4'!B$14/'Hilfsblatt Ber. Wirtsch Wirk 4'!B$13)","v":0},{"$f":"S232*'Hilfsblatt Ber. Wirtsch Wirk 3'!CD37","v":0}]
[28,{"$f":"B133","v":"28"},"Maschinen",{"$f":"IFERROR((D$206*(HLOOKUP(D$205,'Hilfsblatt Ber. Wirtsch Wirk 3'!$D$11:$BW$96,$A233,FALSE)+IF(D$205=$C233,HLOOKUP(D$205,'Hilfsblatt Ber. Wirtsch Wirk 3'!$D$11:$BX$96,87,FALSE),0))/100),0)","v":0},{"$f":"IFERROR((E$206*(HLOOKUP(E$205,'Hilfsblatt Ber. Wirtsch Wirk 3'!$D$11:$BW$96,$A233,FALSE)+IF(E$205=$C233,HLOOKUP(E$205,'Hilfsblatt Ber. Wirtsch Wirk 3'!$D$11:$BX$96,87,FALSE),0))/100),0)","v":0},{"$f":"IFERROR((F$206*(HLOOKUP(F$205,'Hilfsblatt Ber. Wirtsch Wirk 3'!$D$11:$BW$96,$A233,FALSE)+IF(F$205=$C233,HLOOKUP(F$205,'Hilfsblatt Ber. Wirtsch Wirk 3'!$D$11:$BX$96,87,FALSE),0))/100),0)","v":0},{"$f":"IFERROR((G$206*(HLOOKUP(G$205,'Hilfsblatt Ber. Wirtsch Wirk 3'!$D$11:$BW$96,$A233,FALSE)+IF(G$205=$C233,HLOOKUP(G$205,'Hilfsblatt Ber. Wirtsch Wirk 3'!$D$11:$BX$96,87,FALSE),0))/100),0)","v":0},{"$f":"IFERROR((H$206*(HLOOKUP(H$205,'Hilfsblatt Ber. Wirtsch Wirk 3'!$D$11:$BW$96,$A233,FALSE)+IF(H$205=$C233,HLOOKUP(H$205,'Hilfsblatt Ber. Wirtsch Wirk 3'!$D$11:$BX$96,87,FALSE),0))/100),0)","v":0},{"$f":"IFERROR((I$206*(HLOOKUP(I$205,'Hilfsblatt Ber. Wirtsch Wirk 3'!$D$11:$BW$96,$A233,FALSE)+IF(I$205=$C233,HLOOKUP(I$205,'Hilfsblatt Ber. Wirtsch Wirk 3'!$D$11:$BX$96,87,FALSE),0))/100),0)","v":0},{"$f":"IFERROR((J$206*(HLOOKUP(J$205,'Hilfsblatt Ber. Wirtsch Wirk 3'!$D$11:$BW$96,$A233,FALSE)+IF(J$205=$C233,HLOOKUP(J$205,'Hilfsblatt Ber. Wirtsch Wirk 3'!$D$11:$BX$96,87,FALSE),0))/100),0)","v":0},{"$f":"IFERROR((K$206*(HLOOKUP(K$205,'Hilfsblatt Ber. Wirtsch Wirk 3'!$D$11:$BW$96,$A233,FALSE)+IF(K$205=$C233,HLOOKUP(K$205,'Hilfsblatt Ber. Wirtsch Wirk 3'!$D$11:$BX$96,87,FALSE),0))/100),0)","v":0},{"$f":"IFERROR((L$206*(HLOOKUP(L$205,'Hilfsblatt Ber. Wirtsch Wirk 3'!$D$11:$BW$96,$A233,FALSE)+IF(L$205=$C233,HLOOKUP(L$205,'Hilfsblatt Ber. Wirtsch Wirk 3'!$D$11:$BX$96,87,FALSE),0))/100),0)","v":0},{"$f":"IFERROR((M$206*(HLOOKUP(M$205,'Hilfsblatt Ber. Wirtsch Wirk 3'!$D$11:$BW$96,$A233,FALSE)+IF(M$205=$C233,HLOOKUP(M$205,'Hilfsblatt Ber. Wirtsch Wirk 3'!$D$11:$BX$96,87,FALSE),0))/100),0)","v":0},{"$f":"IFERROR((N$206*(HLOOKUP(N$205,'Hilfsblatt Ber. Wirtsch Wirk 3'!$D$11:$BW$96,$A233,FALSE)+IF(N$205=$C233,HLOOKUP(N$205,'Hilfsblatt Ber. Wirtsch Wirk 3'!$D$11:$BX$96,87,FALSE),0))/100),0)","v":0},{"$f":"IFERROR((O$206*(HLOOKUP(O$205,'Hilfsblatt Ber. Wirtsch Wirk 3'!$D$11:$BW$96,$A233,FALSE)+IF(O$205=$C233,HLOOKUP(O$205,'Hilfsblatt Ber. Wirtsch Wirk 3'!$D$11:$BX$96,87,FALSE),0))/100),0)","v":0},{"$f":"IFERROR((P$206*(HLOOKUP(P$205,'Hilfsblatt Ber. Wirtsch Wirk 3'!$D$11:$BW$96,$A233,FALSE)+IF(P$205=$C233,HLOOKUP(P$205,'Hilfsblatt Ber. Wirtsch Wirk 3'!$D$11:$BX$96,87,FALSE),0))/100),0)","v":0},{"$f":"IFERROR((Q$206*(HLOOKUP(Q$205,'Hilfsblatt Ber. Wirtsch Wirk 3'!$D$11:$BW$96,$A233,FALSE)+IF(Q$205=$C233,HLOOKUP(Q$205,'Hilfsblatt Ber. Wirtsch Wirk 3'!$D$11:$BX$96,87,FALSE),0))/100),0)","v":0},{"$f":"R$206*('Hilfsblatt Ber. Wirtsch Wirk 3'!BX38+'Hilfsblatt Ber. Wirtsch Wirk 3'!BX38*'Hilfsblatt Ber. Wirtsch Wirk 3'!CA38/'Hilfsblatt Ber. Wirtsch Wirk 3'!CB38)/100","v":0},0,{"$f":"S233*'Hilfsblatt Ber. Wirtsch Wirk 3'!BZ38/('Hilfsblatt Ber. Wirtsch Wirk 3'!CA38)","v":0},{"$f":"S233/'Hilfsblatt Ber. Wirtsch Wirk 3'!CC38","v":0},{"$f":"T233*('Hilfsblatt Ber. Wirtsch Wirk 4'!B$14/'Hilfsblatt Ber. Wirtsch Wirk 4'!B$13)","v":0},{"$f":"S233*'Hilfsblatt Ber. Wirtsch Wirk 3'!CD38","v":0}]
[29,{"$f":"B134","v":"29"},"Kraftwagen und Kraftwagenteile ",{"$f":"IFERROR((D$206*(HLOOKUP(D$205,'Hilfsblatt Ber. Wirtsch Wirk 3'!$D$11:$BW$96,$A234,FALSE)+IF(D$205=$C234,HLOOKUP(D$205,'Hilfsblatt Ber. Wirtsch Wirk 3'!$D$11:$BX$96,87,FALSE),0))/100),0)","v":0},{"$f":"IFERROR((E$206*(HLOOKUP(E$205,'Hilfsblatt Ber. Wirtsch Wirk 3'!$D$11:$BW$96,$A234,FALSE)+IF(E$205=$C234,HLOOKUP(E$205,'Hilfsblatt Ber. Wirtsch Wirk 3'!$D$11:$BX$96,87,FALSE),0))/100),0)","v":0},{"$f":"IFERROR((F$206*(HLOOKUP(F$205,'Hilfsblatt Ber. Wirtsch Wirk 3'!$D$11:$BW$96,$A234,FALSE)+IF(F$205=$C234,HLOOKUP(F$205,'Hilfsblatt Ber. Wirtsch Wirk 3'!$D$11:$BX$96,87,FALSE),0))/100),0)","v":0},{"$f":"IFERROR((G$206*(HLOOKUP(G$205,'Hilfsblatt Ber. Wirtsch Wirk 3'!$D$11:$BW$96,$A234,FALSE)+IF(G$205=$C234,HLOOKUP(G$205,'Hilfsblatt Ber. Wirtsch Wirk 3'!$D$11:$BX$96,87,FALSE),0))/100),0)","v":0},{"$f":"IFERROR((H$206*(HLOOKUP(H$205,'Hilfsblatt Ber. Wirtsch Wirk 3'!$D$11:$BW$96,$A234,FALSE)+IF(H$205=$C234,HLOOKUP(H$205,'Hilfsblatt Ber. Wirtsch Wirk 3'!$D$11:$BX$96,87,FALSE),0))/100),0)","v":0},{"$f":"IFERROR((I$206*(HLOOKUP(I$205,'Hilfsblatt Ber. Wirtsch Wirk 3'!$D$11:$BW$96,$A234,FALSE)+IF(I$205=$C234,HLOOKUP(I$205,'Hilfsblatt Ber. Wirtsch Wirk 3'!$D$11:$BX$96,87,FALSE),0))/100),0)","v":0},{"$f":"IFERROR((J$206*(HLOOKUP(J$205,'Hilfsblatt Ber. Wirtsch Wirk 3'!$D$11:$BW$96,$A234,FALSE)+IF(J$205=$C234,HLOOKUP(J$205,'Hilfsblatt Ber. Wirtsch Wirk 3'!$D$11:$BX$96,87,FALSE),0))/100),0)","v":0},{"$f":"IFERROR((K$206*(HLOOKUP(K$205,'Hilfsblatt Ber. Wirtsch Wirk 3'!$D$11:$BW$96,$A234,FALSE)+IF(K$205=$C234,HLOOKUP(K$205,'Hilfsblatt Ber. Wirtsch Wirk 3'!$D$11:$BX$96,87,FALSE),0))/100),0)","v":0},{"$f":"IFERROR((L$206*(HLOOKUP(L$205,'Hilfsblatt Ber. Wirtsch Wirk 3'!$D$11:$BW$96,$A234,FALSE)+IF(L$205=$C234,HLOOKUP(L$205,'Hilfsblatt Ber. Wirtsch Wirk 3'!$D$11:$BX$96,87,FALSE),0))/100),0)","v":0},{"$f":"IFERROR((M$206*(HLOOKUP(M$205,'Hilfsblatt Ber. Wirtsch Wirk 3'!$D$11:$BW$96,$A234,FALSE)+IF(M$205=$C234,HLOOKUP(M$205,'Hilfsblatt Ber. Wirtsch Wirk 3'!$D$11:$BX$96,87,FALSE),0))/100),0)","v":0},{"$f":"IFERROR((N$206*(HLOOKUP(N$205,'Hilfsblatt Ber. Wirtsch Wirk 3'!$D$11:$BW$96,$A234,FALSE)+IF(N$205=$C234,HLOOKUP(N$205,'Hilfsblatt Ber. Wirtsch Wirk 3'!$D$11:$BX$96,87,FALSE),0))/100),0)","v":0},{"$f":"IFERROR((O$206*(HLOOKUP(O$205,'Hilfsblatt Ber. Wirtsch Wirk 3'!$D$11:$BW$96,$A234,FALSE)+IF(O$205=$C234,HLOOKUP(O$205,'Hilfsblatt Ber. Wirtsch Wirk 3'!$D$11:$BX$96,87,FALSE),0))/100),0)","v":0},{"$f":"IFERROR((P$206*(HLOOKUP(P$205,'Hilfsblatt Ber. Wirtsch Wirk 3'!$D$11:$BW$96,$A234,FALSE)+IF(P$205=$C234,HLOOKUP(P$205,'Hilfsblatt Ber. Wirtsch Wirk 3'!$D$11:$BX$96,87,FALSE),0))/100),0)","v":0},{"$f":"IFERROR((Q$206*(HLOOKUP(Q$205,'Hilfsblatt Ber. Wirtsch Wirk 3'!$D$11:$BW$96,$A234,FALSE)+IF(Q$205=$C234,HLOOKUP(Q$205,'Hilfsblatt Ber. Wirtsch Wirk 3'!$D$11:$BX$96,87,FALSE),0))/100),0)","v":0},{"$f":"R$206*('Hilfsblatt Ber. Wirtsch Wirk 3'!BX39+'Hilfsblatt Ber. Wirtsch Wirk 3'!BX39*'Hilfsblatt Ber. Wirtsch Wirk 3'!CA39/'Hilfsblatt Ber. Wirtsch Wirk 3'!CB39)/100","v":0},0,{"$f":"S234*'Hilfsblatt Ber. Wirtsch Wirk 3'!BZ39/('Hilfsblatt Ber. Wirtsch Wirk 3'!CA39)","v":0},{"$f":"S234/'Hilfsblatt Ber. Wirtsch Wirk 3'!CC39","v":0},{"$f":"T234*('Hilfsblatt Ber. Wirtsch Wirk 4'!B$14/'Hilfsblatt Ber. Wirtsch Wirk 4'!B$13)","v":0},{"$f":"S234*'Hilfsblatt Ber. Wirtsch Wirk 3'!CD39","v":0}]
[30,{"$f":"B135","v":"30"},"Sonstige Fahrzeuge",{"$f":"IFERROR((D$206*(HLOOKUP(D$205,'Hilfsblatt Ber. Wirtsch Wirk 3'!$D$11:$BW$96,$A235,FALSE)+IF(D$205=$C235,HLOOKUP(D$205,'Hilfsblatt Ber. Wirtsch Wirk 3'!$D$11:$BX$96,87,FALSE),0))/100),0)","v":0},{"$f":"IFERROR((E$206*(HLOOKUP(E$205,'Hilfsblatt Ber. Wirtsch Wirk 3'!$D$11:$BW$96,$A235,FALSE)+IF(E$205=$C235,HLOOKUP(E$205,'Hilfsblatt Ber. Wirtsch Wirk 3'!$D$11:$BX$96,87,FALSE),0))/100),0)","v":0},{"$f":"IFERROR((F$206*(HLOOKUP(F$205,'Hilfsblatt Ber. Wirtsch Wirk 3'!$D$11:$BW$96,$A235,FALSE)+IF(F$205=$C235,HLOOKUP(F$205,'Hilfsblatt Ber. Wirtsch Wirk 3'!$D$11:$BX$96,87,FALSE),0))/100),0)","v":0},{"$f":"IFERROR((G$206*(HLOOKUP(G$205,'Hilfsblatt Ber. Wirtsch Wirk 3'!$D$11:$BW$96,$A235,FALSE)+IF(G$205=$C235,HLOOKUP(G$205,'Hilfsblatt Ber. Wirtsch Wirk 3'!$D$11:$BX$96,87,FALSE),0))/100),0)","v":0},{"$f":"IFERROR((H$206*(HLOOKUP(H$205,'Hilfsblatt Ber. Wirtsch Wirk 3'!$D$11:$BW$96,$A235,FALSE)+IF(H$205=$C235,HLOOKUP(H$205,'Hilfsblatt Ber. Wirtsch Wirk 3'!$D$11:$BX$96,87,FALSE),0))/100),0)","v":0},{"$f":"IFERROR((I$206*(HLOOKUP(I$205,'Hilfsblatt Ber. Wirtsch Wirk 3'!$D$11:$BW$96,$A235,FALSE)+IF(I$205=$C235,HLOOKUP(I$205,'Hilfsblatt Ber. Wirtsch Wirk 3'!$D$11:$BX$96,87,FALSE),0))/100),0)","v":0},{"$f":"IFERROR((J$206*(HLOOKUP(J$205,'Hilfsblatt Ber. Wirtsch Wirk 3'!$D$11:$BW$96,$A235,FALSE)+IF(J$205=$C235,HLOOKUP(J$205,'Hilfsblatt Ber. Wirtsch Wirk 3'!$D$11:$BX$96,87,FALSE),0))/100),0)","v":0},{"$f":"IFERROR((K$206*(HLOOKUP(K$205,'Hilfsblatt Ber. Wirtsch Wirk 3'!$D$11:$BW$96,$A235,FALSE)+IF(K$205=$C235,HLOOKUP(K$205,'Hilfsblatt Ber. Wirtsch Wirk 3'!$D$11:$BX$96,87,FALSE),0))/100),0)","v":0},{"$f":"IFERROR((L$206*(HLOOKUP(L$205,'Hilfsblatt Ber. Wirtsch Wirk 3'!$D$11:$BW$96,$A235,FALSE)+IF(L$205=$C235,HLOOKUP(L$205,'Hilfsblatt Ber. Wirtsch Wirk 3'!$D$11:$BX$96,87,FALSE),0))/100),0)","v":0},{"$f":"IFERROR((M$206*(HLOOKUP(M$205,'Hilfsblatt Ber. Wirtsch Wirk 3'!$D$11:$BW$96,$A235,FALSE)+IF(M$205=$C235,HLOOKUP(M$205,'Hilfsblatt Ber. Wirtsch Wirk 3'!$D$11:$BX$96,87,FALSE),0))/100),0)","v":0},{"$f":"IFERROR((N$206*(HLOOKUP(N$205,'Hilfsblatt Ber. Wirtsch Wirk 3'!$D$11:$BW$96,$A235,FALSE)+IF(N$205=$C235,HLOOKUP(N$205,'Hilfsblatt Ber. Wirtsch Wirk 3'!$D$11:$BX$96,87,FALSE),0))/100),0)","v":0},{"$f":"IFERROR((O$206*(HLOOKUP(O$205,'Hilfsblatt Ber. Wirtsch Wirk 3'!$D$11:$BW$96,$A235,FALSE)+IF(O$205=$C235,HLOOKUP(O$205,'Hilfsblatt Ber. Wirtsch Wirk 3'!$D$11:$BX$96,87,FALSE),0))/100),0)","v":0},{"$f":"IFERROR((P$206*(HLOOKUP(P$205,'Hilfsblatt Ber. Wirtsch Wirk 3'!$D$11:$BW$96,$A235,FALSE)+IF(P$205=$C235,HLOOKUP(P$205,'Hilfsblatt Ber. Wirtsch Wirk 3'!$D$11:$BX$96,87,FALSE),0))/100),0)","v":0},{"$f":"IFERROR((Q$206*(HLOOKUP(Q$205,'Hilfsblatt Ber. Wirtsch Wirk 3'!$D$11:$BW$96,$A235,FALSE)+IF(Q$205=$C235,HLOOKUP(Q$205,'Hilfsblatt Ber. Wirtsch Wirk 3'!$D$11:$BX$96,87,FALSE),0))/100),0)","v":0},{"$f":"R$206*('Hilfsblatt Ber. Wirtsch Wirk 3'!BX40+'Hilfsblatt Ber. Wirtsch Wirk 3'!BX40*'Hilfsblatt Ber. Wirtsch Wirk 3'!CA40/'Hilfsblatt Ber. Wirtsch Wirk 3'!CB40)/100","v":0},0,{"$f":"S235*'Hilfsblatt Ber. Wirtsch Wirk 3'!BZ40/('Hilfsblatt Ber. Wirtsch Wirk 3'!CA40)","v":0},{"$f":"S235/'Hilfsblatt Ber. Wirtsch Wirk 3'!CC40","v":0},{"$f":"T235*('Hilfsblatt Ber. Wirtsch Wirk 4'!B$14/'Hilfsblatt Ber. Wirtsch Wirk 4'!B$13)","v":0},{"$f":"S235*'Hilfsblatt Ber. Wirtsch Wirk 3'!CD40","v":0}]
[31,{"$f":"B136","v":"31-32"},"Herstellung von Möbeln und sonstigen Waren",{"$f":"IFERROR((D$206*(HLOOKUP(D$205,'Hilfsblatt Ber. Wirtsch Wirk 3'!$D$11:$BW$96,$A236,FALSE)+IF(D$205=$C236,HLOOKUP(D$205,'Hilfsblatt Ber. Wirtsch Wirk 3'!$D$11:$BX$96,87,FALSE),0))/100),0)","v":0},{"$f":"IFERROR((E$206*(HLOOKUP(E$205,'Hilfsblatt Ber. Wirtsch Wirk 3'!$D$11:$BW$96,$A236,FALSE)+IF(E$205=$C236,HLOOKUP(E$205,'Hilfsblatt Ber. Wirtsch Wirk 3'!$D$11:$BX$96,87,FALSE),0))/100),0)","v":0},{"$f":"IFERROR((F$206*(HLOOKUP(F$205,'Hilfsblatt Ber. Wirtsch Wirk 3'!$D$11:$BW$96,$A236,FALSE)+IF(F$205=$C236,HLOOKUP(F$205,'Hilfsblatt Ber. Wirtsch Wirk 3'!$D$11:$BX$96,87,FALSE),0))/100),0)","v":0},{"$f":"IFERROR((G$206*(HLOOKUP(G$205,'Hilfsblatt Ber. Wirtsch Wirk 3'!$D$11:$BW$96,$A236,FALSE)+IF(G$205=$C236,HLOOKUP(G$205,'Hilfsblatt Ber. Wirtsch Wirk 3'!$D$11:$BX$96,87,FALSE),0))/100),0)","v":0},{"$f":"IFERROR((H$206*(HLOOKUP(H$205,'Hilfsblatt Ber. Wirtsch Wirk 3'!$D$11:$BW$96,$A236,FALSE)+IF(H$205=$C236,HLOOKUP(H$205,'Hilfsblatt Ber. Wirtsch Wirk 3'!$D$11:$BX$96,87,FALSE),0))/100),0)","v":0},{"$f":"IFERROR((I$206*(HLOOKUP(I$205,'Hilfsblatt Ber. Wirtsch Wirk 3'!$D$11:$BW$96,$A236,FALSE)+IF(I$205=$C236,HLOOKUP(I$205,'Hilfsblatt Ber. Wirtsch Wirk 3'!$D$11:$BX$96,87,FALSE),0))/100),0)","v":0},{"$f":"IFERROR((J$206*(HLOOKUP(J$205,'Hilfsblatt Ber. Wirtsch Wirk 3'!$D$11:$BW$96,$A236,FALSE)+IF(J$205=$C236,HLOOKUP(J$205,'Hilfsblatt Ber. Wirtsch Wirk 3'!$D$11:$BX$96,87,FALSE),0))/100),0)","v":0},{"$f":"IFERROR((K$206*(HLOOKUP(K$205,'Hilfsblatt Ber. Wirtsch Wirk 3'!$D$11:$BW$96,$A236,FALSE)+IF(K$205=$C236,HLOOKUP(K$205,'Hilfsblatt Ber. Wirtsch Wirk 3'!$D$11:$BX$96,87,FALSE),0))/100),0)","v":0},{"$f":"IFERROR((L$206*(HLOOKUP(L$205,'Hilfsblatt Ber. Wirtsch Wirk 3'!$D$11:$BW$96,$A236,FALSE)+IF(L$205=$C236,HLOOKUP(L$205,'Hilfsblatt Ber. Wirtsch Wirk 3'!$D$11:$BX$96,87,FALSE),0))/100),0)","v":0},{"$f":"IFERROR((M$206*(HLOOKUP(M$205,'Hilfsblatt Ber. Wirtsch Wirk 3'!$D$11:$BW$96,$A236,FALSE)+IF(M$205=$C236,HLOOKUP(M$205,'Hilfsblatt Ber. Wirtsch Wirk 3'!$D$11:$BX$96,87,FALSE),0))/100),0)","v":0},{"$f":"IFERROR((N$206*(HLOOKUP(N$205,'Hilfsblatt Ber. Wirtsch Wirk 3'!$D$11:$BW$96,$A236,FALSE)+IF(N$205=$C236,HLOOKUP(N$205,'Hilfsblatt Ber. Wirtsch Wirk 3'!$D$11:$BX$96,87,FALSE),0))/100),0)","v":0},{"$f":"IFERROR((O$206*(HLOOKUP(O$205,'Hilfsblatt Ber. Wirtsch Wirk 3'!$D$11:$BW$96,$A236,FALSE)+IF(O$205=$C236,HLOOKUP(O$205,'Hilfsblatt Ber. Wirtsch Wirk 3'!$D$11:$BX$96,87,FALSE),0))/100),0)","v":0},{"$f":"IFERROR((P$206*(HLOOKUP(P$205,'Hilfsblatt Ber. Wirtsch Wirk 3'!$D$11:$BW$96,$A236,FALSE)+IF(P$205=$C236,HLOOKUP(P$205,'Hilfsblatt Ber. Wirtsch Wirk 3'!$D$11:$BX$96,87,FALSE),0))/100),0)","v":0},{"$f":"IFERROR((Q$206*(HLOOKUP(Q$205,'Hilfsblatt Ber. Wirtsch Wirk 3'!$D$11:$BW$96,$A236,FALSE)+IF(Q$205=$C236,HLOOKUP(Q$205,'Hilfsblatt Ber. Wirtsch Wirk 3'!$D$11:$BX$96,87,FALSE),0))/100),0)","v":0},{"$f":"R$206*('Hilfsblatt Ber. Wirtsch Wirk 3'!BX41+'Hilfsblatt Ber. Wirtsch Wirk 3'!BX41*'Hilfsblatt Ber. Wirtsch Wirk 3'!CA41/'Hilfsblatt Ber. Wirtsch Wirk 3'!CB41)/100","v":0},0,{"$f":"S236*'Hilfsblatt Ber. Wirtsch Wirk 3'!BZ41/('Hilfsblatt Ber. Wirtsch Wirk 3'!CA41)","v":0},{"$f":"S236/'Hilfsblatt Ber. Wirtsch Wirk 3'!CC41","v":0},{"$f":"T236*('Hilfsblatt Ber. Wirtsch Wirk 4'!B$14/'Hilfsblatt Ber. Wirtsch Wirk 4'!B$13)","v":0},{"$f":"S236*'Hilfsblatt Ber. Wirtsch Wirk 3'!CD41","v":0}]
[32,{"$f":"B137","v":"33"},"Reparatur, Instandh. u. Installation v. Maschinen u. Ausrüstungen",{"$f":"IFERROR((D$206*(HLOOKUP(D$205,'Hilfsblatt Ber. Wirtsch Wirk 3'!$D$11:$BW$96,$A237,FALSE)+IF(D$205=$C237,HLOOKUP(D$205,'Hilfsblatt Ber. Wirtsch Wirk 3'!$D$11:$BX$96,87,FALSE),0))/100),0)","v":0},{"$f":"IFERROR((E$206*(HLOOKUP(E$205,'Hilfsblatt Ber. Wirtsch Wirk 3'!$D$11:$BW$96,$A237,FALSE)+IF(E$205=$C237,HLOOKUP(E$205,'Hilfsblatt Ber. Wirtsch Wirk 3'!$D$11:$BX$96,87,FALSE),0))/100),0)","v":0},{"$f":"IFERROR((F$206*(HLOOKUP(F$205,'Hilfsblatt Ber. Wirtsch Wirk 3'!$D$11:$BW$96,$A237,FALSE)+IF(F$205=$C237,HLOOKUP(F$205,'Hilfsblatt Ber. Wirtsch Wirk 3'!$D$11:$BX$96,87,FALSE),0))/100),0)","v":0},{"$f":"IFERROR((G$206*(HLOOKUP(G$205,'Hilfsblatt Ber. Wirtsch Wirk 3'!$D$11:$BW$96,$A237,FALSE)+IF(G$205=$C237,HLOOKUP(G$205,'Hilfsblatt Ber. Wirtsch Wirk 3'!$D$11:$BX$96,87,FALSE),0))/100),0)","v":0},{"$f":"IFERROR((H$206*(HLOOKUP(H$205,'Hilfsblatt Ber. Wirtsch Wirk 3'!$D$11:$BW$96,$A237,FALSE)+IF(H$205=$C237,HLOOKUP(H$205,'Hilfsblatt Ber. Wirtsch Wirk 3'!$D$11:$BX$96,87,FALSE),0))/100),0)","v":0},{"$f":"IFERROR((I$206*(HLOOKUP(I$205,'Hilfsblatt Ber. Wirtsch Wirk 3'!$D$11:$BW$96,$A237,FALSE)+IF(I$205=$C237,HLOOKUP(I$205,'Hilfsblatt Ber. Wirtsch Wirk 3'!$D$11:$BX$96,87,FALSE),0))/100),0)","v":0},{"$f":"IFERROR((J$206*(HLOOKUP(J$205,'Hilfsblatt Ber. Wirtsch Wirk 3'!$D$11:$BW$96,$A237,FALSE)+IF(J$205=$C237,HLOOKUP(J$205,'Hilfsblatt Ber. Wirtsch Wirk 3'!$D$11:$BX$96,87,FALSE),0))/100),0)","v":0},{"$f":"IFERROR((K$206*(HLOOKUP(K$205,'Hilfsblatt Ber. Wirtsch Wirk 3'!$D$11:$BW$96,$A237,FALSE)+IF(K$205=$C237,HLOOKUP(K$205,'Hilfsblatt Ber. Wirtsch Wirk 3'!$D$11:$BX$96,87,FALSE),0))/100),0)","v":0},{"$f":"IFERROR((L$206*(HLOOKUP(L$205,'Hilfsblatt Ber. Wirtsch Wirk 3'!$D$11:$BW$96,$A237,FALSE)+IF(L$205=$C237,HLOOKUP(L$205,'Hilfsblatt Ber. Wirtsch Wirk 3'!$D$11:$BX$96,87,FALSE),0))/100),0)","v":0},{"$f":"IFERROR((M$206*(HLOOKUP(M$205,'Hilfsblatt Ber. Wirtsch Wirk 3'!$D$11:$BW$96,$A237,FALSE)+IF(M$205=$C237,HLOOKUP(M$205,'Hilfsblatt Ber. Wirtsch Wirk 3'!$D$11:$BX$96,87,FALSE),0))/100),0)","v":0},{"$f":"IFERROR((N$206*(HLOOKUP(N$205,'Hilfsblatt Ber. Wirtsch Wirk 3'!$D$11:$BW$96,$A237,FALSE)+IF(N$205=$C237,HLOOKUP(N$205,'Hilfsblatt Ber. Wirtsch Wirk 3'!$D$11:$BX$96,87,FALSE),0))/100),0)","v":0},{"$f":"IFERROR((O$206*(HLOOKUP(O$205,'Hilfsblatt Ber. Wirtsch Wirk 3'!$D$11:$BW$96,$A237,FALSE)+IF(O$205=$C237,HLOOKUP(O$205,'Hilfsblatt Ber. Wirtsch Wirk 3'!$D$11:$BX$96,87,FALSE),0))/100),0)","v":0},{"$f":"IFERROR((P$206*(HLOOKUP(P$205,'Hilfsblatt Ber. Wirtsch Wirk 3'!$D$11:$BW$96,$A237,FALSE)+IF(P$205=$C237,HLOOKUP(P$205,'Hilfsblatt Ber. Wirtsch Wirk 3'!$D$11:$BX$96,87,FALSE),0))/100),0)","v":0},{"$f":"IFERROR((Q$206*(HLOOKUP(Q$205,'Hilfsblatt Ber. Wirtsch Wirk 3'!$D$11:$BW$96,$A237,FALSE)+IF(Q$205=$C237,HLOOKUP(Q$205,'Hilfsblatt Ber. Wirtsch Wirk 3'!$D$11:$BX$96,87,FALSE),0))/100),0)","v":0},{"$f":"R$206*('Hilfsblatt Ber. Wirtsch Wirk 3'!BX42+'Hilfsblatt Ber. Wirtsch Wirk 3'!BX42*'Hilfsblatt Ber. Wirtsch Wirk 3'!CA42/'Hilfsblatt Ber. Wirtsch Wirk 3'!CB42)/100","v":0},0,{"$f":"S237*'Hilfsblatt Ber. Wirtsch Wirk 3'!BZ42/('Hilfsblatt Ber. Wirtsch Wirk 3'!CA42)","v":0},{"$f":"S237/'Hilfsblatt Ber. Wirtsch Wirk 3'!CC42","v":0},{"$f":"T237*('Hilfsblatt Ber. Wirtsch Wirk 4'!B$14/'Hilfsblatt Ber. Wirtsch Wirk 4'!B$13)","v":0},{"$f":"S237*'Hilfsblatt Ber. Wirtsch Wirk 3'!CD42","v":0}]
[33,{"$f":"B138","v":"35.1, 35.3"},"Elektr. Strom, Dienstleistg. der Elektriz.-, Wärme- und Kälteversorg.",{"$f":"IFERROR((D$206*(HLOOKUP(D$205,'Hilfsblatt Ber. Wirtsch Wirk 3'!$D$11:$BW$96,$A238,FALSE)+IF(D$205=$C238,HLOOKUP(D$205,'Hilfsblatt Ber. Wirtsch Wirk 3'!$D$11:$BX$96,87,FALSE),0))/100),0)","v":0},{"$f":"IFERROR((E$206*(HLOOKUP(E$205,'Hilfsblatt Ber. Wirtsch Wirk 3'!$D$11:$BW$96,$A238,FALSE)+IF(E$205=$C238,HLOOKUP(E$205,'Hilfsblatt Ber. Wirtsch Wirk 3'!$D$11:$BX$96,87,FALSE),0))/100),0)","v":0},{"$f":"IFERROR((F$206*(HLOOKUP(F$205,'Hilfsblatt Ber. Wirtsch Wirk 3'!$D$11:$BW$96,$A238,FALSE)+IF(F$205=$C238,HLOOKUP(F$205,'Hilfsblatt Ber. Wirtsch Wirk 3'!$D$11:$BX$96,87,FALSE),0))/100),0)","v":0},{"$f":"IFERROR((G$206*(HLOOKUP(G$205,'Hilfsblatt Ber. Wirtsch Wirk 3'!$D$11:$BW$96,$A238,FALSE)+IF(G$205=$C238,HLOOKUP(G$205,'Hilfsblatt Ber. Wirtsch Wirk 3'!$D$11:$BX$96,87,FALSE),0))/100),0)","v":0},{"$f":"IFERROR((H$206*(HLOOKUP(H$205,'Hilfsblatt Ber. Wirtsch Wirk 3'!$D$11:$BW$96,$A238,FALSE)+IF(H$205=$C238,HLOOKUP(H$205,'Hilfsblatt Ber. Wirtsch Wirk 3'!$D$11:$BX$96,87,FALSE),0))/100),0)","v":0},{"$f":"IFERROR((I$206*(HLOOKUP(I$205,'Hilfsblatt Ber. Wirtsch Wirk 3'!$D$11:$BW$96,$A238,FALSE)+IF(I$205=$C238,HLOOKUP(I$205,'Hilfsblatt Ber. Wirtsch Wirk 3'!$D$11:$BX$96,87,FALSE),0))/100),0)","v":0},{"$f":"IFERROR((J$206*(HLOOKUP(J$205,'Hilfsblatt Ber. Wirtsch Wirk 3'!$D$11:$BW$96,$A238,FALSE)+IF(J$205=$C238,HLOOKUP(J$205,'Hilfsblatt Ber. Wirtsch Wirk 3'!$D$11:$BX$96,87,FALSE),0))/100),0)","v":0},{"$f":"IFERROR((K$206*(HLOOKUP(K$205,'Hilfsblatt Ber. Wirtsch Wirk 3'!$D$11:$BW$96,$A238,FALSE)+IF(K$205=$C238,HLOOKUP(K$205,'Hilfsblatt Ber. Wirtsch Wirk 3'!$D$11:$BX$96,87,FALSE),0))/100),0)","v":0},{"$f":"IFERROR((L$206*(HLOOKUP(L$205,'Hilfsblatt Ber. Wirtsch Wirk 3'!$D$11:$BW$96,$A238,FALSE)+IF(L$205=$C238,HLOOKUP(L$205,'Hilfsblatt Ber. Wirtsch Wirk 3'!$D$11:$BX$96,87,FALSE),0))/100),0)","v":0},{"$f":"IFERROR((M$206*(HLOOKUP(M$205,'Hilfsblatt Ber. Wirtsch Wirk 3'!$D$11:$BW$96,$A238,FALSE)+IF(M$205=$C238,HLOOKUP(M$205,'Hilfsblatt Ber. Wirtsch Wirk 3'!$D$11:$BX$96,87,FALSE),0))/100),0)","v":0},{"$f":"IFERROR((N$206*(HLOOKUP(N$205,'Hilfsblatt Ber. Wirtsch Wirk 3'!$D$11:$BW$96,$A238,FALSE)+IF(N$205=$C238,HLOOKUP(N$205,'Hilfsblatt Ber. Wirtsch Wirk 3'!$D$11:$BX$96,87,FALSE),0))/100),0)","v":0},{"$f":"IFERROR((O$206*(HLOOKUP(O$205,'Hilfsblatt Ber. Wirtsch Wirk 3'!$D$11:$BW$96,$A238,FALSE)+IF(O$205=$C238,HLOOKUP(O$205,'Hilfsblatt Ber. Wirtsch Wirk 3'!$D$11:$BX$96,87,FALSE),0))/100),0)","v":0},{"$f":"IFERROR((P$206*(HLOOKUP(P$205,'Hilfsblatt Ber. Wirtsch Wirk 3'!$D$11:$BW$96,$A238,FALSE)+IF(P$205=$C238,HLOOKUP(P$205,'Hilfsblatt Ber. Wirtsch Wirk 3'!$D$11:$BX$96,87,FALSE),0))/100),0)","v":0},{"$f":"IFERROR((Q$206*(HLOOKUP(Q$205,'Hilfsblatt Ber. Wirtsch Wirk 3'!$D$11:$BW$96,$A238,FALSE)+IF(Q$205=$C238,HLOOKUP(Q$205,'Hilfsblatt Ber. Wirtsch Wirk 3'!$D$11:$BX$96,87,FALSE),0))/100),0)","v":0},{"$f":"R$206*('Hilfsblatt Ber. Wirtsch Wirk 3'!BX43+'Hilfsblatt Ber. Wirtsch Wirk 3'!BX43*'Hilfsblatt Ber. Wirtsch Wirk 3'!CA43/'Hilfsblatt Ber. Wirtsch Wirk 3'!CB43)/100","v":0},0,{"$f":"S238*'Hilfsblatt Ber. Wirtsch Wirk 3'!BZ43/('Hilfsblatt Ber. Wirtsch Wirk 3'!CA43)","v":0},{"$f":"S238/'Hilfsblatt Ber. Wirtsch Wirk 3'!CC43","v":0},{"$f":"T238*('Hilfsblatt Ber. Wirtsch Wirk 4'!B$14/'Hilfsblatt Ber. Wirtsch Wirk 4'!B$13)","v":0},{"$f":"S238*'Hilfsblatt Ber. Wirtsch Wirk 3'!CD43","v":0}]
[34,{"$f":"B139","v":"35.2"},"Industriell erzeugte Gase, Dienstleistungen der Gasversorgung",{"$f":"IFERROR((D$206*(HLOOKUP(D$205,'Hilfsblatt Ber. Wirtsch Wirk 3'!$D$11:$BW$96,$A239,FALSE)+IF(D$205=$C239,HLOOKUP(D$205,'Hilfsblatt Ber. Wirtsch Wirk 3'!$D$11:$BX$96,87,FALSE),0))/100),0)","v":0},{"$f":"IFERROR((E$206*(HLOOKUP(E$205,'Hilfsblatt Ber. Wirtsch Wirk 3'!$D$11:$BW$96,$A239,FALSE)+IF(E$205=$C239,HLOOKUP(E$205,'Hilfsblatt Ber. Wirtsch Wirk 3'!$D$11:$BX$96,87,FALSE),0))/100),0)","v":0},{"$f":"IFERROR((F$206*(HLOOKUP(F$205,'Hilfsblatt Ber. Wirtsch Wirk 3'!$D$11:$BW$96,$A239,FALSE)+IF(F$205=$C239,HLOOKUP(F$205,'Hilfsblatt Ber. Wirtsch Wirk 3'!$D$11:$BX$96,87,FALSE),0))/100),0)","v":0},{"$f":"IFERROR((G$206*(HLOOKUP(G$205,'Hilfsblatt Ber. Wirtsch Wirk 3'!$D$11:$BW$96,$A239,FALSE)+IF(G$205=$C239,HLOOKUP(G$205,'Hilfsblatt Ber. Wirtsch Wirk 3'!$D$11:$BX$96,87,FALSE),0))/100),0)","v":0},{"$f":"IFERROR((H$206*(HLOOKUP(H$205,'Hilfsblatt Ber. Wirtsch Wirk 3'!$D$11:$BW$96,$A239,FALSE)+IF(H$205=$C239,HLOOKUP(H$205,'Hilfsblatt Ber. Wirtsch Wirk 3'!$D$11:$BX$96,87,FALSE),0))/100),0)","v":0},{"$f":"IFERROR((I$206*(HLOOKUP(I$205,'Hilfsblatt Ber. Wirtsch Wirk 3'!$D$11:$BW$96,$A239,FALSE)+IF(I$205=$C239,HLOOKUP(I$205,'Hilfsblatt Ber. Wirtsch Wirk 3'!$D$11:$BX$96,87,FALSE),0))/100),0)","v":0},{"$f":"IFERROR((J$206*(HLOOKUP(J$205,'Hilfsblatt Ber. Wirtsch Wirk 3'!$D$11:$BW$96,$A239,FALSE)+IF(J$205=$C239,HLOOKUP(J$205,'Hilfsblatt Ber. Wirtsch Wirk 3'!$D$11:$BX$96,87,FALSE),0))/100),0)","v":0},{"$f":"IFERROR((K$206*(HLOOKUP(K$205,'Hilfsblatt Ber. Wirtsch Wirk 3'!$D$11:$BW$96,$A239,FALSE)+IF(K$205=$C239,HLOOKUP(K$205,'Hilfsblatt Ber. Wirtsch Wirk 3'!$D$11:$BX$96,87,FALSE),0))/100),0)","v":0},{"$f":"IFERROR((L$206*(HLOOKUP(L$205,'Hilfsblatt Ber. Wirtsch Wirk 3'!$D$11:$BW$96,$A239,FALSE)+IF(L$205=$C239,HLOOKUP(L$205,'Hilfsblatt Ber. Wirtsch Wirk 3'!$D$11:$BX$96,87,FALSE),0))/100),0)","v":0},{"$f":"IFERROR((M$206*(HLOOKUP(M$205,'Hilfsblatt Ber. Wirtsch Wirk 3'!$D$11:$BW$96,$A239,FALSE)+IF(M$205=$C239,HLOOKUP(M$205,'Hilfsblatt Ber. Wirtsch Wirk 3'!$D$11:$BX$96,87,FALSE),0))/100),0)","v":0},{"$f":"IFERROR((N$206*(HLOOKUP(N$205,'Hilfsblatt Ber. Wirtsch Wirk 3'!$D$11:$BW$96,$A239,FALSE)+IF(N$205=$C239,HLOOKUP(N$205,'Hilfsblatt Ber. Wirtsch Wirk 3'!$D$11:$BX$96,87,FALSE),0))/100),0)","v":0},{"$f":"IFERROR((O$206*(HLOOKUP(O$205,'Hilfsblatt Ber. Wirtsch Wirk 3'!$D$11:$BW$96,$A239,FALSE)+IF(O$205=$C239,HLOOKUP(O$205,'Hilfsblatt Ber. Wirtsch Wirk 3'!$D$11:$BX$96,87,FALSE),0))/100),0)","v":0},{"$f":"IFERROR((P$206*(HLOOKUP(P$205,'Hilfsblatt Ber. Wirtsch Wirk 3'!$D$11:$BW$96,$A239,FALSE)+IF(P$205=$C239,HLOOKUP(P$205,'Hilfsblatt Ber. Wirtsch Wirk 3'!$D$11:$BX$96,87,FALSE),0))/100),0)","v":0},{"$f":"IFERROR((Q$206*(HLOOKUP(Q$205,'Hilfsblatt Ber. Wirtsch Wirk 3'!$D$11:$BW$96,$A239,FALSE)+IF(Q$205=$C239,HLOOKUP(Q$205,'Hilfsblatt Ber. Wirtsch Wirk 3'!$D$11:$BX$96,87,FALSE),0))/100),0)","v":0},{"$f":"R$206*('Hilfsblatt Ber. Wirtsch Wirk 3'!BX44+'Hilfsblatt Ber. Wirtsch Wirk 3'!BX44*'Hilfsblatt Ber. Wirtsch Wirk 3'!CA44/'Hilfsblatt Ber. Wirtsch Wirk 3'!CB44)/100","v":0},0,{"$f":"S239*'Hilfsblatt Ber. Wirtsch Wirk 3'!BZ44/('Hilfsblatt Ber. Wirtsch Wirk 3'!CA44)","v":0},{"$f":"S239/'Hilfsblatt Ber. Wirtsch Wirk 3'!CC44","v":0},{"$f":"T239*('Hilfsblatt Ber. Wirtsch Wirk 4'!B$14/'Hilfsblatt Ber. Wirtsch Wirk 4'!B$13)","v":0},{"$f":"S239*'Hilfsblatt Ber. Wirtsch Wirk 3'!CD44","v":0}]
[35,{"$f":"B140","v":"36"},"Wasser, Dienstleistungen der Wasserversorgung",{"$f":"IFERROR((D$206*(HLOOKUP(D$205,'Hilfsblatt Ber. Wirtsch Wirk 3'!$D$11:$BW$96,$A240,FALSE)+IF(D$205=$C240,HLOOKUP(D$205,'Hilfsblatt Ber. Wirtsch Wirk 3'!$D$11:$BX$96,87,FALSE),0))/100),0)","v":0},{"$f":"IFERROR((E$206*(HLOOKUP(E$205,'Hilfsblatt Ber. Wirtsch Wirk 3'!$D$11:$BW$96,$A240,FALSE)+IF(E$205=$C240,HLOOKUP(E$205,'Hilfsblatt Ber. Wirtsch Wirk 3'!$D$11:$BX$96,87,FALSE),0))/100),0)","v":0},{"$f":"IFERROR((F$206*(HLOOKUP(F$205,'Hilfsblatt Ber. Wirtsch Wirk 3'!$D$11:$BW$96,$A240,FALSE)+IF(F$205=$C240,HLOOKUP(F$205,'Hilfsblatt Ber. Wirtsch Wirk 3'!$D$11:$BX$96,87,FALSE),0))/100),0)","v":0},{"$f":"IFERROR((G$206*(HLOOKUP(G$205,'Hilfsblatt Ber. Wirtsch Wirk 3'!$D$11:$BW$96,$A240,FALSE)+IF(G$205=$C240,HLOOKUP(G$205,'Hilfsblatt Ber. Wirtsch Wirk 3'!$D$11:$BX$96,87,FALSE),0))/100),0)","v":0},{"$f":"IFERROR((H$206*(HLOOKUP(H$205,'Hilfsblatt Ber. Wirtsch Wirk 3'!$D$11:$BW$96,$A240,FALSE)+IF(H$205=$C240,HLOOKUP(H$205,'Hilfsblatt Ber. Wirtsch Wirk 3'!$D$11:$BX$96,87,FALSE),0))/100),0)","v":0},{"$f":"IFERROR((I$206*(HLOOKUP(I$205,'Hilfsblatt Ber. Wirtsch Wirk 3'!$D$11:$BW$96,$A240,FALSE)+IF(I$205=$C240,HLOOKUP(I$205,'Hilfsblatt Ber. Wirtsch Wirk 3'!$D$11:$BX$96,87,FALSE),0))/100),0)","v":0},{"$f":"IFERROR((J$206*(HLOOKUP(J$205,'Hilfsblatt Ber. Wirtsch Wirk 3'!$D$11:$BW$96,$A240,FALSE)+IF(J$205=$C240,HLOOKUP(J$205,'Hilfsblatt Ber. Wirtsch Wirk 3'!$D$11:$BX$96,87,FALSE),0))/100),0)","v":0},{"$f":"IFERROR((K$206*(HLOOKUP(K$205,'Hilfsblatt Ber. Wirtsch Wirk 3'!$D$11:$BW$96,$A240,FALSE)+IF(K$205=$C240,HLOOKUP(K$205,'Hilfsblatt Ber. Wirtsch Wirk 3'!$D$11:$BX$96,87,FALSE),0))/100),0)","v":0},{"$f":"IFERROR((L$206*(HLOOKUP(L$205,'Hilfsblatt Ber. Wirtsch Wirk 3'!$D$11:$BW$96,$A240,FALSE)+IF(L$205=$C240,HLOOKUP(L$205,'Hilfsblatt Ber. Wirtsch Wirk 3'!$D$11:$BX$96,87,FALSE),0))/100),0)","v":0},{"$f":"IFERROR((M$206*(HLOOKUP(M$205,'Hilfsblatt Ber. Wirtsch Wirk 3'!$D$11:$BW$96,$A240,FALSE)+IF(M$205=$C240,HLOOKUP(M$205,'Hilfsblatt Ber. Wirtsch Wirk 3'!$D$11:$BX$96,87,FALSE),0))/100),0)","v":0},{"$f":"IFERROR((N$206*(HLOOKUP(N$205,'Hilfsblatt Ber. Wirtsch Wirk 3'!$D$11:$BW$96,$A240,FALSE)+IF(N$205=$C240,HLOOKUP(N$205,'Hilfsblatt Ber. Wirtsch Wirk 3'!$D$11:$BX$96,87,FALSE),0))/100),0)","v":0},{"$f":"IFERROR((O$206*(HLOOKUP(O$205,'Hilfsblatt Ber. Wirtsch Wirk 3'!$D$11:$BW$96,$A240,FALSE)+IF(O$205=$C240,HLOOKUP(O$205,'Hilfsblatt Ber. Wirtsch Wirk 3'!$D$11:$BX$96,87,FALSE),0))/100),0)","v":0},{"$f":"IFERROR((P$206*(HLOOKUP(P$205,'Hilfsblatt Ber. Wirtsch Wirk 3'!$D$11:$BW$96,$A240,FALSE)+IF(P$205=$C240,HLOOKUP(P$205,'Hilfsblatt Ber. Wirtsch Wirk 3'!$D$11:$BX$96,87,FALSE),0))/100),0)","v":0},{"$f":"IFERROR((Q$206*(HLOOKUP(Q$205,'Hilfsblatt Ber. Wirtsch Wirk 3'!$D$11:$BW$96,$A240,FALSE)+IF(Q$205=$C240,HLOOKUP(Q$205,'Hilfsblatt Ber. Wirtsch Wirk 3'!$D$11:$BX$96,87,FALSE),0))/100),0)","v":0},{"$f":"R$206*('Hilfsblatt Ber. Wirtsch Wirk 3'!BX45+'Hilfsblatt Ber. Wirtsch Wirk 3'!BX45*'Hilfsblatt Ber. Wirtsch Wirk 3'!CA45/'Hilfsblatt Ber. Wirtsch Wirk 3'!CB45)/100","v":0},0,{"$f":"S240*'Hilfsblatt Ber. Wirtsch Wirk 3'!BZ45/('Hilfsblatt Ber. Wirtsch Wirk 3'!CA45)","v":0},{"$f":"S240/'Hilfsblatt Ber. Wirtsch Wirk 3'!CC45","v":0},{"$f":"T240*('Hilfsblatt Ber. Wirtsch Wirk 4'!B$14/'Hilfsblatt Ber. Wirtsch Wirk 4'!B$13)","v":0},{"$f":"S240*'Hilfsblatt Ber. Wirtsch Wirk 3'!CD45","v":0}]
[36,{"$f":"B141","v":"37-39"},"Dienstleistg. d. Abwasser-, Abfallentsorg. u. Rückgewinnung",{"$f":"IFERROR((D$206*(HLOOKUP(D$205,'Hilfsblatt Ber. Wirtsch Wirk 3'!$D$11:$BW$96,$A241,FALSE)+IF(D$205=$C241,HLOOKUP(D$205,'Hilfsblatt Ber. Wirtsch Wirk 3'!$D$11:$BX$96,87,FALSE),0))/100),0)","v":0},{"$f":"IFERROR((E$206*(HLOOKUP(E$205,'Hilfsblatt Ber. Wirtsch Wirk 3'!$D$11:$BW$96,$A241,FALSE)+IF(E$205=$C241,HLOOKUP(E$205,'Hilfsblatt Ber. Wirtsch Wirk 3'!$D$11:$BX$96,87,FALSE),0))/100),0)","v":0},{"$f":"IFERROR((F$206*(HLOOKUP(F$205,'Hilfsblatt Ber. Wirtsch Wirk 3'!$D$11:$BW$96,$A241,FALSE)+IF(F$205=$C241,HLOOKUP(F$205,'Hilfsblatt Ber. Wirtsch Wirk 3'!$D$11:$BX$96,87,FALSE),0))/100),0)","v":0},{"$f":"IFERROR((G$206*(HLOOKUP(G$205,'Hilfsblatt Ber. Wirtsch Wirk 3'!$D$11:$BW$96,$A241,FALSE)+IF(G$205=$C241,HLOOKUP(G$205,'Hilfsblatt Ber. Wirtsch Wirk 3'!$D$11:$BX$96,87,FALSE),0))/100),0)","v":0},{"$f":"IFERROR((H$206*(HLOOKUP(H$205,'Hilfsblatt Ber. Wirtsch Wirk 3'!$D$11:$BW$96,$A241,FALSE)+IF(H$205=$C241,HLOOKUP(H$205,'Hilfsblatt Ber. Wirtsch Wirk 3'!$D$11:$BX$96,87,FALSE),0))/100),0)","v":0},{"$f":"IFERROR((I$206*(HLOOKUP(I$205,'Hilfsblatt Ber. Wirtsch Wirk 3'!$D$11:$BW$96,$A241,FALSE)+IF(I$205=$C241,HLOOKUP(I$205,'Hilfsblatt Ber. Wirtsch Wirk 3'!$D$11:$BX$96,87,FALSE),0))/100),0)","v":0},{"$f":"IFERROR((J$206*(HLOOKUP(J$205,'Hilfsblatt Ber. Wirtsch Wirk 3'!$D$11:$BW$96,$A241,FALSE)+IF(J$205=$C241,HLOOKUP(J$205,'Hilfsblatt Ber. Wirtsch Wirk 3'!$D$11:$BX$96,87,FALSE),0))/100),0)","v":0},{"$f":"IFERROR((K$206*(HLOOKUP(K$205,'Hilfsblatt Ber. Wirtsch Wirk 3'!$D$11:$BW$96,$A241,FALSE)+IF(K$205=$C241,HLOOKUP(K$205,'Hilfsblatt Ber. Wirtsch Wirk 3'!$D$11:$BX$96,87,FALSE),0))/100),0)","v":0},{"$f":"IFERROR((L$206*(HLOOKUP(L$205,'Hilfsblatt Ber. Wirtsch Wirk 3'!$D$11:$BW$96,$A241,FALSE)+IF(L$205=$C241,HLOOKUP(L$205,'Hilfsblatt Ber. Wirtsch Wirk 3'!$D$11:$BX$96,87,FALSE),0))/100),0)","v":0},{"$f":"IFERROR((M$206*(HLOOKUP(M$205,'Hilfsblatt Ber. Wirtsch Wirk 3'!$D$11:$BW$96,$A241,FALSE)+IF(M$205=$C241,HLOOKUP(M$205,'Hilfsblatt Ber. Wirtsch Wirk 3'!$D$11:$BX$96,87,FALSE),0))/100),0)","v":0},{"$f":"IFERROR((N$206*(HLOOKUP(N$205,'Hilfsblatt Ber. Wirtsch Wirk 3'!$D$11:$BW$96,$A241,FALSE)+IF(N$205=$C241,HLOOKUP(N$205,'Hilfsblatt Ber. Wirtsch Wirk 3'!$D$11:$BX$96,87,FALSE),0))/100),0)","v":0},{"$f":"IFERROR((O$206*(HLOOKUP(O$205,'Hilfsblatt Ber. Wirtsch Wirk 3'!$D$11:$BW$96,$A241,FALSE)+IF(O$205=$C241,HLOOKUP(O$205,'Hilfsblatt Ber. Wirtsch Wirk 3'!$D$11:$BX$96,87,FALSE),0))/100),0)","v":0},{"$f":"IFERROR((P$206*(HLOOKUP(P$205,'Hilfsblatt Ber. Wirtsch Wirk 3'!$D$11:$BW$96,$A241,FALSE)+IF(P$205=$C241,HLOOKUP(P$205,'Hilfsblatt Ber. Wirtsch Wirk 3'!$D$11:$BX$96,87,FALSE),0))/100),0)","v":0},{"$f":"IFERROR((Q$206*(HLOOKUP(Q$205,'Hilfsblatt Ber. Wirtsch Wirk 3'!$D$11:$BW$96,$A241,FALSE)+IF(Q$205=$C241,HLOOKUP(Q$205,'Hilfsblatt Ber. Wirtsch Wirk 3'!$D$11:$BX$96,87,FALSE),0))/100),0)","v":0},{"$f":"R$206*('Hilfsblatt Ber. Wirtsch Wirk 3'!BX46+'Hilfsblatt Ber. Wirtsch Wirk 3'!BX46*'Hilfsblatt Ber. Wirtsch Wirk 3'!CA46/'Hilfsblatt Ber. Wirtsch Wirk 3'!CB46)/100","v":0},0,{"$f":"S241*'Hilfsblatt Ber. Wirtsch Wirk 3'!BZ46/('Hilfsblatt Ber. Wirtsch Wirk 3'!CA46)","v":0},{"$f":"S241/'Hilfsblatt Ber. Wirtsch Wirk 3'!CC46","v":0},{"$f":"T241*('Hilfsblatt Ber. Wirtsch Wirk 4'!B$14/'Hilfsblatt Ber. Wirtsch Wirk 4'!B$13)","v":0},{"$f":"S241*'Hilfsblatt Ber. Wirtsch Wirk 3'!CD46","v":0}]
[37,{"$f":"B142","v":"41 "},"Hochbauarbeiten",{"$f":"IFERROR((D$206*(HLOOKUP(D$205,'Hilfsblatt Ber. Wirtsch Wirk 3'!$D$11:$BW$96,$A242,FALSE)+IF(D$205=$C242,HLOOKUP(D$205,'Hilfsblatt Ber. Wirtsch Wirk 3'!$D$11:$BX$96,87,FALSE),0))/100),0)","v":0},{"$f":"IFERROR((E$206*(HLOOKUP(E$205,'Hilfsblatt Ber. Wirtsch Wirk 3'!$D$11:$BW$96,$A242,FALSE)+IF(E$205=$C242,HLOOKUP(E$205,'Hilfsblatt Ber. Wirtsch Wirk 3'!$D$11:$BX$96,87,FALSE),0))/100),0)","v":0},{"$f":"IFERROR((F$206*(HLOOKUP(F$205,'Hilfsblatt Ber. Wirtsch Wirk 3'!$D$11:$BW$96,$A242,FALSE)+IF(F$205=$C242,HLOOKUP(F$205,'Hilfsblatt Ber. Wirtsch Wirk 3'!$D$11:$BX$96,87,FALSE),0))/100),0)","v":0},{"$f":"IFERROR((G$206*(HLOOKUP(G$205,'Hilfsblatt Ber. Wirtsch Wirk 3'!$D$11:$BW$96,$A242,FALSE)+IF(G$205=$C242,HLOOKUP(G$205,'Hilfsblatt Ber. Wirtsch Wirk 3'!$D$11:$BX$96,87,FALSE),0))/100),0)","v":0},{"$f":"IFERROR((H$206*(HLOOKUP(H$205,'Hilfsblatt Ber. Wirtsch Wirk 3'!$D$11:$BW$96,$A242,FALSE)+IF(H$205=$C242,HLOOKUP(H$205,'Hilfsblatt Ber. Wirtsch Wirk 3'!$D$11:$BX$96,87,FALSE),0))/100),0)","v":0},{"$f":"IFERROR((I$206*(HLOOKUP(I$205,'Hilfsblatt Ber. Wirtsch Wirk 3'!$D$11:$BW$96,$A242,FALSE)+IF(I$205=$C242,HLOOKUP(I$205,'Hilfsblatt Ber. Wirtsch Wirk 3'!$D$11:$BX$96,87,FALSE),0))/100),0)","v":0},{"$f":"IFERROR((J$206*(HLOOKUP(J$205,'Hilfsblatt Ber. Wirtsch Wirk 3'!$D$11:$BW$96,$A242,FALSE)+IF(J$205=$C242,HLOOKUP(J$205,'Hilfsblatt Ber. Wirtsch Wirk 3'!$D$11:$BX$96,87,FALSE),0))/100),0)","v":0},{"$f":"IFERROR((K$206*(HLOOKUP(K$205,'Hilfsblatt Ber. Wirtsch Wirk 3'!$D$11:$BW$96,$A242,FALSE)+IF(K$205=$C242,HLOOKUP(K$205,'Hilfsblatt Ber. Wirtsch Wirk 3'!$D$11:$BX$96,87,FALSE),0))/100),0)","v":0},{"$f":"IFERROR((L$206*(HLOOKUP(L$205,'Hilfsblatt Ber. Wirtsch Wirk 3'!$D$11:$BW$96,$A242,FALSE)+IF(L$205=$C242,HLOOKUP(L$205,'Hilfsblatt Ber. Wirtsch Wirk 3'!$D$11:$BX$96,87,FALSE),0))/100),0)","v":0},{"$f":"IFERROR((M$206*(HLOOKUP(M$205,'Hilfsblatt Ber. Wirtsch Wirk 3'!$D$11:$BW$96,$A242,FALSE)+IF(M$205=$C242,HLOOKUP(M$205,'Hilfsblatt Ber. Wirtsch Wirk 3'!$D$11:$BX$96,87,FALSE),0))/100),0)","v":0},{"$f":"IFERROR((N$206*(HLOOKUP(N$205,'Hilfsblatt Ber. Wirtsch Wirk 3'!$D$11:$BW$96,$A242,FALSE)+IF(N$205=$C242,HLOOKUP(N$205,'Hilfsblatt Ber. Wirtsch Wirk 3'!$D$11:$BX$96,87,FALSE),0))/100),0)","v":0},{"$f":"IFERROR((O$206*(HLOOKUP(O$205,'Hilfsblatt Ber. Wirtsch Wirk 3'!$D$11:$BW$96,$A242,FALSE)+IF(O$205=$C242,HLOOKUP(O$205,'Hilfsblatt Ber. Wirtsch Wirk 3'!$D$11:$BX$96,87,FALSE),0))/100),0)","v":0},{"$f":"IFERROR((P$206*(HLOOKUP(P$205,'Hilfsblatt Ber. Wirtsch Wirk 3'!$D$11:$BW$96,$A242,FALSE)+IF(P$205=$C242,HLOOKUP(P$205,'Hilfsblatt Ber. Wirtsch Wirk 3'!$D$11:$BX$96,87,FALSE),0))/100),0)","v":0},{"$f":"IFERROR((Q$206*(HLOOKUP(Q$205,'Hilfsblatt Ber. Wirtsch Wirk 3'!$D$11:$BW$96,$A242,FALSE)+IF(Q$205=$C242,HLOOKUP(Q$205,'Hilfsblatt Ber. Wirtsch Wirk 3'!$D$11:$BX$96,87,FALSE),0))/100),0)","v":0},{"$f":"R$206*('Hilfsblatt Ber. Wirtsch Wirk 3'!BX47+'Hilfsblatt Ber. Wirtsch Wirk 3'!BX47*'Hilfsblatt Ber. Wirtsch Wirk 3'!CA47/'Hilfsblatt Ber. Wirtsch Wirk 3'!CB47)/100","v":0},0,{"$f":"S242*'Hilfsblatt Ber. Wirtsch Wirk 3'!BZ47/('Hilfsblatt Ber. Wirtsch Wirk 3'!CA47)","v":0},{"$f":"S242/'Hilfsblatt Ber. Wirtsch Wirk 3'!CC47","v":0},{"$f":"T242*('Hilfsblatt Ber. Wirtsch Wirk 4'!B$14/'Hilfsblatt Ber. Wirtsch Wirk 4'!B$13)","v":0},{"$f":"S242*'Hilfsblatt Ber. Wirtsch Wirk 3'!CD47","v":0}]
[38,{"$f":"B143","v":"42"},"Tiefbauarbeiten",{"$f":"IFERROR((D$206*(HLOOKUP(D$205,'Hilfsblatt Ber. Wirtsch Wirk 3'!$D$11:$BW$96,$A243,FALSE)+IF(D$205=$C243,HLOOKUP(D$205,'Hilfsblatt Ber. Wirtsch Wirk 3'!$D$11:$BX$96,87,FALSE),0))/100),0)","v":0},{"$f":"IFERROR((E$206*(HLOOKUP(E$205,'Hilfsblatt Ber. Wirtsch Wirk 3'!$D$11:$BW$96,$A243,FALSE)+IF(E$205=$C243,HLOOKUP(E$205,'Hilfsblatt Ber. Wirtsch Wirk 3'!$D$11:$BX$96,87,FALSE),0))/100),0)","v":0},{"$f":"IFERROR((F$206*(HLOOKUP(F$205,'Hilfsblatt Ber. Wirtsch Wirk 3'!$D$11:$BW$96,$A243,FALSE)+IF(F$205=$C243,HLOOKUP(F$205,'Hilfsblatt Ber. Wirtsch Wirk 3'!$D$11:$BX$96,87,FALSE),0))/100),0)","v":0},{"$f":"IFERROR((G$206*(HLOOKUP(G$205,'Hilfsblatt Ber. Wirtsch Wirk 3'!$D$11:$BW$96,$A243,FALSE)+IF(G$205=$C243,HLOOKUP(G$205,'Hilfsblatt Ber. Wirtsch Wirk 3'!$D$11:$BX$96,87,FALSE),0))/100),0)","v":0},{"$f":"IFERROR((H$206*(HLOOKUP(H$205,'Hilfsblatt Ber. Wirtsch Wirk 3'!$D$11:$BW$96,$A243,FALSE)+IF(H$205=$C243,HLOOKUP(H$205,'Hilfsblatt Ber. Wirtsch Wirk 3'!$D$11:$BX$96,87,FALSE),0))/100),0)","v":0},{"$f":"IFERROR((I$206*(HLOOKUP(I$205,'Hilfsblatt Ber. Wirtsch Wirk 3'!$D$11:$BW$96,$A243,FALSE)+IF(I$205=$C243,HLOOKUP(I$205,'Hilfsblatt Ber. Wirtsch Wirk 3'!$D$11:$BX$96,87,FALSE),0))/100),0)","v":0},{"$f":"IFERROR((J$206*(HLOOKUP(J$205,'Hilfsblatt Ber. Wirtsch Wirk 3'!$D$11:$BW$96,$A243,FALSE)+IF(J$205=$C243,HLOOKUP(J$205,'Hilfsblatt Ber. Wirtsch Wirk 3'!$D$11:$BX$96,87,FALSE),0))/100),0)","v":0},{"$f":"IFERROR((K$206*(HLOOKUP(K$205,'Hilfsblatt Ber. Wirtsch Wirk 3'!$D$11:$BW$96,$A243,FALSE)+IF(K$205=$C243,HLOOKUP(K$205,'Hilfsblatt Ber. Wirtsch Wirk 3'!$D$11:$BX$96,87,FALSE),0))/100),0)","v":0},{"$f":"IFERROR((L$206*(HLOOKUP(L$205,'Hilfsblatt Ber. Wirtsch Wirk 3'!$D$11:$BW$96,$A243,FALSE)+IF(L$205=$C243,HLOOKUP(L$205,'Hilfsblatt Ber. Wirtsch Wirk 3'!$D$11:$BX$96,87,FALSE),0))/100),0)","v":0},{"$f":"IFERROR((M$206*(HLOOKUP(M$205,'Hilfsblatt Ber. Wirtsch Wirk 3'!$D$11:$BW$96,$A243,FALSE)+IF(M$205=$C243,HLOOKUP(M$205,'Hilfsblatt Ber. Wirtsch Wirk 3'!$D$11:$BX$96,87,FALSE),0))/100),0)","v":0},{"$f":"IFERROR((N$206*(HLOOKUP(N$205,'Hilfsblatt Ber. Wirtsch Wirk 3'!$D$11:$BW$96,$A243,FALSE)+IF(N$205=$C243,HLOOKUP(N$205,'Hilfsblatt Ber. Wirtsch Wirk 3'!$D$11:$BX$96,87,FALSE),0))/100),0)","v":0},{"$f":"IFERROR((O$206*(HLOOKUP(O$205,'Hilfsblatt Ber. Wirtsch Wirk 3'!$D$11:$BW$96,$A243,FALSE)+IF(O$205=$C243,HLOOKUP(O$205,'Hilfsblatt Ber. Wirtsch Wirk 3'!$D$11:$BX$96,87,FALSE),0))/100),0)","v":0},{"$f":"IFERROR((P$206*(HLOOKUP(P$205,'Hilfsblatt Ber. Wirtsch Wirk 3'!$D$11:$BW$96,$A243,FALSE)+IF(P$205=$C243,HLOOKUP(P$205,'Hilfsblatt Ber. Wirtsch Wirk 3'!$D$11:$BX$96,87,FALSE),0))/100),0)","v":0},{"$f":"IFERROR((Q$206*(HLOOKUP(Q$205,'Hilfsblatt Ber. Wirtsch Wirk 3'!$D$11:$BW$96,$A243,FALSE)+IF(Q$205=$C243,HLOOKUP(Q$205,'Hilfsblatt Ber. Wirtsch Wirk 3'!$D$11:$BX$96,87,FALSE),0))/100),0)","v":0},{"$f":"R$206*('Hilfsblatt Ber. Wirtsch Wirk 3'!BX48+'Hilfsblatt Ber. Wirtsch Wirk 3'!BX48*'Hilfsblatt Ber. Wirtsch Wirk 3'!CA48/'Hilfsblatt Ber. Wirtsch Wirk 3'!CB48)/100","v":0},0,{"$f":"S243*'Hilfsblatt Ber. Wirtsch Wirk 3'!BZ48/('Hilfsblatt Ber. Wirtsch Wirk 3'!CA48)","v":0},{"$f":"S243/'Hilfsblatt Ber. Wirtsch Wirk 3'!CC48","v":0},{"$f":"T243*('Hilfsblatt Ber. Wirtsch Wirk 4'!B$14/'Hilfsblatt Ber. Wirtsch Wirk 4'!B$13)","v":0},{"$f":"S243*'Hilfsblatt Ber. Wirtsch Wirk 3'!CD48","v":0}]
[39,{"$f":"B144","v":"43"},"Vorb. Baustellen-, Bauinstallations- und sonstige Ausbauarbeiten ",{"$f":"IFERROR((D$206*(HLOOKUP(D$205,'Hilfsblatt Ber. Wirtsch Wirk 3'!$D$11:$BW$96,$A244,FALSE)+IF(D$205=$C244,HLOOKUP(D$205,'Hilfsblatt Ber. Wirtsch Wirk 3'!$D$11:$BX$96,87,FALSE),0))/100),0)","v":0},{"$f":"IFERROR((E$206*(HLOOKUP(E$205,'Hilfsblatt Ber. Wirtsch Wirk 3'!$D$11:$BW$96,$A244,FALSE)+IF(E$205=$C244,HLOOKUP(E$205,'Hilfsblatt Ber. Wirtsch Wirk 3'!$D$11:$BX$96,87,FALSE),0))/100),0)","v":0},{"$f":"IFERROR((F$206*(HLOOKUP(F$205,'Hilfsblatt Ber. Wirtsch Wirk 3'!$D$11:$BW$96,$A244,FALSE)+IF(F$205=$C244,HLOOKUP(F$205,'Hilfsblatt Ber. Wirtsch Wirk 3'!$D$11:$BX$96,87,FALSE),0))/100),0)","v":0},{"$f":"IFERROR((G$206*(HLOOKUP(G$205,'Hilfsblatt Ber. Wirtsch Wirk 3'!$D$11:$BW$96,$A244,FALSE)+IF(G$205=$C244,HLOOKUP(G$205,'Hilfsblatt Ber. Wirtsch Wirk 3'!$D$11:$BX$96,87,FALSE),0))/100),0)","v":0},{"$f":"IFERROR((H$206*(HLOOKUP(H$205,'Hilfsblatt Ber. Wirtsch Wirk 3'!$D$11:$BW$96,$A244,FALSE)+IF(H$205=$C244,HLOOKUP(H$205,'Hilfsblatt Ber. Wirtsch Wirk 3'!$D$11:$BX$96,87,FALSE),0))/100),0)","v":0},{"$f":"IFERROR((I$206*(HLOOKUP(I$205,'Hilfsblatt Ber. Wirtsch Wirk 3'!$D$11:$BW$96,$A244,FALSE)+IF(I$205=$C244,HLOOKUP(I$205,'Hilfsblatt Ber. Wirtsch Wirk 3'!$D$11:$BX$96,87,FALSE),0))/100),0)","v":0},{"$f":"IFERROR((J$206*(HLOOKUP(J$205,'Hilfsblatt Ber. Wirtsch Wirk 3'!$D$11:$BW$96,$A244,FALSE)+IF(J$205=$C244,HLOOKUP(J$205,'Hilfsblatt Ber. Wirtsch Wirk 3'!$D$11:$BX$96,87,FALSE),0))/100),0)","v":0},{"$f":"IFERROR((K$206*(HLOOKUP(K$205,'Hilfsblatt Ber. Wirtsch Wirk 3'!$D$11:$BW$96,$A244,FALSE)+IF(K$205=$C244,HLOOKUP(K$205,'Hilfsblatt Ber. Wirtsch Wirk 3'!$D$11:$BX$96,87,FALSE),0))/100),0)","v":0},{"$f":"IFERROR((L$206*(HLOOKUP(L$205,'Hilfsblatt Ber. Wirtsch Wirk 3'!$D$11:$BW$96,$A244,FALSE)+IF(L$205=$C244,HLOOKUP(L$205,'Hilfsblatt Ber. Wirtsch Wirk 3'!$D$11:$BX$96,87,FALSE),0))/100),0)","v":0},{"$f":"IFERROR((M$206*(HLOOKUP(M$205,'Hilfsblatt Ber. Wirtsch Wirk 3'!$D$11:$BW$96,$A244,FALSE)+IF(M$205=$C244,HLOOKUP(M$205,'Hilfsblatt Ber. Wirtsch Wirk 3'!$D$11:$BX$96,87,FALSE),0))/100),0)","v":0},{"$f":"IFERROR((N$206*(HLOOKUP(N$205,'Hilfsblatt Ber. Wirtsch Wirk 3'!$D$11:$BW$96,$A244,FALSE)+IF(N$205=$C244,HLOOKUP(N$205,'Hilfsblatt Ber. Wirtsch Wirk 3'!$D$11:$BX$96,87,FALSE),0))/100),0)","v":0},{"$f":"IFERROR((O$206*(HLOOKUP(O$205,'Hilfsblatt Ber. Wirtsch Wirk 3'!$D$11:$BW$96,$A244,FALSE)+IF(O$205=$C244,HLOOKUP(O$205,'Hilfsblatt Ber. Wirtsch Wirk 3'!$D$11:$BX$96,87,FALSE),0))/100),0)","v":0},{"$f":"IFERROR((P$206*(HLOOKUP(P$205,'Hilfsblatt Ber. Wirtsch Wirk 3'!$D$11:$BW$96,$A244,FALSE)+IF(P$205=$C244,HLOOKUP(P$205,'Hilfsblatt Ber. Wirtsch Wirk 3'!$D$11:$BX$96,87,FALSE),0))/100),0)","v":0},{"$f":"IFERROR((Q$206*(HLOOKUP(Q$205,'Hilfsblatt Ber. Wirtsch Wirk 3'!$D$11:$BW$96,$A244,FALSE)+IF(Q$205=$C244,HLOOKUP(Q$205,'Hilfsblatt Ber. Wirtsch Wirk 3'!$D$11:$BX$96,87,FALSE),0))/100),0)","v":0},{"$f":"R$206*('Hilfsblatt Ber. Wirtsch Wirk 3'!BX49+'Hilfsblatt Ber. Wirtsch Wirk 3'!BX49*'Hilfsblatt Ber. Wirtsch Wirk 3'!CA49/'Hilfsblatt Ber. Wirtsch Wirk 3'!CB49)/100","v":0},0,{"$f":"S244*'Hilfsblatt Ber. Wirtsch Wirk 3'!BZ49/('Hilfsblatt Ber. Wirtsch Wirk 3'!CA49)","v":0},{"$f":"S244/'Hilfsblatt Ber. Wirtsch Wirk 3'!CC49","v":0},{"$f":"T244*('Hilfsblatt Ber. Wirtsch Wirk 4'!B$14/'Hilfsblatt Ber. Wirtsch Wirk 4'!B$13)","v":0},{"$f":"S244*'Hilfsblatt Ber. Wirtsch Wirk 3'!CD49","v":0}]
[40,{"$f":"B145","v":"45"},"Handelsleistungen mit Kfz, Instandhaltung und Reparatur an Kfz",{"$f":"IFERROR((D$206*(HLOOKUP(D$205,'Hilfsblatt Ber. Wirtsch Wirk 3'!$D$11:$BW$96,$A245,FALSE)+IF(D$205=$C245,HLOOKUP(D$205,'Hilfsblatt Ber. Wirtsch Wirk 3'!$D$11:$BX$96,87,FALSE),0))/100),0)","v":0},{"$f":"IFERROR((E$206*(HLOOKUP(E$205,'Hilfsblatt Ber. Wirtsch Wirk 3'!$D$11:$BW$96,$A245,FALSE)+IF(E$205=$C245,HLOOKUP(E$205,'Hilfsblatt Ber. Wirtsch Wirk 3'!$D$11:$BX$96,87,FALSE),0))/100),0)","v":0},{"$f":"IFERROR((F$206*(HLOOKUP(F$205,'Hilfsblatt Ber. Wirtsch Wirk 3'!$D$11:$BW$96,$A245,FALSE)+IF(F$205=$C245,HLOOKUP(F$205,'Hilfsblatt Ber. Wirtsch Wirk 3'!$D$11:$BX$96,87,FALSE),0))/100),0)","v":0},{"$f":"IFERROR((G$206*(HLOOKUP(G$205,'Hilfsblatt Ber. Wirtsch Wirk 3'!$D$11:$BW$96,$A245,FALSE)+IF(G$205=$C245,HLOOKUP(G$205,'Hilfsblatt Ber. Wirtsch Wirk 3'!$D$11:$BX$96,87,FALSE),0))/100),0)","v":0},{"$f":"IFERROR((H$206*(HLOOKUP(H$205,'Hilfsblatt Ber. Wirtsch Wirk 3'!$D$11:$BW$96,$A245,FALSE)+IF(H$205=$C245,HLOOKUP(H$205,'Hilfsblatt Ber. Wirtsch Wirk 3'!$D$11:$BX$96,87,FALSE),0))/100),0)","v":0},{"$f":"IFERROR((I$206*(HLOOKUP(I$205,'Hilfsblatt Ber. Wirtsch Wirk 3'!$D$11:$BW$96,$A245,FALSE)+IF(I$205=$C245,HLOOKUP(I$205,'Hilfsblatt Ber. Wirtsch Wirk 3'!$D$11:$BX$96,87,FALSE),0))/100),0)","v":0},{"$f":"IFERROR((J$206*(HLOOKUP(J$205,'Hilfsblatt Ber. Wirtsch Wirk 3'!$D$11:$BW$96,$A245,FALSE)+IF(J$205=$C245,HLOOKUP(J$205,'Hilfsblatt Ber. Wirtsch Wirk 3'!$D$11:$BX$96,87,FALSE),0))/100),0)","v":0},{"$f":"IFERROR((K$206*(HLOOKUP(K$205,'Hilfsblatt Ber. Wirtsch Wirk 3'!$D$11:$BW$96,$A245,FALSE)+IF(K$205=$C245,HLOOKUP(K$205,'Hilfsblatt Ber. Wirtsch Wirk 3'!$D$11:$BX$96,87,FALSE),0))/100),0)","v":0},{"$f":"IFERROR((L$206*(HLOOKUP(L$205,'Hilfsblatt Ber. Wirtsch Wirk 3'!$D$11:$BW$96,$A245,FALSE)+IF(L$205=$C245,HLOOKUP(L$205,'Hilfsblatt Ber. Wirtsch Wirk 3'!$D$11:$BX$96,87,FALSE),0))/100),0)","v":0},{"$f":"IFERROR((M$206*(HLOOKUP(M$205,'Hilfsblatt Ber. Wirtsch Wirk 3'!$D$11:$BW$96,$A245,FALSE)+IF(M$205=$C245,HLOOKUP(M$205,'Hilfsblatt Ber. Wirtsch Wirk 3'!$D$11:$BX$96,87,FALSE),0))/100),0)","v":0},{"$f":"IFERROR((N$206*(HLOOKUP(N$205,'Hilfsblatt Ber. Wirtsch Wirk 3'!$D$11:$BW$96,$A245,FALSE)+IF(N$205=$C245,HLOOKUP(N$205,'Hilfsblatt Ber. Wirtsch Wirk 3'!$D$11:$BX$96,87,FALSE),0))/100),0)","v":0},{"$f":"IFERROR((O$206*(HLOOKUP(O$205,'Hilfsblatt Ber. Wirtsch Wirk 3'!$D$11:$BW$96,$A245,FALSE)+IF(O$205=$C245,HLOOKUP(O$205,'Hilfsblatt Ber. Wirtsch Wirk 3'!$D$11:$BX$96,87,FALSE),0))/100),0)","v":0},{"$f":"IFERROR((P$206*(HLOOKUP(P$205,'Hilfsblatt Ber. Wirtsch Wirk 3'!$D$11:$BW$96,$A245,FALSE)+IF(P$205=$C245,HLOOKUP(P$205,'Hilfsblatt Ber. Wirtsch Wirk 3'!$D$11:$BX$96,87,FALSE),0))/100),0)","v":0},{"$f":"IFERROR((Q$206*(HLOOKUP(Q$205,'Hilfsblatt Ber. Wirtsch Wirk 3'!$D$11:$BW$96,$A245,FALSE)+IF(Q$205=$C245,HLOOKUP(Q$205,'Hilfsblatt Ber. Wirtsch Wirk 3'!$D$11:$BX$96,87,FALSE),0))/100),0)","v":0},{"$f":"R$206*('Hilfsblatt Ber. Wirtsch Wirk 3'!BX50+'Hilfsblatt Ber. Wirtsch Wirk 3'!BX50*'Hilfsblatt Ber. Wirtsch Wirk 3'!CA50/'Hilfsblatt Ber. Wirtsch Wirk 3'!CB50)/100","v":0},0,{"$f":"S245*'Hilfsblatt Ber. Wirtsch Wirk 3'!BZ50/('Hilfsblatt Ber. Wirtsch Wirk 3'!CA50)","v":0},{"$f":"S245/'Hilfsblatt Ber. Wirtsch Wirk 3'!CC50","v":0},{"$f":"T245*('Hilfsblatt Ber. Wirtsch Wirk 4'!B$14/'Hilfsblatt Ber. Wirtsch Wirk 4'!B$13)","v":0},{"$f":"S245*'Hilfsblatt Ber. Wirtsch Wirk 3'!CD50","v":0}]
[41,{"$f":"B146","v":"46"},"Großhandelsleistungen (ohne Handelsleistungen mit Kfz) ",{"$f":"IFERROR((D$206*(HLOOKUP(D$205,'Hilfsblatt Ber. Wirtsch Wirk 3'!$D$11:$BW$96,$A246,FALSE)+IF(D$205=$C246,HLOOKUP(D$205,'Hilfsblatt Ber. Wirtsch Wirk 3'!$D$11:$BX$96,87,FALSE),0))/100),0)","v":0},{"$f":"IFERROR((E$206*(HLOOKUP(E$205,'Hilfsblatt Ber. Wirtsch Wirk 3'!$D$11:$BW$96,$A246,FALSE)+IF(E$205=$C246,HLOOKUP(E$205,'Hilfsblatt Ber. Wirtsch Wirk 3'!$D$11:$BX$96,87,FALSE),0))/100),0)","v":0},{"$f":"IFERROR((F$206*(HLOOKUP(F$205,'Hilfsblatt Ber. Wirtsch Wirk 3'!$D$11:$BW$96,$A246,FALSE)+IF(F$205=$C246,HLOOKUP(F$205,'Hilfsblatt Ber. Wirtsch Wirk 3'!$D$11:$BX$96,87,FALSE),0))/100),0)","v":0},{"$f":"IFERROR((G$206*(HLOOKUP(G$205,'Hilfsblatt Ber. Wirtsch Wirk 3'!$D$11:$BW$96,$A246,FALSE)+IF(G$205=$C246,HLOOKUP(G$205,'Hilfsblatt Ber. Wirtsch Wirk 3'!$D$11:$BX$96,87,FALSE),0))/100),0)","v":0},{"$f":"IFERROR((H$206*(HLOOKUP(H$205,'Hilfsblatt Ber. Wirtsch Wirk 3'!$D$11:$BW$96,$A246,FALSE)+IF(H$205=$C246,HLOOKUP(H$205,'Hilfsblatt Ber. Wirtsch Wirk 3'!$D$11:$BX$96,87,FALSE),0))/100),0)","v":0},{"$f":"IFERROR((I$206*(HLOOKUP(I$205,'Hilfsblatt Ber. Wirtsch Wirk 3'!$D$11:$BW$96,$A246,FALSE)+IF(I$205=$C246,HLOOKUP(I$205,'Hilfsblatt Ber. Wirtsch Wirk 3'!$D$11:$BX$96,87,FALSE),0))/100),0)","v":0},{"$f":"IFERROR((J$206*(HLOOKUP(J$205,'Hilfsblatt Ber. Wirtsch Wirk 3'!$D$11:$BW$96,$A246,FALSE)+IF(J$205=$C246,HLOOKUP(J$205,'Hilfsblatt Ber. Wirtsch Wirk 3'!$D$11:$BX$96,87,FALSE),0))/100),0)","v":0},{"$f":"IFERROR((K$206*(HLOOKUP(K$205,'Hilfsblatt Ber. Wirtsch Wirk 3'!$D$11:$BW$96,$A246,FALSE)+IF(K$205=$C246,HLOOKUP(K$205,'Hilfsblatt Ber. Wirtsch Wirk 3'!$D$11:$BX$96,87,FALSE),0))/100),0)","v":0},{"$f":"IFERROR((L$206*(HLOOKUP(L$205,'Hilfsblatt Ber. Wirtsch Wirk 3'!$D$11:$BW$96,$A246,FALSE)+IF(L$205=$C246,HLOOKUP(L$205,'Hilfsblatt Ber. Wirtsch Wirk 3'!$D$11:$BX$96,87,FALSE),0))/100),0)","v":0},{"$f":"IFERROR((M$206*(HLOOKUP(M$205,'Hilfsblatt Ber. Wirtsch Wirk 3'!$D$11:$BW$96,$A246,FALSE)+IF(M$205=$C246,HLOOKUP(M$205,'Hilfsblatt Ber. Wirtsch Wirk 3'!$D$11:$BX$96,87,FALSE),0))/100),0)","v":0},{"$f":"IFERROR((N$206*(HLOOKUP(N$205,'Hilfsblatt Ber. Wirtsch Wirk 3'!$D$11:$BW$96,$A246,FALSE)+IF(N$205=$C246,HLOOKUP(N$205,'Hilfsblatt Ber. Wirtsch Wirk 3'!$D$11:$BX$96,87,FALSE),0))/100),0)","v":0},{"$f":"IFERROR((O$206*(HLOOKUP(O$205,'Hilfsblatt Ber. Wirtsch Wirk 3'!$D$11:$BW$96,$A246,FALSE)+IF(O$205=$C246,HLOOKUP(O$205,'Hilfsblatt Ber. Wirtsch Wirk 3'!$D$11:$BX$96,87,FALSE),0))/100),0)","v":0},{"$f":"IFERROR((P$206*(HLOOKUP(P$205,'Hilfsblatt Ber. Wirtsch Wirk 3'!$D$11:$BW$96,$A246,FALSE)+IF(P$205=$C246,HLOOKUP(P$205,'Hilfsblatt Ber. Wirtsch Wirk 3'!$D$11:$BX$96,87,FALSE),0))/100),0)","v":0},{"$f":"IFERROR((Q$206*(HLOOKUP(Q$205,'Hilfsblatt Ber. Wirtsch Wirk 3'!$D$11:$BW$96,$A246,FALSE)+IF(Q$205=$C246,HLOOKUP(Q$205,'Hilfsblatt Ber. Wirtsch Wirk 3'!$D$11:$BX$96,87,FALSE),0))/100),0)","v":0},{"$f":"R$206*('Hilfsblatt Ber. Wirtsch Wirk 3'!BX51+'Hilfsblatt Ber. Wirtsch Wirk 3'!BX51*'Hilfsblatt Ber. Wirtsch Wirk 3'!CA51/'Hilfsblatt Ber. Wirtsch Wirk 3'!CB51)/100","v":0},0,{"$f":"S246*'Hilfsblatt Ber. Wirtsch Wirk 3'!BZ51/('Hilfsblatt Ber. Wirtsch Wirk 3'!CA51)","v":0},{"$f":"S246/'Hilfsblatt Ber. Wirtsch Wirk 3'!CC51","v":0},{"$f":"T246*('Hilfsblatt Ber. Wirtsch Wirk 4'!B$14/'Hilfsblatt Ber. Wirtsch Wirk 4'!B$13)","v":0},{"$f":"S246*'Hilfsblatt Ber. Wirtsch Wirk 3'!CD51","v":0}]
[42,{"$f":"B147","v":"47"},"Einzelhandelsleistungen (ohne Handelsleistungen mit Kfz) ",{"$f":"IFERROR((D$206*(HLOOKUP(D$205,'Hilfsblatt Ber. Wirtsch Wirk 3'!$D$11:$BW$96,$A247,FALSE)+IF(D$205=$C247,HLOOKUP(D$205,'Hilfsblatt Ber. Wirtsch Wirk 3'!$D$11:$BX$96,87,FALSE),0))/100),0)","v":0},{"$f":"IFERROR((E$206*(HLOOKUP(E$205,'Hilfsblatt Ber. Wirtsch Wirk 3'!$D$11:$BW$96,$A247,FALSE)+IF(E$205=$C247,HLOOKUP(E$205,'Hilfsblatt Ber. Wirtsch Wirk 3'!$D$11:$BX$96,87,FALSE),0))/100),0)","v":0},{"$f":"IFERROR((F$206*(HLOOKUP(F$205,'Hilfsblatt Ber. Wirtsch Wirk 3'!$D$11:$BW$96,$A247,FALSE)+IF(F$205=$C247,HLOOKUP(F$205,'Hilfsblatt Ber. Wirtsch Wirk 3'!$D$11:$BX$96,87,FALSE),0))/100),0)","v":0},{"$f":"IFERROR((G$206*(HLOOKUP(G$205,'Hilfsblatt Ber. Wirtsch Wirk 3'!$D$11:$BW$96,$A247,FALSE)+IF(G$205=$C247,HLOOKUP(G$205,'Hilfsblatt Ber. Wirtsch Wirk 3'!$D$11:$BX$96,87,FALSE),0))/100),0)","v":0},{"$f":"IFERROR((H$206*(HLOOKUP(H$205,'Hilfsblatt Ber. Wirtsch Wirk 3'!$D$11:$BW$96,$A247,FALSE)+IF(H$205=$C247,HLOOKUP(H$205,'Hilfsblatt Ber. Wirtsch Wirk 3'!$D$11:$BX$96,87,FALSE),0))/100),0)","v":0},{"$f":"IFERROR((I$206*(HLOOKUP(I$205,'Hilfsblatt Ber. Wirtsch Wirk 3'!$D$11:$BW$96,$A247,FALSE)+IF(I$205=$C247,HLOOKUP(I$205,'Hilfsblatt Ber. Wirtsch Wirk 3'!$D$11:$BX$96,87,FALSE),0))/100),0)","v":0},{"$f":"IFERROR((J$206*(HLOOKUP(J$205,'Hilfsblatt Ber. Wirtsch Wirk 3'!$D$11:$BW$96,$A247,FALSE)+IF(J$205=$C247,HLOOKUP(J$205,'Hilfsblatt Ber. Wirtsch Wirk 3'!$D$11:$BX$96,87,FALSE),0))/100),0)","v":0},{"$f":"IFERROR((K$206*(HLOOKUP(K$205,'Hilfsblatt Ber. Wirtsch Wirk 3'!$D$11:$BW$96,$A247,FALSE)+IF(K$205=$C247,HLOOKUP(K$205,'Hilfsblatt Ber. Wirtsch Wirk 3'!$D$11:$BX$96,87,FALSE),0))/100),0)","v":0},{"$f":"IFERROR((L$206*(HLOOKUP(L$205,'Hilfsblatt Ber. Wirtsch Wirk 3'!$D$11:$BW$96,$A247,FALSE)+IF(L$205=$C247,HLOOKUP(L$205,'Hilfsblatt Ber. Wirtsch Wirk 3'!$D$11:$BX$96,87,FALSE),0))/100),0)","v":0},{"$f":"IFERROR((M$206*(HLOOKUP(M$205,'Hilfsblatt Ber. Wirtsch Wirk 3'!$D$11:$BW$96,$A247,FALSE)+IF(M$205=$C247,HLOOKUP(M$205,'Hilfsblatt Ber. Wirtsch Wirk 3'!$D$11:$BX$96,87,FALSE),0))/100),0)","v":0},{"$f":"IFERROR((N$206*(HLOOKUP(N$205,'Hilfsblatt Ber. Wirtsch Wirk 3'!$D$11:$BW$96,$A247,FALSE)+IF(N$205=$C247,HLOOKUP(N$205,'Hilfsblatt Ber. Wirtsch Wirk 3'!$D$11:$BX$96,87,FALSE),0))/100),0)","v":0},{"$f":"IFERROR((O$206*(HLOOKUP(O$205,'Hilfsblatt Ber. Wirtsch Wirk 3'!$D$11:$BW$96,$A247,FALSE)+IF(O$205=$C247,HLOOKUP(O$205,'Hilfsblatt Ber. Wirtsch Wirk 3'!$D$11:$BX$96,87,FALSE),0))/100),0)","v":0},{"$f":"IFERROR((P$206*(HLOOKUP(P$205,'Hilfsblatt Ber. Wirtsch Wirk 3'!$D$11:$BW$96,$A247,FALSE)+IF(P$205=$C247,HLOOKUP(P$205,'Hilfsblatt Ber. Wirtsch Wirk 3'!$D$11:$BX$96,87,FALSE),0))/100),0)","v":0},{"$f":"IFERROR((Q$206*(HLOOKUP(Q$205,'Hilfsblatt Ber. Wirtsch Wirk 3'!$D$11:$BW$96,$A247,FALSE)+IF(Q$205=$C247,HLOOKUP(Q$205,'Hilfsblatt Ber. Wirtsch Wirk 3'!$D$11:$BX$96,87,FALSE),0))/100),0)","v":0},{"$f":"R$206*('Hilfsblatt Ber. Wirtsch Wirk 3'!BX52+'Hilfsblatt Ber. Wirtsch Wirk 3'!BX52*'Hilfsblatt Ber. Wirtsch Wirk 3'!CA52/'Hilfsblatt Ber. Wirtsch Wirk 3'!CB52)/100","v":0},0,{"$f":"S247*'Hilfsblatt Ber. Wirtsch Wirk 3'!BZ52/('Hilfsblatt Ber. Wirtsch Wirk 3'!CA52)","v":0},{"$f":"S247/'Hilfsblatt Ber. Wirtsch Wirk 3'!CC52","v":0},{"$f":"T247*('Hilfsblatt Ber. Wirtsch Wirk 4'!B$14/'Hilfsblatt Ber. Wirtsch Wirk 4'!B$13)","v":0},{"$f":"S247*'Hilfsblatt Ber. Wirtsch Wirk 3'!CD52","v":0}]
[43,{"$f":"B148","v":"49"},"Landverkehrs- und Transportleistungen in Rohrfernleitungen",{"$f":"IFERROR((D$206*(HLOOKUP(D$205,'Hilfsblatt Ber. Wirtsch Wirk 3'!$D$11:$BW$96,$A248,FALSE)+IF(D$205=$C248,HLOOKUP(D$205,'Hilfsblatt Ber. Wirtsch Wirk 3'!$D$11:$BX$96,87,FALSE),0))/100),0)","v":0},{"$f":"IFERROR((E$206*(HLOOKUP(E$205,'Hilfsblatt Ber. Wirtsch Wirk 3'!$D$11:$BW$96,$A248,FALSE)+IF(E$205=$C248,HLOOKUP(E$205,'Hilfsblatt Ber. Wirtsch Wirk 3'!$D$11:$BX$96,87,FALSE),0))/100),0)","v":0},{"$f":"IFERROR((F$206*(HLOOKUP(F$205,'Hilfsblatt Ber. Wirtsch Wirk 3'!$D$11:$BW$96,$A248,FALSE)+IF(F$205=$C248,HLOOKUP(F$205,'Hilfsblatt Ber. Wirtsch Wirk 3'!$D$11:$BX$96,87,FALSE),0))/100),0)","v":0},{"$f":"IFERROR((G$206*(HLOOKUP(G$205,'Hilfsblatt Ber. Wirtsch Wirk 3'!$D$11:$BW$96,$A248,FALSE)+IF(G$205=$C248,HLOOKUP(G$205,'Hilfsblatt Ber. Wirtsch Wirk 3'!$D$11:$BX$96,87,FALSE),0))/100),0)","v":0},{"$f":"IFERROR((H$206*(HLOOKUP(H$205,'Hilfsblatt Ber. Wirtsch Wirk 3'!$D$11:$BW$96,$A248,FALSE)+IF(H$205=$C248,HLOOKUP(H$205,'Hilfsblatt Ber. Wirtsch Wirk 3'!$D$11:$BX$96,87,FALSE),0))/100),0)","v":0},{"$f":"IFERROR((I$206*(HLOOKUP(I$205,'Hilfsblatt Ber. Wirtsch Wirk 3'!$D$11:$BW$96,$A248,FALSE)+IF(I$205=$C248,HLOOKUP(I$205,'Hilfsblatt Ber. Wirtsch Wirk 3'!$D$11:$BX$96,87,FALSE),0))/100),0)","v":0},{"$f":"IFERROR((J$206*(HLOOKUP(J$205,'Hilfsblatt Ber. Wirtsch Wirk 3'!$D$11:$BW$96,$A248,FALSE)+IF(J$205=$C248,HLOOKUP(J$205,'Hilfsblatt Ber. Wirtsch Wirk 3'!$D$11:$BX$96,87,FALSE),0))/100),0)","v":0},{"$f":"IFERROR((K$206*(HLOOKUP(K$205,'Hilfsblatt Ber. Wirtsch Wirk 3'!$D$11:$BW$96,$A248,FALSE)+IF(K$205=$C248,HLOOKUP(K$205,'Hilfsblatt Ber. Wirtsch Wirk 3'!$D$11:$BX$96,87,FALSE),0))/100),0)","v":0},{"$f":"IFERROR((L$206*(HLOOKUP(L$205,'Hilfsblatt Ber. Wirtsch Wirk 3'!$D$11:$BW$96,$A248,FALSE)+IF(L$205=$C248,HLOOKUP(L$205,'Hilfsblatt Ber. Wirtsch Wirk 3'!$D$11:$BX$96,87,FALSE),0))/100),0)","v":0},{"$f":"IFERROR((M$206*(HLOOKUP(M$205,'Hilfsblatt Ber. Wirtsch Wirk 3'!$D$11:$BW$96,$A248,FALSE)+IF(M$205=$C248,HLOOKUP(M$205,'Hilfsblatt Ber. Wirtsch Wirk 3'!$D$11:$BX$96,87,FALSE),0))/100),0)","v":0},{"$f":"IFERROR((N$206*(HLOOKUP(N$205,'Hilfsblatt Ber. Wirtsch Wirk 3'!$D$11:$BW$96,$A248,FALSE)+IF(N$205=$C248,HLOOKUP(N$205,'Hilfsblatt Ber. Wirtsch Wirk 3'!$D$11:$BX$96,87,FALSE),0))/100),0)","v":0},{"$f":"IFERROR((O$206*(HLOOKUP(O$205,'Hilfsblatt Ber. Wirtsch Wirk 3'!$D$11:$BW$96,$A248,FALSE)+IF(O$205=$C248,HLOOKUP(O$205,'Hilfsblatt Ber. Wirtsch Wirk 3'!$D$11:$BX$96,87,FALSE),0))/100),0)","v":0},{"$f":"IFERROR((P$206*(HLOOKUP(P$205,'Hilfsblatt Ber. Wirtsch Wirk 3'!$D$11:$BW$96,$A248,FALSE)+IF(P$205=$C248,HLOOKUP(P$205,'Hilfsblatt Ber. Wirtsch Wirk 3'!$D$11:$BX$96,87,FALSE),0))/100),0)","v":0},{"$f":"IFERROR((Q$206*(HLOOKUP(Q$205,'Hilfsblatt Ber. Wirtsch Wirk 3'!$D$11:$BW$96,$A248,FALSE)+IF(Q$205=$C248,HLOOKUP(Q$205,'Hilfsblatt Ber. Wirtsch Wirk 3'!$D$11:$BX$96,87,FALSE),0))/100),0)","v":0},{"$f":"R$206*('Hilfsblatt Ber. Wirtsch Wirk 3'!BX53+'Hilfsblatt Ber. Wirtsch Wirk 3'!BX53*'Hilfsblatt Ber. Wirtsch Wirk 3'!CA53/'Hilfsblatt Ber. Wirtsch Wirk 3'!CB53)/100","v":0},0,{"$f":"S248*'Hilfsblatt Ber. Wirtsch Wirk 3'!BZ53/('Hilfsblatt Ber. Wirtsch Wirk 3'!CA53)","v":0},{"$f":"S248/'Hilfsblatt Ber. Wirtsch Wirk 3'!CC53","v":0},{"$f":"T248*('Hilfsblatt Ber. Wirtsch Wirk 4'!B$14/'Hilfsblatt Ber. Wirtsch Wirk 4'!B$13)","v":0},{"$f":"S248*'Hilfsblatt Ber. Wirtsch Wirk 3'!CD53","v":0}]
[44,{"$f":"B149","v":"50"},"Schifffahrtsleistungen ",{"$f":"IFERROR((D$206*(HLOOKUP(D$205,'Hilfsblatt Ber. Wirtsch Wirk 3'!$D$11:$BW$96,$A249,FALSE)+IF(D$205=$C249,HLOOKUP(D$205,'Hilfsblatt Ber. Wirtsch Wirk 3'!$D$11:$BX$96,87,FALSE),0))/100),0)","v":0},{"$f":"IFERROR((E$206*(HLOOKUP(E$205,'Hilfsblatt Ber. Wirtsch Wirk 3'!$D$11:$BW$96,$A249,FALSE)+IF(E$205=$C249,HLOOKUP(E$205,'Hilfsblatt Ber. Wirtsch Wirk 3'!$D$11:$BX$96,87,FALSE),0))/100),0)","v":0},{"$f":"IFERROR((F$206*(HLOOKUP(F$205,'Hilfsblatt Ber. Wirtsch Wirk 3'!$D$11:$BW$96,$A249,FALSE)+IF(F$205=$C249,HLOOKUP(F$205,'Hilfsblatt Ber. Wirtsch Wirk 3'!$D$11:$BX$96,87,FALSE),0))/100),0)","v":0},{"$f":"IFERROR((G$206*(HLOOKUP(G$205,'Hilfsblatt Ber. Wirtsch Wirk 3'!$D$11:$BW$96,$A249,FALSE)+IF(G$205=$C249,HLOOKUP(G$205,'Hilfsblatt Ber. Wirtsch Wirk 3'!$D$11:$BX$96,87,FALSE),0))/100),0)","v":0},{"$f":"IFERROR((H$206*(HLOOKUP(H$205,'Hilfsblatt Ber. Wirtsch Wirk 3'!$D$11:$BW$96,$A249,FALSE)+IF(H$205=$C249,HLOOKUP(H$205,'Hilfsblatt Ber. Wirtsch Wirk 3'!$D$11:$BX$96,87,FALSE),0))/100),0)","v":0},{"$f":"IFERROR((I$206*(HLOOKUP(I$205,'Hilfsblatt Ber. Wirtsch Wirk 3'!$D$11:$BW$96,$A249,FALSE)+IF(I$205=$C249,HLOOKUP(I$205,'Hilfsblatt Ber. Wirtsch Wirk 3'!$D$11:$BX$96,87,FALSE),0))/100),0)","v":0},{"$f":"IFERROR((J$206*(HLOOKUP(J$205,'Hilfsblatt Ber. Wirtsch Wirk 3'!$D$11:$BW$96,$A249,FALSE)+IF(J$205=$C249,HLOOKUP(J$205,'Hilfsblatt Ber. Wirtsch Wirk 3'!$D$11:$BX$96,87,FALSE),0))/100),0)","v":0},{"$f":"IFERROR((K$206*(HLOOKUP(K$205,'Hilfsblatt Ber. Wirtsch Wirk 3'!$D$11:$BW$96,$A249,FALSE)+IF(K$205=$C249,HLOOKUP(K$205,'Hilfsblatt Ber. Wirtsch Wirk 3'!$D$11:$BX$96,87,FALSE),0))/100),0)","v":0},{"$f":"IFERROR((L$206*(HLOOKUP(L$205,'Hilfsblatt Ber. Wirtsch Wirk 3'!$D$11:$BW$96,$A249,FALSE)+IF(L$205=$C249,HLOOKUP(L$205,'Hilfsblatt Ber. Wirtsch Wirk 3'!$D$11:$BX$96,87,FALSE),0))/100),0)","v":0},{"$f":"IFERROR((M$206*(HLOOKUP(M$205,'Hilfsblatt Ber. Wirtsch Wirk 3'!$D$11:$BW$96,$A249,FALSE)+IF(M$205=$C249,HLOOKUP(M$205,'Hilfsblatt Ber. Wirtsch Wirk 3'!$D$11:$BX$96,87,FALSE),0))/100),0)","v":0},{"$f":"IFERROR((N$206*(HLOOKUP(N$205,'Hilfsblatt Ber. Wirtsch Wirk 3'!$D$11:$BW$96,$A249,FALSE)+IF(N$205=$C249,HLOOKUP(N$205,'Hilfsblatt Ber. Wirtsch Wirk 3'!$D$11:$BX$96,87,FALSE),0))/100),0)","v":0},{"$f":"IFERROR((O$206*(HLOOKUP(O$205,'Hilfsblatt Ber. Wirtsch Wirk 3'!$D$11:$BW$96,$A249,FALSE)+IF(O$205=$C249,HLOOKUP(O$205,'Hilfsblatt Ber. Wirtsch Wirk 3'!$D$11:$BX$96,87,FALSE),0))/100),0)","v":0},{"$f":"IFERROR((P$206*(HLOOKUP(P$205,'Hilfsblatt Ber. Wirtsch Wirk 3'!$D$11:$BW$96,$A249,FALSE)+IF(P$205=$C249,HLOOKUP(P$205,'Hilfsblatt Ber. Wirtsch Wirk 3'!$D$11:$BX$96,87,FALSE),0))/100),0)","v":0},{"$f":"IFERROR((Q$206*(HLOOKUP(Q$205,'Hilfsblatt Ber. Wirtsch Wirk 3'!$D$11:$BW$96,$A249,FALSE)+IF(Q$205=$C249,HLOOKUP(Q$205,'Hilfsblatt Ber. Wirtsch Wirk 3'!$D$11:$BX$96,87,FALSE),0))/100),0)","v":0},{"$f":"R$206*('Hilfsblatt Ber. Wirtsch Wirk 3'!BX54+'Hilfsblatt Ber. Wirtsch Wirk 3'!BX54*'Hilfsblatt Ber. Wirtsch Wirk 3'!CA54/'Hilfsblatt Ber. Wirtsch Wirk 3'!CB54)/100","v":0},0,{"$f":"S249*'Hilfsblatt Ber. Wirtsch Wirk 3'!BZ54/('Hilfsblatt Ber. Wirtsch Wirk 3'!CA54)","v":0},{"$f":"S249/'Hilfsblatt Ber. Wirtsch Wirk 3'!CC54","v":0},{"$f":"T249*('Hilfsblatt Ber. Wirtsch Wirk 4'!B$14/'Hilfsblatt Ber. Wirtsch Wirk 4'!B$13)","v":0},{"$f":"S249*'Hilfsblatt Ber. Wirtsch Wirk 3'!CD54","v":0}]
[45,{"$f":"B150","v":"51"},"Luftfahrtleistungen ",{"$f":"IFERROR((D$206*(HLOOKUP(D$205,'Hilfsblatt Ber. Wirtsch Wirk 3'!$D$11:$BW$96,$A250,FALSE)+IF(D$205=$C250,HLOOKUP(D$205,'Hilfsblatt Ber. Wirtsch Wirk 3'!$D$11:$BX$96,87,FALSE),0))/100),0)","v":0},{"$f":"IFERROR((E$206*(HLOOKUP(E$205,'Hilfsblatt Ber. Wirtsch Wirk 3'!$D$11:$BW$96,$A250,FALSE)+IF(E$205=$C250,HLOOKUP(E$205,'Hilfsblatt Ber. Wirtsch Wirk 3'!$D$11:$BX$96,87,FALSE),0))/100),0)","v":0},{"$f":"IFERROR((F$206*(HLOOKUP(F$205,'Hilfsblatt Ber. Wirtsch Wirk 3'!$D$11:$BW$96,$A250,FALSE)+IF(F$205=$C250,HLOOKUP(F$205,'Hilfsblatt Ber. Wirtsch Wirk 3'!$D$11:$BX$96,87,FALSE),0))/100),0)","v":0},{"$f":"IFERROR((G$206*(HLOOKUP(G$205,'Hilfsblatt Ber. Wirtsch Wirk 3'!$D$11:$BW$96,$A250,FALSE)+IF(G$205=$C250,HLOOKUP(G$205,'Hilfsblatt Ber. Wirtsch Wirk 3'!$D$11:$BX$96,87,FALSE),0))/100),0)","v":0},{"$f":"IFERROR((H$206*(HLOOKUP(H$205,'Hilfsblatt Ber. Wirtsch Wirk 3'!$D$11:$BW$96,$A250,FALSE)+IF(H$205=$C250,HLOOKUP(H$205,'Hilfsblatt Ber. Wirtsch Wirk 3'!$D$11:$BX$96,87,FALSE),0))/100),0)","v":0},{"$f":"IFERROR((I$206*(HLOOKUP(I$205,'Hilfsblatt Ber. Wirtsch Wirk 3'!$D$11:$BW$96,$A250,FALSE)+IF(I$205=$C250,HLOOKUP(I$205,'Hilfsblatt Ber. Wirtsch Wirk 3'!$D$11:$BX$96,87,FALSE),0))/100),0)","v":0},{"$f":"IFERROR((J$206*(HLOOKUP(J$205,'Hilfsblatt Ber. Wirtsch Wirk 3'!$D$11:$BW$96,$A250,FALSE)+IF(J$205=$C250,HLOOKUP(J$205,'Hilfsblatt Ber. Wirtsch Wirk 3'!$D$11:$BX$96,87,FALSE),0))/100),0)","v":0},{"$f":"IFERROR((K$206*(HLOOKUP(K$205,'Hilfsblatt Ber. Wirtsch Wirk 3'!$D$11:$BW$96,$A250,FALSE)+IF(K$205=$C250,HLOOKUP(K$205,'Hilfsblatt Ber. Wirtsch Wirk 3'!$D$11:$BX$96,87,FALSE),0))/100),0)","v":0},{"$f":"IFERROR((L$206*(HLOOKUP(L$205,'Hilfsblatt Ber. Wirtsch Wirk 3'!$D$11:$BW$96,$A250,FALSE)+IF(L$205=$C250,HLOOKUP(L$205,'Hilfsblatt Ber. Wirtsch Wirk 3'!$D$11:$BX$96,87,FALSE),0))/100),0)","v":0},{"$f":"IFERROR((M$206*(HLOOKUP(M$205,'Hilfsblatt Ber. Wirtsch Wirk 3'!$D$11:$BW$96,$A250,FALSE)+IF(M$205=$C250,HLOOKUP(M$205,'Hilfsblatt Ber. Wirtsch Wirk 3'!$D$11:$BX$96,87,FALSE),0))/100),0)","v":0},{"$f":"IFERROR((N$206*(HLOOKUP(N$205,'Hilfsblatt Ber. Wirtsch Wirk 3'!$D$11:$BW$96,$A250,FALSE)+IF(N$205=$C250,HLOOKUP(N$205,'Hilfsblatt Ber. Wirtsch Wirk 3'!$D$11:$BX$96,87,FALSE),0))/100),0)","v":0},{"$f":"IFERROR((O$206*(HLOOKUP(O$205,'Hilfsblatt Ber. Wirtsch Wirk 3'!$D$11:$BW$96,$A250,FALSE)+IF(O$205=$C250,HLOOKUP(O$205,'Hilfsblatt Ber. Wirtsch Wirk 3'!$D$11:$BX$96,87,FALSE),0))/100),0)","v":0},{"$f":"IFERROR((P$206*(HLOOKUP(P$205,'Hilfsblatt Ber. Wirtsch Wirk 3'!$D$11:$BW$96,$A250,FALSE)+IF(P$205=$C250,HLOOKUP(P$205,'Hilfsblatt Ber. Wirtsch Wirk 3'!$D$11:$BX$96,87,FALSE),0))/100),0)","v":0},{"$f":"IFERROR((Q$206*(HLOOKUP(Q$205,'Hilfsblatt Ber. Wirtsch Wirk 3'!$D$11:$BW$96,$A250,FALSE)+IF(Q$205=$C250,HLOOKUP(Q$205,'Hilfsblatt Ber. Wirtsch Wirk 3'!$D$11:$BX$96,87,FALSE),0))/100),0)","v":0},{"$f":"R$206*('Hilfsblatt Ber. Wirtsch Wirk 3'!BX55+'Hilfsblatt Ber. Wirtsch Wirk 3'!BX55*'Hilfsblatt Ber. Wirtsch Wirk 3'!CA55/'Hilfsblatt Ber. Wirtsch Wirk 3'!CB55)/100","v":0},0,{"$f":"S250*'Hilfsblatt Ber. Wirtsch Wirk 3'!BZ55/('Hilfsblatt Ber. Wirtsch Wirk 3'!CA55)","v":0},{"$f":"S250/'Hilfsblatt Ber. Wirtsch Wirk 3'!CC55","v":0},{"$f":"T250*('Hilfsblatt Ber. Wirtsch Wirk 4'!B$14/'Hilfsblatt Ber. Wirtsch Wirk 4'!B$13)","v":0},{"$f":"S250*'Hilfsblatt Ber. Wirtsch Wirk 3'!CD55","v":0}]
[46,{"$f":"B151","v":"52"},"Lagereileistungen, sonstige Dienstleistungen für den Verkehr ",{"$f":"IFERROR((D$206*(HLOOKUP(D$205,'Hilfsblatt Ber. Wirtsch Wirk 3'!$D$11:$BW$96,$A251,FALSE)+IF(D$205=$C251,HLOOKUP(D$205,'Hilfsblatt Ber. Wirtsch Wirk 3'!$D$11:$BX$96,87,FALSE),0))/100),0)","v":0},{"$f":"IFERROR((E$206*(HLOOKUP(E$205,'Hilfsblatt Ber. Wirtsch Wirk 3'!$D$11:$BW$96,$A251,FALSE)+IF(E$205=$C251,HLOOKUP(E$205,'Hilfsblatt Ber. Wirtsch Wirk 3'!$D$11:$BX$96,87,FALSE),0))/100),0)","v":0},{"$f":"IFERROR((F$206*(HLOOKUP(F$205,'Hilfsblatt Ber. Wirtsch Wirk 3'!$D$11:$BW$96,$A251,FALSE)+IF(F$205=$C251,HLOOKUP(F$205,'Hilfsblatt Ber. Wirtsch Wirk 3'!$D$11:$BX$96,87,FALSE),0))/100),0)","v":0},{"$f":"IFERROR((G$206*(HLOOKUP(G$205,'Hilfsblatt Ber. Wirtsch Wirk 3'!$D$11:$BW$96,$A251,FALSE)+IF(G$205=$C251,HLOOKUP(G$205,'Hilfsblatt Ber. Wirtsch Wirk 3'!$D$11:$BX$96,87,FALSE),0))/100),0)","v":0},{"$f":"IFERROR((H$206*(HLOOKUP(H$205,'Hilfsblatt Ber. Wirtsch Wirk 3'!$D$11:$BW$96,$A251,FALSE)+IF(H$205=$C251,HLOOKUP(H$205,'Hilfsblatt Ber. Wirtsch Wirk 3'!$D$11:$BX$96,87,FALSE),0))/100),0)","v":0},{"$f":"IFERROR((I$206*(HLOOKUP(I$205,'Hilfsblatt Ber. Wirtsch Wirk 3'!$D$11:$BW$96,$A251,FALSE)+IF(I$205=$C251,HLOOKUP(I$205,'Hilfsblatt Ber. Wirtsch Wirk 3'!$D$11:$BX$96,87,FALSE),0))/100),0)","v":0},{"$f":"IFERROR((J$206*(HLOOKUP(J$205,'Hilfsblatt Ber. Wirtsch Wirk 3'!$D$11:$BW$96,$A251,FALSE)+IF(J$205=$C251,HLOOKUP(J$205,'Hilfsblatt Ber. Wirtsch Wirk 3'!$D$11:$BX$96,87,FALSE),0))/100),0)","v":0},{"$f":"IFERROR((K$206*(HLOOKUP(K$205,'Hilfsblatt Ber. Wirtsch Wirk 3'!$D$11:$BW$96,$A251,FALSE)+IF(K$205=$C251,HLOOKUP(K$205,'Hilfsblatt Ber. Wirtsch Wirk 3'!$D$11:$BX$96,87,FALSE),0))/100),0)","v":0},{"$f":"IFERROR((L$206*(HLOOKUP(L$205,'Hilfsblatt Ber. Wirtsch Wirk 3'!$D$11:$BW$96,$A251,FALSE)+IF(L$205=$C251,HLOOKUP(L$205,'Hilfsblatt Ber. Wirtsch Wirk 3'!$D$11:$BX$96,87,FALSE),0))/100),0)","v":0},{"$f":"IFERROR((M$206*(HLOOKUP(M$205,'Hilfsblatt Ber. Wirtsch Wirk 3'!$D$11:$BW$96,$A251,FALSE)+IF(M$205=$C251,HLOOKUP(M$205,'Hilfsblatt Ber. Wirtsch Wirk 3'!$D$11:$BX$96,87,FALSE),0))/100),0)","v":0},{"$f":"IFERROR((N$206*(HLOOKUP(N$205,'Hilfsblatt Ber. Wirtsch Wirk 3'!$D$11:$BW$96,$A251,FALSE)+IF(N$205=$C251,HLOOKUP(N$205,'Hilfsblatt Ber. Wirtsch Wirk 3'!$D$11:$BX$96,87,FALSE),0))/100),0)","v":0},{"$f":"IFERROR((O$206*(HLOOKUP(O$205,'Hilfsblatt Ber. Wirtsch Wirk 3'!$D$11:$BW$96,$A251,FALSE)+IF(O$205=$C251,HLOOKUP(O$205,'Hilfsblatt Ber. Wirtsch Wirk 3'!$D$11:$BX$96,87,FALSE),0))/100),0)","v":0},{"$f":"IFERROR((P$206*(HLOOKUP(P$205,'Hilfsblatt Ber. Wirtsch Wirk 3'!$D$11:$BW$96,$A251,FALSE)+IF(P$205=$C251,HLOOKUP(P$205,'Hilfsblatt Ber. Wirtsch Wirk 3'!$D$11:$BX$96,87,FALSE),0))/100),0)","v":0},{"$f":"IFERROR((Q$206*(HLOOKUP(Q$205,'Hilfsblatt Ber. Wirtsch Wirk 3'!$D$11:$BW$96,$A251,FALSE)+IF(Q$205=$C251,HLOOKUP(Q$205,'Hilfsblatt Ber. Wirtsch Wirk 3'!$D$11:$BX$96,87,FALSE),0))/100),0)","v":0},{"$f":"R$206*('Hilfsblatt Ber. Wirtsch Wirk 3'!BX56+'Hilfsblatt Ber. Wirtsch Wirk 3'!BX56*'Hilfsblatt Ber. Wirtsch Wirk 3'!CA56/'Hilfsblatt Ber. Wirtsch Wirk 3'!CB56)/100","v":0},0,{"$f":"S251*'Hilfsblatt Ber. Wirtsch Wirk 3'!BZ56/('Hilfsblatt Ber. Wirtsch Wirk 3'!CA56)","v":0},{"$f":"S251/'Hilfsblatt Ber. Wirtsch Wirk 3'!CC56","v":0},{"$f":"T251*('Hilfsblatt Ber. Wirtsch Wirk 4'!B$14/'Hilfsblatt Ber. Wirtsch Wirk 4'!B$13)","v":0},{"$f":"S251*'Hilfsblatt Ber. Wirtsch Wirk 3'!CD56","v":0}]
[47,{"$f":"B152","v":"53"},"Post-, Kurier- und Expressdienstleistungen",{"$f":"IFERROR((D$206*(HLOOKUP(D$205,'Hilfsblatt Ber. Wirtsch Wirk 3'!$D$11:$BW$96,$A252,FALSE)+IF(D$205=$C252,HLOOKUP(D$205,'Hilfsblatt Ber. Wirtsch Wirk 3'!$D$11:$BX$96,87,FALSE),0))/100),0)","v":0},{"$f":"IFERROR((E$206*(HLOOKUP(E$205,'Hilfsblatt Ber. Wirtsch Wirk 3'!$D$11:$BW$96,$A252,FALSE)+IF(E$205=$C252,HLOOKUP(E$205,'Hilfsblatt Ber. Wirtsch Wirk 3'!$D$11:$BX$96,87,FALSE),0))/100),0)","v":0},{"$f":"IFERROR((F$206*(HLOOKUP(F$205,'Hilfsblatt Ber. Wirtsch Wirk 3'!$D$11:$BW$96,$A252,FALSE)+IF(F$205=$C252,HLOOKUP(F$205,'Hilfsblatt Ber. Wirtsch Wirk 3'!$D$11:$BX$96,87,FALSE),0))/100),0)","v":0},{"$f":"IFERROR((G$206*(HLOOKUP(G$205,'Hilfsblatt Ber. Wirtsch Wirk 3'!$D$11:$BW$96,$A252,FALSE)+IF(G$205=$C252,HLOOKUP(G$205,'Hilfsblatt Ber. Wirtsch Wirk 3'!$D$11:$BX$96,87,FALSE),0))/100),0)","v":0},{"$f":"IFERROR((H$206*(HLOOKUP(H$205,'Hilfsblatt Ber. Wirtsch Wirk 3'!$D$11:$BW$96,$A252,FALSE)+IF(H$205=$C252,HLOOKUP(H$205,'Hilfsblatt Ber. Wirtsch Wirk 3'!$D$11:$BX$96,87,FALSE),0))/100),0)","v":0},{"$f":"IFERROR((I$206*(HLOOKUP(I$205,'Hilfsblatt Ber. Wirtsch Wirk 3'!$D$11:$BW$96,$A252,FALSE)+IF(I$205=$C252,HLOOKUP(I$205,'Hilfsblatt Ber. Wirtsch Wirk 3'!$D$11:$BX$96,87,FALSE),0))/100),0)","v":0},{"$f":"IFERROR((J$206*(HLOOKUP(J$205,'Hilfsblatt Ber. Wirtsch Wirk 3'!$D$11:$BW$96,$A252,FALSE)+IF(J$205=$C252,HLOOKUP(J$205,'Hilfsblatt Ber. Wirtsch Wirk 3'!$D$11:$BX$96,87,FALSE),0))/100),0)","v":0},{"$f":"IFERROR((K$206*(HLOOKUP(K$205,'Hilfsblatt Ber. Wirtsch Wirk 3'!$D$11:$BW$96,$A252,FALSE)+IF(K$205=$C252,HLOOKUP(K$205,'Hilfsblatt Ber. Wirtsch Wirk 3'!$D$11:$BX$96,87,FALSE),0))/100),0)","v":0},{"$f":"IFERROR((L$206*(HLOOKUP(L$205,'Hilfsblatt Ber. Wirtsch Wirk 3'!$D$11:$BW$96,$A252,FALSE)+IF(L$205=$C252,HLOOKUP(L$205,'Hilfsblatt Ber. Wirtsch Wirk 3'!$D$11:$BX$96,87,FALSE),0))/100),0)","v":0},{"$f":"IFERROR((M$206*(HLOOKUP(M$205,'Hilfsblatt Ber. Wirtsch Wirk 3'!$D$11:$BW$96,$A252,FALSE)+IF(M$205=$C252,HLOOKUP(M$205,'Hilfsblatt Ber. Wirtsch Wirk 3'!$D$11:$BX$96,87,FALSE),0))/100),0)","v":0},{"$f":"IFERROR((N$206*(HLOOKUP(N$205,'Hilfsblatt Ber. Wirtsch Wirk 3'!$D$11:$BW$96,$A252,FALSE)+IF(N$205=$C252,HLOOKUP(N$205,'Hilfsblatt Ber. Wirtsch Wirk 3'!$D$11:$BX$96,87,FALSE),0))/100),0)","v":0},{"$f":"IFERROR((O$206*(HLOOKUP(O$205,'Hilfsblatt Ber. Wirtsch Wirk 3'!$D$11:$BW$96,$A252,FALSE)+IF(O$205=$C252,HLOOKUP(O$205,'Hilfsblatt Ber. Wirtsch Wirk 3'!$D$11:$BX$96,87,FALSE),0))/100),0)","v":0},{"$f":"IFERROR((P$206*(HLOOKUP(P$205,'Hilfsblatt Ber. Wirtsch Wirk 3'!$D$11:$BW$96,$A252,FALSE)+IF(P$205=$C252,HLOOKUP(P$205,'Hilfsblatt Ber. Wirtsch Wirk 3'!$D$11:$BX$96,87,FALSE),0))/100),0)","v":0},{"$f":"IFERROR((Q$206*(HLOOKUP(Q$205,'Hilfsblatt Ber. Wirtsch Wirk 3'!$D$11:$BW$96,$A252,FALSE)+IF(Q$205=$C252,HLOOKUP(Q$205,'Hilfsblatt Ber. Wirtsch Wirk 3'!$D$11:$BX$96,87,FALSE),0))/100),0)","v":0},{"$f":"R$206*('Hilfsblatt Ber. Wirtsch Wirk 3'!BX57+'Hilfsblatt Ber. Wirtsch Wirk 3'!BX57*'Hilfsblatt Ber. Wirtsch Wirk 3'!CA57/'Hilfsblatt Ber. Wirtsch Wirk 3'!CB57)/100","v":0},0,{"$f":"S252*'Hilfsblatt Ber. Wirtsch Wirk 3'!BZ57/('Hilfsblatt Ber. Wirtsch Wirk 3'!CA57)","v":0},{"$f":"S252/'Hilfsblatt Ber. Wirtsch Wirk 3'!CC57","v":0},{"$f":"T252*('Hilfsblatt Ber. Wirtsch Wirk 4'!B$14/'Hilfsblatt Ber. Wirtsch Wirk 4'!B$13)","v":0},{"$f":"S252*'Hilfsblatt Ber. Wirtsch Wirk 3'!CD57","v":0}]
[48,{"$f":"B153","v":"55-56"},"Beherbergungs-  und Gastronomiedienstleistungen ",{"$f":"IFERROR((D$206*(HLOOKUP(D$205,'Hilfsblatt Ber. Wirtsch Wirk 3'!$D$11:$BW$96,$A253,FALSE)+IF(D$205=$C253,HLOOKUP(D$205,'Hilfsblatt Ber. Wirtsch Wirk 3'!$D$11:$BX$96,87,FALSE),0))/100),0)","v":0},{"$f":"IFERROR((E$206*(HLOOKUP(E$205,'Hilfsblatt Ber. Wirtsch Wirk 3'!$D$11:$BW$96,$A253,FALSE)+IF(E$205=$C253,HLOOKUP(E$205,'Hilfsblatt Ber. Wirtsch Wirk 3'!$D$11:$BX$96,87,FALSE),0))/100),0)","v":0},{"$f":"IFERROR((F$206*(HLOOKUP(F$205,'Hilfsblatt Ber. Wirtsch Wirk 3'!$D$11:$BW$96,$A253,FALSE)+IF(F$205=$C253,HLOOKUP(F$205,'Hilfsblatt Ber. Wirtsch Wirk 3'!$D$11:$BX$96,87,FALSE),0))/100),0)","v":0},{"$f":"IFERROR((G$206*(HLOOKUP(G$205,'Hilfsblatt Ber. Wirtsch Wirk 3'!$D$11:$BW$96,$A253,FALSE)+IF(G$205=$C253,HLOOKUP(G$205,'Hilfsblatt Ber. Wirtsch Wirk 3'!$D$11:$BX$96,87,FALSE),0))/100),0)","v":0},{"$f":"IFERROR((H$206*(HLOOKUP(H$205,'Hilfsblatt Ber. Wirtsch Wirk 3'!$D$11:$BW$96,$A253,FALSE)+IF(H$205=$C253,HLOOKUP(H$205,'Hilfsblatt Ber. Wirtsch Wirk 3'!$D$11:$BX$96,87,FALSE),0))/100),0)","v":0},{"$f":"IFERROR((I$206*(HLOOKUP(I$205,'Hilfsblatt Ber. Wirtsch Wirk 3'!$D$11:$BW$96,$A253,FALSE)+IF(I$205=$C253,HLOOKUP(I$205,'Hilfsblatt Ber. Wirtsch Wirk 3'!$D$11:$BX$96,87,FALSE),0))/100),0)","v":0},{"$f":"IFERROR((J$206*(HLOOKUP(J$205,'Hilfsblatt Ber. Wirtsch Wirk 3'!$D$11:$BW$96,$A253,FALSE)+IF(J$205=$C253,HLOOKUP(J$205,'Hilfsblatt Ber. Wirtsch Wirk 3'!$D$11:$BX$96,87,FALSE),0))/100),0)","v":0},{"$f":"IFERROR((K$206*(HLOOKUP(K$205,'Hilfsblatt Ber. Wirtsch Wirk 3'!$D$11:$BW$96,$A253,FALSE)+IF(K$205=$C253,HLOOKUP(K$205,'Hilfsblatt Ber. Wirtsch Wirk 3'!$D$11:$BX$96,87,FALSE),0))/100),0)","v":0},{"$f":"IFERROR((L$206*(HLOOKUP(L$205,'Hilfsblatt Ber. Wirtsch Wirk 3'!$D$11:$BW$96,$A253,FALSE)+IF(L$205=$C253,HLOOKUP(L$205,'Hilfsblatt Ber. Wirtsch Wirk 3'!$D$11:$BX$96,87,FALSE),0))/100),0)","v":0},{"$f":"IFERROR((M$206*(HLOOKUP(M$205,'Hilfsblatt Ber. Wirtsch Wirk 3'!$D$11:$BW$96,$A253,FALSE)+IF(M$205=$C253,HLOOKUP(M$205,'Hilfsblatt Ber. Wirtsch Wirk 3'!$D$11:$BX$96,87,FALSE),0))/100),0)","v":0},{"$f":"IFERROR((N$206*(HLOOKUP(N$205,'Hilfsblatt Ber. Wirtsch Wirk 3'!$D$11:$BW$96,$A253,FALSE)+IF(N$205=$C253,HLOOKUP(N$205,'Hilfsblatt Ber. Wirtsch Wirk 3'!$D$11:$BX$96,87,FALSE),0))/100),0)","v":0},{"$f":"IFERROR((O$206*(HLOOKUP(O$205,'Hilfsblatt Ber. Wirtsch Wirk 3'!$D$11:$BW$96,$A253,FALSE)+IF(O$205=$C253,HLOOKUP(O$205,'Hilfsblatt Ber. Wirtsch Wirk 3'!$D$11:$BX$96,87,FALSE),0))/100),0)","v":0},{"$f":"IFERROR((P$206*(HLOOKUP(P$205,'Hilfsblatt Ber. Wirtsch Wirk 3'!$D$11:$BW$96,$A253,FALSE)+IF(P$205=$C253,HLOOKUP(P$205,'Hilfsblatt Ber. Wirtsch Wirk 3'!$D$11:$BX$96,87,FALSE),0))/100),0)","v":0},{"$f":"IFERROR((Q$206*(HLOOKUP(Q$205,'Hilfsblatt Ber. Wirtsch Wirk 3'!$D$11:$BW$96,$A253,FALSE)+IF(Q$205=$C253,HLOOKUP(Q$205,'Hilfsblatt Ber. Wirtsch Wirk 3'!$D$11:$BX$96,87,FALSE),0))/100),0)","v":0},{"$f":"R$206*('Hilfsblatt Ber. Wirtsch Wirk 3'!BX58+'Hilfsblatt Ber. Wirtsch Wirk 3'!BX58*'Hilfsblatt Ber. Wirtsch Wirk 3'!CA58/'Hilfsblatt Ber. Wirtsch Wirk 3'!CB58)/100","v":0},0,{"$f":"S253*'Hilfsblatt Ber. Wirtsch Wirk 3'!BZ58/('Hilfsblatt Ber. Wirtsch Wirk 3'!CA58)","v":0},{"$f":"S253/'Hilfsblatt Ber. Wirtsch Wirk 3'!CC58","v":0},{"$f":"T253*('Hilfsblatt Ber. Wirtsch Wirk 4'!B$14/'Hilfsblatt Ber. Wirtsch Wirk 4'!B$13)","v":0},{"$f":"S253*'Hilfsblatt Ber. Wirtsch Wirk 3'!CD58","v":0}]
[49,{"$f":"B154","v":"58"},"Dienstleistungen des Verlagswesen",{"$f":"IFERROR((D$206*(HLOOKUP(D$205,'Hilfsblatt Ber. Wirtsch Wirk 3'!$D$11:$BW$96,$A254,FALSE)+IF(D$205=$C254,HLOOKUP(D$205,'Hilfsblatt Ber. Wirtsch Wirk 3'!$D$11:$BX$96,87,FALSE),0))/100),0)","v":0},{"$f":"IFERROR((E$206*(HLOOKUP(E$205,'Hilfsblatt Ber. Wirtsch Wirk 3'!$D$11:$BW$96,$A254,FALSE)+IF(E$205=$C254,HLOOKUP(E$205,'Hilfsblatt Ber. Wirtsch Wirk 3'!$D$11:$BX$96,87,FALSE),0))/100),0)","v":0},{"$f":"IFERROR((F$206*(HLOOKUP(F$205,'Hilfsblatt Ber. Wirtsch Wirk 3'!$D$11:$BW$96,$A254,FALSE)+IF(F$205=$C254,HLOOKUP(F$205,'Hilfsblatt Ber. Wirtsch Wirk 3'!$D$11:$BX$96,87,FALSE),0))/100),0)","v":0},{"$f":"IFERROR((G$206*(HLOOKUP(G$205,'Hilfsblatt Ber. Wirtsch Wirk 3'!$D$11:$BW$96,$A254,FALSE)+IF(G$205=$C254,HLOOKUP(G$205,'Hilfsblatt Ber. Wirtsch Wirk 3'!$D$11:$BX$96,87,FALSE),0))/100),0)","v":0},{"$f":"IFERROR((H$206*(HLOOKUP(H$205,'Hilfsblatt Ber. Wirtsch Wirk 3'!$D$11:$BW$96,$A254,FALSE)+IF(H$205=$C254,HLOOKUP(H$205,'Hilfsblatt Ber. Wirtsch Wirk 3'!$D$11:$BX$96,87,FALSE),0))/100),0)","v":0},{"$f":"IFERROR((I$206*(HLOOKUP(I$205,'Hilfsblatt Ber. Wirtsch Wirk 3'!$D$11:$BW$96,$A254,FALSE)+IF(I$205=$C254,HLOOKUP(I$205,'Hilfsblatt Ber. Wirtsch Wirk 3'!$D$11:$BX$96,87,FALSE),0))/100),0)","v":0},{"$f":"IFERROR((J$206*(HLOOKUP(J$205,'Hilfsblatt Ber. Wirtsch Wirk 3'!$D$11:$BW$96,$A254,FALSE)+IF(J$205=$C254,HLOOKUP(J$205,'Hilfsblatt Ber. Wirtsch Wirk 3'!$D$11:$BX$96,87,FALSE),0))/100),0)","v":0},{"$f":"IFERROR((K$206*(HLOOKUP(K$205,'Hilfsblatt Ber. Wirtsch Wirk 3'!$D$11:$BW$96,$A254,FALSE)+IF(K$205=$C254,HLOOKUP(K$205,'Hilfsblatt Ber. Wirtsch Wirk 3'!$D$11:$BX$96,87,FALSE),0))/100),0)","v":0},{"$f":"IFERROR((L$206*(HLOOKUP(L$205,'Hilfsblatt Ber. Wirtsch Wirk 3'!$D$11:$BW$96,$A254,FALSE)+IF(L$205=$C254,HLOOKUP(L$205,'Hilfsblatt Ber. Wirtsch Wirk 3'!$D$11:$BX$96,87,FALSE),0))/100),0)","v":0},{"$f":"IFERROR((M$206*(HLOOKUP(M$205,'Hilfsblatt Ber. Wirtsch Wirk 3'!$D$11:$BW$96,$A254,FALSE)+IF(M$205=$C254,HLOOKUP(M$205,'Hilfsblatt Ber. Wirtsch Wirk 3'!$D$11:$BX$96,87,FALSE),0))/100),0)","v":0},{"$f":"IFERROR((N$206*(HLOOKUP(N$205,'Hilfsblatt Ber. Wirtsch Wirk 3'!$D$11:$BW$96,$A254,FALSE)+IF(N$205=$C254,HLOOKUP(N$205,'Hilfsblatt Ber. Wirtsch Wirk 3'!$D$11:$BX$96,87,FALSE),0))/100),0)","v":0},{"$f":"IFERROR((O$206*(HLOOKUP(O$205,'Hilfsblatt Ber. Wirtsch Wirk 3'!$D$11:$BW$96,$A254,FALSE)+IF(O$205=$C254,HLOOKUP(O$205,'Hilfsblatt Ber. Wirtsch Wirk 3'!$D$11:$BX$96,87,FALSE),0))/100),0)","v":0},{"$f":"IFERROR((P$206*(HLOOKUP(P$205,'Hilfsblatt Ber. Wirtsch Wirk 3'!$D$11:$BW$96,$A254,FALSE)+IF(P$205=$C254,HLOOKUP(P$205,'Hilfsblatt Ber. Wirtsch Wirk 3'!$D$11:$BX$96,87,FALSE),0))/100),0)","v":0},{"$f":"IFERROR((Q$206*(HLOOKUP(Q$205,'Hilfsblatt Ber. Wirtsch Wirk 3'!$D$11:$BW$96,$A254,FALSE)+IF(Q$205=$C254,HLOOKUP(Q$205,'Hilfsblatt Ber. Wirtsch Wirk 3'!$D$11:$BX$96,87,FALSE),0))/100),0)","v":0},{"$f":"R$206*('Hilfsblatt Ber. Wirtsch Wirk 3'!BX59+'Hilfsblatt Ber. Wirtsch Wirk 3'!BX59*'Hilfsblatt Ber. Wirtsch Wirk 3'!CA59/'Hilfsblatt Ber. Wirtsch Wirk 3'!CB59)/100","v":0},0,{"$f":"S254*'Hilfsblatt Ber. Wirtsch Wirk 3'!BZ59/('Hilfsblatt Ber. Wirtsch Wirk 3'!CA59)","v":0},{"$f":"S254/'Hilfsblatt Ber. Wirtsch Wirk 3'!CC59","v":0},{"$f":"T254*('Hilfsblatt Ber. Wirtsch Wirk 4'!B$14/'Hilfsblatt Ber. Wirtsch Wirk 4'!B$13)","v":0},{"$f":"S254*'Hilfsblatt Ber. Wirtsch Wirk 3'!CD59","v":0}]
[50,{"$f":"B155","v":"59-60"},"Dienstleistg. v. audiovisuell. Medien, Musikverlag. u. RF-veranstaltern",{"$f":"IFERROR((D$206*(HLOOKUP(D$205,'Hilfsblatt Ber. Wirtsch Wirk 3'!$D$11:$BW$96,$A255,FALSE)+IF(D$205=$C255,HLOOKUP(D$205,'Hilfsblatt Ber. Wirtsch Wirk 3'!$D$11:$BX$96,87,FALSE),0))/100),0)","v":0},{"$f":"IFERROR((E$206*(HLOOKUP(E$205,'Hilfsblatt Ber. Wirtsch Wirk 3'!$D$11:$BW$96,$A255,FALSE)+IF(E$205=$C255,HLOOKUP(E$205,'Hilfsblatt Ber. Wirtsch Wirk 3'!$D$11:$BX$96,87,FALSE),0))/100),0)","v":0},{"$f":"IFERROR((F$206*(HLOOKUP(F$205,'Hilfsblatt Ber. Wirtsch Wirk 3'!$D$11:$BW$96,$A255,FALSE)+IF(F$205=$C255,HLOOKUP(F$205,'Hilfsblatt Ber. Wirtsch Wirk 3'!$D$11:$BX$96,87,FALSE),0))/100),0)","v":0},{"$f":"IFERROR((G$206*(HLOOKUP(G$205,'Hilfsblatt Ber. Wirtsch Wirk 3'!$D$11:$BW$96,$A255,FALSE)+IF(G$205=$C255,HLOOKUP(G$205,'Hilfsblatt Ber. Wirtsch Wirk 3'!$D$11:$BX$96,87,FALSE),0))/100),0)","v":0},{"$f":"IFERROR((H$206*(HLOOKUP(H$205,'Hilfsblatt Ber. Wirtsch Wirk 3'!$D$11:$BW$96,$A255,FALSE)+IF(H$205=$C255,HLOOKUP(H$205,'Hilfsblatt Ber. Wirtsch Wirk 3'!$D$11:$BX$96,87,FALSE),0))/100),0)","v":0},{"$f":"IFERROR((I$206*(HLOOKUP(I$205,'Hilfsblatt Ber. Wirtsch Wirk 3'!$D$11:$BW$96,$A255,FALSE)+IF(I$205=$C255,HLOOKUP(I$205,'Hilfsblatt Ber. Wirtsch Wirk 3'!$D$11:$BX$96,87,FALSE),0))/100),0)","v":0},{"$f":"IFERROR((J$206*(HLOOKUP(J$205,'Hilfsblatt Ber. Wirtsch Wirk 3'!$D$11:$BW$96,$A255,FALSE)+IF(J$205=$C255,HLOOKUP(J$205,'Hilfsblatt Ber. Wirtsch Wirk 3'!$D$11:$BX$96,87,FALSE),0))/100),0)","v":0},{"$f":"IFERROR((K$206*(HLOOKUP(K$205,'Hilfsblatt Ber. Wirtsch Wirk 3'!$D$11:$BW$96,$A255,FALSE)+IF(K$205=$C255,HLOOKUP(K$205,'Hilfsblatt Ber. Wirtsch Wirk 3'!$D$11:$BX$96,87,FALSE),0))/100),0)","v":0},{"$f":"IFERROR((L$206*(HLOOKUP(L$205,'Hilfsblatt Ber. Wirtsch Wirk 3'!$D$11:$BW$96,$A255,FALSE)+IF(L$205=$C255,HLOOKUP(L$205,'Hilfsblatt Ber. Wirtsch Wirk 3'!$D$11:$BX$96,87,FALSE),0))/100),0)","v":0},{"$f":"IFERROR((M$206*(HLOOKUP(M$205,'Hilfsblatt Ber. Wirtsch Wirk 3'!$D$11:$BW$96,$A255,FALSE)+IF(M$205=$C255,HLOOKUP(M$205,'Hilfsblatt Ber. Wirtsch Wirk 3'!$D$11:$BX$96,87,FALSE),0))/100),0)","v":0},{"$f":"IFERROR((N$206*(HLOOKUP(N$205,'Hilfsblatt Ber. Wirtsch Wirk 3'!$D$11:$BW$96,$A255,FALSE)+IF(N$205=$C255,HLOOKUP(N$205,'Hilfsblatt Ber. Wirtsch Wirk 3'!$D$11:$BX$96,87,FALSE),0))/100),0)","v":0},{"$f":"IFERROR((O$206*(HLOOKUP(O$205,'Hilfsblatt Ber. Wirtsch Wirk 3'!$D$11:$BW$96,$A255,FALSE)+IF(O$205=$C255,HLOOKUP(O$205,'Hilfsblatt Ber. Wirtsch Wirk 3'!$D$11:$BX$96,87,FALSE),0))/100),0)","v":0},{"$f":"IFERROR((P$206*(HLOOKUP(P$205,'Hilfsblatt Ber. Wirtsch Wirk 3'!$D$11:$BW$96,$A255,FALSE)+IF(P$205=$C255,HLOOKUP(P$205,'Hilfsblatt Ber. Wirtsch Wirk 3'!$D$11:$BX$96,87,FALSE),0))/100),0)","v":0},{"$f":"IFERROR((Q$206*(HLOOKUP(Q$205,'Hilfsblatt Ber. Wirtsch Wirk 3'!$D$11:$BW$96,$A255,FALSE)+IF(Q$205=$C255,HLOOKUP(Q$205,'Hilfsblatt Ber. Wirtsch Wirk 3'!$D$11:$BX$96,87,FALSE),0))/100),0)","v":0},{"$f":"R$206*('Hilfsblatt Ber. Wirtsch Wirk 3'!BX60+'Hilfsblatt Ber. Wirtsch Wirk 3'!BX60*'Hilfsblatt Ber. Wirtsch Wirk 3'!CA60/'Hilfsblatt Ber. Wirtsch Wirk 3'!CB60)/100","v":0},0,{"$f":"S255*'Hilfsblatt Ber. Wirtsch Wirk 3'!BZ60/('Hilfsblatt Ber. Wirtsch Wirk 3'!CA60)","v":0},{"$f":"S255/'Hilfsblatt Ber. Wirtsch Wirk 3'!CC60","v":0},{"$f":"T255*('Hilfsblatt Ber. Wirtsch Wirk 4'!B$14/'Hilfsblatt Ber. Wirtsch Wirk 4'!B$13)","v":0},{"$f":"S255*'Hilfsblatt Ber. Wirtsch Wirk 3'!CD60","v":0}]
[51,{"$f":"B156","v":"61"},"Telekommunikationsdienstleistungen ",{"$f":"IFERROR((D$206*(HLOOKUP(D$205,'Hilfsblatt Ber. Wirtsch Wirk 3'!$D$11:$BW$96,$A256,FALSE)+IF(D$205=$C256,HLOOKUP(D$205,'Hilfsblatt Ber. Wirtsch Wirk 3'!$D$11:$BX$96,87,FALSE),0))/100),0)","v":0},{"$f":"IFERROR((E$206*(HLOOKUP(E$205,'Hilfsblatt Ber. Wirtsch Wirk 3'!$D$11:$BW$96,$A256,FALSE)+IF(E$205=$C256,HLOOKUP(E$205,'Hilfsblatt Ber. Wirtsch Wirk 3'!$D$11:$BX$96,87,FALSE),0))/100),0)","v":0},{"$f":"IFERROR((F$206*(HLOOKUP(F$205,'Hilfsblatt Ber. Wirtsch Wirk 3'!$D$11:$BW$96,$A256,FALSE)+IF(F$205=$C256,HLOOKUP(F$205,'Hilfsblatt Ber. Wirtsch Wirk 3'!$D$11:$BX$96,87,FALSE),0))/100),0)","v":0},{"$f":"IFERROR((G$206*(HLOOKUP(G$205,'Hilfsblatt Ber. Wirtsch Wirk 3'!$D$11:$BW$96,$A256,FALSE)+IF(G$205=$C256,HLOOKUP(G$205,'Hilfsblatt Ber. Wirtsch Wirk 3'!$D$11:$BX$96,87,FALSE),0))/100),0)","v":0},{"$f":"IFERROR((H$206*(HLOOKUP(H$205,'Hilfsblatt Ber. Wirtsch Wirk 3'!$D$11:$BW$96,$A256,FALSE)+IF(H$205=$C256,HLOOKUP(H$205,'Hilfsblatt Ber. Wirtsch Wirk 3'!$D$11:$BX$96,87,FALSE),0))/100),0)","v":0},{"$f":"IFERROR((I$206*(HLOOKUP(I$205,'Hilfsblatt Ber. Wirtsch Wirk 3'!$D$11:$BW$96,$A256,FALSE)+IF(I$205=$C256,HLOOKUP(I$205,'Hilfsblatt Ber. Wirtsch Wirk 3'!$D$11:$BX$96,87,FALSE),0))/100),0)","v":0},{"$f":"IFERROR((J$206*(HLOOKUP(J$205,'Hilfsblatt Ber. Wirtsch Wirk 3'!$D$11:$BW$96,$A256,FALSE)+IF(J$205=$C256,HLOOKUP(J$205,'Hilfsblatt Ber. Wirtsch Wirk 3'!$D$11:$BX$96,87,FALSE),0))/100),0)","v":0},{"$f":"IFERROR((K$206*(HLOOKUP(K$205,'Hilfsblatt Ber. Wirtsch Wirk 3'!$D$11:$BW$96,$A256,FALSE)+IF(K$205=$C256,HLOOKUP(K$205,'Hilfsblatt Ber. Wirtsch Wirk 3'!$D$11:$BX$96,87,FALSE),0))/100),0)","v":0},{"$f":"IFERROR((L$206*(HLOOKUP(L$205,'Hilfsblatt Ber. Wirtsch Wirk 3'!$D$11:$BW$96,$A256,FALSE)+IF(L$205=$C256,HLOOKUP(L$205,'Hilfsblatt Ber. Wirtsch Wirk 3'!$D$11:$BX$96,87,FALSE),0))/100),0)","v":0},{"$f":"IFERROR((M$206*(HLOOKUP(M$205,'Hilfsblatt Ber. Wirtsch Wirk 3'!$D$11:$BW$96,$A256,FALSE)+IF(M$205=$C256,HLOOKUP(M$205,'Hilfsblatt Ber. Wirtsch Wirk 3'!$D$11:$BX$96,87,FALSE),0))/100),0)","v":0},{"$f":"IFERROR((N$206*(HLOOKUP(N$205,'Hilfsblatt Ber. Wirtsch Wirk 3'!$D$11:$BW$96,$A256,FALSE)+IF(N$205=$C256,HLOOKUP(N$205,'Hilfsblatt Ber. Wirtsch Wirk 3'!$D$11:$BX$96,87,FALSE),0))/100),0)","v":0},{"$f":"IFERROR((O$206*(HLOOKUP(O$205,'Hilfsblatt Ber. Wirtsch Wirk 3'!$D$11:$BW$96,$A256,FALSE)+IF(O$205=$C256,HLOOKUP(O$205,'Hilfsblatt Ber. Wirtsch Wirk 3'!$D$11:$BX$96,87,FALSE),0))/100),0)","v":0},{"$f":"IFERROR((P$206*(HLOOKUP(P$205,'Hilfsblatt Ber. Wirtsch Wirk 3'!$D$11:$BW$96,$A256,FALSE)+IF(P$205=$C256,HLOOKUP(P$205,'Hilfsblatt Ber. Wirtsch Wirk 3'!$D$11:$BX$96,87,FALSE),0))/100),0)","v":0},{"$f":"IFERROR((Q$206*(HLOOKUP(Q$205,'Hilfsblatt Ber. Wirtsch Wirk 3'!$D$11:$BW$96,$A256,FALSE)+IF(Q$205=$C256,HLOOKUP(Q$205,'Hilfsblatt Ber. Wirtsch Wirk 3'!$D$11:$BX$96,87,FALSE),0))/100),0)","v":0},{"$f":"R$206*('Hilfsblatt Ber. Wirtsch Wirk 3'!BX61+'Hilfsblatt Ber. Wirtsch Wirk 3'!BX61*'Hilfsblatt Ber. Wirtsch Wirk 3'!CA61/'Hilfsblatt Ber. Wirtsch Wirk 3'!CB61)/100","v":0},0,{"$f":"S256*'Hilfsblatt Ber. Wirtsch Wirk 3'!BZ61/('Hilfsblatt Ber. Wirtsch Wirk 3'!CA61)","v":0},{"$f":"S256/'Hilfsblatt Ber. Wirtsch Wirk 3'!CC61","v":0},{"$f":"T256*('Hilfsblatt Ber. Wirtsch Wirk 4'!B$14/'Hilfsblatt Ber. Wirtsch Wirk 4'!B$13)","v":0},{"$f":"S256*'Hilfsblatt Ber. Wirtsch Wirk 3'!CD61","v":0}]
[52,{"$f":"B157","v":"62-63"},"IT- und Informationsdienstleistungen",{"$f":"IFERROR((D$206*(HLOOKUP(D$205,'Hilfsblatt Ber. Wirtsch Wirk 3'!$D$11:$BW$96,$A257,FALSE)+IF(D$205=$C257,HLOOKUP(D$205,'Hilfsblatt Ber. Wirtsch Wirk 3'!$D$11:$BX$96,87,FALSE),0))/100),0)","v":0},{"$f":"IFERROR((E$206*(HLOOKUP(E$205,'Hilfsblatt Ber. Wirtsch Wirk 3'!$D$11:$BW$96,$A257,FALSE)+IF(E$205=$C257,HLOOKUP(E$205,'Hilfsblatt Ber. Wirtsch Wirk 3'!$D$11:$BX$96,87,FALSE),0))/100),0)","v":0},{"$f":"IFERROR((F$206*(HLOOKUP(F$205,'Hilfsblatt Ber. Wirtsch Wirk 3'!$D$11:$BW$96,$A257,FALSE)+IF(F$205=$C257,HLOOKUP(F$205,'Hilfsblatt Ber. Wirtsch Wirk 3'!$D$11:$BX$96,87,FALSE),0))/100),0)","v":0},{"$f":"IFERROR((G$206*(HLOOKUP(G$205,'Hilfsblatt Ber. Wirtsch Wirk 3'!$D$11:$BW$96,$A257,FALSE)+IF(G$205=$C257,HLOOKUP(G$205,'Hilfsblatt Ber. Wirtsch Wirk 3'!$D$11:$BX$96,87,FALSE),0))/100),0)","v":0},{"$f":"IFERROR((H$206*(HLOOKUP(H$205,'Hilfsblatt Ber. Wirtsch Wirk 3'!$D$11:$BW$96,$A257,FALSE)+IF(H$205=$C257,HLOOKUP(H$205,'Hilfsblatt Ber. Wirtsch Wirk 3'!$D$11:$BX$96,87,FALSE),0))/100),0)","v":0},{"$f":"IFERROR((I$206*(HLOOKUP(I$205,'Hilfsblatt Ber. Wirtsch Wirk 3'!$D$11:$BW$96,$A257,FALSE)+IF(I$205=$C257,HLOOKUP(I$205,'Hilfsblatt Ber. Wirtsch Wirk 3'!$D$11:$BX$96,87,FALSE),0))/100),0)","v":0},{"$f":"IFERROR((J$206*(HLOOKUP(J$205,'Hilfsblatt Ber. Wirtsch Wirk 3'!$D$11:$BW$96,$A257,FALSE)+IF(J$205=$C257,HLOOKUP(J$205,'Hilfsblatt Ber. Wirtsch Wirk 3'!$D$11:$BX$96,87,FALSE),0))/100),0)","v":0},{"$f":"IFERROR((K$206*(HLOOKUP(K$205,'Hilfsblatt Ber. Wirtsch Wirk 3'!$D$11:$BW$96,$A257,FALSE)+IF(K$205=$C257,HLOOKUP(K$205,'Hilfsblatt Ber. Wirtsch Wirk 3'!$D$11:$BX$96,87,FALSE),0))/100),0)","v":0},{"$f":"IFERROR((L$206*(HLOOKUP(L$205,'Hilfsblatt Ber. Wirtsch Wirk 3'!$D$11:$BW$96,$A257,FALSE)+IF(L$205=$C257,HLOOKUP(L$205,'Hilfsblatt Ber. Wirtsch Wirk 3'!$D$11:$BX$96,87,FALSE),0))/100),0)","v":0},{"$f":"IFERROR((M$206*(HLOOKUP(M$205,'Hilfsblatt Ber. Wirtsch Wirk 3'!$D$11:$BW$96,$A257,FALSE)+IF(M$205=$C257,HLOOKUP(M$205,'Hilfsblatt Ber. Wirtsch Wirk 3'!$D$11:$BX$96,87,FALSE),0))/100),0)","v":0},{"$f":"IFERROR((N$206*(HLOOKUP(N$205,'Hilfsblatt Ber. Wirtsch Wirk 3'!$D$11:$BW$96,$A257,FALSE)+IF(N$205=$C257,HLOOKUP(N$205,'Hilfsblatt Ber. Wirtsch Wirk 3'!$D$11:$BX$96,87,FALSE),0))/100),0)","v":0},{"$f":"IFERROR((O$206*(HLOOKUP(O$205,'Hilfsblatt Ber. Wirtsch Wirk 3'!$D$11:$BW$96,$A257,FALSE)+IF(O$205=$C257,HLOOKUP(O$205,'Hilfsblatt Ber. Wirtsch Wirk 3'!$D$11:$BX$96,87,FALSE),0))/100),0)","v":0},{"$f":"IFERROR((P$206*(HLOOKUP(P$205,'Hilfsblatt Ber. Wirtsch Wirk 3'!$D$11:$BW$96,$A257,FALSE)+IF(P$205=$C257,HLOOKUP(P$205,'Hilfsblatt Ber. Wirtsch Wirk 3'!$D$11:$BX$96,87,FALSE),0))/100),0)","v":0},{"$f":"IFERROR((Q$206*(HLOOKUP(Q$205,'Hilfsblatt Ber. Wirtsch Wirk 3'!$D$11:$BW$96,$A257,FALSE)+IF(Q$205=$C257,HLOOKUP(Q$205,'Hilfsblatt Ber. Wirtsch Wirk 3'!$D$11:$BX$96,87,FALSE),0))/100),0)","v":0},{"$f":"R$206*('Hilfsblatt Ber. Wirtsch Wirk 3'!BX62+'Hilfsblatt Ber. Wirtsch Wirk 3'!BX62*'Hilfsblatt Ber. Wirtsch Wirk 3'!CA62/'Hilfsblatt Ber. Wirtsch Wirk 3'!CB62)/100","v":0},0,{"$f":"S257*'Hilfsblatt Ber. Wirtsch Wirk 3'!BZ62/('Hilfsblatt Ber. Wirtsch Wirk 3'!CA62)","v":0},{"$f":"S257/'Hilfsblatt Ber. Wirtsch Wirk 3'!CC62","v":0},{"$f":"T257*('Hilfsblatt Ber. Wirtsch Wirk 4'!B$14/'Hilfsblatt Ber. Wirtsch Wirk 4'!B$13)","v":0},{"$f":"S257*'Hilfsblatt Ber. Wirtsch Wirk 3'!CD62","v":0}]
[53,{"$f":"B158","v":"64"},"Finanzdienstleistungen",{"$f":"IFERROR((D$206*(HLOOKUP(D$205,'Hilfsblatt Ber. Wirtsch Wirk 3'!$D$11:$BW$96,$A258,FALSE)+IF(D$205=$C258,HLOOKUP(D$205,'Hilfsblatt Ber. Wirtsch Wirk 3'!$D$11:$BX$96,87,FALSE),0))/100),0)","v":0},{"$f":"IFERROR((E$206*(HLOOKUP(E$205,'Hilfsblatt Ber. Wirtsch Wirk 3'!$D$11:$BW$96,$A258,FALSE)+IF(E$205=$C258,HLOOKUP(E$205,'Hilfsblatt Ber. Wirtsch Wirk 3'!$D$11:$BX$96,87,FALSE),0))/100),0)","v":0},{"$f":"IFERROR((F$206*(HLOOKUP(F$205,'Hilfsblatt Ber. Wirtsch Wirk 3'!$D$11:$BW$96,$A258,FALSE)+IF(F$205=$C258,HLOOKUP(F$205,'Hilfsblatt Ber. Wirtsch Wirk 3'!$D$11:$BX$96,87,FALSE),0))/100),0)","v":0},{"$f":"IFERROR((G$206*(HLOOKUP(G$205,'Hilfsblatt Ber. Wirtsch Wirk 3'!$D$11:$BW$96,$A258,FALSE)+IF(G$205=$C258,HLOOKUP(G$205,'Hilfsblatt Ber. Wirtsch Wirk 3'!$D$11:$BX$96,87,FALSE),0))/100),0)","v":0},{"$f":"IFERROR((H$206*(HLOOKUP(H$205,'Hilfsblatt Ber. Wirtsch Wirk 3'!$D$11:$BW$96,$A258,FALSE)+IF(H$205=$C258,HLOOKUP(H$205,'Hilfsblatt Ber. Wirtsch Wirk 3'!$D$11:$BX$96,87,FALSE),0))/100),0)","v":0},{"$f":"IFERROR((I$206*(HLOOKUP(I$205,'Hilfsblatt Ber. Wirtsch Wirk 3'!$D$11:$BW$96,$A258,FALSE)+IF(I$205=$C258,HLOOKUP(I$205,'Hilfsblatt Ber. Wirtsch Wirk 3'!$D$11:$BX$96,87,FALSE),0))/100),0)","v":0},{"$f":"IFERROR((J$206*(HLOOKUP(J$205,'Hilfsblatt Ber. Wirtsch Wirk 3'!$D$11:$BW$96,$A258,FALSE)+IF(J$205=$C258,HLOOKUP(J$205,'Hilfsblatt Ber. Wirtsch Wirk 3'!$D$11:$BX$96,87,FALSE),0))/100),0)","v":0},{"$f":"IFERROR((K$206*(HLOOKUP(K$205,'Hilfsblatt Ber. Wirtsch Wirk 3'!$D$11:$BW$96,$A258,FALSE)+IF(K$205=$C258,HLOOKUP(K$205,'Hilfsblatt Ber. Wirtsch Wirk 3'!$D$11:$BX$96,87,FALSE),0))/100),0)","v":0},{"$f":"IFERROR((L$206*(HLOOKUP(L$205,'Hilfsblatt Ber. Wirtsch Wirk 3'!$D$11:$BW$96,$A258,FALSE)+IF(L$205=$C258,HLOOKUP(L$205,'Hilfsblatt Ber. Wirtsch Wirk 3'!$D$11:$BX$96,87,FALSE),0))/100),0)","v":0},{"$f":"IFERROR((M$206*(HLOOKUP(M$205,'Hilfsblatt Ber. Wirtsch Wirk 3'!$D$11:$BW$96,$A258,FALSE)+IF(M$205=$C258,HLOOKUP(M$205,'Hilfsblatt Ber. Wirtsch Wirk 3'!$D$11:$BX$96,87,FALSE),0))/100),0)","v":0},{"$f":"IFERROR((N$206*(HLOOKUP(N$205,'Hilfsblatt Ber. Wirtsch Wirk 3'!$D$11:$BW$96,$A258,FALSE)+IF(N$205=$C258,HLOOKUP(N$205,'Hilfsblatt Ber. Wirtsch Wirk 3'!$D$11:$BX$96,87,FALSE),0))/100),0)","v":0},{"$f":"IFERROR((O$206*(HLOOKUP(O$205,'Hilfsblatt Ber. Wirtsch Wirk 3'!$D$11:$BW$96,$A258,FALSE)+IF(O$205=$C258,HLOOKUP(O$205,'Hilfsblatt Ber. Wirtsch Wirk 3'!$D$11:$BX$96,87,FALSE),0))/100),0)","v":0},{"$f":"IFERROR((P$206*(HLOOKUP(P$205,'Hilfsblatt Ber. Wirtsch Wirk 3'!$D$11:$BW$96,$A258,FALSE)+IF(P$205=$C258,HLOOKUP(P$205,'Hilfsblatt Ber. Wirtsch Wirk 3'!$D$11:$BX$96,87,FALSE),0))/100),0)","v":0},{"$f":"IFERROR((Q$206*(HLOOKUP(Q$205,'Hilfsblatt Ber. Wirtsch Wirk 3'!$D$11:$BW$96,$A258,FALSE)+IF(Q$205=$C258,HLOOKUP(Q$205,'Hilfsblatt Ber. Wirtsch Wirk 3'!$D$11:$BX$96,87,FALSE),0))/100),0)","v":0},{"$f":"R$206*('Hilfsblatt Ber. Wirtsch Wirk 3'!BX63+'Hilfsblatt Ber. Wirtsch Wirk 3'!BX63*'Hilfsblatt Ber. Wirtsch Wirk 3'!CA63/'Hilfsblatt Ber. Wirtsch Wirk 3'!CB63)/100","v":0},0,{"$f":"S258*'Hilfsblatt Ber. Wirtsch Wirk 3'!BZ63/('Hilfsblatt Ber. Wirtsch Wirk 3'!CA63)","v":0},{"$f":"S258/'Hilfsblatt Ber. Wirtsch Wirk 3'!CC63","v":0},{"$f":"T258*('Hilfsblatt Ber. Wirtsch Wirk 4'!B$14/'Hilfsblatt Ber. Wirtsch Wirk 4'!B$13)","v":0},{"$f":"S258*'Hilfsblatt Ber. Wirtsch Wirk 3'!CD63","v":0}]
[54,{"$f":"B159","v":"65"},"Dienstleistungen von Versicherungen und Pensionskassen",{"$f":"IFERROR((D$206*(HLOOKUP(D$205,'Hilfsblatt Ber. Wirtsch Wirk 3'!$D$11:$BW$96,$A259,FALSE)+IF(D$205=$C259,HLOOKUP(D$205,'Hilfsblatt Ber. Wirtsch Wirk 3'!$D$11:$BX$96,87,FALSE),0))/100),0)","v":0},{"$f":"IFERROR((E$206*(HLOOKUP(E$205,'Hilfsblatt Ber. Wirtsch Wirk 3'!$D$11:$BW$96,$A259,FALSE)+IF(E$205=$C259,HLOOKUP(E$205,'Hilfsblatt Ber. Wirtsch Wirk 3'!$D$11:$BX$96,87,FALSE),0))/100),0)","v":0},{"$f":"IFERROR((F$206*(HLOOKUP(F$205,'Hilfsblatt Ber. Wirtsch Wirk 3'!$D$11:$BW$96,$A259,FALSE)+IF(F$205=$C259,HLOOKUP(F$205,'Hilfsblatt Ber. Wirtsch Wirk 3'!$D$11:$BX$96,87,FALSE),0))/100),0)","v":0},{"$f":"IFERROR((G$206*(HLOOKUP(G$205,'Hilfsblatt Ber. Wirtsch Wirk 3'!$D$11:$BW$96,$A259,FALSE)+IF(G$205=$C259,HLOOKUP(G$205,'Hilfsblatt Ber. Wirtsch Wirk 3'!$D$11:$BX$96,87,FALSE),0))/100),0)","v":0},{"$f":"IFERROR((H$206*(HLOOKUP(H$205,'Hilfsblatt Ber. Wirtsch Wirk 3'!$D$11:$BW$96,$A259,FALSE)+IF(H$205=$C259,HLOOKUP(H$205,'Hilfsblatt Ber. Wirtsch Wirk 3'!$D$11:$BX$96,87,FALSE),0))/100),0)","v":0},{"$f":"IFERROR((I$206*(HLOOKUP(I$205,'Hilfsblatt Ber. Wirtsch Wirk 3'!$D$11:$BW$96,$A259,FALSE)+IF(I$205=$C259,HLOOKUP(I$205,'Hilfsblatt Ber. Wirtsch Wirk 3'!$D$11:$BX$96,87,FALSE),0))/100),0)","v":0},{"$f":"IFERROR((J$206*(HLOOKUP(J$205,'Hilfsblatt Ber. Wirtsch Wirk 3'!$D$11:$BW$96,$A259,FALSE)+IF(J$205=$C259,HLOOKUP(J$205,'Hilfsblatt Ber. Wirtsch Wirk 3'!$D$11:$BX$96,87,FALSE),0))/100),0)","v":0},{"$f":"IFERROR((K$206*(HLOOKUP(K$205,'Hilfsblatt Ber. Wirtsch Wirk 3'!$D$11:$BW$96,$A259,FALSE)+IF(K$205=$C259,HLOOKUP(K$205,'Hilfsblatt Ber. Wirtsch Wirk 3'!$D$11:$BX$96,87,FALSE),0))/100),0)","v":0},{"$f":"IFERROR((L$206*(HLOOKUP(L$205,'Hilfsblatt Ber. Wirtsch Wirk 3'!$D$11:$BW$96,$A259,FALSE)+IF(L$205=$C259,HLOOKUP(L$205,'Hilfsblatt Ber. Wirtsch Wirk 3'!$D$11:$BX$96,87,FALSE),0))/100),0)","v":0},{"$f":"IFERROR((M$206*(HLOOKUP(M$205,'Hilfsblatt Ber. Wirtsch Wirk 3'!$D$11:$BW$96,$A259,FALSE)+IF(M$205=$C259,HLOOKUP(M$205,'Hilfsblatt Ber. Wirtsch Wirk 3'!$D$11:$BX$96,87,FALSE),0))/100),0)","v":0},{"$f":"IFERROR((N$206*(HLOOKUP(N$205,'Hilfsblatt Ber. Wirtsch Wirk 3'!$D$11:$BW$96,$A259,FALSE)+IF(N$205=$C259,HLOOKUP(N$205,'Hilfsblatt Ber. Wirtsch Wirk 3'!$D$11:$BX$96,87,FALSE),0))/100),0)","v":0},{"$f":"IFERROR((O$206*(HLOOKUP(O$205,'Hilfsblatt Ber. Wirtsch Wirk 3'!$D$11:$BW$96,$A259,FALSE)+IF(O$205=$C259,HLOOKUP(O$205,'Hilfsblatt Ber. Wirtsch Wirk 3'!$D$11:$BX$96,87,FALSE),0))/100),0)","v":0},{"$f":"IFERROR((P$206*(HLOOKUP(P$205,'Hilfsblatt Ber. Wirtsch Wirk 3'!$D$11:$BW$96,$A259,FALSE)+IF(P$205=$C259,HLOOKUP(P$205,'Hilfsblatt Ber. Wirtsch Wirk 3'!$D$11:$BX$96,87,FALSE),0))/100),0)","v":0},{"$f":"IFERROR((Q$206*(HLOOKUP(Q$205,'Hilfsblatt Ber. Wirtsch Wirk 3'!$D$11:$BW$96,$A259,FALSE)+IF(Q$205=$C259,HLOOKUP(Q$205,'Hilfsblatt Ber. Wirtsch Wirk 3'!$D$11:$BX$96,87,FALSE),0))/100),0)","v":0},{"$f":"R$206*('Hilfsblatt Ber. Wirtsch Wirk 3'!BX64+'Hilfsblatt Ber. Wirtsch Wirk 3'!BX64*'Hilfsblatt Ber. Wirtsch Wirk 3'!CA64/'Hilfsblatt Ber. Wirtsch Wirk 3'!CB64)/100","v":0},0,{"$f":"S259*'Hilfsblatt Ber. Wirtsch Wirk 3'!BZ64/('Hilfsblatt Ber. Wirtsch Wirk 3'!CA64)","v":0},{"$f":"S259/'Hilfsblatt Ber. Wirtsch Wirk 3'!CC64","v":0},{"$f":"T259*('Hilfsblatt Ber. Wirtsch Wirk 4'!B$14/'Hilfsblatt Ber. Wirtsch Wirk 4'!B$13)","v":0},{"$f":"S259*'Hilfsblatt Ber. Wirtsch Wirk 3'!CD64","v":0}]
[55,{"$f":"B160","v":"66"},"Mit Finanz- und Versicherungsdienstleistg. verbundene Dienstleistg.",{"$f":"IFERROR((D$206*(HLOOKUP(D$205,'Hilfsblatt Ber. Wirtsch Wirk 3'!$D$11:$BW$96,$A260,FALSE)+IF(D$205=$C260,HLOOKUP(D$205,'Hilfsblatt Ber. Wirtsch Wirk 3'!$D$11:$BX$96,87,FALSE),0))/100),0)","v":0},{"$f":"IFERROR((E$206*(HLOOKUP(E$205,'Hilfsblatt Ber. Wirtsch Wirk 3'!$D$11:$BW$96,$A260,FALSE)+IF(E$205=$C260,HLOOKUP(E$205,'Hilfsblatt Ber. Wirtsch Wirk 3'!$D$11:$BX$96,87,FALSE),0))/100),0)","v":0},{"$f":"IFERROR((F$206*(HLOOKUP(F$205,'Hilfsblatt Ber. Wirtsch Wirk 3'!$D$11:$BW$96,$A260,FALSE)+IF(F$205=$C260,HLOOKUP(F$205,'Hilfsblatt Ber. Wirtsch Wirk 3'!$D$11:$BX$96,87,FALSE),0))/100),0)","v":0},{"$f":"IFERROR((G$206*(HLOOKUP(G$205,'Hilfsblatt Ber. Wirtsch Wirk 3'!$D$11:$BW$96,$A260,FALSE)+IF(G$205=$C260,HLOOKUP(G$205,'Hilfsblatt Ber. Wirtsch Wirk 3'!$D$11:$BX$96,87,FALSE),0))/100),0)","v":0},{"$f":"IFERROR((H$206*(HLOOKUP(H$205,'Hilfsblatt Ber. Wirtsch Wirk 3'!$D$11:$BW$96,$A260,FALSE)+IF(H$205=$C260,HLOOKUP(H$205,'Hilfsblatt Ber. Wirtsch Wirk 3'!$D$11:$BX$96,87,FALSE),0))/100),0)","v":0},{"$f":"IFERROR((I$206*(HLOOKUP(I$205,'Hilfsblatt Ber. Wirtsch Wirk 3'!$D$11:$BW$96,$A260,FALSE)+IF(I$205=$C260,HLOOKUP(I$205,'Hilfsblatt Ber. Wirtsch Wirk 3'!$D$11:$BX$96,87,FALSE),0))/100),0)","v":0},{"$f":"IFERROR((J$206*(HLOOKUP(J$205,'Hilfsblatt Ber. Wirtsch Wirk 3'!$D$11:$BW$96,$A260,FALSE)+IF(J$205=$C260,HLOOKUP(J$205,'Hilfsblatt Ber. Wirtsch Wirk 3'!$D$11:$BX$96,87,FALSE),0))/100),0)","v":0},{"$f":"IFERROR((K$206*(HLOOKUP(K$205,'Hilfsblatt Ber. Wirtsch Wirk 3'!$D$11:$BW$96,$A260,FALSE)+IF(K$205=$C260,HLOOKUP(K$205,'Hilfsblatt Ber. Wirtsch Wirk 3'!$D$11:$BX$96,87,FALSE),0))/100),0)","v":0},{"$f":"IFERROR((L$206*(HLOOKUP(L$205,'Hilfsblatt Ber. Wirtsch Wirk 3'!$D$11:$BW$96,$A260,FALSE)+IF(L$205=$C260,HLOOKUP(L$205,'Hilfsblatt Ber. Wirtsch Wirk 3'!$D$11:$BX$96,87,FALSE),0))/100),0)","v":0},{"$f":"IFERROR((M$206*(HLOOKUP(M$205,'Hilfsblatt Ber. Wirtsch Wirk 3'!$D$11:$BW$96,$A260,FALSE)+IF(M$205=$C260,HLOOKUP(M$205,'Hilfsblatt Ber. Wirtsch Wirk 3'!$D$11:$BX$96,87,FALSE),0))/100),0)","v":0},{"$f":"IFERROR((N$206*(HLOOKUP(N$205,'Hilfsblatt Ber. Wirtsch Wirk 3'!$D$11:$BW$96,$A260,FALSE)+IF(N$205=$C260,HLOOKUP(N$205,'Hilfsblatt Ber. Wirtsch Wirk 3'!$D$11:$BX$96,87,FALSE),0))/100),0)","v":0},{"$f":"IFERROR((O$206*(HLOOKUP(O$205,'Hilfsblatt Ber. Wirtsch Wirk 3'!$D$11:$BW$96,$A260,FALSE)+IF(O$205=$C260,HLOOKUP(O$205,'Hilfsblatt Ber. Wirtsch Wirk 3'!$D$11:$BX$96,87,FALSE),0))/100),0)","v":0},{"$f":"IFERROR((P$206*(HLOOKUP(P$205,'Hilfsblatt Ber. Wirtsch Wirk 3'!$D$11:$BW$96,$A260,FALSE)+IF(P$205=$C260,HLOOKUP(P$205,'Hilfsblatt Ber. Wirtsch Wirk 3'!$D$11:$BX$96,87,FALSE),0))/100),0)","v":0},{"$f":"IFERROR((Q$206*(HLOOKUP(Q$205,'Hilfsblatt Ber. Wirtsch Wirk 3'!$D$11:$BW$96,$A260,FALSE)+IF(Q$205=$C260,HLOOKUP(Q$205,'Hilfsblatt Ber. Wirtsch Wirk 3'!$D$11:$BX$96,87,FALSE),0))/100),0)","v":0},{"$f":"R$206*('Hilfsblatt Ber. Wirtsch Wirk 3'!BX65+'Hilfsblatt Ber. Wirtsch Wirk 3'!BX65*'Hilfsblatt Ber. Wirtsch Wirk 3'!CA65/'Hilfsblatt Ber. Wirtsch Wirk 3'!CB65)/100","v":0},0,{"$f":"S260*'Hilfsblatt Ber. Wirtsch Wirk 3'!BZ65/('Hilfsblatt Ber. Wirtsch Wirk 3'!CA65)","v":0},{"$f":"S260/'Hilfsblatt Ber. Wirtsch Wirk 3'!CC65","v":0},{"$f":"T260*('Hilfsblatt Ber. Wirtsch Wirk 4'!B$14/'Hilfsblatt Ber. Wirtsch Wirk 4'!B$13)","v":0},{"$f":"S260*'Hilfsblatt Ber. Wirtsch Wirk 3'!CD65","v":0}]
[56,{"$f":"B161","v":"68"},"Dienstleistungen des Grundstücks- und Wohnungswesens ",{"$f":"IFERROR((D$206*(HLOOKUP(D$205,'Hilfsblatt Ber. Wirtsch Wirk 3'!$D$11:$BW$96,$A261,FALSE)+IF(D$205=$C261,HLOOKUP(D$205,'Hilfsblatt Ber. Wirtsch Wirk 3'!$D$11:$BX$96,87,FALSE),0))/100),0)","v":0},{"$f":"IFERROR((E$206*(HLOOKUP(E$205,'Hilfsblatt Ber. Wirtsch Wirk 3'!$D$11:$BW$96,$A261,FALSE)+IF(E$205=$C261,HLOOKUP(E$205,'Hilfsblatt Ber. Wirtsch Wirk 3'!$D$11:$BX$96,87,FALSE),0))/100),0)","v":0},{"$f":"IFERROR((F$206*(HLOOKUP(F$205,'Hilfsblatt Ber. Wirtsch Wirk 3'!$D$11:$BW$96,$A261,FALSE)+IF(F$205=$C261,HLOOKUP(F$205,'Hilfsblatt Ber. Wirtsch Wirk 3'!$D$11:$BX$96,87,FALSE),0))/100),0)","v":0},{"$f":"IFERROR((G$206*(HLOOKUP(G$205,'Hilfsblatt Ber. Wirtsch Wirk 3'!$D$11:$BW$96,$A261,FALSE)+IF(G$205=$C261,HLOOKUP(G$205,'Hilfsblatt Ber. Wirtsch Wirk 3'!$D$11:$BX$96,87,FALSE),0))/100),0)","v":0},{"$f":"IFERROR((H$206*(HLOOKUP(H$205,'Hilfsblatt Ber. Wirtsch Wirk 3'!$D$11:$BW$96,$A261,FALSE)+IF(H$205=$C261,HLOOKUP(H$205,'Hilfsblatt Ber. Wirtsch Wirk 3'!$D$11:$BX$96,87,FALSE),0))/100),0)","v":0},{"$f":"IFERROR((I$206*(HLOOKUP(I$205,'Hilfsblatt Ber. Wirtsch Wirk 3'!$D$11:$BW$96,$A261,FALSE)+IF(I$205=$C261,HLOOKUP(I$205,'Hilfsblatt Ber. Wirtsch Wirk 3'!$D$11:$BX$96,87,FALSE),0))/100),0)","v":0},{"$f":"IFERROR((J$206*(HLOOKUP(J$205,'Hilfsblatt Ber. Wirtsch Wirk 3'!$D$11:$BW$96,$A261,FALSE)+IF(J$205=$C261,HLOOKUP(J$205,'Hilfsblatt Ber. Wirtsch Wirk 3'!$D$11:$BX$96,87,FALSE),0))/100),0)","v":0},{"$f":"IFERROR((K$206*(HLOOKUP(K$205,'Hilfsblatt Ber. Wirtsch Wirk 3'!$D$11:$BW$96,$A261,FALSE)+IF(K$205=$C261,HLOOKUP(K$205,'Hilfsblatt Ber. Wirtsch Wirk 3'!$D$11:$BX$96,87,FALSE),0))/100),0)","v":0},{"$f":"IFERROR((L$206*(HLOOKUP(L$205,'Hilfsblatt Ber. Wirtsch Wirk 3'!$D$11:$BW$96,$A261,FALSE)+IF(L$205=$C261,HLOOKUP(L$205,'Hilfsblatt Ber. Wirtsch Wirk 3'!$D$11:$BX$96,87,FALSE),0))/100),0)","v":0},{"$f":"IFERROR((M$206*(HLOOKUP(M$205,'Hilfsblatt Ber. Wirtsch Wirk 3'!$D$11:$BW$96,$A261,FALSE)+IF(M$205=$C261,HLOOKUP(M$205,'Hilfsblatt Ber. Wirtsch Wirk 3'!$D$11:$BX$96,87,FALSE),0))/100),0)","v":0},{"$f":"IFERROR((N$206*(HLOOKUP(N$205,'Hilfsblatt Ber. Wirtsch Wirk 3'!$D$11:$BW$96,$A261,FALSE)+IF(N$205=$C261,HLOOKUP(N$205,'Hilfsblatt Ber. Wirtsch Wirk 3'!$D$11:$BX$96,87,FALSE),0))/100),0)","v":0},{"$f":"IFERROR((O$206*(HLOOKUP(O$205,'Hilfsblatt Ber. Wirtsch Wirk 3'!$D$11:$BW$96,$A261,FALSE)+IF(O$205=$C261,HLOOKUP(O$205,'Hilfsblatt Ber. Wirtsch Wirk 3'!$D$11:$BX$96,87,FALSE),0))/100),0)","v":0},{"$f":"IFERROR((P$206*(HLOOKUP(P$205,'Hilfsblatt Ber. Wirtsch Wirk 3'!$D$11:$BW$96,$A261,FALSE)+IF(P$205=$C261,HLOOKUP(P$205,'Hilfsblatt Ber. Wirtsch Wirk 3'!$D$11:$BX$96,87,FALSE),0))/100),0)","v":0},{"$f":"IFERROR((Q$206*(HLOOKUP(Q$205,'Hilfsblatt Ber. Wirtsch Wirk 3'!$D$11:$BW$96,$A261,FALSE)+IF(Q$205=$C261,HLOOKUP(Q$205,'Hilfsblatt Ber. Wirtsch Wirk 3'!$D$11:$BX$96,87,FALSE),0))/100),0)","v":0},{"$f":"R$206*('Hilfsblatt Ber. Wirtsch Wirk 3'!BX66+'Hilfsblatt Ber. Wirtsch Wirk 3'!BX66*'Hilfsblatt Ber. Wirtsch Wirk 3'!CA66/'Hilfsblatt Ber. Wirtsch Wirk 3'!CB66)/100","v":0},0,{"$f":"S261*'Hilfsblatt Ber. Wirtsch Wirk 3'!BZ66/('Hilfsblatt Ber. Wirtsch Wirk 3'!CA66)","v":0},{"$f":"S261/'Hilfsblatt Ber. Wirtsch Wirk 3'!CC66","v":0},{"$f":"T261*('Hilfsblatt Ber. Wirtsch Wirk 4'!B$14/'Hilfsblatt Ber. Wirtsch Wirk 4'!B$13)","v":0},{"$f":"S261*'Hilfsblatt Ber. Wirtsch Wirk 3'!CD66","v":0}]
[57,{"$f":"B162","v":"69-70"},"Dienstleistungen der Rechts-, Steuer- und Unternehmensberatung",{"$f":"IFERROR((D$206*(HLOOKUP(D$205,'Hilfsblatt Ber. Wirtsch Wirk 3'!$D$11:$BW$96,$A262,FALSE)+IF(D$205=$C262,HLOOKUP(D$205,'Hilfsblatt Ber. Wirtsch Wirk 3'!$D$11:$BX$96,87,FALSE),0))/100),0)","v":0},{"$f":"IFERROR((E$206*(HLOOKUP(E$205,'Hilfsblatt Ber. Wirtsch Wirk 3'!$D$11:$BW$96,$A262,FALSE)+IF(E$205=$C262,HLOOKUP(E$205,'Hilfsblatt Ber. Wirtsch Wirk 3'!$D$11:$BX$96,87,FALSE),0))/100),0)","v":0},{"$f":"IFERROR((F$206*(HLOOKUP(F$205,'Hilfsblatt Ber. Wirtsch Wirk 3'!$D$11:$BW$96,$A262,FALSE)+IF(F$205=$C262,HLOOKUP(F$205,'Hilfsblatt Ber. Wirtsch Wirk 3'!$D$11:$BX$96,87,FALSE),0))/100),0)","v":0},{"$f":"IFERROR((G$206*(HLOOKUP(G$205,'Hilfsblatt Ber. Wirtsch Wirk 3'!$D$11:$BW$96,$A262,FALSE)+IF(G$205=$C262,HLOOKUP(G$205,'Hilfsblatt Ber. Wirtsch Wirk 3'!$D$11:$BX$96,87,FALSE),0))/100),0)","v":0},{"$f":"IFERROR((H$206*(HLOOKUP(H$205,'Hilfsblatt Ber. Wirtsch Wirk 3'!$D$11:$BW$96,$A262,FALSE)+IF(H$205=$C262,HLOOKUP(H$205,'Hilfsblatt Ber. Wirtsch Wirk 3'!$D$11:$BX$96,87,FALSE),0))/100),0)","v":0},{"$f":"IFERROR((I$206*(HLOOKUP(I$205,'Hilfsblatt Ber. Wirtsch Wirk 3'!$D$11:$BW$96,$A262,FALSE)+IF(I$205=$C262,HLOOKUP(I$205,'Hilfsblatt Ber. Wirtsch Wirk 3'!$D$11:$BX$96,87,FALSE),0))/100),0)","v":0},{"$f":"IFERROR((J$206*(HLOOKUP(J$205,'Hilfsblatt Ber. Wirtsch Wirk 3'!$D$11:$BW$96,$A262,FALSE)+IF(J$205=$C262,HLOOKUP(J$205,'Hilfsblatt Ber. Wirtsch Wirk 3'!$D$11:$BX$96,87,FALSE),0))/100),0)","v":0},{"$f":"IFERROR((K$206*(HLOOKUP(K$205,'Hilfsblatt Ber. Wirtsch Wirk 3'!$D$11:$BW$96,$A262,FALSE)+IF(K$205=$C262,HLOOKUP(K$205,'Hilfsblatt Ber. Wirtsch Wirk 3'!$D$11:$BX$96,87,FALSE),0))/100),0)","v":0},{"$f":"IFERROR((L$206*(HLOOKUP(L$205,'Hilfsblatt Ber. Wirtsch Wirk 3'!$D$11:$BW$96,$A262,FALSE)+IF(L$205=$C262,HLOOKUP(L$205,'Hilfsblatt Ber. Wirtsch Wirk 3'!$D$11:$BX$96,87,FALSE),0))/100),0)","v":0},{"$f":"IFERROR((M$206*(HLOOKUP(M$205,'Hilfsblatt Ber. Wirtsch Wirk 3'!$D$11:$BW$96,$A262,FALSE)+IF(M$205=$C262,HLOOKUP(M$205,'Hilfsblatt Ber. Wirtsch Wirk 3'!$D$11:$BX$96,87,FALSE),0))/100),0)","v":0},{"$f":"IFERROR((N$206*(HLOOKUP(N$205,'Hilfsblatt Ber. Wirtsch Wirk 3'!$D$11:$BW$96,$A262,FALSE)+IF(N$205=$C262,HLOOKUP(N$205,'Hilfsblatt Ber. Wirtsch Wirk 3'!$D$11:$BX$96,87,FALSE),0))/100),0)","v":0},{"$f":"IFERROR((O$206*(HLOOKUP(O$205,'Hilfsblatt Ber. Wirtsch Wirk 3'!$D$11:$BW$96,$A262,FALSE)+IF(O$205=$C262,HLOOKUP(O$205,'Hilfsblatt Ber. Wirtsch Wirk 3'!$D$11:$BX$96,87,FALSE),0))/100),0)","v":0},{"$f":"IFERROR((P$206*(HLOOKUP(P$205,'Hilfsblatt Ber. Wirtsch Wirk 3'!$D$11:$BW$96,$A262,FALSE)+IF(P$205=$C262,HLOOKUP(P$205,'Hilfsblatt Ber. Wirtsch Wirk 3'!$D$11:$BX$96,87,FALSE),0))/100),0)","v":0},{"$f":"IFERROR((Q$206*(HLOOKUP(Q$205,'Hilfsblatt Ber. Wirtsch Wirk 3'!$D$11:$BW$96,$A262,FALSE)+IF(Q$205=$C262,HLOOKUP(Q$205,'Hilfsblatt Ber. Wirtsch Wirk 3'!$D$11:$BX$96,87,FALSE),0))/100),0)","v":0},{"$f":"R$206*('Hilfsblatt Ber. Wirtsch Wirk 3'!BX67+'Hilfsblatt Ber. Wirtsch Wirk 3'!BX67*'Hilfsblatt Ber. Wirtsch Wirk 3'!CA67/'Hilfsblatt Ber. Wirtsch Wirk 3'!CB67)/100","v":0},0,{"$f":"S262*'Hilfsblatt Ber. Wirtsch Wirk 3'!BZ67/('Hilfsblatt Ber. Wirtsch Wirk 3'!CA67)","v":0},{"$f":"S262/'Hilfsblatt Ber. Wirtsch Wirk 3'!CC67","v":0},{"$f":"T262*('Hilfsblatt Ber. Wirtsch Wirk 4'!B$14/'Hilfsblatt Ber. Wirtsch Wirk 4'!B$13)","v":0},{"$f":"S262*'Hilfsblatt Ber. Wirtsch Wirk 3'!CD67","v":0}]
[58,{"$f":"B163","v":"71"},"Dienstleistg. v. Architektur- u. Ing.büros u.d..techn.,physik.U.suchung ",{"$f":"IFERROR((D$206*(HLOOKUP(D$205,'Hilfsblatt Ber. Wirtsch Wirk 3'!$D$11:$BW$96,$A263,FALSE)+IF(D$205=$C263,HLOOKUP(D$205,'Hilfsblatt Ber. Wirtsch Wirk 3'!$D$11:$BX$96,87,FALSE),0))/100),0)","v":0},{"$f":"IFERROR((E$206*(HLOOKUP(E$205,'Hilfsblatt Ber. Wirtsch Wirk 3'!$D$11:$BW$96,$A263,FALSE)+IF(E$205=$C263,HLOOKUP(E$205,'Hilfsblatt Ber. Wirtsch Wirk 3'!$D$11:$BX$96,87,FALSE),0))/100),0)","v":0},{"$f":"IFERROR((F$206*(HLOOKUP(F$205,'Hilfsblatt Ber. Wirtsch Wirk 3'!$D$11:$BW$96,$A263,FALSE)+IF(F$205=$C263,HLOOKUP(F$205,'Hilfsblatt Ber. Wirtsch Wirk 3'!$D$11:$BX$96,87,FALSE),0))/100),0)","v":0},{"$f":"IFERROR((G$206*(HLOOKUP(G$205,'Hilfsblatt Ber. Wirtsch Wirk 3'!$D$11:$BW$96,$A263,FALSE)+IF(G$205=$C263,HLOOKUP(G$205,'Hilfsblatt Ber. Wirtsch Wirk 3'!$D$11:$BX$96,87,FALSE),0))/100),0)","v":0},{"$f":"IFERROR((H$206*(HLOOKUP(H$205,'Hilfsblatt Ber. Wirtsch Wirk 3'!$D$11:$BW$96,$A263,FALSE)+IF(H$205=$C263,HLOOKUP(H$205,'Hilfsblatt Ber. Wirtsch Wirk 3'!$D$11:$BX$96,87,FALSE),0))/100),0)","v":0},{"$f":"IFERROR((I$206*(HLOOKUP(I$205,'Hilfsblatt Ber. Wirtsch Wirk 3'!$D$11:$BW$96,$A263,FALSE)+IF(I$205=$C263,HLOOKUP(I$205,'Hilfsblatt Ber. Wirtsch Wirk 3'!$D$11:$BX$96,87,FALSE),0))/100),0)","v":0},{"$f":"IFERROR((J$206*(HLOOKUP(J$205,'Hilfsblatt Ber. Wirtsch Wirk 3'!$D$11:$BW$96,$A263,FALSE)+IF(J$205=$C263,HLOOKUP(J$205,'Hilfsblatt Ber. Wirtsch Wirk 3'!$D$11:$BX$96,87,FALSE),0))/100),0)","v":0},{"$f":"IFERROR((K$206*(HLOOKUP(K$205,'Hilfsblatt Ber. Wirtsch Wirk 3'!$D$11:$BW$96,$A263,FALSE)+IF(K$205=$C263,HLOOKUP(K$205,'Hilfsblatt Ber. Wirtsch Wirk 3'!$D$11:$BX$96,87,FALSE),0))/100),0)","v":0},{"$f":"IFERROR((L$206*(HLOOKUP(L$205,'Hilfsblatt Ber. Wirtsch Wirk 3'!$D$11:$BW$96,$A263,FALSE)+IF(L$205=$C263,HLOOKUP(L$205,'Hilfsblatt Ber. Wirtsch Wirk 3'!$D$11:$BX$96,87,FALSE),0))/100),0)","v":0},{"$f":"IFERROR((M$206*(HLOOKUP(M$205,'Hilfsblatt Ber. Wirtsch Wirk 3'!$D$11:$BW$96,$A263,FALSE)+IF(M$205=$C263,HLOOKUP(M$205,'Hilfsblatt Ber. Wirtsch Wirk 3'!$D$11:$BX$96,87,FALSE),0))/100),0)","v":0},{"$f":"IFERROR((N$206*(HLOOKUP(N$205,'Hilfsblatt Ber. Wirtsch Wirk 3'!$D$11:$BW$96,$A263,FALSE)+IF(N$205=$C263,HLOOKUP(N$205,'Hilfsblatt Ber. Wirtsch Wirk 3'!$D$11:$BX$96,87,FALSE),0))/100),0)","v":0},{"$f":"IFERROR((O$206*(HLOOKUP(O$205,'Hilfsblatt Ber. Wirtsch Wirk 3'!$D$11:$BW$96,$A263,FALSE)+IF(O$205=$C263,HLOOKUP(O$205,'Hilfsblatt Ber. Wirtsch Wirk 3'!$D$11:$BX$96,87,FALSE),0))/100),0)","v":0},{"$f":"IFERROR((P$206*(HLOOKUP(P$205,'Hilfsblatt Ber. Wirtsch Wirk 3'!$D$11:$BW$96,$A263,FALSE)+IF(P$205=$C263,HLOOKUP(P$205,'Hilfsblatt Ber. Wirtsch Wirk 3'!$D$11:$BX$96,87,FALSE),0))/100),0)","v":0},{"$f":"IFERROR((Q$206*(HLOOKUP(Q$205,'Hilfsblatt Ber. Wirtsch Wirk 3'!$D$11:$BW$96,$A263,FALSE)+IF(Q$205=$C263,HLOOKUP(Q$205,'Hilfsblatt Ber. Wirtsch Wirk 3'!$D$11:$BX$96,87,FALSE),0))/100),0)","v":0},{"$f":"R$206*('Hilfsblatt Ber. Wirtsch Wirk 3'!BX68+'Hilfsblatt Ber. Wirtsch Wirk 3'!BX68*'Hilfsblatt Ber. Wirtsch Wirk 3'!CA68/'Hilfsblatt Ber. Wirtsch Wirk 3'!CB68)/100","v":0},0,{"$f":"S263*'Hilfsblatt Ber. Wirtsch Wirk 3'!BZ68/('Hilfsblatt Ber. Wirtsch Wirk 3'!CA68)","v":0},{"$f":"S263/'Hilfsblatt Ber. Wirtsch Wirk 3'!CC68","v":0},{"$f":"T263*('Hilfsblatt Ber. Wirtsch Wirk 4'!B$14/'Hilfsblatt Ber. Wirtsch Wirk 4'!B$13)","v":0},{"$f":"S263*'Hilfsblatt Ber. Wirtsch Wirk 3'!CD68","v":0}]
[59,{"$f":"B164","v":"72"},"Forschungs- und Entwicklungsleistungen ",{"$f":"IFERROR((D$206*(HLOOKUP(D$205,'Hilfsblatt Ber. Wirtsch Wirk 3'!$D$11:$BW$96,$A264,FALSE)+IF(D$205=$C264,HLOOKUP(D$205,'Hilfsblatt Ber. Wirtsch Wirk 3'!$D$11:$BX$96,87,FALSE),0))/100),0)","v":0},{"$f":"IFERROR((E$206*(HLOOKUP(E$205,'Hilfsblatt Ber. Wirtsch Wirk 3'!$D$11:$BW$96,$A264,FALSE)+IF(E$205=$C264,HLOOKUP(E$205,'Hilfsblatt Ber. Wirtsch Wirk 3'!$D$11:$BX$96,87,FALSE),0))/100),0)","v":0},{"$f":"IFERROR((F$206*(HLOOKUP(F$205,'Hilfsblatt Ber. Wirtsch Wirk 3'!$D$11:$BW$96,$A264,FALSE)+IF(F$205=$C264,HLOOKUP(F$205,'Hilfsblatt Ber. Wirtsch Wirk 3'!$D$11:$BX$96,87,FALSE),0))/100),0)","v":0},{"$f":"IFERROR((G$206*(HLOOKUP(G$205,'Hilfsblatt Ber. Wirtsch Wirk 3'!$D$11:$BW$96,$A264,FALSE)+IF(G$205=$C264,HLOOKUP(G$205,'Hilfsblatt Ber. Wirtsch Wirk 3'!$D$11:$BX$96,87,FALSE),0))/100),0)","v":0},{"$f":"IFERROR((H$206*(HLOOKUP(H$205,'Hilfsblatt Ber. Wirtsch Wirk 3'!$D$11:$BW$96,$A264,FALSE)+IF(H$205=$C264,HLOOKUP(H$205,'Hilfsblatt Ber. Wirtsch Wirk 3'!$D$11:$BX$96,87,FALSE),0))/100),0)","v":0},{"$f":"IFERROR((I$206*(HLOOKUP(I$205,'Hilfsblatt Ber. Wirtsch Wirk 3'!$D$11:$BW$96,$A264,FALSE)+IF(I$205=$C264,HLOOKUP(I$205,'Hilfsblatt Ber. Wirtsch Wirk 3'!$D$11:$BX$96,87,FALSE),0))/100),0)","v":0},{"$f":"IFERROR((J$206*(HLOOKUP(J$205,'Hilfsblatt Ber. Wirtsch Wirk 3'!$D$11:$BW$96,$A264,FALSE)+IF(J$205=$C264,HLOOKUP(J$205,'Hilfsblatt Ber. Wirtsch Wirk 3'!$D$11:$BX$96,87,FALSE),0))/100),0)","v":0},{"$f":"IFERROR((K$206*(HLOOKUP(K$205,'Hilfsblatt Ber. Wirtsch Wirk 3'!$D$11:$BW$96,$A264,FALSE)+IF(K$205=$C264,HLOOKUP(K$205,'Hilfsblatt Ber. Wirtsch Wirk 3'!$D$11:$BX$96,87,FALSE),0))/100),0)","v":0},{"$f":"IFERROR((L$206*(HLOOKUP(L$205,'Hilfsblatt Ber. Wirtsch Wirk 3'!$D$11:$BW$96,$A264,FALSE)+IF(L$205=$C264,HLOOKUP(L$205,'Hilfsblatt Ber. Wirtsch Wirk 3'!$D$11:$BX$96,87,FALSE),0))/100),0)","v":0},{"$f":"IFERROR((M$206*(HLOOKUP(M$205,'Hilfsblatt Ber. Wirtsch Wirk 3'!$D$11:$BW$96,$A264,FALSE)+IF(M$205=$C264,HLOOKUP(M$205,'Hilfsblatt Ber. Wirtsch Wirk 3'!$D$11:$BX$96,87,FALSE),0))/100),0)","v":0},{"$f":"IFERROR((N$206*(HLOOKUP(N$205,'Hilfsblatt Ber. Wirtsch Wirk 3'!$D$11:$BW$96,$A264,FALSE)+IF(N$205=$C264,HLOOKUP(N$205,'Hilfsblatt Ber. Wirtsch Wirk 3'!$D$11:$BX$96,87,FALSE),0))/100),0)","v":0},{"$f":"IFERROR((O$206*(HLOOKUP(O$205,'Hilfsblatt Ber. Wirtsch Wirk 3'!$D$11:$BW$96,$A264,FALSE)+IF(O$205=$C264,HLOOKUP(O$205,'Hilfsblatt Ber. Wirtsch Wirk 3'!$D$11:$BX$96,87,FALSE),0))/100),0)","v":0},{"$f":"IFERROR((P$206*(HLOOKUP(P$205,'Hilfsblatt Ber. Wirtsch Wirk 3'!$D$11:$BW$96,$A264,FALSE)+IF(P$205=$C264,HLOOKUP(P$205,'Hilfsblatt Ber. Wirtsch Wirk 3'!$D$11:$BX$96,87,FALSE),0))/100),0)","v":0},{"$f":"IFERROR((Q$206*(HLOOKUP(Q$205,'Hilfsblatt Ber. Wirtsch Wirk 3'!$D$11:$BW$96,$A264,FALSE)+IF(Q$205=$C264,HLOOKUP(Q$205,'Hilfsblatt Ber. Wirtsch Wirk 3'!$D$11:$BX$96,87,FALSE),0))/100),0)","v":0},{"$f":"R$206*('Hilfsblatt Ber. Wirtsch Wirk 3'!BX69+'Hilfsblatt Ber. Wirtsch Wirk 3'!BX69*'Hilfsblatt Ber. Wirtsch Wirk 3'!CA69/'Hilfsblatt Ber. Wirtsch Wirk 3'!CB69)/100","v":0},0,{"$f":"S264*'Hilfsblatt Ber. Wirtsch Wirk 3'!BZ69/('Hilfsblatt Ber. Wirtsch Wirk 3'!CA69)","v":0},{"$f":"S264/'Hilfsblatt Ber. Wirtsch Wirk 3'!CC69","v":0},{"$f":"T264*('Hilfsblatt Ber. Wirtsch Wirk 4'!B$14/'Hilfsblatt Ber. Wirtsch Wirk 4'!B$13)","v":0},{"$f":"S264*'Hilfsblatt Ber. Wirtsch Wirk 3'!CD69","v":0}]
[60,{"$f":"B165","v":"73"},"Werbe- und Marktforschungsleistungen ",{"$f":"IFERROR((D$206*(HLOOKUP(D$205,'Hilfsblatt Ber. Wirtsch Wirk 3'!$D$11:$BW$96,$A265,FALSE)+IF(D$205=$C265,HLOOKUP(D$205,'Hilfsblatt Ber. Wirtsch Wirk 3'!$D$11:$BX$96,87,FALSE),0))/100),0)","v":0},{"$f":"IFERROR((E$206*(HLOOKUP(E$205,'Hilfsblatt Ber. Wirtsch Wirk 3'!$D$11:$BW$96,$A265,FALSE)+IF(E$205=$C265,HLOOKUP(E$205,'Hilfsblatt Ber. Wirtsch Wirk 3'!$D$11:$BX$96,87,FALSE),0))/100),0)","v":0},{"$f":"IFERROR((F$206*(HLOOKUP(F$205,'Hilfsblatt Ber. Wirtsch Wirk 3'!$D$11:$BW$96,$A265,FALSE)+IF(F$205=$C265,HLOOKUP(F$205,'Hilfsblatt Ber. Wirtsch Wirk 3'!$D$11:$BX$96,87,FALSE),0))/100),0)","v":0},{"$f":"IFERROR((G$206*(HLOOKUP(G$205,'Hilfsblatt Ber. Wirtsch Wirk 3'!$D$11:$BW$96,$A265,FALSE)+IF(G$205=$C265,HLOOKUP(G$205,'Hilfsblatt Ber. Wirtsch Wirk 3'!$D$11:$BX$96,87,FALSE),0))/100),0)","v":0},{"$f":"IFERROR((H$206*(HLOOKUP(H$205,'Hilfsblatt Ber. Wirtsch Wirk 3'!$D$11:$BW$96,$A265,FALSE)+IF(H$205=$C265,HLOOKUP(H$205,'Hilfsblatt Ber. Wirtsch Wirk 3'!$D$11:$BX$96,87,FALSE),0))/100),0)","v":0},{"$f":"IFERROR((I$206*(HLOOKUP(I$205,'Hilfsblatt Ber. Wirtsch Wirk 3'!$D$11:$BW$96,$A265,FALSE)+IF(I$205=$C265,HLOOKUP(I$205,'Hilfsblatt Ber. Wirtsch Wirk 3'!$D$11:$BX$96,87,FALSE),0))/100),0)","v":0},{"$f":"IFERROR((J$206*(HLOOKUP(J$205,'Hilfsblatt Ber. Wirtsch Wirk 3'!$D$11:$BW$96,$A265,FALSE)+IF(J$205=$C265,HLOOKUP(J$205,'Hilfsblatt Ber. Wirtsch Wirk 3'!$D$11:$BX$96,87,FALSE),0))/100),0)","v":0},{"$f":"IFERROR((K$206*(HLOOKUP(K$205,'Hilfsblatt Ber. Wirtsch Wirk 3'!$D$11:$BW$96,$A265,FALSE)+IF(K$205=$C265,HLOOKUP(K$205,'Hilfsblatt Ber. Wirtsch Wirk 3'!$D$11:$BX$96,87,FALSE),0))/100),0)","v":0},{"$f":"IFERROR((L$206*(HLOOKUP(L$205,'Hilfsblatt Ber. Wirtsch Wirk 3'!$D$11:$BW$96,$A265,FALSE)+IF(L$205=$C265,HLOOKUP(L$205,'Hilfsblatt Ber. Wirtsch Wirk 3'!$D$11:$BX$96,87,FALSE),0))/100),0)","v":0},{"$f":"IFERROR((M$206*(HLOOKUP(M$205,'Hilfsblatt Ber. Wirtsch Wirk 3'!$D$11:$BW$96,$A265,FALSE)+IF(M$205=$C265,HLOOKUP(M$205,'Hilfsblatt Ber. Wirtsch Wirk 3'!$D$11:$BX$96,87,FALSE),0))/100),0)","v":0},{"$f":"IFERROR((N$206*(HLOOKUP(N$205,'Hilfsblatt Ber. Wirtsch Wirk 3'!$D$11:$BW$96,$A265,FALSE)+IF(N$205=$C265,HLOOKUP(N$205,'Hilfsblatt Ber. Wirtsch Wirk 3'!$D$11:$BX$96,87,FALSE),0))/100),0)","v":0},{"$f":"IFERROR((O$206*(HLOOKUP(O$205,'Hilfsblatt Ber. Wirtsch Wirk 3'!$D$11:$BW$96,$A265,FALSE)+IF(O$205=$C265,HLOOKUP(O$205,'Hilfsblatt Ber. Wirtsch Wirk 3'!$D$11:$BX$96,87,FALSE),0))/100),0)","v":0},{"$f":"IFERROR((P$206*(HLOOKUP(P$205,'Hilfsblatt Ber. Wirtsch Wirk 3'!$D$11:$BW$96,$A265,FALSE)+IF(P$205=$C265,HLOOKUP(P$205,'Hilfsblatt Ber. Wirtsch Wirk 3'!$D$11:$BX$96,87,FALSE),0))/100),0)","v":0},{"$f":"IFERROR((Q$206*(HLOOKUP(Q$205,'Hilfsblatt Ber. Wirtsch Wirk 3'!$D$11:$BW$96,$A265,FALSE)+IF(Q$205=$C265,HLOOKUP(Q$205,'Hilfsblatt Ber. Wirtsch Wirk 3'!$D$11:$BX$96,87,FALSE),0))/100),0)","v":0},{"$f":"R$206*('Hilfsblatt Ber. Wirtsch Wirk 3'!BX70+'Hilfsblatt Ber. Wirtsch Wirk 3'!BX70*'Hilfsblatt Ber. Wirtsch Wirk 3'!CA70/'Hilfsblatt Ber. Wirtsch Wirk 3'!CB70)/100","v":0},0,{"$f":"S265*'Hilfsblatt Ber. Wirtsch Wirk 3'!BZ70/('Hilfsblatt Ber. Wirtsch Wirk 3'!CA70)","v":0},{"$f":"S265/'Hilfsblatt Ber. Wirtsch Wirk 3'!CC70","v":0},{"$f":"T265*('Hilfsblatt Ber. Wirtsch Wirk 4'!B$14/'Hilfsblatt Ber. Wirtsch Wirk 4'!B$13)","v":0},{"$f":"S265*'Hilfsblatt Ber. Wirtsch Wirk 3'!CD70","v":0}]
[61,{"$f":"B166","v":"74-75"},"Sonst. freiberuf., wiss., techn. u. veterinärmedizinische Dienstleistg. ",{"$f":"IFERROR((D$206*(HLOOKUP(D$205,'Hilfsblatt Ber. Wirtsch Wirk 3'!$D$11:$BW$96,$A266,FALSE)+IF(D$205=$C266,HLOOKUP(D$205,'Hilfsblatt Ber. Wirtsch Wirk 3'!$D$11:$BX$96,87,FALSE),0))/100),0)","v":0},{"$f":"IFERROR((E$206*(HLOOKUP(E$205,'Hilfsblatt Ber. Wirtsch Wirk 3'!$D$11:$BW$96,$A266,FALSE)+IF(E$205=$C266,HLOOKUP(E$205,'Hilfsblatt Ber. Wirtsch Wirk 3'!$D$11:$BX$96,87,FALSE),0))/100),0)","v":0},{"$f":"IFERROR((F$206*(HLOOKUP(F$205,'Hilfsblatt Ber. Wirtsch Wirk 3'!$D$11:$BW$96,$A266,FALSE)+IF(F$205=$C266,HLOOKUP(F$205,'Hilfsblatt Ber. Wirtsch Wirk 3'!$D$11:$BX$96,87,FALSE),0))/100),0)","v":0},{"$f":"IFERROR((G$206*(HLOOKUP(G$205,'Hilfsblatt Ber. Wirtsch Wirk 3'!$D$11:$BW$96,$A266,FALSE)+IF(G$205=$C266,HLOOKUP(G$205,'Hilfsblatt Ber. Wirtsch Wirk 3'!$D$11:$BX$96,87,FALSE),0))/100),0)","v":0},{"$f":"IFERROR((H$206*(HLOOKUP(H$205,'Hilfsblatt Ber. Wirtsch Wirk 3'!$D$11:$BW$96,$A266,FALSE)+IF(H$205=$C266,HLOOKUP(H$205,'Hilfsblatt Ber. Wirtsch Wirk 3'!$D$11:$BX$96,87,FALSE),0))/100),0)","v":0},{"$f":"IFERROR((I$206*(HLOOKUP(I$205,'Hilfsblatt Ber. Wirtsch Wirk 3'!$D$11:$BW$96,$A266,FALSE)+IF(I$205=$C266,HLOOKUP(I$205,'Hilfsblatt Ber. Wirtsch Wirk 3'!$D$11:$BX$96,87,FALSE),0))/100),0)","v":0},{"$f":"IFERROR((J$206*(HLOOKUP(J$205,'Hilfsblatt Ber. Wirtsch Wirk 3'!$D$11:$BW$96,$A266,FALSE)+IF(J$205=$C266,HLOOKUP(J$205,'Hilfsblatt Ber. Wirtsch Wirk 3'!$D$11:$BX$96,87,FALSE),0))/100),0)","v":0},{"$f":"IFERROR((K$206*(HLOOKUP(K$205,'Hilfsblatt Ber. Wirtsch Wirk 3'!$D$11:$BW$96,$A266,FALSE)+IF(K$205=$C266,HLOOKUP(K$205,'Hilfsblatt Ber. Wirtsch Wirk 3'!$D$11:$BX$96,87,FALSE),0))/100),0)","v":0},{"$f":"IFERROR((L$206*(HLOOKUP(L$205,'Hilfsblatt Ber. Wirtsch Wirk 3'!$D$11:$BW$96,$A266,FALSE)+IF(L$205=$C266,HLOOKUP(L$205,'Hilfsblatt Ber. Wirtsch Wirk 3'!$D$11:$BX$96,87,FALSE),0))/100),0)","v":0},{"$f":"IFERROR((M$206*(HLOOKUP(M$205,'Hilfsblatt Ber. Wirtsch Wirk 3'!$D$11:$BW$96,$A266,FALSE)+IF(M$205=$C266,HLOOKUP(M$205,'Hilfsblatt Ber. Wirtsch Wirk 3'!$D$11:$BX$96,87,FALSE),0))/100),0)","v":0},{"$f":"IFERROR((N$206*(HLOOKUP(N$205,'Hilfsblatt Ber. Wirtsch Wirk 3'!$D$11:$BW$96,$A266,FALSE)+IF(N$205=$C266,HLOOKUP(N$205,'Hilfsblatt Ber. Wirtsch Wirk 3'!$D$11:$BX$96,87,FALSE),0))/100),0)","v":0},{"$f":"IFERROR((O$206*(HLOOKUP(O$205,'Hilfsblatt Ber. Wirtsch Wirk 3'!$D$11:$BW$96,$A266,FALSE)+IF(O$205=$C266,HLOOKUP(O$205,'Hilfsblatt Ber. Wirtsch Wirk 3'!$D$11:$BX$96,87,FALSE),0))/100),0)","v":0},{"$f":"IFERROR((P$206*(HLOOKUP(P$205,'Hilfsblatt Ber. Wirtsch Wirk 3'!$D$11:$BW$96,$A266,FALSE)+IF(P$205=$C266,HLOOKUP(P$205,'Hilfsblatt Ber. Wirtsch Wirk 3'!$D$11:$BX$96,87,FALSE),0))/100),0)","v":0},{"$f":"IFERROR((Q$206*(HLOOKUP(Q$205,'Hilfsblatt Ber. Wirtsch Wirk 3'!$D$11:$BW$96,$A266,FALSE)+IF(Q$205=$C266,HLOOKUP(Q$205,'Hilfsblatt Ber. Wirtsch Wirk 3'!$D$11:$BX$96,87,FALSE),0))/100),0)","v":0},{"$f":"R$206*('Hilfsblatt Ber. Wirtsch Wirk 3'!BX71+'Hilfsblatt Ber. Wirtsch Wirk 3'!BX71*'Hilfsblatt Ber. Wirtsch Wirk 3'!CA71/'Hilfsblatt Ber. Wirtsch Wirk 3'!CB71)/100","v":0},0,{"$f":"S266*'Hilfsblatt Ber. Wirtsch Wirk 3'!BZ71/('Hilfsblatt Ber. Wirtsch Wirk 3'!CA71)","v":0},{"$f":"S266/'Hilfsblatt Ber. Wirtsch Wirk 3'!CC71","v":0},{"$f":"T266*('Hilfsblatt Ber. Wirtsch Wirk 4'!B$14/'Hilfsblatt Ber. Wirtsch Wirk 4'!B$13)","v":0},{"$f":"S266*'Hilfsblatt Ber. Wirtsch Wirk 3'!CD71","v":0}]
[62,{"$f":"B167","v":"77"},"Dienstleistungen der Vermietung von beweglichen Sachen ",{"$f":"IFERROR((D$206*(HLOOKUP(D$205,'Hilfsblatt Ber. Wirtsch Wirk 3'!$D$11:$BW$96,$A267,FALSE)+IF(D$205=$C267,HLOOKUP(D$205,'Hilfsblatt Ber. Wirtsch Wirk 3'!$D$11:$BX$96,87,FALSE),0))/100),0)","v":0},{"$f":"IFERROR((E$206*(HLOOKUP(E$205,'Hilfsblatt Ber. Wirtsch Wirk 3'!$D$11:$BW$96,$A267,FALSE)+IF(E$205=$C267,HLOOKUP(E$205,'Hilfsblatt Ber. Wirtsch Wirk 3'!$D$11:$BX$96,87,FALSE),0))/100),0)","v":0},{"$f":"IFERROR((F$206*(HLOOKUP(F$205,'Hilfsblatt Ber. Wirtsch Wirk 3'!$D$11:$BW$96,$A267,FALSE)+IF(F$205=$C267,HLOOKUP(F$205,'Hilfsblatt Ber. Wirtsch Wirk 3'!$D$11:$BX$96,87,FALSE),0))/100),0)","v":0},{"$f":"IFERROR((G$206*(HLOOKUP(G$205,'Hilfsblatt Ber. Wirtsch Wirk 3'!$D$11:$BW$96,$A267,FALSE)+IF(G$205=$C267,HLOOKUP(G$205,'Hilfsblatt Ber. Wirtsch Wirk 3'!$D$11:$BX$96,87,FALSE),0))/100),0)","v":0},{"$f":"IFERROR((H$206*(HLOOKUP(H$205,'Hilfsblatt Ber. Wirtsch Wirk 3'!$D$11:$BW$96,$A267,FALSE)+IF(H$205=$C267,HLOOKUP(H$205,'Hilfsblatt Ber. Wirtsch Wirk 3'!$D$11:$BX$96,87,FALSE),0))/100),0)","v":0},{"$f":"IFERROR((I$206*(HLOOKUP(I$205,'Hilfsblatt Ber. Wirtsch Wirk 3'!$D$11:$BW$96,$A267,FALSE)+IF(I$205=$C267,HLOOKUP(I$205,'Hilfsblatt Ber. Wirtsch Wirk 3'!$D$11:$BX$96,87,FALSE),0))/100),0)","v":0},{"$f":"IFERROR((J$206*(HLOOKUP(J$205,'Hilfsblatt Ber. Wirtsch Wirk 3'!$D$11:$BW$96,$A267,FALSE)+IF(J$205=$C267,HLOOKUP(J$205,'Hilfsblatt Ber. Wirtsch Wirk 3'!$D$11:$BX$96,87,FALSE),0))/100),0)","v":0},{"$f":"IFERROR((K$206*(HLOOKUP(K$205,'Hilfsblatt Ber. Wirtsch Wirk 3'!$D$11:$BW$96,$A267,FALSE)+IF(K$205=$C267,HLOOKUP(K$205,'Hilfsblatt Ber. Wirtsch Wirk 3'!$D$11:$BX$96,87,FALSE),0))/100),0)","v":0},{"$f":"IFERROR((L$206*(HLOOKUP(L$205,'Hilfsblatt Ber. Wirtsch Wirk 3'!$D$11:$BW$96,$A267,FALSE)+IF(L$205=$C267,HLOOKUP(L$205,'Hilfsblatt Ber. Wirtsch Wirk 3'!$D$11:$BX$96,87,FALSE),0))/100),0)","v":0},{"$f":"IFERROR((M$206*(HLOOKUP(M$205,'Hilfsblatt Ber. Wirtsch Wirk 3'!$D$11:$BW$96,$A267,FALSE)+IF(M$205=$C267,HLOOKUP(M$205,'Hilfsblatt Ber. Wirtsch Wirk 3'!$D$11:$BX$96,87,FALSE),0))/100),0)","v":0},{"$f":"IFERROR((N$206*(HLOOKUP(N$205,'Hilfsblatt Ber. Wirtsch Wirk 3'!$D$11:$BW$96,$A267,FALSE)+IF(N$205=$C267,HLOOKUP(N$205,'Hilfsblatt Ber. Wirtsch Wirk 3'!$D$11:$BX$96,87,FALSE),0))/100),0)","v":0},{"$f":"IFERROR((O$206*(HLOOKUP(O$205,'Hilfsblatt Ber. Wirtsch Wirk 3'!$D$11:$BW$96,$A267,FALSE)+IF(O$205=$C267,HLOOKUP(O$205,'Hilfsblatt Ber. Wirtsch Wirk 3'!$D$11:$BX$96,87,FALSE),0))/100),0)","v":0},{"$f":"IFERROR((P$206*(HLOOKUP(P$205,'Hilfsblatt Ber. Wirtsch Wirk 3'!$D$11:$BW$96,$A267,FALSE)+IF(P$205=$C267,HLOOKUP(P$205,'Hilfsblatt Ber. Wirtsch Wirk 3'!$D$11:$BX$96,87,FALSE),0))/100),0)","v":0},{"$f":"IFERROR((Q$206*(HLOOKUP(Q$205,'Hilfsblatt Ber. Wirtsch Wirk 3'!$D$11:$BW$96,$A267,FALSE)+IF(Q$205=$C267,HLOOKUP(Q$205,'Hilfsblatt Ber. Wirtsch Wirk 3'!$D$11:$BX$96,87,FALSE),0))/100),0)","v":0},{"$f":"R$206*('Hilfsblatt Ber. Wirtsch Wirk 3'!BX72+'Hilfsblatt Ber. Wirtsch Wirk 3'!BX72*'Hilfsblatt Ber. Wirtsch Wirk 3'!CA72/'Hilfsblatt Ber. Wirtsch Wirk 3'!CB72)/100","v":0},0,{"$f":"S267*'Hilfsblatt Ber. Wirtsch Wirk 3'!BZ72/('Hilfsblatt Ber. Wirtsch Wirk 3'!CA72)","v":0},{"$f":"S267/'Hilfsblatt Ber. Wirtsch Wirk 3'!CC72","v":0},{"$f":"T267*('Hilfsblatt Ber. Wirtsch Wirk 4'!B$14/'Hilfsblatt Ber. Wirtsch Wirk 4'!B$13)","v":0},{"$f":"S267*'Hilfsblatt Ber. Wirtsch Wirk 3'!CD72","v":0}]
[63,{"$f":"B168","v":"78"},"Dienstleistungen der Vermittlung und Überlassung von Arbeitskräften ",{"$f":"IFERROR((D$206*(HLOOKUP(D$205,'Hilfsblatt Ber. Wirtsch Wirk 3'!$D$11:$BW$96,$A268,FALSE)+IF(D$205=$C268,HLOOKUP(D$205,'Hilfsblatt Ber. Wirtsch Wirk 3'!$D$11:$BX$96,87,FALSE),0))/100),0)","v":0},{"$f":"IFERROR((E$206*(HLOOKUP(E$205,'Hilfsblatt Ber. Wirtsch Wirk 3'!$D$11:$BW$96,$A268,FALSE)+IF(E$205=$C268,HLOOKUP(E$205,'Hilfsblatt Ber. Wirtsch Wirk 3'!$D$11:$BX$96,87,FALSE),0))/100),0)","v":0},{"$f":"IFERROR((F$206*(HLOOKUP(F$205,'Hilfsblatt Ber. Wirtsch Wirk 3'!$D$11:$BW$96,$A268,FALSE)+IF(F$205=$C268,HLOOKUP(F$205,'Hilfsblatt Ber. Wirtsch Wirk 3'!$D$11:$BX$96,87,FALSE),0))/100),0)","v":0},{"$f":"IFERROR((G$206*(HLOOKUP(G$205,'Hilfsblatt Ber. Wirtsch Wirk 3'!$D$11:$BW$96,$A268,FALSE)+IF(G$205=$C268,HLOOKUP(G$205,'Hilfsblatt Ber. Wirtsch Wirk 3'!$D$11:$BX$96,87,FALSE),0))/100),0)","v":0},{"$f":"IFERROR((H$206*(HLOOKUP(H$205,'Hilfsblatt Ber. Wirtsch Wirk 3'!$D$11:$BW$96,$A268,FALSE)+IF(H$205=$C268,HLOOKUP(H$205,'Hilfsblatt Ber. Wirtsch Wirk 3'!$D$11:$BX$96,87,FALSE),0))/100),0)","v":0},{"$f":"IFERROR((I$206*(HLOOKUP(I$205,'Hilfsblatt Ber. Wirtsch Wirk 3'!$D$11:$BW$96,$A268,FALSE)+IF(I$205=$C268,HLOOKUP(I$205,'Hilfsblatt Ber. Wirtsch Wirk 3'!$D$11:$BX$96,87,FALSE),0))/100),0)","v":0},{"$f":"IFERROR((J$206*(HLOOKUP(J$205,'Hilfsblatt Ber. Wirtsch Wirk 3'!$D$11:$BW$96,$A268,FALSE)+IF(J$205=$C268,HLOOKUP(J$205,'Hilfsblatt Ber. Wirtsch Wirk 3'!$D$11:$BX$96,87,FALSE),0))/100),0)","v":0},{"$f":"IFERROR((K$206*(HLOOKUP(K$205,'Hilfsblatt Ber. Wirtsch Wirk 3'!$D$11:$BW$96,$A268,FALSE)+IF(K$205=$C268,HLOOKUP(K$205,'Hilfsblatt Ber. Wirtsch Wirk 3'!$D$11:$BX$96,87,FALSE),0))/100),0)","v":0},{"$f":"IFERROR((L$206*(HLOOKUP(L$205,'Hilfsblatt Ber. Wirtsch Wirk 3'!$D$11:$BW$96,$A268,FALSE)+IF(L$205=$C268,HLOOKUP(L$205,'Hilfsblatt Ber. Wirtsch Wirk 3'!$D$11:$BX$96,87,FALSE),0))/100),0)","v":0},{"$f":"IFERROR((M$206*(HLOOKUP(M$205,'Hilfsblatt Ber. Wirtsch Wirk 3'!$D$11:$BW$96,$A268,FALSE)+IF(M$205=$C268,HLOOKUP(M$205,'Hilfsblatt Ber. Wirtsch Wirk 3'!$D$11:$BX$96,87,FALSE),0))/100),0)","v":0},{"$f":"IFERROR((N$206*(HLOOKUP(N$205,'Hilfsblatt Ber. Wirtsch Wirk 3'!$D$11:$BW$96,$A268,FALSE)+IF(N$205=$C268,HLOOKUP(N$205,'Hilfsblatt Ber. Wirtsch Wirk 3'!$D$11:$BX$96,87,FALSE),0))/100),0)","v":0},{"$f":"IFERROR((O$206*(HLOOKUP(O$205,'Hilfsblatt Ber. Wirtsch Wirk 3'!$D$11:$BW$96,$A268,FALSE)+IF(O$205=$C268,HLOOKUP(O$205,'Hilfsblatt Ber. Wirtsch Wirk 3'!$D$11:$BX$96,87,FALSE),0))/100),0)","v":0},{"$f":"IFERROR((P$206*(HLOOKUP(P$205,'Hilfsblatt Ber. Wirtsch Wirk 3'!$D$11:$BW$96,$A268,FALSE)+IF(P$205=$C268,HLOOKUP(P$205,'Hilfsblatt Ber. Wirtsch Wirk 3'!$D$11:$BX$96,87,FALSE),0))/100),0)","v":0},{"$f":"IFERROR((Q$206*(HLOOKUP(Q$205,'Hilfsblatt Ber. Wirtsch Wirk 3'!$D$11:$BW$96,$A268,FALSE)+IF(Q$205=$C268,HLOOKUP(Q$205,'Hilfsblatt Ber. Wirtsch Wirk 3'!$D$11:$BX$96,87,FALSE),0))/100),0)","v":0},{"$f":"R$206*('Hilfsblatt Ber. Wirtsch Wirk 3'!BX73+'Hilfsblatt Ber. Wirtsch Wirk 3'!BX73*'Hilfsblatt Ber. Wirtsch Wirk 3'!CA73/'Hilfsblatt Ber. Wirtsch Wirk 3'!CB73)/100","v":0},0,{"$f":"S268*'Hilfsblatt Ber. Wirtsch Wirk 3'!BZ73/('Hilfsblatt Ber. Wirtsch Wirk 3'!CA73)","v":0},{"$f":"S268/'Hilfsblatt Ber. Wirtsch Wirk 3'!CC73","v":0},{"$f":"T268*('Hilfsblatt Ber. Wirtsch Wirk 4'!B$14/'Hilfsblatt Ber. Wirtsch Wirk 4'!B$13)","v":0},{"$f":"S268*'Hilfsblatt Ber. Wirtsch Wirk 3'!CD73","v":0}]
[64,{"$f":"B169","v":"79"},"Dienstleistg. v. Reisebüros, -veranstaltern u. sonst. Reservierungen",{"$f":"IFERROR((D$206*(HLOOKUP(D$205,'Hilfsblatt Ber. Wirtsch Wirk 3'!$D$11:$BW$96,$A269,FALSE)+IF(D$205=$C269,HLOOKUP(D$205,'Hilfsblatt Ber. Wirtsch Wirk 3'!$D$11:$BX$96,87,FALSE),0))/100),0)","v":0},{"$f":"IFERROR((E$206*(HLOOKUP(E$205,'Hilfsblatt Ber. Wirtsch Wirk 3'!$D$11:$BW$96,$A269,FALSE)+IF(E$205=$C269,HLOOKUP(E$205,'Hilfsblatt Ber. Wirtsch Wirk 3'!$D$11:$BX$96,87,FALSE),0))/100),0)","v":0},{"$f":"IFERROR((F$206*(HLOOKUP(F$205,'Hilfsblatt Ber. Wirtsch Wirk 3'!$D$11:$BW$96,$A269,FALSE)+IF(F$205=$C269,HLOOKUP(F$205,'Hilfsblatt Ber. Wirtsch Wirk 3'!$D$11:$BX$96,87,FALSE),0))/100),0)","v":0},{"$f":"IFERROR((G$206*(HLOOKUP(G$205,'Hilfsblatt Ber. Wirtsch Wirk 3'!$D$11:$BW$96,$A269,FALSE)+IF(G$205=$C269,HLOOKUP(G$205,'Hilfsblatt Ber. Wirtsch Wirk 3'!$D$11:$BX$96,87,FALSE),0))/100),0)","v":0},{"$f":"IFERROR((H$206*(HLOOKUP(H$205,'Hilfsblatt Ber. Wirtsch Wirk 3'!$D$11:$BW$96,$A269,FALSE)+IF(H$205=$C269,HLOOKUP(H$205,'Hilfsblatt Ber. Wirtsch Wirk 3'!$D$11:$BX$96,87,FALSE),0))/100),0)","v":0},{"$f":"IFERROR((I$206*(HLOOKUP(I$205,'Hilfsblatt Ber. Wirtsch Wirk 3'!$D$11:$BW$96,$A269,FALSE)+IF(I$205=$C269,HLOOKUP(I$205,'Hilfsblatt Ber. Wirtsch Wirk 3'!$D$11:$BX$96,87,FALSE),0))/100),0)","v":0},{"$f":"IFERROR((J$206*(HLOOKUP(J$205,'Hilfsblatt Ber. Wirtsch Wirk 3'!$D$11:$BW$96,$A269,FALSE)+IF(J$205=$C269,HLOOKUP(J$205,'Hilfsblatt Ber. Wirtsch Wirk 3'!$D$11:$BX$96,87,FALSE),0))/100),0)","v":0},{"$f":"IFERROR((K$206*(HLOOKUP(K$205,'Hilfsblatt Ber. Wirtsch Wirk 3'!$D$11:$BW$96,$A269,FALSE)+IF(K$205=$C269,HLOOKUP(K$205,'Hilfsblatt Ber. Wirtsch Wirk 3'!$D$11:$BX$96,87,FALSE),0))/100),0)","v":0},{"$f":"IFERROR((L$206*(HLOOKUP(L$205,'Hilfsblatt Ber. Wirtsch Wirk 3'!$D$11:$BW$96,$A269,FALSE)+IF(L$205=$C269,HLOOKUP(L$205,'Hilfsblatt Ber. Wirtsch Wirk 3'!$D$11:$BX$96,87,FALSE),0))/100),0)","v":0},{"$f":"IFERROR((M$206*(HLOOKUP(M$205,'Hilfsblatt Ber. Wirtsch Wirk 3'!$D$11:$BW$96,$A269,FALSE)+IF(M$205=$C269,HLOOKUP(M$205,'Hilfsblatt Ber. Wirtsch Wirk 3'!$D$11:$BX$96,87,FALSE),0))/100),0)","v":0},{"$f":"IFERROR((N$206*(HLOOKUP(N$205,'Hilfsblatt Ber. Wirtsch Wirk 3'!$D$11:$BW$96,$A269,FALSE)+IF(N$205=$C269,HLOOKUP(N$205,'Hilfsblatt Ber. Wirtsch Wirk 3'!$D$11:$BX$96,87,FALSE),0))/100),0)","v":0},{"$f":"IFERROR((O$206*(HLOOKUP(O$205,'Hilfsblatt Ber. Wirtsch Wirk 3'!$D$11:$BW$96,$A269,FALSE)+IF(O$205=$C269,HLOOKUP(O$205,'Hilfsblatt Ber. Wirtsch Wirk 3'!$D$11:$BX$96,87,FALSE),0))/100),0)","v":0},{"$f":"IFERROR((P$206*(HLOOKUP(P$205,'Hilfsblatt Ber. Wirtsch Wirk 3'!$D$11:$BW$96,$A269,FALSE)+IF(P$205=$C269,HLOOKUP(P$205,'Hilfsblatt Ber. Wirtsch Wirk 3'!$D$11:$BX$96,87,FALSE),0))/100),0)","v":0},{"$f":"IFERROR((Q$206*(HLOOKUP(Q$205,'Hilfsblatt Ber. Wirtsch Wirk 3'!$D$11:$BW$96,$A269,FALSE)+IF(Q$205=$C269,HLOOKUP(Q$205,'Hilfsblatt Ber. Wirtsch Wirk 3'!$D$11:$BX$96,87,FALSE),0))/100),0)","v":0},{"$f":"R$206*('Hilfsblatt Ber. Wirtsch Wirk 3'!BX74+'Hilfsblatt Ber. Wirtsch Wirk 3'!BX74*'Hilfsblatt Ber. Wirtsch Wirk 3'!CA74/'Hilfsblatt Ber. Wirtsch Wirk 3'!CB74)/100","v":0},0,{"$f":"S269*'Hilfsblatt Ber. Wirtsch Wirk 3'!BZ74/('Hilfsblatt Ber. Wirtsch Wirk 3'!CA74)","v":0},{"$f":"S269/'Hilfsblatt Ber. Wirtsch Wirk 3'!CC74","v":0},{"$f":"T269*('Hilfsblatt Ber. Wirtsch Wirk 4'!B$14/'Hilfsblatt Ber. Wirtsch Wirk 4'!B$13)","v":0},{"$f":"S269*'Hilfsblatt Ber. Wirtsch Wirk 3'!CD74","v":0}]
[65,{"$f":"B170","v":"80-82"},"Wach-, Sicherheitsdienstlg., wirtschaftl. Dienstleistg. a.n.g",{"$f":"IFERROR((D$206*(HLOOKUP(D$205,'Hilfsblatt Ber. Wirtsch Wirk 3'!$D$11:$BW$96,$A270,FALSE)+IF(D$205=$C270,HLOOKUP(D$205,'Hilfsblatt Ber. Wirtsch Wirk 3'!$D$11:$BX$96,87,FALSE),0))/100),0)","v":0},{"$f":"IFERROR((E$206*(HLOOKUP(E$205,'Hilfsblatt Ber. Wirtsch Wirk 3'!$D$11:$BW$96,$A270,FALSE)+IF(E$205=$C270,HLOOKUP(E$205,'Hilfsblatt Ber. Wirtsch Wirk 3'!$D$11:$BX$96,87,FALSE),0))/100),0)","v":0},{"$f":"IFERROR((F$206*(HLOOKUP(F$205,'Hilfsblatt Ber. Wirtsch Wirk 3'!$D$11:$BW$96,$A270,FALSE)+IF(F$205=$C270,HLOOKUP(F$205,'Hilfsblatt Ber. Wirtsch Wirk 3'!$D$11:$BX$96,87,FALSE),0))/100),0)","v":0},{"$f":"IFERROR((G$206*(HLOOKUP(G$205,'Hilfsblatt Ber. Wirtsch Wirk 3'!$D$11:$BW$96,$A270,FALSE)+IF(G$205=$C270,HLOOKUP(G$205,'Hilfsblatt Ber. Wirtsch Wirk 3'!$D$11:$BX$96,87,FALSE),0))/100),0)","v":0},{"$f":"IFERROR((H$206*(HLOOKUP(H$205,'Hilfsblatt Ber. Wirtsch Wirk 3'!$D$11:$BW$96,$A270,FALSE)+IF(H$205=$C270,HLOOKUP(H$205,'Hilfsblatt Ber. Wirtsch Wirk 3'!$D$11:$BX$96,87,FALSE),0))/100),0)","v":0},{"$f":"IFERROR((I$206*(HLOOKUP(I$205,'Hilfsblatt Ber. Wirtsch Wirk 3'!$D$11:$BW$96,$A270,FALSE)+IF(I$205=$C270,HLOOKUP(I$205,'Hilfsblatt Ber. Wirtsch Wirk 3'!$D$11:$BX$96,87,FALSE),0))/100),0)","v":0},{"$f":"IFERROR((J$206*(HLOOKUP(J$205,'Hilfsblatt Ber. Wirtsch Wirk 3'!$D$11:$BW$96,$A270,FALSE)+IF(J$205=$C270,HLOOKUP(J$205,'Hilfsblatt Ber. Wirtsch Wirk 3'!$D$11:$BX$96,87,FALSE),0))/100),0)","v":0},{"$f":"IFERROR((K$206*(HLOOKUP(K$205,'Hilfsblatt Ber. Wirtsch Wirk 3'!$D$11:$BW$96,$A270,FALSE)+IF(K$205=$C270,HLOOKUP(K$205,'Hilfsblatt Ber. Wirtsch Wirk 3'!$D$11:$BX$96,87,FALSE),0))/100),0)","v":0},{"$f":"IFERROR((L$206*(HLOOKUP(L$205,'Hilfsblatt Ber. Wirtsch Wirk 3'!$D$11:$BW$96,$A270,FALSE)+IF(L$205=$C270,HLOOKUP(L$205,'Hilfsblatt Ber. Wirtsch Wirk 3'!$D$11:$BX$96,87,FALSE),0))/100),0)","v":0},{"$f":"IFERROR((M$206*(HLOOKUP(M$205,'Hilfsblatt Ber. Wirtsch Wirk 3'!$D$11:$BW$96,$A270,FALSE)+IF(M$205=$C270,HLOOKUP(M$205,'Hilfsblatt Ber. Wirtsch Wirk 3'!$D$11:$BX$96,87,FALSE),0))/100),0)","v":0},{"$f":"IFERROR((N$206*(HLOOKUP(N$205,'Hilfsblatt Ber. Wirtsch Wirk 3'!$D$11:$BW$96,$A270,FALSE)+IF(N$205=$C270,HLOOKUP(N$205,'Hilfsblatt Ber. Wirtsch Wirk 3'!$D$11:$BX$96,87,FALSE),0))/100),0)","v":0},{"$f":"IFERROR((O$206*(HLOOKUP(O$205,'Hilfsblatt Ber. Wirtsch Wirk 3'!$D$11:$BW$96,$A270,FALSE)+IF(O$205=$C270,HLOOKUP(O$205,'Hilfsblatt Ber. Wirtsch Wirk 3'!$D$11:$BX$96,87,FALSE),0))/100),0)","v":0},{"$f":"IFERROR((P$206*(HLOOKUP(P$205,'Hilfsblatt Ber. Wirtsch Wirk 3'!$D$11:$BW$96,$A270,FALSE)+IF(P$205=$C270,HLOOKUP(P$205,'Hilfsblatt Ber. Wirtsch Wirk 3'!$D$11:$BX$96,87,FALSE),0))/100),0)","v":0},{"$f":"IFERROR((Q$206*(HLOOKUP(Q$205,'Hilfsblatt Ber. Wirtsch Wirk 3'!$D$11:$BW$96,$A270,FALSE)+IF(Q$205=$C270,HLOOKUP(Q$205,'Hilfsblatt Ber. Wirtsch Wirk 3'!$D$11:$BX$96,87,FALSE),0))/100),0)","v":0},{"$f":"R$206*('Hilfsblatt Ber. Wirtsch Wirk 3'!BX75+'Hilfsblatt Ber. Wirtsch Wirk 3'!BX75*'Hilfsblatt Ber. Wirtsch Wirk 3'!CA75/'Hilfsblatt Ber. Wirtsch Wirk 3'!CB75)/100","v":0},0,{"$f":"S270*'Hilfsblatt Ber. Wirtsch Wirk 3'!BZ75/('Hilfsblatt Ber. Wirtsch Wirk 3'!CA75)","v":0},{"$f":"S270/'Hilfsblatt Ber. Wirtsch Wirk 3'!CC75","v":0},{"$f":"T270*('Hilfsblatt Ber. Wirtsch Wirk 4'!B$14/'Hilfsblatt Ber. Wirtsch Wirk 4'!B$13)","v":0},{"$f":"S270*'Hilfsblatt Ber. Wirtsch Wirk 3'!CD75","v":0}]
[66,{"$f":"B171","v":"84.1-84.2"},"Dienstleistungen der öffentlichen Verwaltung und der Verteidigung",{"$f":"IFERROR((D$206*(HLOOKUP(D$205,'Hilfsblatt Ber. Wirtsch Wirk 3'!$D$11:$BW$96,$A271,FALSE)+IF(D$205=$C271,HLOOKUP(D$205,'Hilfsblatt Ber. Wirtsch Wirk 3'!$D$11:$BX$96,87,FALSE),0))/100),0)","v":0},{"$f":"IFERROR((E$206*(HLOOKUP(E$205,'Hilfsblatt Ber. Wirtsch Wirk 3'!$D$11:$BW$96,$A271,FALSE)+IF(E$205=$C271,HLOOKUP(E$205,'Hilfsblatt Ber. Wirtsch Wirk 3'!$D$11:$BX$96,87,FALSE),0))/100),0)","v":0},{"$f":"IFERROR((F$206*(HLOOKUP(F$205,'Hilfsblatt Ber. Wirtsch Wirk 3'!$D$11:$BW$96,$A271,FALSE)+IF(F$205=$C271,HLOOKUP(F$205,'Hilfsblatt Ber. Wirtsch Wirk 3'!$D$11:$BX$96,87,FALSE),0))/100),0)","v":0},{"$f":"IFERROR((G$206*(HLOOKUP(G$205,'Hilfsblatt Ber. Wirtsch Wirk 3'!$D$11:$BW$96,$A271,FALSE)+IF(G$205=$C271,HLOOKUP(G$205,'Hilfsblatt Ber. Wirtsch Wirk 3'!$D$11:$BX$96,87,FALSE),0))/100),0)","v":0},{"$f":"IFERROR((H$206*(HLOOKUP(H$205,'Hilfsblatt Ber. Wirtsch Wirk 3'!$D$11:$BW$96,$A271,FALSE)+IF(H$205=$C271,HLOOKUP(H$205,'Hilfsblatt Ber. Wirtsch Wirk 3'!$D$11:$BX$96,87,FALSE),0))/100),0)","v":0},{"$f":"IFERROR((I$206*(HLOOKUP(I$205,'Hilfsblatt Ber. Wirtsch Wirk 3'!$D$11:$BW$96,$A271,FALSE)+IF(I$205=$C271,HLOOKUP(I$205,'Hilfsblatt Ber. Wirtsch Wirk 3'!$D$11:$BX$96,87,FALSE),0))/100),0)","v":0},{"$f":"IFERROR((J$206*(HLOOKUP(J$205,'Hilfsblatt Ber. Wirtsch Wirk 3'!$D$11:$BW$96,$A271,FALSE)+IF(J$205=$C271,HLOOKUP(J$205,'Hilfsblatt Ber. Wirtsch Wirk 3'!$D$11:$BX$96,87,FALSE),0))/100),0)","v":0},{"$f":"IFERROR((K$206*(HLOOKUP(K$205,'Hilfsblatt Ber. Wirtsch Wirk 3'!$D$11:$BW$96,$A271,FALSE)+IF(K$205=$C271,HLOOKUP(K$205,'Hilfsblatt Ber. Wirtsch Wirk 3'!$D$11:$BX$96,87,FALSE),0))/100),0)","v":0},{"$f":"IFERROR((L$206*(HLOOKUP(L$205,'Hilfsblatt Ber. Wirtsch Wirk 3'!$D$11:$BW$96,$A271,FALSE)+IF(L$205=$C271,HLOOKUP(L$205,'Hilfsblatt Ber. Wirtsch Wirk 3'!$D$11:$BX$96,87,FALSE),0))/100),0)","v":0},{"$f":"IFERROR((M$206*(HLOOKUP(M$205,'Hilfsblatt Ber. Wirtsch Wirk 3'!$D$11:$BW$96,$A271,FALSE)+IF(M$205=$C271,HLOOKUP(M$205,'Hilfsblatt Ber. Wirtsch Wirk 3'!$D$11:$BX$96,87,FALSE),0))/100),0)","v":0},{"$f":"IFERROR((N$206*(HLOOKUP(N$205,'Hilfsblatt Ber. Wirtsch Wirk 3'!$D$11:$BW$96,$A271,FALSE)+IF(N$205=$C271,HLOOKUP(N$205,'Hilfsblatt Ber. Wirtsch Wirk 3'!$D$11:$BX$96,87,FALSE),0))/100),0)","v":0},{"$f":"IFERROR((O$206*(HLOOKUP(O$205,'Hilfsblatt Ber. Wirtsch Wirk 3'!$D$11:$BW$96,$A271,FALSE)+IF(O$205=$C271,HLOOKUP(O$205,'Hilfsblatt Ber. Wirtsch Wirk 3'!$D$11:$BX$96,87,FALSE),0))/100),0)","v":0},{"$f":"IFERROR((P$206*(HLOOKUP(P$205,'Hilfsblatt Ber. Wirtsch Wirk 3'!$D$11:$BW$96,$A271,FALSE)+IF(P$205=$C271,HLOOKUP(P$205,'Hilfsblatt Ber. Wirtsch Wirk 3'!$D$11:$BX$96,87,FALSE),0))/100),0)","v":0},{"$f":"IFERROR((Q$206*(HLOOKUP(Q$205,'Hilfsblatt Ber. Wirtsch Wirk 3'!$D$11:$BW$96,$A271,FALSE)+IF(Q$205=$C271,HLOOKUP(Q$205,'Hilfsblatt Ber. Wirtsch Wirk 3'!$D$11:$BX$96,87,FALSE),0))/100),0)","v":0},{"$f":"R$206*('Hilfsblatt Ber. Wirtsch Wirk 3'!BX76+'Hilfsblatt Ber. Wirtsch Wirk 3'!BX76*'Hilfsblatt Ber. Wirtsch Wirk 3'!CA76/'Hilfsblatt Ber. Wirtsch Wirk 3'!CB76)/100","v":0},0,{"$f":"S271*'Hilfsblatt Ber. Wirtsch Wirk 3'!BZ76/('Hilfsblatt Ber. Wirtsch Wirk 3'!CA76)","v":0},{"$f":"S271/'Hilfsblatt Ber. Wirtsch Wirk 3'!CC76","v":0},{"$f":"T271*('Hilfsblatt Ber. Wirtsch Wirk 4'!B$14/'Hilfsblatt Ber. Wirtsch Wirk 4'!B$13)","v":0},{"$f":"S271*'Hilfsblatt Ber. Wirtsch Wirk 3'!CD76","v":0}]
[67,{"$f":"B172","v":"84.3"},"Dienstleistungen der Sozialversicherung",{"$f":"IFERROR((D$206*(HLOOKUP(D$205,'Hilfsblatt Ber. Wirtsch Wirk 3'!$D$11:$BW$96,$A272,FALSE)+IF(D$205=$C272,HLOOKUP(D$205,'Hilfsblatt Ber. Wirtsch Wirk 3'!$D$11:$BX$96,87,FALSE),0))/100),0)","v":0},{"$f":"IFERROR((E$206*(HLOOKUP(E$205,'Hilfsblatt Ber. Wirtsch Wirk 3'!$D$11:$BW$96,$A272,FALSE)+IF(E$205=$C272,HLOOKUP(E$205,'Hilfsblatt Ber. Wirtsch Wirk 3'!$D$11:$BX$96,87,FALSE),0))/100),0)","v":0},{"$f":"IFERROR((F$206*(HLOOKUP(F$205,'Hilfsblatt Ber. Wirtsch Wirk 3'!$D$11:$BW$96,$A272,FALSE)+IF(F$205=$C272,HLOOKUP(F$205,'Hilfsblatt Ber. Wirtsch Wirk 3'!$D$11:$BX$96,87,FALSE),0))/100),0)","v":0},{"$f":"IFERROR((G$206*(HLOOKUP(G$205,'Hilfsblatt Ber. Wirtsch Wirk 3'!$D$11:$BW$96,$A272,FALSE)+IF(G$205=$C272,HLOOKUP(G$205,'Hilfsblatt Ber. Wirtsch Wirk 3'!$D$11:$BX$96,87,FALSE),0))/100),0)","v":0},{"$f":"IFERROR((H$206*(HLOOKUP(H$205,'Hilfsblatt Ber. Wirtsch Wirk 3'!$D$11:$BW$96,$A272,FALSE)+IF(H$205=$C272,HLOOKUP(H$205,'Hilfsblatt Ber. Wirtsch Wirk 3'!$D$11:$BX$96,87,FALSE),0))/100),0)","v":0},{"$f":"IFERROR((I$206*(HLOOKUP(I$205,'Hilfsblatt Ber. Wirtsch Wirk 3'!$D$11:$BW$96,$A272,FALSE)+IF(I$205=$C272,HLOOKUP(I$205,'Hilfsblatt Ber. Wirtsch Wirk 3'!$D$11:$BX$96,87,FALSE),0))/100),0)","v":0},{"$f":"IFERROR((J$206*(HLOOKUP(J$205,'Hilfsblatt Ber. Wirtsch Wirk 3'!$D$11:$BW$96,$A272,FALSE)+IF(J$205=$C272,HLOOKUP(J$205,'Hilfsblatt Ber. Wirtsch Wirk 3'!$D$11:$BX$96,87,FALSE),0))/100),0)","v":0},{"$f":"IFERROR((K$206*(HLOOKUP(K$205,'Hilfsblatt Ber. Wirtsch Wirk 3'!$D$11:$BW$96,$A272,FALSE)+IF(K$205=$C272,HLOOKUP(K$205,'Hilfsblatt Ber. Wirtsch Wirk 3'!$D$11:$BX$96,87,FALSE),0))/100),0)","v":0},{"$f":"IFERROR((L$206*(HLOOKUP(L$205,'Hilfsblatt Ber. Wirtsch Wirk 3'!$D$11:$BW$96,$A272,FALSE)+IF(L$205=$C272,HLOOKUP(L$205,'Hilfsblatt Ber. Wirtsch Wirk 3'!$D$11:$BX$96,87,FALSE),0))/100),0)","v":0},{"$f":"IFERROR((M$206*(HLOOKUP(M$205,'Hilfsblatt Ber. Wirtsch Wirk 3'!$D$11:$BW$96,$A272,FALSE)+IF(M$205=$C272,HLOOKUP(M$205,'Hilfsblatt Ber. Wirtsch Wirk 3'!$D$11:$BX$96,87,FALSE),0))/100),0)","v":0},{"$f":"IFERROR((N$206*(HLOOKUP(N$205,'Hilfsblatt Ber. Wirtsch Wirk 3'!$D$11:$BW$96,$A272,FALSE)+IF(N$205=$C272,HLOOKUP(N$205,'Hilfsblatt Ber. Wirtsch Wirk 3'!$D$11:$BX$96,87,FALSE),0))/100),0)","v":0},{"$f":"IFERROR((O$206*(HLOOKUP(O$205,'Hilfsblatt Ber. Wirtsch Wirk 3'!$D$11:$BW$96,$A272,FALSE)+IF(O$205=$C272,HLOOKUP(O$205,'Hilfsblatt Ber. Wirtsch Wirk 3'!$D$11:$BX$96,87,FALSE),0))/100),0)","v":0},{"$f":"IFERROR((P$206*(HLOOKUP(P$205,'Hilfsblatt Ber. Wirtsch Wirk 3'!$D$11:$BW$96,$A272,FALSE)+IF(P$205=$C272,HLOOKUP(P$205,'Hilfsblatt Ber. Wirtsch Wirk 3'!$D$11:$BX$96,87,FALSE),0))/100),0)","v":0},{"$f":"IFERROR((Q$206*(HLOOKUP(Q$205,'Hilfsblatt Ber. Wirtsch Wirk 3'!$D$11:$BW$96,$A272,FALSE)+IF(Q$205=$C272,HLOOKUP(Q$205,'Hilfsblatt Ber. Wirtsch Wirk 3'!$D$11:$BX$96,87,FALSE),0))/100),0)","v":0},{"$f":"R$206*('Hilfsblatt Ber. Wirtsch Wirk 3'!BX77+'Hilfsblatt Ber. Wirtsch Wirk 3'!BX77*'Hilfsblatt Ber. Wirtsch Wirk 3'!CA77/'Hilfsblatt Ber. Wirtsch Wirk 3'!CB77)/100","v":0},0,{"$f":"S272*'Hilfsblatt Ber. Wirtsch Wirk 3'!BZ77/('Hilfsblatt Ber. Wirtsch Wirk 3'!CA77)","v":0},{"$f":"S272/'Hilfsblatt Ber. Wirtsch Wirk 3'!CC77","v":0},{"$f":"T272*('Hilfsblatt Ber. Wirtsch Wirk 4'!B$14/'Hilfsblatt Ber. Wirtsch Wirk 4'!B$13)","v":0},{"$f":"S272*'Hilfsblatt Ber. Wirtsch Wirk 3'!CD77","v":0}]
[68,{"$f":"B173","v":"85"},"Erziehungs- und Unterrichtsdienstleistungen",{"$f":"IFERROR((D$206*(HLOOKUP(D$205,'Hilfsblatt Ber. Wirtsch Wirk 3'!$D$11:$BW$96,$A273,FALSE)+IF(D$205=$C273,HLOOKUP(D$205,'Hilfsblatt Ber. Wirtsch Wirk 3'!$D$11:$BX$96,87,FALSE),0))/100),0)","v":0},{"$f":"IFERROR((E$206*(HLOOKUP(E$205,'Hilfsblatt Ber. Wirtsch Wirk 3'!$D$11:$BW$96,$A273,FALSE)+IF(E$205=$C273,HLOOKUP(E$205,'Hilfsblatt Ber. Wirtsch Wirk 3'!$D$11:$BX$96,87,FALSE),0))/100),0)","v":0},{"$f":"IFERROR((F$206*(HLOOKUP(F$205,'Hilfsblatt Ber. Wirtsch Wirk 3'!$D$11:$BW$96,$A273,FALSE)+IF(F$205=$C273,HLOOKUP(F$205,'Hilfsblatt Ber. Wirtsch Wirk 3'!$D$11:$BX$96,87,FALSE),0))/100),0)","v":0},{"$f":"IFERROR((G$206*(HLOOKUP(G$205,'Hilfsblatt Ber. Wirtsch Wirk 3'!$D$11:$BW$96,$A273,FALSE)+IF(G$205=$C273,HLOOKUP(G$205,'Hilfsblatt Ber. Wirtsch Wirk 3'!$D$11:$BX$96,87,FALSE),0))/100),0)","v":0},{"$f":"IFERROR((H$206*(HLOOKUP(H$205,'Hilfsblatt Ber. Wirtsch Wirk 3'!$D$11:$BW$96,$A273,FALSE)+IF(H$205=$C273,HLOOKUP(H$205,'Hilfsblatt Ber. Wirtsch Wirk 3'!$D$11:$BX$96,87,FALSE),0))/100),0)","v":0},{"$f":"IFERROR((I$206*(HLOOKUP(I$205,'Hilfsblatt Ber. Wirtsch Wirk 3'!$D$11:$BW$96,$A273,FALSE)+IF(I$205=$C273,HLOOKUP(I$205,'Hilfsblatt Ber. Wirtsch Wirk 3'!$D$11:$BX$96,87,FALSE),0))/100),0)","v":0},{"$f":"IFERROR((J$206*(HLOOKUP(J$205,'Hilfsblatt Ber. Wirtsch Wirk 3'!$D$11:$BW$96,$A273,FALSE)+IF(J$205=$C273,HLOOKUP(J$205,'Hilfsblatt Ber. Wirtsch Wirk 3'!$D$11:$BX$96,87,FALSE),0))/100),0)","v":0},{"$f":"IFERROR((K$206*(HLOOKUP(K$205,'Hilfsblatt Ber. Wirtsch Wirk 3'!$D$11:$BW$96,$A273,FALSE)+IF(K$205=$C273,HLOOKUP(K$205,'Hilfsblatt Ber. Wirtsch Wirk 3'!$D$11:$BX$96,87,FALSE),0))/100),0)","v":0},{"$f":"IFERROR((L$206*(HLOOKUP(L$205,'Hilfsblatt Ber. Wirtsch Wirk 3'!$D$11:$BW$96,$A273,FALSE)+IF(L$205=$C273,HLOOKUP(L$205,'Hilfsblatt Ber. Wirtsch Wirk 3'!$D$11:$BX$96,87,FALSE),0))/100),0)","v":0},{"$f":"IFERROR((M$206*(HLOOKUP(M$205,'Hilfsblatt Ber. Wirtsch Wirk 3'!$D$11:$BW$96,$A273,FALSE)+IF(M$205=$C273,HLOOKUP(M$205,'Hilfsblatt Ber. Wirtsch Wirk 3'!$D$11:$BX$96,87,FALSE),0))/100),0)","v":0},{"$f":"IFERROR((N$206*(HLOOKUP(N$205,'Hilfsblatt Ber. Wirtsch Wirk 3'!$D$11:$BW$96,$A273,FALSE)+IF(N$205=$C273,HLOOKUP(N$205,'Hilfsblatt Ber. Wirtsch Wirk 3'!$D$11:$BX$96,87,FALSE),0))/100),0)","v":0},{"$f":"IFERROR((O$206*(HLOOKUP(O$205,'Hilfsblatt Ber. Wirtsch Wirk 3'!$D$11:$BW$96,$A273,FALSE)+IF(O$205=$C273,HLOOKUP(O$205,'Hilfsblatt Ber. Wirtsch Wirk 3'!$D$11:$BX$96,87,FALSE),0))/100),0)","v":0},{"$f":"IFERROR((P$206*(HLOOKUP(P$205,'Hilfsblatt Ber. Wirtsch Wirk 3'!$D$11:$BW$96,$A273,FALSE)+IF(P$205=$C273,HLOOKUP(P$205,'Hilfsblatt Ber. Wirtsch Wirk 3'!$D$11:$BX$96,87,FALSE),0))/100),0)","v":0},{"$f":"IFERROR((Q$206*(HLOOKUP(Q$205,'Hilfsblatt Ber. Wirtsch Wirk 3'!$D$11:$BW$96,$A273,FALSE)+IF(Q$205=$C273,HLOOKUP(Q$205,'Hilfsblatt Ber. Wirtsch Wirk 3'!$D$11:$BX$96,87,FALSE),0))/100),0)","v":0},{"$f":"R$206*('Hilfsblatt Ber. Wirtsch Wirk 3'!BX78+'Hilfsblatt Ber. Wirtsch Wirk 3'!BX78*'Hilfsblatt Ber. Wirtsch Wirk 3'!CA78/'Hilfsblatt Ber. Wirtsch Wirk 3'!CB78)/100","v":0},0,{"$f":"S273*'Hilfsblatt Ber. Wirtsch Wirk 3'!BZ78/('Hilfsblatt Ber. Wirtsch Wirk 3'!CA78)","v":0},{"$f":"S273/'Hilfsblatt Ber. Wirtsch Wirk 3'!CC78","v":0},{"$f":"T273*('Hilfsblatt Ber. Wirtsch Wirk 4'!B$14/'Hilfsblatt Ber. Wirtsch Wirk 4'!B$13)","v":0},{"$f":"S273*'Hilfsblatt Ber. Wirtsch Wirk 3'!CD78","v":0}]
[69,{"$f":"B174","v":"86"},"Dienstleistungen des Gesundheitswesens ",{"$f":"IFERROR((D$206*(HLOOKUP(D$205,'Hilfsblatt Ber. Wirtsch Wirk 3'!$D$11:$BW$96,$A274,FALSE)+IF(D$205=$C274,HLOOKUP(D$205,'Hilfsblatt Ber. Wirtsch Wirk 3'!$D$11:$BX$96,87,FALSE),0))/100),0)","v":0},{"$f":"IFERROR((E$206*(HLOOKUP(E$205,'Hilfsblatt Ber. Wirtsch Wirk 3'!$D$11:$BW$96,$A274,FALSE)+IF(E$205=$C274,HLOOKUP(E$205,'Hilfsblatt Ber. Wirtsch Wirk 3'!$D$11:$BX$96,87,FALSE),0))/100),0)","v":0},{"$f":"IFERROR((F$206*(HLOOKUP(F$205,'Hilfsblatt Ber. Wirtsch Wirk 3'!$D$11:$BW$96,$A274,FALSE)+IF(F$205=$C274,HLOOKUP(F$205,'Hilfsblatt Ber. Wirtsch Wirk 3'!$D$11:$BX$96,87,FALSE),0))/100),0)","v":0},{"$f":"IFERROR((G$206*(HLOOKUP(G$205,'Hilfsblatt Ber. Wirtsch Wirk 3'!$D$11:$BW$96,$A274,FALSE)+IF(G$205=$C274,HLOOKUP(G$205,'Hilfsblatt Ber. Wirtsch Wirk 3'!$D$11:$BX$96,87,FALSE),0))/100),0)","v":0},{"$f":"IFERROR((H$206*(HLOOKUP(H$205,'Hilfsblatt Ber. Wirtsch Wirk 3'!$D$11:$BW$96,$A274,FALSE)+IF(H$205=$C274,HLOOKUP(H$205,'Hilfsblatt Ber. Wirtsch Wirk 3'!$D$11:$BX$96,87,FALSE),0))/100),0)","v":0},{"$f":"IFERROR((I$206*(HLOOKUP(I$205,'Hilfsblatt Ber. Wirtsch Wirk 3'!$D$11:$BW$96,$A274,FALSE)+IF(I$205=$C274,HLOOKUP(I$205,'Hilfsblatt Ber. Wirtsch Wirk 3'!$D$11:$BX$96,87,FALSE),0))/100),0)","v":0},{"$f":"IFERROR((J$206*(HLOOKUP(J$205,'Hilfsblatt Ber. Wirtsch Wirk 3'!$D$11:$BW$96,$A274,FALSE)+IF(J$205=$C274,HLOOKUP(J$205,'Hilfsblatt Ber. Wirtsch Wirk 3'!$D$11:$BX$96,87,FALSE),0))/100),0)","v":0},{"$f":"IFERROR((K$206*(HLOOKUP(K$205,'Hilfsblatt Ber. Wirtsch Wirk 3'!$D$11:$BW$96,$A274,FALSE)+IF(K$205=$C274,HLOOKUP(K$205,'Hilfsblatt Ber. Wirtsch Wirk 3'!$D$11:$BX$96,87,FALSE),0))/100),0)","v":0},{"$f":"IFERROR((L$206*(HLOOKUP(L$205,'Hilfsblatt Ber. Wirtsch Wirk 3'!$D$11:$BW$96,$A274,FALSE)+IF(L$205=$C274,HLOOKUP(L$205,'Hilfsblatt Ber. Wirtsch Wirk 3'!$D$11:$BX$96,87,FALSE),0))/100),0)","v":0},{"$f":"IFERROR((M$206*(HLOOKUP(M$205,'Hilfsblatt Ber. Wirtsch Wirk 3'!$D$11:$BW$96,$A274,FALSE)+IF(M$205=$C274,HLOOKUP(M$205,'Hilfsblatt Ber. Wirtsch Wirk 3'!$D$11:$BX$96,87,FALSE),0))/100),0)","v":0},{"$f":"IFERROR((N$206*(HLOOKUP(N$205,'Hilfsblatt Ber. Wirtsch Wirk 3'!$D$11:$BW$96,$A274,FALSE)+IF(N$205=$C274,HLOOKUP(N$205,'Hilfsblatt Ber. Wirtsch Wirk 3'!$D$11:$BX$96,87,FALSE),0))/100),0)","v":0},{"$f":"IFERROR((O$206*(HLOOKUP(O$205,'Hilfsblatt Ber. Wirtsch Wirk 3'!$D$11:$BW$96,$A274,FALSE)+IF(O$205=$C274,HLOOKUP(O$205,'Hilfsblatt Ber. Wirtsch Wirk 3'!$D$11:$BX$96,87,FALSE),0))/100),0)","v":0},{"$f":"IFERROR((P$206*(HLOOKUP(P$205,'Hilfsblatt Ber. Wirtsch Wirk 3'!$D$11:$BW$96,$A274,FALSE)+IF(P$205=$C274,HLOOKUP(P$205,'Hilfsblatt Ber. Wirtsch Wirk 3'!$D$11:$BX$96,87,FALSE),0))/100),0)","v":0},{"$f":"IFERROR((Q$206*(HLOOKUP(Q$205,'Hilfsblatt Ber. Wirtsch Wirk 3'!$D$11:$BW$96,$A274,FALSE)+IF(Q$205=$C274,HLOOKUP(Q$205,'Hilfsblatt Ber. Wirtsch Wirk 3'!$D$11:$BX$96,87,FALSE),0))/100),0)","v":0},{"$f":"R$206*('Hilfsblatt Ber. Wirtsch Wirk 3'!BX79+'Hilfsblatt Ber. Wirtsch Wirk 3'!BX79*'Hilfsblatt Ber. Wirtsch Wirk 3'!CA79/'Hilfsblatt Ber. Wirtsch Wirk 3'!CB79)/100","v":0},0,{"$f":"S274*'Hilfsblatt Ber. Wirtsch Wirk 3'!BZ79/('Hilfsblatt Ber. Wirtsch Wirk 3'!CA79)","v":0},{"$f":"S274/'Hilfsblatt Ber. Wirtsch Wirk 3'!CC79","v":0},{"$f":"T274*('Hilfsblatt Ber. Wirtsch Wirk 4'!B$14/'Hilfsblatt Ber. Wirtsch Wirk 4'!B$13)","v":0},{"$f":"S274*'Hilfsblatt Ber. Wirtsch Wirk 3'!CD79","v":0}]
[70,{"$f":"B175","v":"87-88"},"Dienstleistungen von Heimen und des Sozialwesens ",{"$f":"IFERROR((D$206*(HLOOKUP(D$205,'Hilfsblatt Ber. Wirtsch Wirk 3'!$D$11:$BW$96,$A275,FALSE)+IF(D$205=$C275,HLOOKUP(D$205,'Hilfsblatt Ber. Wirtsch Wirk 3'!$D$11:$BX$96,87,FALSE),0))/100),0)","v":0},{"$f":"IFERROR((E$206*(HLOOKUP(E$205,'Hilfsblatt Ber. Wirtsch Wirk 3'!$D$11:$BW$96,$A275,FALSE)+IF(E$205=$C275,HLOOKUP(E$205,'Hilfsblatt Ber. Wirtsch Wirk 3'!$D$11:$BX$96,87,FALSE),0))/100),0)","v":0},{"$f":"IFERROR((F$206*(HLOOKUP(F$205,'Hilfsblatt Ber. Wirtsch Wirk 3'!$D$11:$BW$96,$A275,FALSE)+IF(F$205=$C275,HLOOKUP(F$205,'Hilfsblatt Ber. Wirtsch Wirk 3'!$D$11:$BX$96,87,FALSE),0))/100),0)","v":0},{"$f":"IFERROR((G$206*(HLOOKUP(G$205,'Hilfsblatt Ber. Wirtsch Wirk 3'!$D$11:$BW$96,$A275,FALSE)+IF(G$205=$C275,HLOOKUP(G$205,'Hilfsblatt Ber. Wirtsch Wirk 3'!$D$11:$BX$96,87,FALSE),0))/100),0)","v":0},{"$f":"IFERROR((H$206*(HLOOKUP(H$205,'Hilfsblatt Ber. Wirtsch Wirk 3'!$D$11:$BW$96,$A275,FALSE)+IF(H$205=$C275,HLOOKUP(H$205,'Hilfsblatt Ber. Wirtsch Wirk 3'!$D$11:$BX$96,87,FALSE),0))/100),0)","v":0},{"$f":"IFERROR((I$206*(HLOOKUP(I$205,'Hilfsblatt Ber. Wirtsch Wirk 3'!$D$11:$BW$96,$A275,FALSE)+IF(I$205=$C275,HLOOKUP(I$205,'Hilfsblatt Ber. Wirtsch Wirk 3'!$D$11:$BX$96,87,FALSE),0))/100),0)","v":0},{"$f":"IFERROR((J$206*(HLOOKUP(J$205,'Hilfsblatt Ber. Wirtsch Wirk 3'!$D$11:$BW$96,$A275,FALSE)+IF(J$205=$C275,HLOOKUP(J$205,'Hilfsblatt Ber. Wirtsch Wirk 3'!$D$11:$BX$96,87,FALSE),0))/100),0)","v":0},{"$f":"IFERROR((K$206*(HLOOKUP(K$205,'Hilfsblatt Ber. Wirtsch Wirk 3'!$D$11:$BW$96,$A275,FALSE)+IF(K$205=$C275,HLOOKUP(K$205,'Hilfsblatt Ber. Wirtsch Wirk 3'!$D$11:$BX$96,87,FALSE),0))/100),0)","v":0},{"$f":"IFERROR((L$206*(HLOOKUP(L$205,'Hilfsblatt Ber. Wirtsch Wirk 3'!$D$11:$BW$96,$A275,FALSE)+IF(L$205=$C275,HLOOKUP(L$205,'Hilfsblatt Ber. Wirtsch Wirk 3'!$D$11:$BX$96,87,FALSE),0))/100),0)","v":0},{"$f":"IFERROR((M$206*(HLOOKUP(M$205,'Hilfsblatt Ber. Wirtsch Wirk 3'!$D$11:$BW$96,$A275,FALSE)+IF(M$205=$C275,HLOOKUP(M$205,'Hilfsblatt Ber. Wirtsch Wirk 3'!$D$11:$BX$96,87,FALSE),0))/100),0)","v":0},{"$f":"IFERROR((N$206*(HLOOKUP(N$205,'Hilfsblatt Ber. Wirtsch Wirk 3'!$D$11:$BW$96,$A275,FALSE)+IF(N$205=$C275,HLOOKUP(N$205,'Hilfsblatt Ber. Wirtsch Wirk 3'!$D$11:$BX$96,87,FALSE),0))/100),0)","v":0},{"$f":"IFERROR((O$206*(HLOOKUP(O$205,'Hilfsblatt Ber. Wirtsch Wirk 3'!$D$11:$BW$96,$A275,FALSE)+IF(O$205=$C275,HLOOKUP(O$205,'Hilfsblatt Ber. Wirtsch Wirk 3'!$D$11:$BX$96,87,FALSE),0))/100),0)","v":0},{"$f":"IFERROR((P$206*(HLOOKUP(P$205,'Hilfsblatt Ber. Wirtsch Wirk 3'!$D$11:$BW$96,$A275,FALSE)+IF(P$205=$C275,HLOOKUP(P$205,'Hilfsblatt Ber. Wirtsch Wirk 3'!$D$11:$BX$96,87,FALSE),0))/100),0)","v":0},{"$f":"IFERROR((Q$206*(HLOOKUP(Q$205,'Hilfsblatt Ber. Wirtsch Wirk 3'!$D$11:$BW$96,$A275,FALSE)+IF(Q$205=$C275,HLOOKUP(Q$205,'Hilfsblatt Ber. Wirtsch Wirk 3'!$D$11:$BX$96,87,FALSE),0))/100),0)","v":0},{"$f":"R$206*('Hilfsblatt Ber. Wirtsch Wirk 3'!BX80+'Hilfsblatt Ber. Wirtsch Wirk 3'!BX80*'Hilfsblatt Ber. Wirtsch Wirk 3'!CA80/'Hilfsblatt Ber. Wirtsch Wirk 3'!CB80)/100","v":0},{"$f":"SUM(D275:R275)","v":0},{"$f":"S275*'Hilfsblatt Ber. Wirtsch Wirk 3'!BZ80/('Hilfsblatt Ber. Wirtsch Wirk 3'!CA80)","v":0},{"$f":"S275/'Hilfsblatt Ber. Wirtsch Wirk 3'!CC80","v":0},{"$f":"T275*('Hilfsblatt Ber. Wirtsch Wirk 4'!B$14/'Hilfsblatt Ber. Wirtsch Wirk 4'!B$13)","v":0},{"$f":"S275*'Hilfsblatt Ber. Wirtsch Wirk 3'!CD80","v":0}]
[71,{"$f":"B176","v":"90-92"},"Dienstleistungen der Kunst,  der Kultur und des Glücksspiels",{"$f":"IFERROR((D$206*(HLOOKUP(D$205,'Hilfsblatt Ber. Wirtsch Wirk 3'!$D$11:$BW$96,$A276,FALSE)+IF(D$205=$C276,HLOOKUP(D$205,'Hilfsblatt Ber. Wirtsch Wirk 3'!$D$11:$BX$96,87,FALSE),0))/100),0)","v":0},{"$f":"IFERROR((E$206*(HLOOKUP(E$205,'Hilfsblatt Ber. Wirtsch Wirk 3'!$D$11:$BW$96,$A276,FALSE)+IF(E$205=$C276,HLOOKUP(E$205,'Hilfsblatt Ber. Wirtsch Wirk 3'!$D$11:$BX$96,87,FALSE),0))/100),0)","v":0},{"$f":"IFERROR((F$206*(HLOOKUP(F$205,'Hilfsblatt Ber. Wirtsch Wirk 3'!$D$11:$BW$96,$A276,FALSE)+IF(F$205=$C276,HLOOKUP(F$205,'Hilfsblatt Ber. Wirtsch Wirk 3'!$D$11:$BX$96,87,FALSE),0))/100),0)","v":0},{"$f":"IFERROR((G$206*(HLOOKUP(G$205,'Hilfsblatt Ber. Wirtsch Wirk 3'!$D$11:$BW$96,$A276,FALSE)+IF(G$205=$C276,HLOOKUP(G$205,'Hilfsblatt Ber. Wirtsch Wirk 3'!$D$11:$BX$96,87,FALSE),0))/100),0)","v":0},{"$f":"IFERROR((H$206*(HLOOKUP(H$205,'Hilfsblatt Ber. Wirtsch Wirk 3'!$D$11:$BW$96,$A276,FALSE)+IF(H$205=$C276,HLOOKUP(H$205,'Hilfsblatt Ber. Wirtsch Wirk 3'!$D$11:$BX$96,87,FALSE),0))/100),0)","v":0},{"$f":"IFERROR((I$206*(HLOOKUP(I$205,'Hilfsblatt Ber. Wirtsch Wirk 3'!$D$11:$BW$96,$A276,FALSE)+IF(I$205=$C276,HLOOKUP(I$205,'Hilfsblatt Ber. Wirtsch Wirk 3'!$D$11:$BX$96,87,FALSE),0))/100),0)","v":0},{"$f":"IFERROR((J$206*(HLOOKUP(J$205,'Hilfsblatt Ber. Wirtsch Wirk 3'!$D$11:$BW$96,$A276,FALSE)+IF(J$205=$C276,HLOOKUP(J$205,'Hilfsblatt Ber. Wirtsch Wirk 3'!$D$11:$BX$96,87,FALSE),0))/100),0)","v":0},{"$f":"IFERROR((K$206*(HLOOKUP(K$205,'Hilfsblatt Ber. Wirtsch Wirk 3'!$D$11:$BW$96,$A276,FALSE)+IF(K$205=$C276,HLOOKUP(K$205,'Hilfsblatt Ber. Wirtsch Wirk 3'!$D$11:$BX$96,87,FALSE),0))/100),0)","v":0},{"$f":"IFERROR((L$206*(HLOOKUP(L$205,'Hilfsblatt Ber. Wirtsch Wirk 3'!$D$11:$BW$96,$A276,FALSE)+IF(L$205=$C276,HLOOKUP(L$205,'Hilfsblatt Ber. Wirtsch Wirk 3'!$D$11:$BX$96,87,FALSE),0))/100),0)","v":0},{"$f":"IFERROR((M$206*(HLOOKUP(M$205,'Hilfsblatt Ber. Wirtsch Wirk 3'!$D$11:$BW$96,$A276,FALSE)+IF(M$205=$C276,HLOOKUP(M$205,'Hilfsblatt Ber. Wirtsch Wirk 3'!$D$11:$BX$96,87,FALSE),0))/100),0)","v":0},{"$f":"IFERROR((N$206*(HLOOKUP(N$205,'Hilfsblatt Ber. Wirtsch Wirk 3'!$D$11:$BW$96,$A276,FALSE)+IF(N$205=$C276,HLOOKUP(N$205,'Hilfsblatt Ber. Wirtsch Wirk 3'!$D$11:$BX$96,87,FALSE),0))/100),0)","v":0},{"$f":"IFERROR((O$206*(HLOOKUP(O$205,'Hilfsblatt Ber. Wirtsch Wirk 3'!$D$11:$BW$96,$A276,FALSE)+IF(O$205=$C276,HLOOKUP(O$205,'Hilfsblatt Ber. Wirtsch Wirk 3'!$D$11:$BX$96,87,FALSE),0))/100),0)","v":0},{"$f":"IFERROR((P$206*(HLOOKUP(P$205,'Hilfsblatt Ber. Wirtsch Wirk 3'!$D$11:$BW$96,$A276,FALSE)+IF(P$205=$C276,HLOOKUP(P$205,'Hilfsblatt Ber. Wirtsch Wirk 3'!$D$11:$BX$96,87,FALSE),0))/100),0)","v":0},{"$f":"IFERROR((Q$206*(HLOOKUP(Q$205,'Hilfsblatt Ber. Wirtsch Wirk 3'!$D$11:$BW$96,$A276,FALSE)+IF(Q$205=$C276,HLOOKUP(Q$205,'Hilfsblatt Ber. Wirtsch Wirk 3'!$D$11:$BX$96,87,FALSE),0))/100),0)","v":0},{"$f":"R$206*('Hilfsblatt Ber. Wirtsch Wirk 3'!BX81+'Hilfsblatt Ber. Wirtsch Wirk 3'!BX81*'Hilfsblatt Ber. Wirtsch Wirk 3'!CA81/'Hilfsblatt Ber. Wirtsch Wirk 3'!CB81)/100","v":0},0,{"$f":"S276*'Hilfsblatt Ber. Wirtsch Wirk 3'!BZ81/('Hilfsblatt Ber. Wirtsch Wirk 3'!CA81)","v":0},{"$f":"S276/'Hilfsblatt Ber. Wirtsch Wirk 3'!CC81","v":0},{"$f":"T276*('Hilfsblatt Ber. Wirtsch Wirk 4'!B$14/'Hilfsblatt Ber. Wirtsch Wirk 4'!B$13)","v":0},{"$f":"S276*'Hilfsblatt Ber. Wirtsch Wirk 3'!CD81","v":0}]
[72,{"$f":"B177","v":"93"},"Dienstleistungen des Sports, der Unterhaltung und der Erholung",{"$f":"IFERROR((D$206*(HLOOKUP(D$205,'Hilfsblatt Ber. Wirtsch Wirk 3'!$D$11:$BW$96,$A277,FALSE)+IF(D$205=$C277,HLOOKUP(D$205,'Hilfsblatt Ber. Wirtsch Wirk 3'!$D$11:$BX$96,87,FALSE),0))/100),0)","v":0},{"$f":"IFERROR((E$206*(HLOOKUP(E$205,'Hilfsblatt Ber. Wirtsch Wirk 3'!$D$11:$BW$96,$A277,FALSE)+IF(E$205=$C277,HLOOKUP(E$205,'Hilfsblatt Ber. Wirtsch Wirk 3'!$D$11:$BX$96,87,FALSE),0))/100),0)","v":0},{"$f":"IFERROR((F$206*(HLOOKUP(F$205,'Hilfsblatt Ber. Wirtsch Wirk 3'!$D$11:$BW$96,$A277,FALSE)+IF(F$205=$C277,HLOOKUP(F$205,'Hilfsblatt Ber. Wirtsch Wirk 3'!$D$11:$BX$96,87,FALSE),0))/100),0)","v":0},{"$f":"IFERROR((G$206*(HLOOKUP(G$205,'Hilfsblatt Ber. Wirtsch Wirk 3'!$D$11:$BW$96,$A277,FALSE)+IF(G$205=$C277,HLOOKUP(G$205,'Hilfsblatt Ber. Wirtsch Wirk 3'!$D$11:$BX$96,87,FALSE),0))/100),0)","v":0},{"$f":"IFERROR((H$206*(HLOOKUP(H$205,'Hilfsblatt Ber. Wirtsch Wirk 3'!$D$11:$BW$96,$A277,FALSE)+IF(H$205=$C277,HLOOKUP(H$205,'Hilfsblatt Ber. Wirtsch Wirk 3'!$D$11:$BX$96,87,FALSE),0))/100),0)","v":0},{"$f":"IFERROR((I$206*(HLOOKUP(I$205,'Hilfsblatt Ber. Wirtsch Wirk 3'!$D$11:$BW$96,$A277,FALSE)+IF(I$205=$C277,HLOOKUP(I$205,'Hilfsblatt Ber. Wirtsch Wirk 3'!$D$11:$BX$96,87,FALSE),0))/100),0)","v":0},{"$f":"IFERROR((J$206*(HLOOKUP(J$205,'Hilfsblatt Ber. Wirtsch Wirk 3'!$D$11:$BW$96,$A277,FALSE)+IF(J$205=$C277,HLOOKUP(J$205,'Hilfsblatt Ber. Wirtsch Wirk 3'!$D$11:$BX$96,87,FALSE),0))/100),0)","v":0},{"$f":"IFERROR((K$206*(HLOOKUP(K$205,'Hilfsblatt Ber. Wirtsch Wirk 3'!$D$11:$BW$96,$A277,FALSE)+IF(K$205=$C277,HLOOKUP(K$205,'Hilfsblatt Ber. Wirtsch Wirk 3'!$D$11:$BX$96,87,FALSE),0))/100),0)","v":0},{"$f":"IFERROR((L$206*(HLOOKUP(L$205,'Hilfsblatt Ber. Wirtsch Wirk 3'!$D$11:$BW$96,$A277,FALSE)+IF(L$205=$C277,HLOOKUP(L$205,'Hilfsblatt Ber. Wirtsch Wirk 3'!$D$11:$BX$96,87,FALSE),0))/100),0)","v":0},{"$f":"IFERROR((M$206*(HLOOKUP(M$205,'Hilfsblatt Ber. Wirtsch Wirk 3'!$D$11:$BW$96,$A277,FALSE)+IF(M$205=$C277,HLOOKUP(M$205,'Hilfsblatt Ber. Wirtsch Wirk 3'!$D$11:$BX$96,87,FALSE),0))/100),0)","v":0},{"$f":"IFERROR((N$206*(HLOOKUP(N$205,'Hilfsblatt Ber. Wirtsch Wirk 3'!$D$11:$BW$96,$A277,FALSE)+IF(N$205=$C277,HLOOKUP(N$205,'Hilfsblatt Ber. Wirtsch Wirk 3'!$D$11:$BX$96,87,FALSE),0))/100),0)","v":0},{"$f":"IFERROR((O$206*(HLOOKUP(O$205,'Hilfsblatt Ber. Wirtsch Wirk 3'!$D$11:$BW$96,$A277,FALSE)+IF(O$205=$C277,HLOOKUP(O$205,'Hilfsblatt Ber. Wirtsch Wirk 3'!$D$11:$BX$96,87,FALSE),0))/100),0)","v":0},{"$f":"IFERROR((P$206*(HLOOKUP(P$205,'Hilfsblatt Ber. Wirtsch Wirk 3'!$D$11:$BW$96,$A277,FALSE)+IF(P$205=$C277,HLOOKUP(P$205,'Hilfsblatt Ber. Wirtsch Wirk 3'!$D$11:$BX$96,87,FALSE),0))/100),0)","v":0},{"$f":"IFERROR((Q$206*(HLOOKUP(Q$205,'Hilfsblatt Ber. Wirtsch Wirk 3'!$D$11:$BW$96,$A277,FALSE)+IF(Q$205=$C277,HLOOKUP(Q$205,'Hilfsblatt Ber. Wirtsch Wirk 3'!$D$11:$BX$96,87,FALSE),0))/100),0)","v":0},{"$f":"R$206*('Hilfsblatt Ber. Wirtsch Wirk 3'!BX82+'Hilfsblatt Ber. Wirtsch Wirk 3'!BX82*'Hilfsblatt Ber. Wirtsch Wirk 3'!CA82/'Hilfsblatt Ber. Wirtsch Wirk 3'!CB82)/100","v":0},0,{"$f":"S277*'Hilfsblatt Ber. Wirtsch Wirk 3'!BZ82/('Hilfsblatt Ber. Wirtsch Wirk 3'!CA82)","v":0},{"$f":"S277/'Hilfsblatt Ber. Wirtsch Wirk 3'!CC82","v":0},{"$f":"T277*('Hilfsblatt Ber. Wirtsch Wirk 4'!B$14/'Hilfsblatt Ber. Wirtsch Wirk 4'!B$13)","v":0},{"$f":"S277*'Hilfsblatt Ber. Wirtsch Wirk 3'!CD82","v":0}]
[73,{"$f":"B178","v":"94"},"Dienstleistg. d. Interessenvertr., kirchl. u. sonst. Vereinigungen",{"$f":"IFERROR((D$206*(HLOOKUP(D$205,'Hilfsblatt Ber. Wirtsch Wirk 3'!$D$11:$BW$96,$A278,FALSE)+IF(D$205=$C278,HLOOKUP(D$205,'Hilfsblatt Ber. Wirtsch Wirk 3'!$D$11:$BX$96,87,FALSE),0))/100),0)","v":0},{"$f":"IFERROR((E$206*(HLOOKUP(E$205,'Hilfsblatt Ber. Wirtsch Wirk 3'!$D$11:$BW$96,$A278,FALSE)+IF(E$205=$C278,HLOOKUP(E$205,'Hilfsblatt Ber. Wirtsch Wirk 3'!$D$11:$BX$96,87,FALSE),0))/100),0)","v":0},{"$f":"IFERROR((F$206*(HLOOKUP(F$205,'Hilfsblatt Ber. Wirtsch Wirk 3'!$D$11:$BW$96,$A278,FALSE)+IF(F$205=$C278,HLOOKUP(F$205,'Hilfsblatt Ber. Wirtsch Wirk 3'!$D$11:$BX$96,87,FALSE),0))/100),0)","v":0},{"$f":"IFERROR((G$206*(HLOOKUP(G$205,'Hilfsblatt Ber. Wirtsch Wirk 3'!$D$11:$BW$96,$A278,FALSE)+IF(G$205=$C278,HLOOKUP(G$205,'Hilfsblatt Ber. Wirtsch Wirk 3'!$D$11:$BX$96,87,FALSE),0))/100),0)","v":0},{"$f":"IFERROR((H$206*(HLOOKUP(H$205,'Hilfsblatt Ber. Wirtsch Wirk 3'!$D$11:$BW$96,$A278,FALSE)+IF(H$205=$C278,HLOOKUP(H$205,'Hilfsblatt Ber. Wirtsch Wirk 3'!$D$11:$BX$96,87,FALSE),0))/100),0)","v":0},{"$f":"IFERROR((I$206*(HLOOKUP(I$205,'Hilfsblatt Ber. Wirtsch Wirk 3'!$D$11:$BW$96,$A278,FALSE)+IF(I$205=$C278,HLOOKUP(I$205,'Hilfsblatt Ber. Wirtsch Wirk 3'!$D$11:$BX$96,87,FALSE),0))/100),0)","v":0},{"$f":"IFERROR((J$206*(HLOOKUP(J$205,'Hilfsblatt Ber. Wirtsch Wirk 3'!$D$11:$BW$96,$A278,FALSE)+IF(J$205=$C278,HLOOKUP(J$205,'Hilfsblatt Ber. Wirtsch Wirk 3'!$D$11:$BX$96,87,FALSE),0))/100),0)","v":0},{"$f":"IFERROR((K$206*(HLOOKUP(K$205,'Hilfsblatt Ber. Wirtsch Wirk 3'!$D$11:$BW$96,$A278,FALSE)+IF(K$205=$C278,HLOOKUP(K$205,'Hilfsblatt Ber. Wirtsch Wirk 3'!$D$11:$BX$96,87,FALSE),0))/100),0)","v":0},{"$f":"IFERROR((L$206*(HLOOKUP(L$205,'Hilfsblatt Ber. Wirtsch Wirk 3'!$D$11:$BW$96,$A278,FALSE)+IF(L$205=$C278,HLOOKUP(L$205,'Hilfsblatt Ber. Wirtsch Wirk 3'!$D$11:$BX$96,87,FALSE),0))/100),0)","v":0},{"$f":"IFERROR((M$206*(HLOOKUP(M$205,'Hilfsblatt Ber. Wirtsch Wirk 3'!$D$11:$BW$96,$A278,FALSE)+IF(M$205=$C278,HLOOKUP(M$205,'Hilfsblatt Ber. Wirtsch Wirk 3'!$D$11:$BX$96,87,FALSE),0))/100),0)","v":0},{"$f":"IFERROR((N$206*(HLOOKUP(N$205,'Hilfsblatt Ber. Wirtsch Wirk 3'!$D$11:$BW$96,$A278,FALSE)+IF(N$205=$C278,HLOOKUP(N$205,'Hilfsblatt Ber. Wirtsch Wirk 3'!$D$11:$BX$96,87,FALSE),0))/100),0)","v":0},{"$f":"IFERROR((O$206*(HLOOKUP(O$205,'Hilfsblatt Ber. Wirtsch Wirk 3'!$D$11:$BW$96,$A278,FALSE)+IF(O$205=$C278,HLOOKUP(O$205,'Hilfsblatt Ber. Wirtsch Wirk 3'!$D$11:$BX$96,87,FALSE),0))/100),0)","v":0},{"$f":"IFERROR((P$206*(HLOOKUP(P$205,'Hilfsblatt Ber. Wirtsch Wirk 3'!$D$11:$BW$96,$A278,FALSE)+IF(P$205=$C278,HLOOKUP(P$205,'Hilfsblatt Ber. Wirtsch Wirk 3'!$D$11:$BX$96,87,FALSE),0))/100),0)","v":0},{"$f":"IFERROR((Q$206*(HLOOKUP(Q$205,'Hilfsblatt Ber. Wirtsch Wirk 3'!$D$11:$BW$96,$A278,FALSE)+IF(Q$205=$C278,HLOOKUP(Q$205,'Hilfsblatt Ber. Wirtsch Wirk 3'!$D$11:$BX$96,87,FALSE),0))/100),0)","v":0},{"$f":"R$206*('Hilfsblatt Ber. Wirtsch Wirk 3'!BX83+'Hilfsblatt Ber. Wirtsch Wirk 3'!BX83*'Hilfsblatt Ber. Wirtsch Wirk 3'!CA83/'Hilfsblatt Ber. Wirtsch Wirk 3'!CB83)/100","v":0},0,{"$f":"S278*'Hilfsblatt Ber. Wirtsch Wirk 3'!BZ83/('Hilfsblatt Ber. Wirtsch Wirk 3'!CA83)","v":0},{"$f":"S278/'Hilfsblatt Ber. Wirtsch Wirk 3'!CC83","v":0},{"$f":"T278*('Hilfsblatt Ber. Wirtsch Wirk 4'!B$14/'Hilfsblatt Ber. Wirtsch Wirk 4'!B$13)","v":0},{"$f":"S278*'Hilfsblatt Ber. Wirtsch Wirk 3'!CD83","v":0}]
[74,{"$f":"B179","v":"95"},"Reparaturarbeiten an DV-Geräten und Gebrauchsgütern",{"$f":"IFERROR((D$206*(HLOOKUP(D$205,'Hilfsblatt Ber. Wirtsch Wirk 3'!$D$11:$BW$96,$A279,FALSE)+IF(D$205=$C279,HLOOKUP(D$205,'Hilfsblatt Ber. Wirtsch Wirk 3'!$D$11:$BX$96,87,FALSE),0))/100),0)","v":0},{"$f":"IFERROR((E$206*(HLOOKUP(E$205,'Hilfsblatt Ber. Wirtsch Wirk 3'!$D$11:$BW$96,$A279,FALSE)+IF(E$205=$C279,HLOOKUP(E$205,'Hilfsblatt Ber. Wirtsch Wirk 3'!$D$11:$BX$96,87,FALSE),0))/100),0)","v":0},{"$f":"IFERROR((F$206*(HLOOKUP(F$205,'Hilfsblatt Ber. Wirtsch Wirk 3'!$D$11:$BW$96,$A279,FALSE)+IF(F$205=$C279,HLOOKUP(F$205,'Hilfsblatt Ber. Wirtsch Wirk 3'!$D$11:$BX$96,87,FALSE),0))/100),0)","v":0},{"$f":"IFERROR((G$206*(HLOOKUP(G$205,'Hilfsblatt Ber. Wirtsch Wirk 3'!$D$11:$BW$96,$A279,FALSE)+IF(G$205=$C279,HLOOKUP(G$205,'Hilfsblatt Ber. Wirtsch Wirk 3'!$D$11:$BX$96,87,FALSE),0))/100),0)","v":0},{"$f":"IFERROR((H$206*(HLOOKUP(H$205,'Hilfsblatt Ber. Wirtsch Wirk 3'!$D$11:$BW$96,$A279,FALSE)+IF(H$205=$C279,HLOOKUP(H$205,'Hilfsblatt Ber. Wirtsch Wirk 3'!$D$11:$BX$96,87,FALSE),0))/100),0)","v":0},{"$f":"IFERROR((I$206*(HLOOKUP(I$205,'Hilfsblatt Ber. Wirtsch Wirk 3'!$D$11:$BW$96,$A279,FALSE)+IF(I$205=$C279,HLOOKUP(I$205,'Hilfsblatt Ber. Wirtsch Wirk 3'!$D$11:$BX$96,87,FALSE),0))/100),0)","v":0},{"$f":"IFERROR((J$206*(HLOOKUP(J$205,'Hilfsblatt Ber. Wirtsch Wirk 3'!$D$11:$BW$96,$A279,FALSE)+IF(J$205=$C279,HLOOKUP(J$205,'Hilfsblatt Ber. Wirtsch Wirk 3'!$D$11:$BX$96,87,FALSE),0))/100),0)","v":0},{"$f":"IFERROR((K$206*(HLOOKUP(K$205,'Hilfsblatt Ber. Wirtsch Wirk 3'!$D$11:$BW$96,$A279,FALSE)+IF(K$205=$C279,HLOOKUP(K$205,'Hilfsblatt Ber. Wirtsch Wirk 3'!$D$11:$BX$96,87,FALSE),0))/100),0)","v":0},{"$f":"IFERROR((L$206*(HLOOKUP(L$205,'Hilfsblatt Ber. Wirtsch Wirk 3'!$D$11:$BW$96,$A279,FALSE)+IF(L$205=$C279,HLOOKUP(L$205,'Hilfsblatt Ber. Wirtsch Wirk 3'!$D$11:$BX$96,87,FALSE),0))/100),0)","v":0},{"$f":"IFERROR((M$206*(HLOOKUP(M$205,'Hilfsblatt Ber. Wirtsch Wirk 3'!$D$11:$BW$96,$A279,FALSE)+IF(M$205=$C279,HLOOKUP(M$205,'Hilfsblatt Ber. Wirtsch Wirk 3'!$D$11:$BX$96,87,FALSE),0))/100),0)","v":0},{"$f":"IFERROR((N$206*(HLOOKUP(N$205,'Hilfsblatt Ber. Wirtsch Wirk 3'!$D$11:$BW$96,$A279,FALSE)+IF(N$205=$C279,HLOOKUP(N$205,'Hilfsblatt Ber. Wirtsch Wirk 3'!$D$11:$BX$96,87,FALSE),0))/100),0)","v":0},{"$f":"IFERROR((O$206*(HLOOKUP(O$205,'Hilfsblatt Ber. Wirtsch Wirk 3'!$D$11:$BW$96,$A279,FALSE)+IF(O$205=$C279,HLOOKUP(O$205,'Hilfsblatt Ber. Wirtsch Wirk 3'!$D$11:$BX$96,87,FALSE),0))/100),0)","v":0},{"$f":"IFERROR((P$206*(HLOOKUP(P$205,'Hilfsblatt Ber. Wirtsch Wirk 3'!$D$11:$BW$96,$A279,FALSE)+IF(P$205=$C279,HLOOKUP(P$205,'Hilfsblatt Ber. Wirtsch Wirk 3'!$D$11:$BX$96,87,FALSE),0))/100),0)","v":0},{"$f":"IFERROR((Q$206*(HLOOKUP(Q$205,'Hilfsblatt Ber. Wirtsch Wirk 3'!$D$11:$BW$96,$A279,FALSE)+IF(Q$205=$C279,HLOOKUP(Q$205,'Hilfsblatt Ber. Wirtsch Wirk 3'!$D$11:$BX$96,87,FALSE),0))/100),0)","v":0},{"$f":"R$206*('Hilfsblatt Ber. Wirtsch Wirk 3'!BX84+'Hilfsblatt Ber. Wirtsch Wirk 3'!BX84*'Hilfsblatt Ber. Wirtsch Wirk 3'!CA84/'Hilfsblatt Ber. Wirtsch Wirk 3'!CB84)/100","v":0},0,{"$f":"S279*'Hilfsblatt Ber. Wirtsch Wirk 3'!BZ84/('Hilfsblatt Ber. Wirtsch Wirk 3'!CA84)","v":0},{"$f":"S279/'Hilfsblatt Ber. Wirtsch Wirk 3'!CC84","v":0},{"$f":"T279*('Hilfsblatt Ber. Wirtsch Wirk 4'!B$14/'Hilfsblatt Ber. Wirtsch Wirk 4'!B$13)","v":0},{"$f":"S279*'Hilfsblatt Ber. Wirtsch Wirk 3'!CD84","v":0}]
[75,{"$f":"B180","v":"96"},"Sonstige überwiegend persönliche Dienstleistungen",{"$f":"IFERROR((D$206*(HLOOKUP(D$205,'Hilfsblatt Ber. Wirtsch Wirk 3'!$D$11:$BW$96,$A280,FALSE)+IF(D$205=$C280,HLOOKUP(D$205,'Hilfsblatt Ber. Wirtsch Wirk 3'!$D$11:$BX$96,87,FALSE),0))/100),0)","v":0},{"$f":"IFERROR((E$206*(HLOOKUP(E$205,'Hilfsblatt Ber. Wirtsch Wirk 3'!$D$11:$BW$96,$A280,FALSE)+IF(E$205=$C280,HLOOKUP(E$205,'Hilfsblatt Ber. Wirtsch Wirk 3'!$D$11:$BX$96,87,FALSE),0))/100),0)","v":0},{"$f":"IFERROR((F$206*(HLOOKUP(F$205,'Hilfsblatt Ber. Wirtsch Wirk 3'!$D$11:$BW$96,$A280,FALSE)+IF(F$205=$C280,HLOOKUP(F$205,'Hilfsblatt Ber. Wirtsch Wirk 3'!$D$11:$BX$96,87,FALSE),0))/100),0)","v":0},{"$f":"IFERROR((G$206*(HLOOKUP(G$205,'Hilfsblatt Ber. Wirtsch Wirk 3'!$D$11:$BW$96,$A280,FALSE)+IF(G$205=$C280,HLOOKUP(G$205,'Hilfsblatt Ber. Wirtsch Wirk 3'!$D$11:$BX$96,87,FALSE),0))/100),0)","v":0},{"$f":"IFERROR((H$206*(HLOOKUP(H$205,'Hilfsblatt Ber. Wirtsch Wirk 3'!$D$11:$BW$96,$A280,FALSE)+IF(H$205=$C280,HLOOKUP(H$205,'Hilfsblatt Ber. Wirtsch Wirk 3'!$D$11:$BX$96,87,FALSE),0))/100),0)","v":0},{"$f":"IFERROR((I$206*(HLOOKUP(I$205,'Hilfsblatt Ber. Wirtsch Wirk 3'!$D$11:$BW$96,$A280,FALSE)+IF(I$205=$C280,HLOOKUP(I$205,'Hilfsblatt Ber. Wirtsch Wirk 3'!$D$11:$BX$96,87,FALSE),0))/100),0)","v":0},{"$f":"IFERROR((J$206*(HLOOKUP(J$205,'Hilfsblatt Ber. Wirtsch Wirk 3'!$D$11:$BW$96,$A280,FALSE)+IF(J$205=$C280,HLOOKUP(J$205,'Hilfsblatt Ber. Wirtsch Wirk 3'!$D$11:$BX$96,87,FALSE),0))/100),0)","v":0},{"$f":"IFERROR((K$206*(HLOOKUP(K$205,'Hilfsblatt Ber. Wirtsch Wirk 3'!$D$11:$BW$96,$A280,FALSE)+IF(K$205=$C280,HLOOKUP(K$205,'Hilfsblatt Ber. Wirtsch Wirk 3'!$D$11:$BX$96,87,FALSE),0))/100),0)","v":0},{"$f":"IFERROR((L$206*(HLOOKUP(L$205,'Hilfsblatt Ber. Wirtsch Wirk 3'!$D$11:$BW$96,$A280,FALSE)+IF(L$205=$C280,HLOOKUP(L$205,'Hilfsblatt Ber. Wirtsch Wirk 3'!$D$11:$BX$96,87,FALSE),0))/100),0)","v":0},{"$f":"IFERROR((M$206*(HLOOKUP(M$205,'Hilfsblatt Ber. Wirtsch Wirk 3'!$D$11:$BW$96,$A280,FALSE)+IF(M$205=$C280,HLOOKUP(M$205,'Hilfsblatt Ber. Wirtsch Wirk 3'!$D$11:$BX$96,87,FALSE),0))/100),0)","v":0},{"$f":"IFERROR((N$206*(HLOOKUP(N$205,'Hilfsblatt Ber. Wirtsch Wirk 3'!$D$11:$BW$96,$A280,FALSE)+IF(N$205=$C280,HLOOKUP(N$205,'Hilfsblatt Ber. Wirtsch Wirk 3'!$D$11:$BX$96,87,FALSE),0))/100),0)","v":0},{"$f":"IFERROR((O$206*(HLOOKUP(O$205,'Hilfsblatt Ber. Wirtsch Wirk 3'!$D$11:$BW$96,$A280,FALSE)+IF(O$205=$C280,HLOOKUP(O$205,'Hilfsblatt Ber. Wirtsch Wirk 3'!$D$11:$BX$96,87,FALSE),0))/100),0)","v":0},{"$f":"IFERROR((P$206*(HLOOKUP(P$205,'Hilfsblatt Ber. Wirtsch Wirk 3'!$D$11:$BW$96,$A280,FALSE)+IF(P$205=$C280,HLOOKUP(P$205,'Hilfsblatt Ber. Wirtsch Wirk 3'!$D$11:$BX$96,87,FALSE),0))/100),0)","v":0},{"$f":"IFERROR((Q$206*(HLOOKUP(Q$205,'Hilfsblatt Ber. Wirtsch Wirk 3'!$D$11:$BW$96,$A280,FALSE)+IF(Q$205=$C280,HLOOKUP(Q$205,'Hilfsblatt Ber. Wirtsch Wirk 3'!$D$11:$BX$96,87,FALSE),0))/100),0)","v":0},{"$f":"R$206*('Hilfsblatt Ber. Wirtsch Wirk 3'!BX85+'Hilfsblatt Ber. Wirtsch Wirk 3'!BX85*'Hilfsblatt Ber. Wirtsch Wirk 3'!CA85/'Hilfsblatt Ber. Wirtsch Wirk 3'!CB85)/100","v":0},0,{"$f":"S280*'Hilfsblatt Ber. Wirtsch Wirk 3'!BZ85/('Hilfsblatt Ber. Wirtsch Wirk 3'!CA85)","v":0},{"$f":"S280/'Hilfsblatt Ber. Wirtsch Wirk 3'!CC85","v":0},{"$f":"T280*('Hilfsblatt Ber. Wirtsch Wirk 4'!B$14/'Hilfsblatt Ber. Wirtsch Wirk 4'!B$13)","v":0},{"$f":"S280*'Hilfsblatt Ber. Wirtsch Wirk 3'!CD85","v":0}]
[76,{"$f":"B181","v":"97-98"},"Waren und Dienstleistungen privater Haushalte o.a.S.",{"$f":"IFERROR((D$206*(HLOOKUP(D$205,'Hilfsblatt Ber. Wirtsch Wirk 3'!$D$11:$BW$96,$A281,FALSE)+IF(D$205=$C281,HLOOKUP(D$205,'Hilfsblatt Ber. Wirtsch Wirk 3'!$D$11:$BX$96,87,FALSE),0))/100),0)","v":0},{"$f":"IFERROR((E$206*(HLOOKUP(E$205,'Hilfsblatt Ber. Wirtsch Wirk 3'!$D$11:$BW$96,$A281,FALSE)+IF(E$205=$C281,HLOOKUP(E$205,'Hilfsblatt Ber. Wirtsch Wirk 3'!$D$11:$BX$96,87,FALSE),0))/100),0)","v":0},{"$f":"IFERROR((F$206*(HLOOKUP(F$205,'Hilfsblatt Ber. Wirtsch Wirk 3'!$D$11:$BW$96,$A281,FALSE)+IF(F$205=$C281,HLOOKUP(F$205,'Hilfsblatt Ber. Wirtsch Wirk 3'!$D$11:$BX$96,87,FALSE),0))/100),0)","v":0},{"$f":"IFERROR((G$206*(HLOOKUP(G$205,'Hilfsblatt Ber. Wirtsch Wirk 3'!$D$11:$BW$96,$A281,FALSE)+IF(G$205=$C281,HLOOKUP(G$205,'Hilfsblatt Ber. Wirtsch Wirk 3'!$D$11:$BX$96,87,FALSE),0))/100),0)","v":0},{"$f":"IFERROR((H$206*(HLOOKUP(H$205,'Hilfsblatt Ber. Wirtsch Wirk 3'!$D$11:$BW$96,$A281,FALSE)+IF(H$205=$C281,HLOOKUP(H$205,'Hilfsblatt Ber. Wirtsch Wirk 3'!$D$11:$BX$96,87,FALSE),0))/100),0)","v":0},{"$f":"IFERROR((I$206*(HLOOKUP(I$205,'Hilfsblatt Ber. Wirtsch Wirk 3'!$D$11:$BW$96,$A281,FALSE)+IF(I$205=$C281,HLOOKUP(I$205,'Hilfsblatt Ber. Wirtsch Wirk 3'!$D$11:$BX$96,87,FALSE),0))/100),0)","v":0},{"$f":"IFERROR((J$206*(HLOOKUP(J$205,'Hilfsblatt Ber. Wirtsch Wirk 3'!$D$11:$BW$96,$A281,FALSE)+IF(J$205=$C281,HLOOKUP(J$205,'Hilfsblatt Ber. Wirtsch Wirk 3'!$D$11:$BX$96,87,FALSE),0))/100),0)","v":0},{"$f":"IFERROR((K$206*(HLOOKUP(K$205,'Hilfsblatt Ber. Wirtsch Wirk 3'!$D$11:$BW$96,$A281,FALSE)+IF(K$205=$C281,HLOOKUP(K$205,'Hilfsblatt Ber. Wirtsch Wirk 3'!$D$11:$BX$96,87,FALSE),0))/100),0)","v":0},{"$f":"IFERROR((L$206*(HLOOKUP(L$205,'Hilfsblatt Ber. Wirtsch Wirk 3'!$D$11:$BW$96,$A281,FALSE)+IF(L$205=$C281,HLOOKUP(L$205,'Hilfsblatt Ber. Wirtsch Wirk 3'!$D$11:$BX$96,87,FALSE),0))/100),0)","v":0},{"$f":"IFERROR((M$206*(HLOOKUP(M$205,'Hilfsblatt Ber. Wirtsch Wirk 3'!$D$11:$BW$96,$A281,FALSE)+IF(M$205=$C281,HLOOKUP(M$205,'Hilfsblatt Ber. Wirtsch Wirk 3'!$D$11:$BX$96,87,FALSE),0))/100),0)","v":0},{"$f":"IFERROR((N$206*(HLOOKUP(N$205,'Hilfsblatt Ber. Wirtsch Wirk 3'!$D$11:$BW$96,$A281,FALSE)+IF(N$205=$C281,HLOOKUP(N$205,'Hilfsblatt Ber. Wirtsch Wirk 3'!$D$11:$BX$96,87,FALSE),0))/100),0)","v":0},{"$f":"IFERROR((O$206*(HLOOKUP(O$205,'Hilfsblatt Ber. Wirtsch Wirk 3'!$D$11:$BW$96,$A281,FALSE)+IF(O$205=$C281,HLOOKUP(O$205,'Hilfsblatt Ber. Wirtsch Wirk 3'!$D$11:$BX$96,87,FALSE),0))/100),0)","v":0},{"$f":"IFERROR((P$206*(HLOOKUP(P$205,'Hilfsblatt Ber. Wirtsch Wirk 3'!$D$11:$BW$96,$A281,FALSE)+IF(P$205=$C281,HLOOKUP(P$205,'Hilfsblatt Ber. Wirtsch Wirk 3'!$D$11:$BX$96,87,FALSE),0))/100),0)","v":0},{"$f":"IFERROR((Q$206*(HLOOKUP(Q$205,'Hilfsblatt Ber. Wirtsch Wirk 3'!$D$11:$BW$96,$A281,FALSE)+IF(Q$205=$C281,HLOOKUP(Q$205,'Hilfsblatt Ber. Wirtsch Wirk 3'!$D$11:$BX$96,87,FALSE),0))/100),0)","v":0},{"$f":"R$206*('Hilfsblatt Ber. Wirtsch Wirk 3'!BX86+'Hilfsblatt Ber. Wirtsch Wirk 3'!BX86*'Hilfsblatt Ber. Wirtsch Wirk 3'!CA86/0.00000000000001)/100","v":0},0,{"$f":"S281*'Hilfsblatt Ber. Wirtsch Wirk 3'!BZ86/('Hilfsblatt Ber. Wirtsch Wirk 3'!CA86)","v":0},{"$f":"S281/'Hilfsblatt Ber. Wirtsch Wirk 3'!CC86","v":0},{"$f":"T281*('Hilfsblatt Ber. Wirtsch Wirk 4'!B$14/'Hilfsblatt Ber. Wirtsch Wirk 4'!B$13)","v":0},{"$f":"S281*'Hilfsblatt Ber. Wirtsch Wirk 3'!CD86","v":0}]
[null,null,null,null,null,null,null,null,null,null,null,null,null,null,null,null,null,"*Aus rechentechnischen Gründen wird in der Zelle N281 statt mit den Vorleistungen mit dem Wert: 0,00000000000001 gerechnet"]
[]
[]
[]
[]
[]
[]
[]
[]
[]
[]
[]
[]
[]
[]
[]
[]
[]
[{"$f":"IF(A1=A201,\"true\",\"false\")","v":"true"},"true","true",null,"true","true","true",null,"true","true","true",null,null,"true","true","true","true","true","true","true","true",null,{"$f":"IF(W1=W201,\"true\",\"false\")","v":"true"}]
[{"$f":"IF(A2=A202,\"true\",\"false\")","v":"true"},"true","true",null,"true","true","true",null,"true","true","true",null,null,"true","true","true","true","true","true","true","true",null,"true"]
[{"$f":"IF(A3=A203,\"true\",\"false\")","v":"true"},"true","true",null,"true","true","true",null,"true","true","true",null,null,"true","true","true","true","true","true","true","true",null,"true"]
[{"$f":"IF(A4=A204,\"true\",\"false\")","v":"true"},"true","true",null,"true","true","true",null,"true","true","true",null,null,"true","true","true","true","true","true","true","true",null,"true"]
[{"$f":"IF(A5=A205,\"true\",\"false\")","v":"true"},"true","true",null,"true","true","true",null,"true","true","true",null,null,"true","true","true","true","true","true","true","true",null,"true"]
[{"$f":"IF(A6=A206,\"true\",\"false\")","v":"true"},"true","true",null,"true","true","true",null,"true","true","true",null,null,"true","true","true","true","true","true","true","true",null,"true"]
[{"$f":"IF(#REF!=#REF!,\"true\",\"false\")","v":{"$error":"#REF!"}},{"$f":"IF(#REF!=#REF!,\"true\",\"false\")","v":{"$error":"#REF!"}},{"$f":"IF(#REF!=#REF!,\"true\",\"false\")","v":{"$error":"#REF!"}},null,{"$f":"IF(#REF!=#REF!,\"true\",\"false\")","v":{"$error":"#REF!"}},{"$f":"IF(#REF!=#REF!,\"true\",\"false\")","v":{"$error":"#REF!"}},{"$f":"IF(#REF!=#REF!,\"true\",\"false\")","v":{"$error":"#REF!"}},null,{"$f":"IF(#REF!=#REF!,\"true\",\"false\")","v":{"$error":"#REF!"}},{"$f":"IF(#REF!=#REF!,\"true\",\"false\")","v":{"$error":"#REF!"}},{"$f":"IF(#REF!=#REF!,\"true\",\"false\")","v":{"$error":"#REF!"}},null,null,{"$f":"IF(#REF!=#REF!,\"true\",\"false\")","v":{"$error":"#REF!"}},{"$f":"IF(#REF!=#REF!,\"true\",\"false\")","v":{"$error":"#REF!"}},{"$f":"IF(#REF!=#REF!,\"true\",\"false\")","v":{"$error":"#REF!"}},{"$f":"IF(#REF!=#REF!,\"true\",\"false\")","v":{"$error":"#REF!"}},{"$f":"IF(#REF!=#REF!,\"true\",\"false\")","v":{"$error":"#REF!"}},{"$f":"IF(#REF!=#REF!,\"true\",\"false\")","v":{"$error":"#REF!"}},{"$f":"IF(#REF!=#REF!,\"true\",\"false\")","v":{"$error":"#REF!"}},{"$f":"IF(#REF!=#REF!,\"true\",\"false\")","v":{"$error":"#REF!"}},null,{"$f":"IF(#REF!=#REF!,\"true\",\"false\")","v":{"$error":"#REF!"}}]
[{"$f":"IF(A8=A208,\"true\",\"false\")","v":"true"},"true","true",null,"true","true","true",null,"true","true","true",null,null,"true","true","true","true","true","true","true","true",null,{"$f":"IF(W8=W208,\"true\",\"false\")","v":"true"}]
[{"$f":"IF(A9=A209,\"true\",\"false\")","v":"true"},"true","true",null,"true","true","true",null,"true","true","true",null,null,"true","true","true","true","true","true","true","true",null,"true"]
[{"$f":"IF(A10=A210,\"true\",\"false\")","v":"true"},"true","true",null,"true","true","true",null,"true","true","true",null,null,"true","true","true","true","true","true","true","true",null,"true"]
[{"$f":"IF(A11=A211,\"true\",\"false\")","v":"true"},"true","true",null,"true","true","true",null,"true","true","true",null,null,"true","true","true","true","true","true","true","true",null,"true"]
[{"$f":"IF(A12=A212,\"true\",\"false\")","v":"true"},"true","true",null,"true","true","true",null,"true","true","true",null,null,"true","true","true","true","true","true","true","true",null,"true"]
[{"$f":"IF(A13=A213,\"true\",\"false\")","v":"true"},"true","true",null,"true","true","true",null,"true","true","true",null,null,"true","true","true","true","true","true","true","true",null,"true"]
[{"$f":"IF(A14=A214,\"true\",\"false\")","v":"true"},"true","true",null,"true","true","true",null,"true","true","true",null,null,"true","true","true","true","true","true","true","true",null,"true"]
[{"$f":"IF(A15=A215,\"true\",\"false\")","v":"true"},"true","true",null,"true","true","true",null,"true","true","true",null,null,"true","true","true","true","true","true","true","true",null,"true"]
[{"$f":"IF(A16=A216,\"true\",\"false\")","v":"true"},"true","true",null,"true","true","true",null,"true","true","true",null,null,"true","true","true","true","true","true","true","true",null,"true"]
[{"$f":"IF(A17=A217,\"true\",\"false\")","v":"true"},"true","true",null,"true","true","true",null,"true","true","true",null,null,"true","true","true","true","true","true","true","true",null,"true"]
[{"$f":"IF(A18=A218,\"true\",\"false\")","v":"true"},"true","true",null,"true","true","true",null,"true","true","true",null,null,"true","true","true","true","true","true","true","true",null,"true"]
[{"$f":"IF(A19=A219,\"true\",\"false\")","v":"true"},"true","true",null,"true","true","true",null,"true","true","true",null,null,"true","true","true","true","true","true","true","true",null,"true"]
[{"$f":"IF(A20=A220,\"true\",\"false\")","v":"true"},"true","true",null,"true","true","true",null,"true","true","true",null,null,"true","true","true","true","true","true","true","true",null,"true"]
[{"$f":"IF(A21=A221,\"true\",\"false\")","v":"true"},"true","true",null,"true","true","true",null,"true","true","true",null,null,"true","true","true","true","true","true","true","true",null,"true"]
[{"$f":"IF(A22=A222,\"true\",\"false\")","v":"true"},"true","true",null,"true","true","true",null,"true","true","true",null,null,"true","true","true","true","true","true","true","true",null,"true"]
[{"$f":"IF(A23=A223,\"true\",\"false\")","v":"true"},"true","true",null,"true","true","true",null,"true","true","true",null,null,"true","true","true","true","true","true","true","true",null,"true"]
[{"$f":"IF(A24=A224,\"true\",\"false\")","v":"true"},"true","true",null,"true","true","true",null,"true","true","true",null,null,"true","true","true","true","true","true","true","true",null,"true"]
[{"$f":"IF(A25=A225,\"true\",\"false\")","v":"true"},"true","true",null,"true","true","true",null,"true","true","true",null,null,"true","true","true","true","true","true","true","true",null,"true"]
[{"$f":"IF(A26=A226,\"true\",\"false\")","v":"true"},"true","true",null,"true","true","true",null,"true","true","true",null,null,"true","true","true","true","true","true","true","true",null,"true"]
[{"$f":"IF(A27=A227,\"true\",\"false\")","v":"true"},"true","true",null,"true","true","true",null,"true","true","true",null,null,"true","true","true","true","true","true","true","true",null,"true"]
[{"$f":"IF(A28=A228,\"true\",\"false\")","v":"true"},"true","true",null,"true","true","true",null,"true","true","true",null,null,"true","true","true","true","true","true","true","true",null,"true"]
[{"$f":"IF(A29=A229,\"true\",\"false\")","v":"true"},"true","true",null,"true","true","true",null,"true","true","true",null,null,"true","true","true","true","true","true","true","true",null,"true"]
[{"$f":"IF(A30=A230,\"true\",\"false\")","v":"true"},"true","true",null,"true","true","true",null,"true","true","true",null,null,"true","true","true","true","true","true","true","true",null,"true"]
[{"$f":"IF(A31=A231,\"true\",\"false\")","v":"true"},"true","true",null,"true","true","true",null,"true","true","true",null,null,"true","true","true","true","true","true","true","true",null,"true"]
[{"$f":"IF(#REF!=#REF!,\"true\",\"false\")","v":{"$error":"#REF!"}},{"$f":"IF(#REF!=#REF!,\"true\",\"false\")","v":{"$error":"#REF!"}},{"$f":"IF(#REF!=#REF!,\"true\",\"false\")","v":{"$error":"#REF!"}},null,{"$f":"IF(#REF!=#REF!,\"true\",\"false\")","v":{"$error":"#REF!"}},{"$f":"IF(#REF!=#REF!,\"true\",\"false\")","v":{"$error":"#REF!"}},{"$f":"IF(#REF!=#REF!,\"true\",\"false\")","v":{"$error":"#REF!"}},null,{"$f":"IF(#REF!=#REF!,\"true\",\"false\")","v":{"$error":"#REF!"}},{"$f":"IF(#REF!=#REF!,\"true\",\"false\")","v":{"$error":"#REF!"}},{"$f":"IF(#REF!=#REF!,\"true\",\"false\")","v":{"$error":"#REF!"}},null,null,{"$f":"IF(#REF!=#REF!,\"true\",\"false\")","v":{"$error":"#REF!"}},{"$f":"IF(#REF!=#REF!,\"true\",\"false\")","v":{"$error":"#REF!"}},{"$f":"IF(#REF!=#REF!,\"true\",\"false\")","v":{"$error":"#REF!"}},{"$f":"IF(#REF!=#REF!,\"true\",\"false\")","v":{"$error":"#REF!"}},{"$f":"IF(#REF!=#REF!,\"true\",\"false\")","v":{"$error":"#REF!"}},{"$f":"IF(#REF!=#REF!,\"true\",\"false\")","v":{"$error":"#REF!"}},{"$f":"IF(#REF!=#REF!,\"true\",\"false\")","v":{"$error":"#REF!"}},{"$f":"IF(#REF!=#REF!,\"true\",\"false\")","v":{"$error":"#REF!"}},null,{"$f":"IF(#REF!=#REF!,\"true\",\"false\")","v":{"$error":"#REF!"}}]
[{"$f":"IF(A32=A232,\"true\",\"false\")","v":"true"},"true","true",null,"true","true","true",null,"true","true","true",null,null,"true","true","true","true","true","true","true","true",null,{"$f":"IF(W32=W232,\"true\",\"false\")","v":"true"}]
[{"$f":"IF(A33=A233,\"true\",\"false\")","v":"true"},"true","true",null,"true","true","true",null,"true","true","true",null,null,"true","true","true","true","true","true","true","true",null,"true"]
[{"$f":"IF(A34=A234,\"true\",\"false\")","v":"true"},"true","true",null,"true","true","true",null,"true","true","true",null,null,"true","true","true","true","true","true","true","true",null,"true"]
[{"$f":"IF(A35=A235,\"true\",\"false\")","v":"true"},"true","true",null,"true","true","true",null,"true","true","true",null,null,"true","true","true","true","true","true","true","true",null,"true"]
[{"$f":"IF(A36=A236,\"true\",\"false\")","v":"true"},"true","true",null,"true","true","true",null,"true","true","true",null,null,"true","true","true","true","true","true","true","true",null,"true"]
[{"$f":"IF(A37=A237,\"true\",\"false\")","v":"true"},"true","true",null,"true","true","true",null,"true","true","true",null,null,"true","true","true","true","true","true","true","true",null,"true"]
[{"$f":"IF(A38=A238,\"true\",\"false\")","v":"true"},"true","true",null,"true","true","true",null,"true","true","true",null,null,"true","true","true","true","true","true","true","true",null,"true"]
[{"$f":"IF(A39=A239,\"true\",\"false\")","v":"true"},"true","true",null,"true","true","true",null,"true","true","true",null,null,"true","true","true","true","true","true","true","true",null,"true"]
[{"$f":"IF(A40=A240,\"true\",\"false\")","v":"true"},"true","true",null,"true","true","true",null,"true","true","true",null,null,"true","true","true","true","true","true","true","true",null,"true"]
[{"$f":"IF(A41=A241,\"true\",\"false\")","v":"true"},"true","true",null,"true","true","true",null,"true","true","true",null,null,"true","true","true","true","true","true","true","true",null,"true"]
[{"$f":"IF(A42=A242,\"true\",\"false\")","v":"true"},"true","true",null,"true","true","true",null,"true","true","true",null,null,"true","true","true","true","true","true","true","true",null,"true"]
[{"$f":"IF(A43=A243,\"true\",\"false\")","v":"true"},"true","true",null,"true","true","true",null,"true","true","true",null,null,"true","true","true","true","true","true","true","true",null,"true"]
[{"$f":"IF(A44=A244,\"true\",\"false\")","v":"true"},"true","true",null,"true","true","true",null,"true","true","true",null,null,"true","true","true","true","true","true","true","true",null,"true"]
[{"$f":"IF(A45=A245,\"true\",\"false\")","v":"true"},"true","true",null,"true","true","true",null,"true","true","true",null,null,"true","true","true","true","true","true","true","true",null,"true"]
[{"$f":"IF(A46=A246,\"true\",\"false\")","v":"true"},"true","true",null,"true","true","true",null,"true","true","true",null,null,"true","true","true","true","true","true","true","true",null,"true"]
[{"$f":"IF(A47=A247,\"true\",\"false\")","v":"true"},"true","true",null,"true","true","true",null,"true","true","true",null,null,"true","true","true","true","true","true","true","true",null,"true"]
[{"$f":"IF(A48=A248,\"true\",\"false\")","v":"true"},"true","true",null,"true","true","true",null,"true","true","true",null,null,"true","true","true","true","true","true","true","true",null,"true"]
[{"$f":"IF(A49=A249,\"true\",\"false\")","v":"true"},"true","true",null,"true","true","true",null,"true","true","true",null,null,"true","true","true","true","true","true","true","true",null,"true"]
[{"$f":"IF(A50=A250,\"true\",\"false\")","v":"true"},"true","true",null,"true","true","true",null,"true","true","true",null,null,"true","true","true","true","true","true","true","true",null,"true"]
[{"$f":"IF(A51=A251,\"true\",\"false\")","v":"true"},"true","true",null,"true","true","true",null,"true","true","true",null,null,"true","true","true","true","true","true","true","true",null,"true"]
[{"$f":"IF(A52=A252,\"true\",\"false\")","v":"true"},"true","true",null,"true","true","true",null,"true","true","true",null,null,"true","true","true","true","true","true","true","true",null,"true"]
[{"$f":"IF(A53=A253,\"true\",\"false\")","v":"true"},"true","true",null,"true","true","true",null,"true","true","true",null,null,"true","true","true","true","true","true","true","true",null,"true"]
[{"$f":"IF(A54=A254,\"true\",\"false\")","v":"true"},"true","true",null,"true","true","true",null,"true","true","true",null,null,"true","true","true","true","true","true","true","true",null,"true"]
[{"$f":"IF(A55=A255,\"true\",\"false\")","v":"true"},"true","true",null,"true","true","true",null,"true","true","true",null,null,"true","true","true","true","true","true","true","true",null,"true"]
[{"$f":"IF(A56=A256,\"true\",\"false\")","v":"true"},"true","true",null,"true","true","true",null,"true","true","true",null,null,"true","true","true","true","true","true","true","true",null,"true"]
[{"$f":"IF(A57=A257,\"true\",\"false\")","v":"true"},"true","true",null,"true","true","true",null,"true","true","true",null,null,"true","true","true","true","true","true","true","true",null,"true"]
[{"$f":"IF(A58=A258,\"true\",\"false\")","v":"true"},"true","true",null,"true","true","true",null,"true","true","true",null,null,"true","true","true","true","true","true","true","true",null,"true"]
[{"$f":"IF(A59=A259,\"true\",\"false\")","v":"true"},"true","true",null,"true","true","true",null,"true","true","true",null,null,"true","true","true","true","true","true","true","true",null,"true"]
[{"$f":"IF(A60=A260,\"true\",\"false\")","v":"true"},"true","true",null,"true","true","true",null,"true","true","true",null,null,"true","true","true","true","true","true","true","true",null,"true"]
[{"$f":"IF(A61=A261,\"true\",\"false\")","v":"true"},"true","true",null,"true","true","true",null,"true","true","true",null,null,"true","true","true","true","true","true","true","true",null,"true"]
[{"$f":"IF(A62=A262,\"true\",\"false\")","v":"true"},"true","true",null,"true","true","true",null,"true","true","true",null,null,"true","true","true","true","true","true","true","true",null,"true"]
[{"$f":"IF(A63=A263,\"true\",\"false\")","v":"true"},"true","true",null,"true","true","true",null,"true","true","true",null,null,"true","true","true","true","true","true","true","true",null,"true"]
[{"$f":"IF(A64=A264,\"true\",\"false\")","v":"true"},"true","true",null,"true","true","true",null,"true","true","true",null,null,"true","true","true","true","true","true","true","true",null,{"$f":"IF(W64=W264,\"true\",\"false\")","v":"true"}]
[{"$f":"IF(A65=A265,\"true\",\"false\")","v":"true"},"true","true",null,"true","true","true",null,"true","true","true",null,null,"true","true","true","true","true","true","true","true",null,"true"]
[{"$f":"IF(A66=A266,\"true\",\"false\")","v":"true"},"true","true",null,"true","true","true",null,"true","true","true",null,null,"true","true","true","true","true","true","true","true",null,"true"]
[{"$f":"IF(A67=A267,\"true\",\"false\")","v":"true"},"true","true",null,"true","true","true",null,"true","true","true",null,null,"true","true","true","true","true","true","true","true",null,"true"]
[{"$f":"IF(A68=A268,\"true\",\"false\")","v":"true"},"true","true",null,"true","true","true",null,"true","true","true",null,null,"true","true","true","true","true","true","true","true",null,"true"]
[{"$f":"IF(A69=A269,\"true\",\"false\")","v":"true"},"true","true",null,"true","true","true",null,"true","true","true",null,null,"true","true","true","true","true","true","true","true",null,"true"]
[{"$f":"IF(A70=A270,\"true\",\"false\")","v":"true"},"true","true",null,"true","true","true",null,"true","true","true",null,null,"true","true","true","true","true","true","true","true",null,"true"]
[{"$f":"IF(A71=A271,\"true\",\"false\")","v":"true"},"true","true",null,"true","true","true",null,"true","true","true",null,null,"true","true","true","true","true","true","true","true",null,"true"]
[{"$f":"IF(A72=A272,\"true\",\"false\")","v":"true"},"true","true",null,"true","true","true",null,"true","true","true",null,null,"true","true","true","true","true","true","true","true",null,"true"]
[{"$f":"IF(A73=A273,\"true\",\"false\")","v":"true"},"true","true",null,"true","true","true",null,"true","true","true",null,null,"true","true","true","true","true","true","true","true",null,"true"]
[{"$f":"IF(A74=A274,\"true\",\"false\")","v":"true"},"true","true",null,"true","true","true",null,"true","true","true",null,null,"true","true","true","true","true","true","true","true",null,"true"]
[{"$f":"IF(A75=A275,\"true\",\"false\")","v":"true"},"true","true",null,"true","true","true",null,"true","true","true",null,null,"true","true","true","true","true","true","true","true",null,"true"]
[{"$f":"IF(A76=A276,\"true\",\"false\")","v":"true"},"true","true",null,"true","true","true",null,"true","true","true",null,null,"true","true","true","true","true","true","true","true",null,"true"]
[{"$f":"IF(A77=A277,\"true\",\"false\")","v":"true"},"true","true",null,"true","true","true",null,"true","true","true",null,null,"true","true","true","true","true","true","true","true",null,"true"]
[{"$f":"IF(A78=A278,\"true\",\"false\")","v":"true"},"true","true",null,"true","true","true",null,"true","true","true",null,null,"true","true","true","true","true","true","true","true",null,"true"]
[{"$f":"IF(A79=A279,\"true\",\"false\")","v":"true"},"true","true",null,"true","true","true",null,"true","true","true",null,null,"true","true","true","true","true","true","true","true",null,"true"]
[{"$f":"IF(A80=A280,\"true\",\"false\")","v":"true"},"true","true",null,"true","true","true",null,"true","true","true",null,null,"true","true","true","true","true","true","true","true",null,"true"]
[{"$f":"IF(A81=A281,\"true\",\"false\")","v":"true"},"true","true",null,"true","true","true",null,"true","true","true",null,null,"true","true","true","true","true","true","true","true",null,"true"]

{"sheet":"Hilfsblatt Ber. Wirtsch Wirk 2","index":15,"n_rows":107,"n_cols":73,"rows_kept":107,"cut":false,"hidden":false,"merged":[[9,67,9,68],[0,0,0,2],[1,0,1,2],[2,0,2,2],[9,0,12,0],[9,1,12,1],[9,2,10,2],[9,63,9,66]]}
["1.1 Aufkommenstabelle 2011 zu Herstellungspreisen"]
["       mit Übergang auf Anschaffungspreise (ohne Spalte 67-69)"]
["        Mill. EUR",null,"Mill."]
[]
[]
[]
[]
[]
[]
["Lfd.\nNr.","CPA","Gegenstand\nder\nNachweisung","Produktionswerte der Wirtschaftsbereiche zu Herstellungspreisen",null,null,null,null,"Produktionswerte der Wirtschaftsbereiche zu Herstellungspreisen",null,null,null,null,"Produktionswerte der Wirtschaftsbereiche zu Herstellungspreisen",null,null,null,null,"Produktionswerte der Wirtschaftsbereiche zu Herstellungspreisen",null,null,null,null,"Produktionswerte der Wirtschaftsbereiche zu Herstellungspreisen",null,null,null,null,"Produktionswerte der Wirtschaftsbereiche zu Herstellungspreisen",null,null,null,null,"Produktionswerte der Wirtschaftsbereiche zu Herstellungspreisen",null,null,null,null,"Produktionswerte der Wirtschaftsbereiche zu Herstellungspreisen",null,null,null,null,"Produktionswerte der Wirtschaftsbereiche zu Herstellungspreisen",null,null,null,null,"Produktionswerte der Wirtschaftsbereiche zu Herstellungspreisen",null,null,null,null,"Produktionswerte der Wirtschaftsbereiche zu Herstellungspreisen",null,null,null,null,"Produktionswerte der Wirtschaftsbereiche zu Herstellungspreisen",null,null,null,null,"Produktionswerte der Wirtschaftsbereiche zu Herstellungspreisen",null,null,null,"Importe, cif"]
[null,null,null,"Landwirtschaft","Forstwirtschaft","Fischerei","Bergbau und Gewinnung von Steinen und Erden","H.v. Nahrungsmitteln u. Getränken, Tabakverarb.","H.v. Textilien, Bekleidung, Lederwaren u. Schuhen","H.v. Holz-, Flecht-, Korb- u. Korkwaren\n (oh. Möbel)","H.v. Papier, Pappe und Waren daraus","H.v. Druckerzgn., Vervielfält. v. Ton-,Bild-,\nDatenträgern","Kokerei und Mineralölverarbeitung","H.v. chemischen Erzeugnissen","H.v. pharmazeutischen Erzeugnissen","H.v. Gummi- und Kunststoffwaren","H.v. Glas, -waren, Keramik, Verarb. v. Steinen u. Erden","Metallerzeugung und \n-bearbeitung","H.v. Metallerzeugnissen","H.v. DV-Geräten, elektron. u. optischen Erzeugnissen","H.v. elektrischen Ausrüstungen","Maschinenbau","H.v. Kraftwagen und Kraftwagenteilen","Sonstiger Fahrzeugbau","H.v. Möbeln u. sonstigen Waren","Rep. u. Installation v. Maschinen u. Ausrüstungen","Energieversorgung","Wasserversorgung","Abwasser-, Abfall-entsorgung; Rückgewinnung","Baugewerbe","Kfz-Handel; Instandhaltung u. Rep. v. Kfz","Großhandel (oh. Handel mit Kfz)","Einzelhandel (oh. Handel mit Kfz)","Landverkehr u. Transport in Rohrfernleitungen","Schifffahrt","Luftfahrt","Lagerei, sonst. Dienstleister f.d. Verkehr","Post-, Kurier- und Expressdienste","Gastgewerbe","Verlagswesen","Audiovisuelle Medien und Rundfunk","Telekommunikation","IT- und Informationsdienstleister","Finanzdienstleister","Versicherungen und Pensionskassen","Mit Finanz- und Versicherungsdienstl. verb. Tätigkeiten","Grundstücks- und Wohnungswesen","Rechts- u. Steuerberatung, Unternehmensberatung","Architektur- u. Ing.büros; techn. Untersuchung","Forschung und Entwicklung","Werbung und Marktforschung","Freiberufl., wiss., techn. DL a.n.g., Veterinärwesen","Vermietung von beweglichen Sachen","Vermittlung und Überlassung von Arbeitskräften","Reisebüros und -veranstalter","Unternehmensdienstleister a.n.g.","Öff. Verwaltung, Verteidigung; Sozialversicherung","Erziehung und Unterricht","Gesundheitswesen","Heime und Sozialwesen","Kunst und Kultur, Glücksspiel","Sport, Unterhaltung und Erholung","Interessenvertretungen, religiöse Vereinigungen","Rep. v. DV-Geräten u. Gebrauchsgütern","Sonstige überwiegend persönl. Dienstleister","Häusliche Dienste","zusammen","zu\nsammen","darunter:\naus\nEU-Ländern","Aufkommen zu Herstellungspreisen","Handelsspannen","Gütersteuern abzüglich Gütersubventionen","Aufkommen zu Anschaffungspreisen"]
[null,null,"WZ 2008 ","01","02","03","05-09","10-12","13-15","16","17","18","19","20","21","22","23",24,25,"26","27","28","29","30","31-32",33,"35","36","37-39","41-43","45","46","47","49","50","51","52","53","55-56","58","59-60","61","62-63","64","65","66","68","69-70","71","72","73","74-75",77,78,"79","80-82","84","85","86","87-88","90-92",93,"94","95","96","97-98"]
[null,null,"Lfd.Nr. …...",1,2,3,4,5,6,7,8,9,10,11,12,13,14,15,16,17,18,19,20,21,22,23,24,25,26,27,28,29,30,31,32,33,34,35,36,37,38,39,40,41,42,43,44,45,46,47,48,49,50,51,52,53,54,55,56,57,58,59,60,61,62,63,64,65,66,70,71,72,73]
[null,null,"Gütergruppen  (Zeile 1 bis 86):"]
[1,"01","Erzeugnisse der Landwirtschaft, Jagd und Dienstleistungen",45133,"-","-","-","-","-","-","-","-","-","-","-","-","-","-","-","-","-","-","-","-","-","-","-","-","-","-","-","-","-","-","-","-","-","-","-","-","-","-","-","-","-","-","-","-","-","-","-","-","-","-","-","-","-","-","-","-","-","-","-","-","-","-",45133,27709,14940,72842,15194,1935,89971]
[2,"02","Forstwirtschaftliche Erzeugnisse und Dienstleistungen","-",4355,"-","-","-","-","-","-","-","-","-","-","-","-","-","-","-","-","-","-","-","-","-","-","-","-","-","-","-","-","-","-","-","-","-","-","-","-","-","-","-","-","-","-","-","-","-","-","-","-","-","-","-","-","-","-","-","-","-","-","-","-","-",4355,870,687,5225,109,111,5445]
[3,"03","Fische, Fischerei- und Aquakulturerzeugnisse","-","-",396,"-","-","-","-","-","-","-","-","-","-","-","-","-","-","-","-","-","-","-","-","-","-","-","-","-","-","-","-","-","-","-","-","-","-","-","-","-","-","-","-","-","-","-","-","-","-","-","-","-","-","-","-","-","-","-","-","-","-","-","-",396,541,249,937,272,23,1232]
[4,"5.1","Steinkohle ","-","-","-",1173,"-","-","-","-","-","-","-","-","-","-","-","-","-","-","-","-","-","-","-","-","-","-","-","-","-","-","-","-","-","-","-","-","-","-","-","-","-","-","-","-","-","-","-","-","-","-","-","-","-","-","-","-","-","-","-","-","-","-","-",1173,4909,371,6082,181,47,6310]
[5,"5.2","Braunkohle ","-","-","-",1313,"-","-","-","-","-","-","-","-","-","-","-","-","-","-","-","-","-","-","-","-","-","-","-","-","-","-","-","-","-","-","-","-","-","-","-","-","-","-","-","-","-","-","-","-","-","-","-","-","-","-","-","-","-","-","-","-","-","-","-",1313,3,3,1316,68,1,1385]
[6,"06","Erdöl und Erdgas","-","-","-",2704,"-","-","-","-","-","-","-","-","-","-","-","-","-","-","-","-","-","-","-","-","-","-","-","-","-","-","-","-","-","-","-","-","-","-","-","-","-","-","-","-","-","-","-","-","-","-","-","-","-","-","-","-","-","-","-","-","-","-","-",2704,84608,17829,87312,18294,5761,111367]
[7,"07","Erze ","-","-","-","-","-","-","-","-","-","-","-","-","-","-","-","-","-","-","-","-","-","-","-","-","-","-","-","-","-","-","-","-","-","-","-","-","-","-","-","-","-","-","-","-","-","-","-","-","-","-","-","-","-","-","-","-","-","-","-","-","-","-","-","-",8954,1152,8954,482,0,9436]
[8,"08-09","Steine und Erden, sonstige Bergbauerzeugnisse und Dienstleistungen ","-","-","-",5856,6,"-","-","-","-","-",348,"-","-",386,1,"-","-","-",30,"-","-","-",29,"-","-","-",169,"-",32,"-","-","-","-","-","-","-","-","-","-","-","-","-","-","-","-","-","-","-","-","-","-","-","-","-","-","-","-","-","-","-","-","-","-",6857,1789,981,8646,1498,118,10262]
[9,"10","Nahrungs- und Futtermittel ","-","-","-",38,142677,3,"-",6,"-","-",453,222,"-",3,3,66,"-","-","-","-","-",3,"-","-","-","-","-","-",1015,292,"-","-","-","-","-",151,"-","-","-","-","-","-","-","-","-","-","-","-","-","-","-","-","-","-","-","-","-","-","-","-","-","-","-",144932,41846,29229,186778,46572,10057,243407]
[10,"11","Getränke",23,"-","-","-",17450,"-","-","-","-","-",58,192,"-","-","-","-","-","-","-","-","-","-","-","-","-","-","-","-",11,"-","-","-","-","-","-","-","-","-","-","-","-","-","-","-","-","-","-","-","-","-","-","-","-","-","-","-","-","-","-","-","-","-","-",17734,5670,4636,23404,14529,8199,46132]
[11,"12","Tabakerzeugnisse ","-","-","-","-",3455,"-","-","-","-","-","-","-","-","-","-","-","-","-","-","-","-","-","-","-","-","-","-","-","-","-","-","-","-","-","-","-","-","-","-","-","-","-","-","-","-","-","-","-","-","-","-","-","-","-","-","-","-","-","-","-","-","-","-",3455,1516,1017,4971,4503,18279,27753]
[12,"13","Textilien ","-","-","-","-","-",11495,14,45,2,"-",63,"-",466,56,"-",32,"-","-",10,122,"-",24,"-","-","-","-","-","-",54,"-","-","-","-","-","-","-","-","-","-","-","-","-","-","-","-","-","-","-","-","-","-","-","-","-","-","-","-","-","-","-","-","-","-",12383,10785,5579,23168,8503,1935,33606]
[13,"14","Bekleidung ","-","-","-","-","-",7840,"-","-","-","-","-","-",10,"-","-","-","-","-","-","-","-",15,"-","-","-","-","-","-",1,"-","-","-","-","-","-","-","-","-","-","-","-","-","-","-","-","-","-","-","-","-","-","-","-","-","-","-","-","-","-","-","-","-","-",7866,26401,5813,34267,29497,8527,72291]
[14,"15","Leder und  Lederwaren ","-","-","-","-",1,2500,"-","-","-","-","-","-",24,"-","-",4,"-","-","-",12,2,1,"-","-","-","-","-","-","-","-","-","-","-","-","-","-","-","-","-","-","-","-","-","-","-","-","-","-","-","-","-","-","-","-","-","-","-","-","-","-","-","-","-",2544,9941,3744,12485,10504,2495,25484]
[15,"16","Holz, Holz-, Flecht-, Korb- und Korkwaren (ohne Möbel)","-",658,"-","-","-",4,21315,84,"-","-",59,"-",278,5,1,169,2,2,2,"-","-",97,4,"-","-","-",87,"-",5,8,"-","-","-","-","-","-","-","-","-","-","-","-","-","-","-","-","-","-","-","-","-","-","-","-","-","-","-","-","-","-","-","-","-",22780,6066,4311,28846,5239,924,35009]
[16,"17.1","Holz- und Zellstoff, Papier, Karton und Pappe","-","-","-","-","-",11,"-",16709,7,"-",2,"-",33,"-","-","-","-","-","-","-","-","-","-","-","-","-","-","-","-","-","-","-","-","-","-","-","-","-","-","-","-","-","-","-","-","-","-","-","-","-","-","-","-","-","-","-","-","-","-","-","-","-","-",16762,11410,8884,28172,340,13,28525]
[17,"17.2","Papier-, Karton- und Pappewaren ","-","-","-","-",13,9,82,20343,130,"-",9,"-",358,"-",40,20,1,4,44,"-","-","-","-","-","-","-","-","-",42,"-","-","-","-","-","-","-","-","-","-","-","-","-","-","-","-","-","-","-","-","-","-","-","-","-","-","-","-","-","-","-","-","-","-",21095,3891,3183,24986,8868,1362,35216]
[18,"18","Druckereileistungen, bespielte Ton-, Bild- und Datenträger","-","-","-","-","-",3,"-",138,21483,"-","-","-",83,5,2,4,202,3,2,"-","-",1,"-","-","-","-","-","-",8,14,"-","-","-","-","-","-","-","-","-","-","-","-","-","-","-","-",115,"-","-","-","-","-","-","-","-","-","-","-","-","-","-","-","-",22063,1283,1148,23346,54,580,23980]
[19,"19.1","Kokereierzeugnisse ","-","-","-",5,"-","-","-","-","-",428,92,"-","-","-",663,"-","-","-","-","-","-","-","-","-","-","-","-","-","-","-","-","-","-","-","-","-","-","-","-","-","-","-","-","-","-","-","-","-","-","-","-","-","-","-","-","-","-","-","-","-","-","-","-",1188,1614,1248,2802,73,14,2889]
[20,"19.2","Mineralölerzeugnisse ","-","-","-",213,"-","-","-","-","-",65684,1175,"-","-",19,"-","-","-","-","-","-","-","-","-","-","-","-","-","-",4,"-","-",265,"-","-","-","-","-","-","-","-","-","-","-","-","-","-","-","-","-","-","-","-","-","-","-","-","-","-","-","-","-","-","-",67360,41392,29524,108752,11660,47368,167780]
[21,"20","Chemische Erzeugnisse ","-","-","-",59,771,92,12,190,"-",3632,117206,1372,314,212,537,118,176,11,84,"-","-",417,"-","-","-","-",11,"-",557,"-","-","-","-","-","-","-","-","-","-","-","-","-","-","-","-","-","-","-","-","-","-","-","-","-","-","-","-","-","-","-","-","-","-",125771,74804,53939,200575,24446,4329,229350]
[22,"21","Pharmazeutische Erzeugnisse ","-","-","-","-",146,41,"-",18,"-","-",1804,28434,1,"-","-","-","-","-",2,"-","-",207,"-","-","-","-","-","-",326,"-","-","-","-","-","-","-","-","-","-","-","-","-","-","-","-","-","-","-","-","-","-","-","-","-","-","-","-","-","-","-","-","-","-",30979,32541,20277,63520,26615,9606,99741]
[23,"22.1","Gummiwaren ","-","-","-","-","-","-","-","-","-","-",6,"-",11881,"-","-",32,1,10,138,396,"-","-","-","-","-","-","-","-",14,"-","-","-","-","-","-","-","-","-","-","-","-","-","-","-","-","-","-","-","-","-","-","-","-","-","-","-","-","-","-","-","-","-","-",12478,11616,8385,24094,1710,746,26550]
[24,"22.2","Kunststoffwaren ","-","-","-","-",38,303,168,210,5,"-",919,9,52230,278,62,844,27,136,529,581,15,141,1,"-","-","-",9,"-",164,"-","-","-","-","-","-","-","-","-","-","-","-","-","-","-","-","-","-","-","-","-","-","-","-","-","-","-","-","-","-","-","-","-","-",56669,15262,10234,71931,6426,1131,79488]
[25,"23.1","Glas und Glaswaren ","-","-","-",1,"-",12,3,15,"-","-",3,"-",87,9118,"-",15,3,28,14,"-","-","-","-","-","-","-","-","-",38,"-","-","-","-","-","-","-","-","-","-","-","-","-","-","-","-","-","-","-","-","-","-","-","-","-","-","-","-","-","-","-","-","-","-",9337,3978,2679,13315,1987,306,15608]
[26,"23.2-23.9","Keramik, bearbeitete Steine und Erden","-","-","-",206,4,"-",1,6,"-","-",284,"-",190,30684,19,71,5,133,146,110,"-",2,"-","-","-","-",1263,"-",39,29,"-","-","-","-","-","-","-","-","-","-","-","-","-","-","-","-","-","-","-","-","-","-","-","-","-","-","-","-","-","-","-","-","-",33192,5547,3502,38739,7589,915,47243]
[27,"24.1-24.3","Roheisen, Stahl, Erzeugn. der ersten Bearbeitung von Eisen und Stahl","-","-","-","-","-","-","-","-","-","-",23,"-",20,15,55933,523,"-",62,551,49,95,6,7,"-","-","-","-","-",49,"-","-","-","-","-","-","-","-","-","-","-","-","-","-","-","-","-","-","-","-","-","-","-","-","-","-","-","-","-","-","-","-","-","-",57333,30038,23303,87371,7019,96,94486]
[28,"24.4","NE-Metalle und Halbzeug daraus ","-","-","-","-","-","-","-",8,"-","-",867,"-",25,"-",34360,550,"-",274,13,80,"-",84,"-","-","-","-","-","-","-","-","-","-","-","-","-","-","-","-","-","-","-","-","-","-","-","-","-","-","-","-","-","-","-","-","-","-","-","-","-","-","-","-","-",36261,32818,18493,69079,1986,62,71127]
[29,"24.5","Gießereierzeugnisse","-","-","-","-","-","-","-","-","-","-","-","-",5,"-",13844,159,"-",9,473,1,1,1,"-","-","-","-","-","-","-","-","-","-","-","-","-","-","-","-","-","-","-","-","-","-","-","-","-","-","-","-","-","-","-","-","-","-","-","-","-","-","-","-","-",14493,210,147,14703,128,26,14857]
[30,25,"Metallerzeugnisse ","-","-","-",1,16,54,91,3,"-","-",30,"-",1765,179,2065,115122,75,746,1893,714,240,295,294,43,7,10,152,"-",208,35,316,"-","-",25,"-","-","-","-","-","-","-","-","-","-","-","-","-","-","-","-","-","-","-","-","-","-","-","-","-","-","-","-","-",124379,24545,15489,148924,17432,3070,169426]
[31,"26","DV-geräte, elektron. u. optische Erzeugnisse","-","-","-","-","-",2,"-","-",16,"-",40,2,98,2,31,79,58658,2130,1221,294,851,312,151,"-","-","-",2,"-",2211,5,"-","-","-","-","-","-","-","-",9,"-","-","-","-","-","-","-","-","-","-","-","-","-","-","-","-","-","-","-","-","-","-","-","-",66114,94208,29330,160322,34235,8858,203415]
[32,"27","Elektrische Ausrüstungen","-","-","-","-","-",71,"-",1,1,"-",54,"-",225,34,220,315,2020,87622,2175,401,168,119,284,580,93,135,68,"-",536,"-","-","-","-","-","-","-","-","-",15,"-","-","-","-","-","-","-","-","-","-","-","-","-","-","-","-","-","-","-","-","-","-","-","-",95137,43584,24597,138721,21629,3430,163780]
[33,"28","Maschinen","-","-","-","-",1,9,33,90,22,"-",132,1,259,29,369,1339,821,3961,196719,10299,188,221,412,99,16,22,832,55,488,18,37,"-","-",3,"-","-","-","-",5,"-","-","-","-","-","-","-","-","-","-","-","-","-","-","-","-","-","-","-","-","-","-","-","-",216480,71799,41726,288279,27288,1924,317491]
[34,"29","Kraftwagen und Kraftwagenteile ",136,"-","-","-","-",59,2,6,"-","-",2,"-",438,71,139,866,631,218,4618,283150,155,29,10,"-","-","-","-",32,61,"-","-","-","-","-","-","-","-","-","-","-","-","-","-","-","-","-","-","-","-","-","-","-","-","-","-","-","-","-","-","-","-","-","-",290623,81397,68074,372020,44835,6728,423583]
[35,"30","Sonstige Fahrzeuge","-","-","-","-","-",2,1,"-","-","-","-","-",20,"-",6,164,80,532,180,1269,29405,44,290,"-","-","-",50,"-",7,"-",19,"-","-",1,"-","-","-","-","-","-","-","-","-","-","-","-","-","-","-","-","-","-","-","-","-","-","-","-","-","-","-","-","-",32070,23906,9318,55976,3883,1401,61260]
[36,"31","Möbel ","-","-","-","-","-",52,72,1,"-","-",1,"-",123,44,2,173,"-",10,122,114,61,18703,22,"-","-","-",17,"-",7,32,"-","-","-","-","-","-","-","-","-","-","-","-","-","-","-","-","-","-","-","-","-","-","-","-","-","-","-","-","-","-","-","-","-",19556,10211,7170,29767,14812,4689,49268]
[37,"32","Sonstige Waren ","-","-","-","-","-",15,3,21,1,"-",22,427,50,166,70,58,165,63,71,"-",2,26095,11,"-","-","-","-","-",51,5,"-","-","-","-","-","-","-","-","-","-","-","-","-","-","-","-","-","-","-","-","-","-","-","-","-","-","-","-","-","-","-","-","-",27296,21442,7597,48738,23779,5415,77932]
[38,"33","Reparatur, Instandh. u. Installation v. Maschinen u. Ausrüstungen","-","-","-",1,"-",8,12,4,"-","-",10,"-",94,6,15,672,980,2637,6652,52,986,255,33485,"-","-","-",543,6,146,1,"-","-",40,"-","-","-","-","-","-","-","-","-","-","-","-","-","-","-","-","-","-","-","-","-","-",93,"-","-","-","-","-","-","-",46698,843,458,47541,"-",709,48250]
[39,"35.1, 35.3","Elektr. Strom, Dienstleistg. der Elektriz.-, Wärme- und Kälteversorg.","-","-","-",358,42,1,78,62,4,78,176,3,11,13,178,15,9,10,15,21,4,2,12,93105,455,158,"-","-","-","-","-","-","-","-","-","-","-","-","-","-","-","-","-","-","-","-","-","-","-","-","-","-","-","-","-","-","-","-","-","-","-","-","-",94810,2975,2835,97785,"-",13887,111672]
[40,"35.2","Industriell erzeugte Gase, Dienstleistungen der Gasversorgung","-","-","-",18,"-","-","-","-","-","-","-","-","-","-",679,"-","-","-","-","-","-","-","-",18473,318,6,"-","-","-","-","-","-","-","-","-","-","-","-","-","-","-","-","-","-","-","-","-","-","-","-","-","-","-","-","-","-","-","-","-","-","-","-","-",19494,"-","-",19494,-14817,528,5205]
[41,"36","Wasser, Dienstleistungen der Wasserversorgung","-","-","-","-","-","-","-","-","-","-","-","-","-","-","-","-","-","-","-","-","-","-","-",3443,5156,576,"-","-","-","-","-","-","-","-","-","-","-","-","-","-","-","-","-","-","-","-","-","-","-","-","-","-","-","-","-","-","-","-","-","-","-","-","-",9175,"-","-",9175,"-",478,9653]
[42,"37","Dienstleistungen der Abwasserentsorgung","-","-","-","-","-","-","-","-","-","-","-","-","-","-","-","-","-","-","-","-","-","-","-",544,1984,13800,"-","-","-","-","-","-","-","-","-","-","-","-","-","-","-","-","-","-","-","-","-","-","-","-","-","-","-","-","-","-","-","-","-","-","-","-","-",16328,"-","-",16328,"-",0,16328]
[43,"38","Dienstleistg. d. Sammlg., Behandlg., Beseit. v. Abfällen u. d. Rückgew. ","-","-","-","-","-","-","-","-","-","-","-","-","-","-","-","-","-","-","-","-","-","-","-",427,73,28710,"-","-","-","-","-","-","-","-","-","-","-","-","-","-","-","-","-","-","-","-","-","-","-","-","-","-","-","-","-","-","-","-","-","-","-","-","-",29210,9660,7404,38870,3601,550,43021]
[44,"39","Dienstleistg. d. Beseitigung v. Umweltverschm. u. sonst. Entsorg.","-","-","-","-","-","-","-","-","-","-","-","-","-","-","-","-","-","-","-","-","-","-","-","-","-",649,"-","-","-","-","-","-","-","-","-","-","-","-","-","-","-","-","-","-","-","-","-","-","-","-","-","-","-","-","-","-","-","-","-","-","-","-","-",649,4,4,653,"-",34,687]
[45,"41 ","Hochbauarbeiten",190,"-","-",13,23,4,9,14,1,5,120,22,51,34,28,82,8,103,118,120,43,110,2,724,41,80,45087,"-","-","-",226,"-","-",18,"-","-","-","-",38,"-","-","-","-","-","-","-","-","-","-","-","-","-","-",88,"-","-","-",29,173,87,"-","-","-",47691,"-","-",47691,"-",6116,53807]
[46,"42","Tiefbauarbeiten","-","-","-","-","-","-","-","-","-","-","-","-","-","-","-","-","-","-","-","-","-","-","-",5484,294,586,28562,"-","-","-","-","-","-","-","-","-","-","-","-","-","-","-","-","-","-","-","-","-","-","-","-","-","-","-","-","-","-","-","-","-","-","-","-",34926,"-","-",34926,"-",4307,39233]
[47,"43","Vorb. Baustellen-, Bauinstallations- und sonstige Ausbauarbeiten ",353,"-","-",21,39,6,14,23,1,8,192,35,83,55,45,137,8,166,186,193,67,184,2,3771,214,417,173479,21,169,"-",381,1,"-",36,"-",17,18,33,72,40,"-","-","-","-",23,340,3,14,1,60,"-",13,264,132,2,"-","-",61,368,173,"-",11,"-",181952,191,184,182143,"-",18369,200512]
[48,"45","Handelsleistungen mit Kfz, Instandhaltung und Reparatur an Kfz","-","-","-","-","-","-","-","-","-","-",102,"-","-","-","-","-","-","-","-",19055,"-","-","-","-","-","-","-",65142,509,824,116,"-","-",68,"-","-","-","-","-","-","-","-","-","-","-","-","-","-","-","-","-","-","-","-","-","-","-","-",44,"-","-","-","-",85860,1308,591,87168,-45837,3085,44416]
[49,"46","Großhandelsleistungen (ohne Handelsleistungen mit Kfz) ","-","-","-",162,3394,386,423,553,41,4305,3931,26,1730,1110,572,1248,2215,3544,5020,753,278,1443,204,1881,"-",753,206,199,199958,5599,514,626,39,102,"-","-",147,"-","-","-",184,"-","-","-","-","-","-","-",25,"-","-","-","-","-","-","-","-","-","-","-","-","-","-",241571,4877,2233,246448,-232270,-26,14152]
[50,"47","Einzelhandelsleistungen (ohne Handelsleistungen mit Kfz) ","-","-","-",1,486,552,45,219,14,"-",716,1915,649,140,39,751,185,562,981,3,44,951,658,"-","-","-",156,79,2930,149414,"-","-",144,"-","-",311,111,"-","-",1166,"-","-","-","-","-","-","-","-",58,"-","-",130,"-","-","-","-","-",297,820,"-","-",424,"-",164951,"-","-",164951,-164951,0,0]
[51,"49","Landverkehrs- und Transportleistungen in Rohrfernleitungen","-","-","-",8,121,"-",24,76,"-",313,"-","-","-","-","-","-","-","-","-",43,"-",70,"-",366,"-","-","-","-","-","-",83683,114,"-",5474,"-","-","-","-","-","-","-","-","-","-","-","-","-","-","-","-","-",78,"-","-","-","-","-","-","-","-","-","-","-",90370,9413,8277,99783,"-",-3780,96003]
[52,"50","Schifffahrtsleistungen ","-","-","-","-","-","-","-","-","-","-","-","-","-","-","-","-","-","-","-","-","-","-","-","-","-","-","-","-","-","-",393,22911,"-",476,"-","-","-","-","-","-","-","-","-","-","-","-","-","-","-","-","-","-","-","-","-","-","-","-","-","-","-","-","-",23780,2699,988,26479,"-",52,26531]
[53,"51","Luftfahrtleistungen ","-","-","-","-","-","-","-","-","-","-","-","-","-","-","-","-","-","-","-","-","-","-","-","-","-","-","-","-","-","-","-","-",23805,"-","-","-","-","-","-","-","-","-","-","-","-","-","-","-","-","-","-","-","-","-","-","-","-","-","-","-","-","-","-",23805,2276,1030,26081,"-",1451,27532]
[54,"52","Lagereileistungen, sonstige Dienstleistungen für den Verkehr ","-","-","-","-","-","-","-","-","-","-",49,"-","-","-","-","-","-","-","-","-","-","-","-","-","-","-",137,"-","-","-",4770,543,180,106336,"-","-","-","-","-","-","-","-","-","-","-","-","-","-","-","-","-","-","-","-","-","-","-","-","-","-","-","-","-",112015,15135,5572,127150,"-",340,127490]
[55,"53","Post-, Kurier- und Expressdienstleistungen","-","-","-","-","-","-","-","-","-","-","-","-","-","-","-","-","-","-","-","-","-","-","-","-","-","-","-",576,4188,1161,"-","-","-","-",28063,"-","-","-","-","-","-","-","-","-","-","-","-","-","-","-","-","-","-","-","-","-","-","-","-","-","-","-","-",33988,1724,531,35712,"-",399,36111]
[56,"55-56","Beherbergungs-  und Gastronomiedienstleistungen ",64,"-","-",48,197,29,9,93,76,12,180,180,100,57,78,160,204,297,470,794,69,94,206,"-","-","-",353,"-","-","-","-","-",37,"-","-",73648,"-","-","-","-","-","-","-","-","-","-","-","-","-","-","-","-","-","-","-","-","-","-","-","-","-","-","-",77455,5939,3333,83394,"-",9432,92826]
[57,"58","Dienstleistungen des Verlagswesen","-","-","-","-","-","-","-","-","-","-","-","-","-","-","-","-",33,82,33,"-","-",1,"-","-","-","-","-","-","-","-","-","-","-","-","-","-",31696,"-","-",9207,"-","-","-","-","-","-","-","-","-","-","-","-","-","-","-","-","-","-","-","-","-","-","-",41052,4743,3816,45795,12035,2855,60685]
[58,"59-60","Dienstleistg. v. audiovisuell. Medien, Musikverlag. u. RF-veranstaltern","-","-","-","-","-","-","-","-",9,"-","-","-","-","-","-","-","-","-","-","-","-","-","-","-","-","-","-","-","-","-","-","-","-","-","-","-","-",29344,"-","-","-","-","-","-","-","-","-","-","-","-","-","-","-","-","-","-","-","-","-","-","-","-","-",29353,3198,2001,32551,"-",2349,34900]
[59,"61","Telekommunikationsdienstleistungen ","-","-","-","-","-","-","-","-","-","-","-","-","-","-","-","-","-","-","-","-","-","-","-","-","-","-","-","-","-","-","-","-","-","-","-","-","-","-",67996,"-","-","-","-","-","-","-","-","-","-","-",1156,"-","-","-","-","-","-","-","-","-","-","-","-",69152,4099,2478,73251,"-",5619,78870]
[60,"62-63","IT- und Informationsdienstleistungen",3,5,"-",11,68,31,8,39,68,181,925,89,103,41,95,164,693,633,1000,477,72,112,240,197,10,10,143,63,314,259,50,10,362,124,23,8,709,49,211,81869,456,222,197,26,3556,169,1193,101,58,3,42,39,213,377,187,208,45,25,4,100,68,20,"-",96778,13076,7272,109854,"-",3029,112883]
[61,"64","Finanzdienstleistungen","-","-","-","-","-","-","-","-","-","-","-","-","-","-","-","-","-","-","-","-","-","-","-","-","-","-","-","-","-","-","-","-","-","-","-","-","-","-","-","-",140368,"-","-","-","-","-","-","-","-","-","-","-","-","-","-","-","-","-","-","-","-","-","-",140368,10968,8602,151336,"-",0,151336]
[62,"65","Dienstleistungen von Versicherungen und Pensionskassen","-","-","-","-","-","-","-","-","-","-","-","-","-","-","-","-","-","-","-","-","-","-","-","-","-","-","-","-","-","-","-","-","-","-","-","-","-","-","-","-","-",62519,"-","-","-","-","-","-","-","-","-","-","-","-","-","-","-","-","-","-","-","-","-",62519,1923,1185,64442,"-",11132,75574]
[63,"66","Mit Finanz- und Versicherungsdienstleistg. verbundene Dienstleistg.","-","-","-","-","-","-","-","-","-","-","-","-","-","-","-","-","-","-","-","-","-","-","-","-","-","-","-","-","-","-","-","-","-","-","-","-","-","-","-","-","-","-",29045,"-","-","-","-","-","-","-","-",194,"-","-","-","-","-","-","-","-","-","-","-",29239,"-","-",29239,"-",0,29239]
[64,"68","Dienstleistungen des Grundstücks- und Wohnungswesens ","-","-","-",483,1840,344,247,362,260,250,1232,1521,813,645,771,711,463,481,891,1229,108,548,24,713,39,77,65,"-","-","-",385,241,93,694,"-",670,"-","-","-","-",4037,1629,"-",375530,"-","-","-","-","-","-",1212,"-","-","-","-","-","-","-","-","-","-","-","-",398608,351,284,398959,"-",2886,401845]
[65,"69-70","Dienstleistungen der Rechts-, Steuer- und Unternehmensberatung","-","-","-","-","-","-","-","-","-","-","-","-","-","-","-","-",1,22,36,33,1,1,"-",1427,77,153,"-","-","-","-","-","-","-","-","-","-","-","-","-","-","-","-","-","-",125736,"-","-",247,"-","-","-","-","-","-","-","-","-","-","-","-","-","-","-",127734,23541,12832,151275,"-",11080,162355]
[66,"71","Dienstleistg. v. Architektur- u. Ing.büros u.d..techn.,physik.U.suchung ","-","-","-",193,"-","-",13,"-","-","-",59,363,"-",382,571,610,69,159,834,287,57,38,19,1427,77,153,195,"-","-","-","-","-","-","-","-","-","-","-","-","-","-","-","-","-","-",59552,1081,"-","-","-","-","-","-","-","-","-","-","-","-","-","-","-","-",66139,9437,5883,75576,"-",3318,78894]
[67,"72","Forschungs- und Entwicklungsleistungen ",117,"-","-",13,293,115,21,67,86,88,2636,3520,897,274,486,681,5661,1451,4502,12545,1881,538,604,142,1,15,60,"-",220,"-",36,"-","-",38,23,"-","-","-",468,1992,78,45,85,"-","-",1286,20901,"-",30,3,"-","-","-",508,8552,2945,"-",215,"-","-","-","-","-",74119,7901,4091,82020,"-",329,82349]
[68,"73","Werbe- und Marktforschungsleistungen ","-","-","-","-","-","-","-","-","-","-","-","-","-","-","-","-","-","-","-","-","-","-","-","-","-","-","-","-","-","-","-","-",48,"-","-","-","-","-","-","-","-","-","-","-","-","-","-",22625,"-","-","-","-","-","-","-","-","-","-","-","-","-","-","-",22673,4514,2682,27187,"-",295,27482]
[69,"74","Sonst. freiberufliche, wissenschaftliche und technische Dienstleistg.","-","-","-",2,"-","-","-",23,"-","-","-","-","-",8,14,15,19,202,219,145,18,9,26,"-","-","-",3,"-","-","-","-","-","-","-","-","-","-","-","-","-","-","-","-","-","-","-","-","-",15611,"-","-","-","-","-","-","-","-","-","-","-","-","-","-",16314,2526,761,18840,"-",1129,19969]
[70,"75","Dienstleistungen des Veterinärwesens ","-","-","-","-","-","-","-","-","-","-","-","-","-","-","-","-","-","-","-","-","-","-","-","-","-","-","-","-","-","-","-","-","-","-","-","-","-","-","-","-","-","-","-","-","-","-","-","-",2893,"-","-","-","-","-","-","-","-","-","-","-","-","-","-",2893,"-","-",2893,"-",370,3263]
[71,"77","Dienstleistungen der Vermietung von beweglichen Sachen ","-","-","-","-","-",58,"-","-",25,12,"-","-",167,97,"-",57,12,113,110,121,23,79,17,891,48,97,"-","-","-","-",385,"-","-",462,"-","-","-","-","-","-","-","-","-","-","-","-","-","-","-",58342,"-","-","-","-","-","-","-","-","-","-","-","-","-",61116,2315,1605,63431,"-",1764,65195]
[72,"78","Dienstleistungen der Vermittlung und Überlassung von Arbeitskräften ","-","-","-","-","-","-","-","-","-","-","-","-","-","-","-","-","-","-","-","-","-","-","-","-","-","-","-","-","-","-","-","-","-","-","-","-","-","-","-","-","-","-","-","-","-","-","-","-","-","-",33091,"-","-","-","-","-","-","-","-","-","-","-","-",33091,1017,683,34108,"-",218,34326]
[73,"79","Dienstleistg. v. Reisebüros, -veranstaltern u. sonst. Reservierungen","-","-","-","-","-","-","-","-",3,"-","-","-","-","-","-","-","-","-","-","-","-","-","-","-","-","-","-","-","-","-","-","-","-","-","-","-","-","-","-","-","-","-","-","-","-","-","-","-","-","-","-",25206,"-","-","-","-","-","-","-","-","-","-","-",25209,"-","-",25209,"-",791,26000]
[74,"80-82","Wach-, Sicherheitsdienstlg., wirtschaftl. Dienstleistg. a.n.g","-","-","-","-",15,"-",5,81,"-",262,1289,363,77,13,42,26,423,219,247,340,"-",21,284,1427,77,153,45,"-","-","-","-","-","-",413,"-",28,"-","-","-","-","-","-","-","-","-","-","-","-","-","-","-","-",65901,"-","-","-","-","-","-","-","-","-","-",71751,2812,1000,74563,"-",4708,79271]
[75,"84.1-84.2","Dienstleistungen der öffentlichen Verwaltung und der Verteidigung","-","-","-","-","-","-","-","-","-","-","-","-","-","-","-","-","-","-","-","-","-","-","-","-","-","-","-","-","-","-","-","-","-","-","-","-","-","-","-","-","-","-","-","-","-","-","-","-","-","-","-","-","-",196622,"-","-","-","-","-","-","-","-","-",196622,387,30,197009,"-",0,197009]
[76,"84.3","Dienstleistungen der Sozialversicherung","-","-","-","-","-","-","-","-","-","-","-","-","-","-","-","-","-","-","-","-","-","-","-","-","-","-","-","-","-","-","-","-","-","-","-","-","-","-","-","-","-","-","-","-","-","-","-","-","-","-","-","-","-",28509,"-","-","-","-","-","-","-","-","-",28509,"-","-",28509,"-",0,28509]
[77,"85","Erziehungs- und Unterrichtsdienstleistungen","-","-","-","-","-","-","-","-","-","-","-","-","-","-","-","-","-","-","-","-","-","-","-","-","-","-","-","-","-","-","-","-","-","-","-","-","-","-","-","-","-","-","-","-","-","-",3296,"-","-","-",156,"-","-","-",129640,"-","-","-","-","-","-","-","-",133092,"-","-",133092,"-",1417,134509]
[78,"86","Dienstleistungen des Gesundheitswesens ","-","-","-","-","-","-","-","-","-","-","-","-","-","-","-","-","-","-","-","-","-","-","-","-","-","-","-","-","-","-","-","-","-","-","-","-","-","-","-","-","-","-","-","-","-","-","-","-","-","-","-","-","-","-","-",181532,"-","-","-","-","-","-","-",181532,"-","-",181532,"-",1027,182559]
[79,"87-88","Dienstleistungen von Heimen und des Sozialwesens ","-","-","-","-","-","-","-","-","-","-","-","-","-","-","-","-","-","-","-","-","-","-","-","-","-","-","-","-","-","-","-","-","-","-","-","-","-","-","-","-","-","-","-","-","-","-","-","-","-","-","-","-","-","-","-","-",67749,"-","-","-","-","-","-",67749,"-","-",67749,"-",128,67877]
[80,"90-92","Dienstleistungen der Kunst,  der Kultur und des Glücksspiels","-","-","-","-","-","-","-","-",47,"-","-","-","-","-","-","-","-","-","-","-","-","-","-","-","-","-","-","-","-","-","-","-","-","-","-","-","-","-","-","-","-","-","-","-","-","-","-","-","-","-","-","-","-","-","-","-","-",28916,"-","-","-","-","-",28963,611,170,29574,"-",2085,31659]
[81,"93","Dienstleistungen des Sports, der Unterhaltung und der Erholung","-","-","-","-","-","-","-","-","-","-","-","-","-","-","-","-","-","-","-","-","-","-","-",535,29,57,"-","-","-","-","-","-","-","-","-","-","-","-","-","-","-","-","-","-","-","-","-","-","-","-","-","-","-","-","-","-","-","-",21121,"-","-","-","-",21742,"-","-",21742,"-",969,22711]
[82,"94","Dienstleistg. d. Interessenvertr., kirchl. u. sonst. Vereinigungen","-","-","-","-","-","-","-","-","-","-","-","-","-","-","-","-","-","-","-","-","-","-","-","-","-","-","-","-","-","-","-","-","-","-","-","-","-","-","-","-","-","-","-","-","-","-","-","-","-","-","-","-","-","-","-","-","-","-","-",34850,"-","-","-",34850,"-","-",34850,"-",0,34850]
[83,"95","Reparaturarbeiten an DV-Geräten und Gebrauchsgütern","-","-","-","-","-","-","-","-","-","-","-","-","-","-","-","-",33,82,96,"-","-",1,"-","-","-","-","-","-","-","-","-","-","-","-","-","-","-","-","-",906,"-","-","-","-","-","-","-","-","-","-","-","-","-","-","-","-","-","-","-","-",2034,"-","-",3152,"-","-",3152,"-",277,3429]
[84,"96","Sonstige überwiegend persönliche Dienstleistungen","-","-","-","-","-","-","-","-","-",225,714,1194,148,"-","-","-","-","-","-","-",13,"-","-","-","-","-","-","-","-","-","-","-","-","-","-",430,"-","-","-","-","-","-","-","-","-","-","-","-","-","-","-","-","-","-","-","-","-","-","-","-","-",48367,"-",51091,"-","-",51091,"-",830,51921]
[85,"97-98","Waren und Dienstleistungen privater Haushalte o.a.S.","-","-","-","-","-","-","-","-","-","-","-","-","-","-","-","-","-","-","-","-","-","-","-","-","-","-","-","-","-","-","-","-","-","-","-","-","-","-","-","-","-","-","-","-","-","-","-","-","-","-","-","-","-","-","-","-","-","-","-","-","-","-",6814,6814,"-","-",6814,"-",0,6814]
[86,null,"Alle Gütergruppen",{"$f":"SUM(D15:D99)","v":46019},{"$f":"SUM(E15:E99)","v":5018},396,12901,171096,24111,22705,39510,22302,75483,135983,39890,73906,44181,111980,126052,73883,106717,230447,333803,34847,51274,37298,135699,9009,46617,251694,66173,214362,157696,91311,24711,24748,114270,28109,75263,32681,29426,68814,95180,145123,64415,29327,375556,129315,61347,26589,22987,18676,58408,35657,25660,66378,226236,138381,184778,67794,29543,22530,35210,2102,48822,6814,5107213,1019567,{"$f":"SUM(BQ15:BQ99)","v":567603},{"$f":"SUM(BR15:BR99)","v":6126780},{"$f":"SUM(BS15:BS99)","v":0},{"$f":"SUM(BT15:BT99)","v":275017},{"$f":"SUM(BU15:BU99)","v":6401797}]
[87,null,"cif/fob-Korrektur ",0,0,0,0,0,0,0,0,0,0,0,0,0,0,0,0,0,0,0,0,0,0,0,0,0,0,0,0,0,0,0,0,0,0,0,0,0,0,0,0,0,0,0,0,0,0,0,0,0,0,0,0,0,0,0,0,0,0,0,0,0,0,0,{"$f":"SUM(D101:BN101)","v":0},-2400,-491,-2400,"-",0,-2400]
[88,null,"Konsumausgaben von Gebietsansässigen in der übrigen Welt  ",0,0,0,0,0,0,0,0,0,0,0,0,0,0,0,0,0,0,0,0,0,0,0,0,0,0,0,0,0,0,0,0,0,0,0,0,0,0,0,0,0,0,0,0,0,0,0,0,0,0,0,0,0,0,0,0,0,0,0,0,0,0,0,0,61771,38647,61771,"-",23124,61771]
[89,null,"Insgesamt",{"$f":"SUM(D100:D102)","v":46019},{"$f":"SUM(E100:E102)","v":5018},396,12901,171096,24111,22705,39510,22302,75483,135983,39890,73906,44181,111980,126052,73883,106717,230447,333803,34847,51274,37298,135699,9009,46617,251694,66173,214362,157696,91311,24711,24748,114270,28109,75263,32681,29426,68814,95180,145123,64415,29327,375556,129315,61347,26589,22987,18676,58408,35657,25660,66378,226236,138381,184778,67794,29543,22530,35210,2102,48822,6814,5107213,1078938,{"$f":"SUM(BQ100:BQ102)","v":605759},{"$f":"SUM(BR100:BR102)","v":6186151},{"$f":"SUM(BS100:BS102)","v":0},{"$f":"SUM(BT100:BT102)","v":298141},{"$f":"SUM(BU100:BU102)","v":6461168}]
[null,null,"davon:"]
[90,null,"Marktproduktion ",42648,5013,392,12820,169701,23985,22647,39367,22133,75378,133500,37782,73057,43848,111384,125189,68994,105483,225731,323835,33550,50392,36662,134500,8860,46390,227562,65885,213819,156797,90245,24682,24726,110855,28063,73255,32246,25410,67468,91852,144601,64154,29048,241883,129073,60666,11096,22871,18604,58340,35615,25607,66080,"-",18777,178267,37229,18468,11987,10599,2034,48790,"-",4439895]
[91,null,"Nichtmarktproduktion für die Eigenverwendung ",3371,5,4,81,1395,126,58,143,169,105,2483,2108,849,333,596,863,4889,1234,4716,9968,1297,882,636,1199,149,227,24132,288,543,899,1066,29,22,241,46,2008,435,4016,1346,3328,522,261,279,133673,242,681,6766,116,72,68,42,53,298,1040,7524,2538,45,1032,127,149,68,32,6814,238727]
[92,null,"Sonstige Nichtmarktproduktion ","-","-","-","-","-","-","-","-","-","-","-","-","-","-","-","-","-","-","-","-","-","-","-","-","-","-","-","-","-","-","-","-","-",3174,"-","-","-","-","-","-","-","-","-","-","-","-",8727,"-","-","-","-","-","-",225196,112080,3973,30520,10043,10416,24462,"-","-","-",428591]

{"sheet":"Hilfsblatt Ber. Wirtsch Wirk 3","index":16,"n_rows":100,"n_cols":84,"rows_kept":100,"cut":false,"hidden":false,"merged":[[0,0,0,2],[1,0,1,2],[2,0,2,2],[8,0,12,0],[8,1,12,1],[8,2,10,2]]}
["3.2 Input-Koeffizienten 2011"]
["        Inländische Produktion"]
["         in % des Produktionswertes"]
[]
[]
[]
[]
[]
["Lfd.\nNr.","CPA","                                                                                                 Verwendung\n\n\n            Aufkommen","Input der Produktionsbereiche1)",null,null,null,null,"Input der Produktionsbereiche1)",null,null,null,null,"Input der Produktionsbereiche1)",null,null,null,null,"Input der Produktionsbereiche1)",null,null,null,null,"Input der Produktionsbereiche1)",null,null,null,"Input der Produktionsbereiche1)",null,null,null,null,"Input der Produktionsbereiche1)",null,null,null,null,"Input der Produktionsbereiche1)",null,null,null,null,"Input der Produktionsbereiche1)",null,null,null,null,"Input der Produktionsbereiche1)",null,null,null,null,"Input der Produktionsbereiche1)",null,null,null,null,"Input der Produktionsbereiche1)",null,null,null,null,"Input der Produktionsbereiche1)",null,null,null,null,"Input der Produktionsbereiche1)",null,null,null,null,"Input der Produktionsbereiche1)"]
[]
[null,null,null,"Erzeugnisse der Landwirtschaft, Jagd und Dienstleistungen","Forstwirtschaftliche Erzeugnisse und Dienstleistungen","Fische, Fischerei- und Aquakulturerzeugnisse","Kohle","Erdöl und Erdgas","Erze, Steine u. Erden, sonst. Bergbauerzeugn. u. Dienstleistg.","Nahrungs- und Futtermittel, Getränke, Tabakerzeugnisse","Textilien, Bekleidung, Leder- und Lederwaren","Holz, Holz-, Flecht-, Korb- und Korkwaren \n(ohne Möbel)","Papier, Pappe und Waren daraus","Druckereileistungen, bespielte Ton-, Bild- und Datenträger","Kokerei- und Mineralölerzeugnisse","Chemische Erzeugnisse ","Pharmazeutische Erzeugnisse ","Gummi- und Kunststoffwaren","Glas und Glaswaren ","Keramik, bearbeitete Steine und Erden","Roheisen, Stahl, Erzeugn. der ersten Bearbeitung von Eisen und Stahl","NE-Metalle und Halbzeug daraus ","Gießereierzeugnisse","Metallerzeugnisse ","DV-geräte, elektron. u. optische Erzeugnisse","Elektrische Ausrüstungen","Maschinen","Kraftwagen und Kraftwagenteile ","Sonstige Fahrzeuge","Möbel und Waren a.n.g.","Reparatur, Instandh. u. Installation v. Maschinen u. Ausrüstungen","Elektr. Strom, Dienstleistg. der Elektriz.-, Wärme- und Kälteversorg.","Industriell erzeugte Gase, Dienstleistungen der Gasversorgung","Wasser, Dienstleistungen der Wasserversorgung","Dienstleistg. d. Abwasser-, Abfallentsorg. u. Rückgewinnung","Hochbauarbeiten","Tiefbauarbeiten","Vorb. Baustellen-, Bauinstallations- und sonstige Ausbauarbeiten ","Handelsleistungen mit Kfz, Instandhaltung und Reparatur an Kfz","Großhandelsleistungen (ohne Handels-leistungen mit Kfz) ","Einzelhandelsleistungen (ohne Handelsleistungen mit Kfz) ","Landverkehrs- und Transport-leistungen in Rohrfernleitungen","Schifffahrtsleistungen ","Luftfahrtleistungen ","Lagereileistungen, sonstige Dienstleistungen für den Verkehr ","Post-, Kurier- und Expressdienstleistungen","Beherbergungs-  und Gastronomiedienstleistungen ","Dienstleistungen des Verlagswesen","Dienstleistg. v. audiovisuell. Medien, Musikverlag. u. RF-veranstaltern","Telekommunikationsdienstleistungen ","IT- und Informationsdienstleistungen","Finanzdienstleistungen","Dienstleistungen von Versicherungen und Pensionskassen","Mit Finanz- und Versicherungsdienstleistg. verbundene Dienstleistg.","Dienstleistungen des Grundstücks- und Wohnungswesens ","Dienstleistungen der Rechts-, Steuer- und Unternehmensberatung","Dienstleistg. v. Architektur- u. Ing.büros u.d..techn.,physik.U.suchung ","Forschungs- und Entwicklungsleistungen ","Werbe- und Marktforschungsleistungen ","Sonst. freiberuf., wiss., techn. u. veterinär-medizinische Dienstleistg. ","Dienstleistungen der Vermietung von beweglichen Sachen ","Dienstleistungen der Vermittlung und Überlassung von Arbeitskräften ","Dienstleistg. v. Reisebüros, -veranstaltern u. sonst. Reservierungen","Wach-, Sicherheits-dienstlg., wirtschaftl. Dienstleistg. a.n.g","Dienstleistungen der öffentlichen Verwaltung und der Verteidigung","Dienstleistungen der Sozialversicherung","Erziehungs- und Unterrichtsdienstleistungen","Dienstleistungen des Gesundheitswesens ","Dienstleistungen von Heimen und des Sozialwesens ","Dienstleistungen der Kunst,  der Kultur und des Glücksspiels","Dienstleistungen des Sports, der Unterhaltung und der Erholung","Dienstleistg. d. Interessenvertr., kirchl. u. sonst. Vereinigungen","Reparaturarbeiten an DV-Geräten und Gebrauchsgütern","Sonstige überwiegend persönliche Dienstleistungen","Waren und Dienstleistungen privater Haushalte o.a.S.","insgesamt",null,"Arbeitnehmerentgelte","Bruttowertschöpfung","Inländische Vorleistungen",null,"Produktsteuerquote","Input-Output-Rechnung 2010 (Revision 2014) Erschienen am 11. Juni 2015 aktualisiert am 23.07.2015; 4  Erwerbstätige und Arbeitnehmer im Inland 2010 nach Produktionsbereichen (Jahresdurchschnitt in 1.000)"]
[null,null,"CPA  ","01","02","03","05","06","07-09","10-12","13-15","16","17","18","19","20","21","22","23.1","23.2-23.9","24.1-24.3","24.4","24.5",25,"26","27","28","29","30","31-32","33","35.1, 35.3","35.2","36","37-39","41 ","42","43","45","46","47","49","50","51","52","53","55-56","58","59-60","61","62-63","64","65","66","68","69-70","71","72","73","74-75","77","78","79","80-82","84.1-84.2","84.3","85","86","87-88","90-92","93","94","95","96","97-98"]
[null,null,"Lfd.Nr.",1,2,3,4,5,6,7,8,9,10,11,12,13,14,15,16,17,18,19,20,21,22,23,24,25,26,27,28,29,30,31,32,33,34,35,36,37,38,39,40,41,42,43,44,45,46,47,48,49,50,51,52,53,54,55,56,57,58,59,60,61,62,63,64,65,66,67,68,69,70,71,72,73,null,null,null,null,"Erwerbstätige pro Bruttowertschöpfung = Produktionswerte * Bruttowertschöpfung / Erwerbstätige",null,"Erwerbstätige pro Gütergruppe"]
[null,null,"Gütergruppen  (Zeile 1 bis 73):"]
[1,"01","Erzeugnisse der Landwirtschaft, Jagd und Dienstleistungen",21.102434542949013,1.791044776119403,0,0,0,0,15.295636578198666,0.11873462810618267,0,2.3493480559144838E-3,0,4.0069988913969731E-3,1.319147715867053E-2,0,3.1388662985632552E-2,0,2.9889111396718174E-3,0,0,0,0,1.5121729925903524E-3,2.0936269994137843E-3,9.2372779589310625E-4,0,0,2.1343806027490819E-3,0,0,0,0,0,0,0,0,0,2.8976988131853574E-3,0,0,3.3641715727502103E-2,0,0,0,0.43380027112516945,0,0,0,0,0,0,0,0,0,0,1.6190180655432481E-2,0,2.0825740615400636E-2,0,0,0,0.11567783027414252,0.14393099449705526,0,1.051903946142518E-2,6.9409250159751454E-2,0.12251103337318633,2.7621448054414251E-2,0,4.0172166427546632E-2,0,2.5444794582216049E-2,0,0.73405417629931569,null,{"$f":"$D$91","v":9.6701883325677542},{"$f":"$D$96","v":29.938447404685348},{"$f":"$D$87","v":58.746899402847951},{"$f":"'Hilfsblatt Ber. Wirtsch Wirk 2'!$BO$15/'Hilfsblatt Ber. Wirtsch Wirk 3'!$CE$15*1000/100*$CA$15","v":22114.761812040324},{"$f":"'Hilfsblatt Ber. Wirtsch Wirk 2'!BT15/'Hilfsblatt Ber. Wirtsch Wirk 2'!BR15","v":2.6564344746162927E-2},611]
[2,"02","Forstwirtschaftliche Erzeugnisse und Dienstleistungen",8.6357372531005977E-2,19.058553386911594,0,0,0.25887573964497046,0.22068335743094133,1.7526128536626687E-3,0,6.0679811896708191,0.11746740279572419,0,0,0,0,0,0,0,0,0,0,0,0,0,0,0,0,0,0,0,0,0,0,0,0,0,0,0,0,0,0,0,0,0,2.5821444709831515E-3,0,0,0,0,0,0,0,0,0,1.5119672205506586E-3,0,0,0,0,0,0,1.5330796783320094E-2,5.0859008656203267E-4,0,0,5.5086706475993214E-4,0,0,0,2.8694404591104736E-3,0,1.9572918909396956E-3,0,4.6422024802030386E-2,null,{"$f":"$E$91","v":20.642939150401837},{"$f":"$E$96","v":57.221584385763492},{"$f":"$E$87","v":36.188289322617678},{"$f":"'Hilfsblatt Ber. Wirtsch Wirk 2'!$BO$16/'Hilfsblatt Ber. Wirtsch Wirk 3'!$CE$16*1000/100*$CA$16","v":69222.222222222234},{"$f":"'Hilfsblatt Ber. Wirtsch Wirk 2'!BT16/'Hilfsblatt Ber. Wirtsch Wirk 2'!BR16","v":2.1244019138755982E-2},36]
[3,"03","Fische, Fischerei- und Aquakulturerzeugnisse",0,0,1.7676767676767675,0,0,0,0.12034608261816991,0,0,0,0,0,0,0,0,0,0,0,0,0,0,0,0,0,0,0,2.1343806027490819E-3,0,0,0,0,0,0,0,0,0,0,0,0,0,0,0,0,3.0985733651797819E-2,0,0,0,0,0,0,0,0,0,0,0,0,0,0,0,0,0,0,0,0,2.7543353237996608E-3,4.4281096399946861E-3,3.4526810068017813E-3,0,0,0,0,0,4.6705662428112044E-3,null,{"$f":"$F$91","v":17.676767676767678},{"$f":"$F$96","v":54.292929292929294},{"$f":"$F$87","v":32.070707070707073},{"$f":"'Hilfsblatt Ber. Wirtsch Wirk 2'!$BO$17/'Hilfsblatt Ber. Wirtsch Wirk 3'!$CE$17*1000/100*$CA$17","v":43000},{"$f":"'Hilfsblatt Ber. Wirtsch Wirk 2'!BT17/'Hilfsblatt Ber. Wirtsch Wirk 2'!BR17","v":2.454642475987193E-2},5]
[4,"05","Kohle",0,0,0,2.6726057906458798,0,0,9.3472685528675666E-3,8.4810448647273332E-3,0,3.5240220838717258E-2,0,8.14756441250718E-2,1.7206274554787645E-3,0,0,0,0.19129031293899632,0.10340788462242395,0,0,0,0,0,0,0,0,0,0,3.5759586796148031,0,0,0,0,0,0,0,6.6233115729951025E-3,0,0,0,0,0,0,0,0,0,0,0,0,0,0,0,0,0,1.3491817212860399E-3,0,0,0,0,0,0,4.0687206924962614E-3,0,0,0,0,0,0,0,0,0,0,7.4331967208464952E-2,null,{"$f":"$G$91","v":72.531551596139565},{"$f":"$G$96","v":39.61890621133383},{"$f":"$G$87","v":57.683741648106903},{"$f":"('Hilfsblatt Ber. Wirtsch Wirk 2'!$BO$18+'Hilfsblatt Ber. Wirtsch Wirk 2'!$BO$19)/'Hilfsblatt Ber. Wirtsch Wirk 3'!$CE$18*1000/100*$CA$18","v":22384.682009403612},{"$f":"('Hilfsblatt Ber. Wirtsch Wirk 2'!BT18+'Hilfsblatt Ber. Wirtsch Wirk 2'!BT19)/('Hilfsblatt Ber. Wirtsch Wirk 2'!BR18+'Hilfsblatt Ber. Wirtsch Wirk 2'!BR19)","v":6.4882400648824008E-3},44,"CPAs der Produktionswerte aus der Aufkommenstabelle für diese Tabelle zur Berechnung der Erwerbstätigen pro Bruttowertschöpfung entsprechend vereinheitlicht."]
[5,"06","Erdöl und Erdgas",5.5121727147450618E-3,0,0,0,0,7.6097709458945284E-2,4.4983729910675167E-2,3.8164701891273002E-2,1.2375216566289909E-2,4.4637613062375188E-2,9.0649503693967272E-3,0.28048992239778814,6.653092827851223E-2,0,5.7070296337513732E-2,1.0607828577490187E-2,2.9889111396718175E-2,2.836853471942604E-2,3.9243749855721509E-2,2.719312557785392E-2,2.6531810032240172E-2,4.5365189777710575E-3,6.0715182982999744E-2,4.43389342028691E-2,4.2100500807449905E-2,2.4945431867789209E-2,3.6284470246734396E-2,5.9959741316544607E-2,0.16641805432940626,5.5671893355125386,0,2.1651113949812716E-3,0,0,5.4959549771368271E-4,5.8234334963894714E-3,2.8563031158541381E-2,3.0312032058005103E-2,1.1065619121389842E-3,0,0,1.7854751595768423E-3,2.9422148993762504E-3,9.0375056484410295E-3,0,3.4068067999863728E-3,1.4460897732531237E-3,1.0332926904875076E-3,2.1372392568106691E-3,3.1990274956413254E-3,0,0,2.3486307482737563E-3,1.5119672205506586E-3,2.6983634425720797E-3,4.4105323512547969E-3,5.2064351538501589E-3,0,0,0,4.1811263954509344E-3,1.3223342250612852E-2,0,3.0054398461214801E-3,4.4069365180794571E-3,7.3801827333244766E-3,3.4526810068017813E-3,0,2.8694404591104736E-3,0,1.9572918909396956E-3,0,4.5117291722054788E-2,null,{"$f":"$H$91","v":13.831360946745564},{"$f":"$H$96","v":66.198224852071007},{"$f":"$H$87","v":29.770710059171595},{"$f":"'Hilfsblatt Ber. Wirtsch Wirk 2'!$BO$20/'Hilfsblatt Ber. Wirtsch Wirk 3'!$CE$19*1000/100*$CA$19","v":447500},{"$f":"'Hilfsblatt Ber. Wirtsch Wirk 2'!BT20/'Hilfsblatt Ber. Wirtsch Wirk 2'!BR20","v":6.5981766538391051E-2},4]
[6,"07-09","Erze, Steine u. Erden, sonst. Bergbauerzeugn. u. Dienstleistg.",4.777216352779054E-2,0,0,1.5590200445434299,9.6893491124260347,14.298759607335821,0.11625665262629035,1.6962089729454666E-2,0,2.5842828615059318E-2,0,0,2.8092110923116627,0,0,0.75315582900180333,7.1165974235585976,7.3209121856583331E-3,0,0.17403600369826508,8.039942434012173E-4,0,0,0,0,3.1181789834736511E-3,0,0,1.7250651973170165E-2,0,0,0.18836469136337067,1.4447170325637961,2.2676516062532208,4.6715617305663031E-2,0,0,0,1.1065619121389842E-3,4.2052144659377629E-3,0,0,0,0,0,0,0,0,0,0,0,0,0,0,4.0475451638581203E-3,0,0,0,0,0,3.2055302365123828E-2,0.14291381432393122,0,0,0,0,0,0,0,0,0,0,0.22341190347698131,null,{"$f":"$I$91","v":27.182101818735255},{"$f":"$I$96","v":37.10524313218172},{"$f":"$I$87","v":51.335514801004493},{"$f":"('Hilfsblatt Ber. Wirtsch Wirk 2'!$BO$22)/'Hilfsblatt Ber. Wirtsch Wirk 3'!$CE$20*1000/100*$CA$20","v":57825.148217584108},{"$f":"('Hilfsblatt Ber. Wirtsch Wirk 2'!BT22+'Hilfsblatt Ber. Wirtsch Wirk 2'!BT21)/('Hilfsblatt Ber. Wirtsch Wirk 2'!BR22+'Hilfsblatt Ber. Wirtsch Wirk 2'!BR21)","v":6.7045454545454543E-3},44,"CPAs der Produktionswerte aus der Aufkommenstabelle für diese Tabelle zur Berechnung der Erwerbstätigen pro Bruttowertschöpfung entsprechend vereinheitlicht."]
[7,"10-12","Nahrungs- und Futtermittel, Getränke, Tabakerzeugnisse",4.6871841984382181,0,0,0,0,0,13.795984179747975,0.13145619540327369,0,0,0,0,0.69857474692437838,0.19039295858172853,0,0,0,0,0,0,0,0,0,0,0,0,3.8418850849483481E-2,0,5.0737211685794601E-3,0,0,2.1651113949812716E-3,0,0,0,0,4.5535267064341339E-3,1.8187219234803063E-3,0,0.50042052144659377,7.1413568578029829E-2,0,0,8.9884449034923506,0,4.0881681599836475E-2,0,0,0,0,0,0,0,0,9.0395175326164687E-2,0,3.6445046076951114E-2,0,0,0,1.5330796783320094E-2,0.79848643590239143,0,0.16304511165209026,1.6933653570720315,1.97493689943763,5.1790215102026721E-2,0.1471805721644743,0.28120516499282638,0,3.9145837818793917E-2,0,0.77665654773677972,null,{"$f":"$J$91","v":15.938261291208311},{"$f":"$J$96","v":20.136353280014959},{"$f":"$J$87","v":61.879502024267843},{"$f":"('Hilfsblatt Ber. Wirtsch Wirk 2'!$BO$23+'Hilfsblatt Ber. Wirtsch Wirk 2'!$BO$24+'Hilfsblatt Ber. Wirtsch Wirk 2'!$BO$25)/'Hilfsblatt Ber. Wirtsch Wirk 3'!$CE$21*1000/100*$CA$21","v":37712.188762450562},{"$f":"('Hilfsblatt Ber. Wirtsch Wirk 2'!BT24+'Hilfsblatt Ber. Wirtsch Wirk 2'!BT23+'Hilfsblatt Ber. Wirtsch Wirk 2'!BT25)/('Hilfsblatt Ber. Wirtsch Wirk 2'!BR24+'Hilfsblatt Ber. Wirtsch Wirk 2'!BR23+'Hilfsblatt Ber. Wirtsch Wirk 2'!BR25)","v":0.16980939145631249},887,"CPAs der Produktionswerte aus der Aufkommenstabelle für diese Tabelle zur Berechnung der Erwerbstätigen pro Bruttowertschöpfung entsprechend vereinheitlicht."]
[8,"13-15","Textilien, Bekleidung, Leder- und Lederwaren",4.5934772622875514E-2,0,4.2929292929292924,4.9492699826775552E-2,3.6982248520710061E-2,1.5219541891789057E-2,4.0894299918795606E-3,13.404291408701551,0,0,0,1.3356662971323245E-3,4.014797396117117E-3,6.2423920846468367E-3,0.1383954686184708,0,0,2.7453420696218751E-3,0,1.0877250231141567E-2,3.1355775492647474E-2,6.3511265688794796E-2,5.0247047985930833E-2,3.5101656243938038E-2,0.13604117051959558,0.1153726223885251,0.88576795014086906,5.1394063985609667E-2,0,0,0,0,1.467782181124321E-2,1.4315982362709728E-2,6.5951459725641925E-2,9.3174935942231547E-3,0,1.9399700517123267E-2,3.3196857364169528E-3,0,0,8.9273757978842116E-4,0,7.2300045187528236E-2,0,5.4508908799781965E-2,0,0,0,0,0,0,0,0,1.3491817212860399E-2,0.21170555286023021,2.0825740615400636E-2,0,0,0,0.17142618221348832,1.678347285654708E-2,1.0522992739135009E-2,2.25407988459111E-3,3.360289095035586E-2,8.7086156253228839E-2,6.9053620136035627E-3,5.9792107441817677E-2,5.1649928263988523E-2,6.3451776649746189E-2,7.8291675637587824E-3,0,9.5907335965742635E-2,null,{"$f":"$K$91","v":20.409634466966331},{"$f":"$K$96","v":28.04257484522093},{"$f":"$K$87","v":47.421762361122887},{"$f":"('Hilfsblatt Ber. Wirtsch Wirk 2'!$BO$26+'Hilfsblatt Ber. Wirtsch Wirk 2'!$BO$27+'Hilfsblatt Ber. Wirtsch Wirk 2'!$BO$28)/'Hilfsblatt Ber. Wirtsch Wirk 3'!$CE$22*1000/100*$CA$22","v":43187.460030210852},{"$f":"('Hilfsblatt Ber. Wirtsch Wirk 2'!BT28+'Hilfsblatt Ber. Wirtsch Wirk 2'!BT27+'Hilfsblatt Ber. Wirtsch Wirk 2'!BT26)/('Hilfsblatt Ber. Wirtsch Wirk 2'!BR28+'Hilfsblatt Ber. Wirtsch Wirk 2'!BR27+'Hilfsblatt Ber. Wirtsch Wirk 2'!BR26)","v":0.18531178489702518},148,"CPAs der Produktionswerte aus der Aufkommenstabelle für diese Tabelle zur Berechnung der Erwerbstätigen pro Bruttowertschöpfung entsprechend vereinheitlicht."]
[9,"16","Holz, Holz-, Flecht-, Korb- und Korkwaren (ohne Möbel)",5.8796508957280662E-2,0.11481056257175661,0.25252525252525254,2.1529324424647367,3.6982248520710061E-2,0.22829312837683585,7.1272922715615195E-2,8.0569926214909687E-2,25.158815279267387,0.6366733231528251,1.3597425554095093E-2,0,8.9472627684895764E-2,0,6.8484355605016478E-2,0.24398005728227429,0.15542337926293451,3.3859218858669785E-2,3.9243749855721509E-2,0.1033338771958449,0.11979514226678138,0.10736428247391501,4.6059793987103262E-2,0.1103854716092262,4.8069974802536088E-2,0.94792641097599006,2.6231537607786222,0.1434750952931603,3.450130394634033E-2,0,0,3.680689371468162E-2,0.81566752636765849,1.322796770314379,1.4718167428772422,1.8634987188446309E-2,3.1874686945038928E-2,3.4555716546125825E-2,6.6393714728339055E-3,0,0,2.6782127393652634E-2,1.4711074496881251E-2,4.1314311535730425E-2,0,2.7254454399890982E-2,3.0367885238315597E-2,2.0665853809750151E-3,2.1372392568106691E-3,4.7985412434619875E-3,3.4200896063476863E-3,2.3832938626419942E-2,9.3945229930950253E-3,3.0239344411013172E-3,2.428527098314872E-2,0.14995809994266307,3.1238610923100953E-2,8.1811636887230837E-3,0,0,0.28849772128611451,3.8652846578714491E-2,7.0153284927566735E-3,5.3346557268656267E-2,1.1017341295198643E-2,1.623640201331385E-2,4.143217208162138E-2,7.8189678962376968E-2,2.8694404591104736E-3,6.3451776649746189E-2,1.2428803507467068,0,0.27125211640941993,null,{"$f":"$L$91","v":17.387179275637322},{"$f":"$L$96","v":24.997937463905618},{"$f":"$L$87","v":64.68938206418612},{"$f":"('Hilfsblatt Ber. Wirtsch Wirk 2'!$BO$29+'Hilfsblatt Ber. Wirtsch Wirk 2'!$BO$30)/'Hilfsblatt Ber. Wirtsch Wirk 3'!$CE$23*1000/100*$CA$23","v":73766.301731175816},{"$f":"'Hilfsblatt Ber. Wirtsch Wirk 2'!BT29/'Hilfsblatt Ber. Wirtsch Wirk 2'!BR29","v":3.2032170838244473E-2},134,"CPAs der Produktionswerte aus der Aufkommenstabelle für diese Tabelle zur Berechnung der Erwerbstätigen pro Bruttowertschöpfung entsprechend vereinheitlicht."]
[10,"17","Papier, Pappe und Waren daraus",4.0422599908130456E-2,0,0.75757575757575757,0.14847809948032664,0.11094674556213018,0.95883113918271057,1.4675211628002081,1.1364600118734629,0.68063691114594504,23.794197110301891,9.3867561075103119,0,0.76109087780677354,1.008146321670464,0.3623963817432122,1.474488172271136,0.28992438054816627,5.4906841392437502E-3,6.6945220342113157E-2,2.719312557785392E-2,0.22270640542213718,0.54589445032511719,0.46164475337073946,0.11315665499690553,4.3671415016683111E-2,0.11225444340505146,0.78758644241441134,0.19915199794423746,1.3191675038306594E-2,3.0645078911078198E-2,3.2697547683923703E-2,1.299066836988763E-2,0,2.8631964725419458E-3,9.0683257122757654E-2,1.5140927090612625E-2,0.5468371617454082,0.59350958769573992,1.1065619121389841E-2,0,1.6803192606595255E-2,2.4996652234075795E-2,5.8844297987525003E-2,4.2605383771222E-2,0.55295722498294841,6.1322522399754706E-2,3.615224433132809E-2,1.6532683047800121E-2,8.3352331015616093E-2,2.5592219965130603E-2,1.7100448031738432E-2,3.5122225344197812E-3,0.20511375201590804,0.23435491918535209,7.6903358113304288E-2,0.43223217042297002,0.48940490446191498,2.4543491066169255E-2,1.2087878879453628E-2,2.3801023444008092E-2,0.30800964446488549,2.6446684501225705E-2,7.366094917394507E-2,1.8783999038259249E-2,3.6908093338915454E-2,0.13284328919984059,6.2148258122432062E-2,5.0593321681538038E-2,4.3041606886657098E-2,0.15862944162436549,3.5231254036914524E-2,0,0.4485067235353804,null,{"$f":"$M$91","v":13.771878303770704},{"$f":"$M$96","v":20.284271114765655},{"$f":"$M$87","v":54.666979913074123},{"$f":"'Hilfsblatt Ber. Wirtsch Wirk 2'!$BO$31/'Hilfsblatt Ber. Wirtsch Wirk 3'!$CE$24*1000/100*$CA$24","v":32915.130705075506},{"$f":"('Hilfsblatt Ber. Wirtsch Wirk 2'!BT30+'Hilfsblatt Ber. Wirtsch Wirk 2'!BT31)/('Hilfsblatt Ber. Wirtsch Wirk 2'!BR30+'Hilfsblatt Ber. Wirtsch Wirk 2'!BR31)","v":2.5866285413296213E-2},130]
[11,"18","Druckereileistungen, bespielte Ton-, Bild- und Datenträger",4.2259990813045475E-2,6.8886337543053955E-2,0.25252525252525254,0.19797079930710221,0.11094674556213018,0.15219541891789057,0.10048313694332633,0.54702739377491305,0.20212853724940186,0.30776459532479733,11.870552508725014,1.7363661862720217E-2,6.4810300823033462E-2,7.8029901058085452E-2,0.11414059267502746,0.13790177150737243,0.1016229787488418,4.4840587137157294E-2,9.2338234954638845E-2,0.11421112742698646,9.8087297694948505E-2,0.21321639195523967,0.15597521145632695,0.12285579685378312,0.11247745738109752,9.3545369504209538E-2,0.39272603090583114,0.10492954730395306,2.029488467431784E-2,0.16854793401093007,5.4495912806539509E-2,0.2295018078680148,3.1452475309806882E-2,2.8631964725419456E-2,3.6273302849103059E-2,0.2783601211274167,0.22519259348183349,1.2082375978320836,0.10622994356534249,1.6820857863751051E-2,4.6208779668136947E-2,4.1065928670267378E-2,0.69730493115217129,5.9389322832612487E-2,8.8326999902562591,0.62344564439750616,0.71436834798704307,2.6865609952675194E-2,0.65755727801208252,0.24792463091220271,4.4461164882519923E-2,1.6808493557580378E-2,0.58324330248798284,0.39008754290206993,0.13221980868603192,0.87769593789970446,0.80179101369292449,0.10962759342888932,0.23269166842948236,0.9599746122416597,0.46967986508898829,0.28379326830161428,0.50159598723210208,0.17356415111351547,4.9578035828393888E-2,0.35572480774623977,0.27276179953734075,0.12418360776377518,0.35007173601147779,0.15862944162436549,6.2633340510070259E-2,0,0.33106183716250431,null,{"$f":"$N$91","v":22.630648597198931},{"$f":"$N$96","v":36.409373158681959},{"$f":"$N$87","v":47.006300140506731},{"$f":"'Hilfsblatt Ber. Wirtsch Wirk 2'!$BO$32/'Hilfsblatt Ber. Wirtsch Wirk 3'!$CE$25*1000/100*$CA$25","v":41194.871794871797},{"$f":"'Hilfsblatt Ber. Wirtsch Wirk 2'!BT32/'Hilfsblatt Ber. Wirtsch Wirk 2'!BR32","v":2.4843656300865245E-2},195]
[12,"19","Kokerei- und Mineralölerzeugnisse",1.1667432246210383,0.57405281285878307,1.0101010101010102,0.32170254887404104,0.25887573964497046,1.0653679324252339,8.3541212691253877E-2,0.16538037486218302,0.1196270934741358,9.6323270292493837E-2,8.1584553324570541E-2,8.0994804258104161,3.9511341802644031,5.3060332719498109E-2,2.4254875943443336E-2,0.37127400021215662,0.94748483127596617,0.90047219883597507,8.7721323206906898E-2,0.30456300647196388,4.0199712170060867E-2,7.5608649629517622E-3,0.10154090947156855,3.4639792345991481E-2,3.1732467026510745E-2,9.3545369504209538E-2,7.6837701698966962E-2,2.5697031992804834E-2,1.3922290886582038,0.27580571019970374,2.1798365122615803E-2,0.24249247623790243,0.43404415927533496,1.7723186165034643,0.58531920506507207,0.22361984626135567,1.178121546046504,0.23037144364083878,1.2216443510014385,2.5483599663582845,8.2167611846250797,1.0043297772619739,0.64728727786277507,0.11361435672325867,0.2216700769755432,0.23847647599904609,7.6642757982415544E-2,7.4397073715100542E-2,1.9235153311296022E-2,2.3992706217309936E-2,5.4721433701562981E-2,1.0536667603259343E-2,0.12447742965850908,9.9789836556343464E-2,9.8490265653880915E-2,0.13231597053764388,0.27594106315405842,0.15380587734799397,6.0439394397268142E-2,0.11503827997937244,0.25226129252553969,0.33668663730406567,2.8061313971026694E-2,6.6871036576202927E-2,5.3984972346473342E-2,7.2325790786579872E-2,0.21751890342851227,0.30815932296936804,0.14060258249641319,0.28553299492385786,0.30142295120471313,0,0.57113272387801461,null,{"$f":"$O$91","v":1.7577368470261387},{"$f":"$O$96","v":3.7478796297533026},{"$f":"$O$87","v":18.531034206413867},{"$f":"('Hilfsblatt Ber. Wirtsch Wirk 2'!$BO$33+'Hilfsblatt Ber. Wirtsch Wirk 2'!$BO$34)/'Hilfsblatt Ber. Wirtsch Wirk 3'!$CE$26*1000/100*$CA$26","v":135215.60676859441},{"$f":"('Hilfsblatt Ber. Wirtsch Wirk 2'!BT33+'Hilfsblatt Ber. Wirtsch Wirk 2'!BT34)/('Hilfsblatt Ber. Wirtsch Wirk 2'!BR33+'Hilfsblatt Ber. Wirtsch Wirk 2'!BR34)","v":0.42474496656327876},19,"CPAs der Produktionswerte aus der Aufkommenstabelle für diese Tabelle zur Berechnung der Erwerbstätigen pro Bruttowertschöpfung entsprechend vereinheitlicht."]
[13,"20","Chemische Erzeugnisse ",1.2916858061552596,0.32146957520091851,0.25252525252525254,0.47018064835436774,0,0.52507419526672239,0.18928218819556825,3.0743787634636588,3.6465638148667603,2.260072829789733,2.7920047137741921,0.63444149113785409,36.168736199133953,2.5968351072130842,7.0125126624719991,1.8351543439058025,2.3672176226200792,0.23609941798748124,0.82411874697015164,1.7022896611736553,0.46470867268590355,0.29336156056252838,0.13922619546101667,0.2166141681369334,0.34026001771991232,0.4801995634549423,0.39272603090583114,0.25054606192984713,2.4353861609181404E-2,6.6397670974002759E-2,0.17438692098092642,0.15372290904367031,0.10064792099138203,0.17179178835251677,1.0013629968343298,0.28068949452597247,6.0023761130268125E-2,5.4561657704409183E-2,2.4344362067057652E-2,7.5693860386879724E-2,1.2602394454946439E-2,3.5709503191536846E-3,1.1768859597505002E-2,0.16654831837841327,0.10718113612004287,2.7254454399890982E-2,0,0,2.8496523424142257E-3,6.3980549912826508E-3,0,5.0174607634568295E-3,0.14404935256079041,2.4191475528810538E-2,0.15515589794789461,3.0873726458783574E-2,0.12495444369240381,1.6362327377446167E-3,6.0439394397268139E-3,0,0.86270574626137619,0.12358739103457395,7.0153284927566735E-3,5.2595197307125897E-2,0.10025780578630766,9.4466338986553308E-2,8.976970617684632E-2,9.198785760279643E-2,2.2955523672883789E-2,0.66624365482233505,0.50302401597150181,0,1.570539353964252,null,{"$f":"$P$91","v":9.7519428751684778},{"$f":"$P$96","v":17.641019758538615},{"$f":"$P$87","v":61.982162828711537},{"$f":"'Hilfsblatt Ber. Wirtsch Wirk 2'!$BO$35/'Hilfsblatt Ber. Wirtsch Wirk 3'!$CE$27*1000/100*$CA$27","v":86331.85587747705},{"$f":"'Hilfsblatt Ber. Wirtsch Wirk 2'!BT35/'Hilfsblatt Ber. Wirtsch Wirk 2'!BR35","v":2.1582949021563005E-2},257]
[14,"21","Pharmazeutische Erzeugnisse ",2.0211299954065228E-2,0,0,0,0,0,0,0,0,0,0,0,0,8.1151097100408887,0,0,0,0,0,0,0,0,0,0,0,0,0,2.1414193327337358E-3,0,0,0,0,0,0,0,0,0,6.0624064116010208E-4,0,0,0,0,0,0,0,0,0,0,0,0,0,0,0,0,9.8490265653880915E-2,0,0.11974800853855365,0,0,0,0,0,0,0,0.77617169424674437,0.64207589779922947,0,0,0,0,0,0,8.6093474103317469E-2,null,{"$f":"$Q$91","v":13.093417397546739},{"$f":"$Q$96","v":52.835606604450824},{"$f":"$Q$87","v":25.649989075813849},{"$f":"'Hilfsblatt Ber. Wirtsch Wirk 2'!$BO$36/'Hilfsblatt Ber. Wirtsch Wirk 3'!$CE$28*1000/100*$CA$28","v":230534.40239426511},{"$f":"'Hilfsblatt Ber. Wirtsch Wirk 2'!BT36/'Hilfsblatt Ber. Wirtsch Wirk 2'!BR36","v":0.15122795969773301},71]
[15,"22","Gummi- und Kunststoffwaren",0.11575562700964631,2.2962112514351322E-2,0,0.17322444939371442,0,0,0.88915892109152728,0.70816724620473237,0.49088359046283309,0.97967813931633974,0.29007841182069527,3.2055991131175784E-2,0.51733532161394846,0.77405661849620777,10.258385766668093,0.22276440012729395,0.25704635801177633,1.9217394487353125E-2,6.9253676215979137E-3,3.8070375808995485E-2,0.41888100081203417,0.87101164373204298,1.2886274181391844,1.6317651514451721,2.4785884393281514,0.5612722170252572,1.4129599590198925,1.070709666366868,2.0294884674317837E-3,0.1940854997701619,5.4495912806539509E-2,0.33342715482711588,1.503428319808769,1.8381721353719294,3.2101873021456209,1.4244118332168647,0.16848048813806293,0.50257349152172459,0.12504149607170523,0,1.2602394454946439E-2,9.9093871356514748E-2,4.7075438390020007E-2,8.1337550835969274E-2,0,0,6.6520129569643691E-2,0,5.6993046848284514E-3,6.3980549912826508E-3,0,1.5052382290370491E-2,0,0.26005836193471327,0.16460016999689689,0.19847395580646585,0.16139948976935492,1.6362327377446167E-3,1.5109848599317036E-2,0,0.45295535950718457,6.9168251772436462E-2,1.7538321231891682E-2,9.0163195383644399E-3,7.4367053742590838E-2,0.13431932574650549,6.9053620136035627E-3,2.759635728083893E-2,2.8694404591104736E-3,1.6497461928934012,0,0,0.70676823667026067,null,{"$f":"$R$91","v":20.606657250067769},{"$f":"$R$96","v":31.495669791265392},{"$f":"$R$87","v":39.335701750631344},{"$f":"('Hilfsblatt Ber. Wirtsch Wirk 2'!$BO$37+'Hilfsblatt Ber. Wirtsch Wirk 2'!$BO$38)/'Hilfsblatt Ber. Wirtsch Wirk 3'!$CE$29*1000/100*$CA$29","v":59830.524149907367},{"$f":"('Hilfsblatt Ber. Wirtsch Wirk 2'!BT38+'Hilfsblatt Ber. Wirtsch Wirk 2'!BT37)/('Hilfsblatt Ber. Wirtsch Wirk 2'!BR38+'Hilfsblatt Ber. Wirtsch Wirk 2'!BR37)","v":1.9546992970580577E-2},364,"CPAs der Produktionswerte aus der Aufkommenstabelle für diese Tabelle zur Berechnung der Erwerbstätigen pro Bruttowertschöpfung entsprechend vereinheitlicht."]
[16,"23.1","Glas und Glaswaren",0.13964170877354157,0,0,0,0,0,0.2827548737242439,0,2.7101724280174904,0,0,0,1.8353359525106822E-2,0.40575548550204438,0.37095692619383924,9.6425161769385799,2.3911289117374539E-2,1.8302280464145833E-3,0,0,0.28380996792062968,0.41887191894752762,8.5838706975965157E-2,1.8474555917862123E-2,0.1071363490697046,1.8709073900841908E-2,0.23264748569964996,0.15204077262409524,0,0,0,6.4953341849438148E-3,1.2580990123922754E-2,5.7263929450838916E-3,0.15003957087583539,5.5904961565338918E-2,0,1.8187219234803063E-3,0,0,0,0,0,5.8098250597120912E-2,0,0,0,0,0,0,0,7.5261911451852449E-4,0,1.0583770543854608E-2,3.6427906474723083E-2,6.6157985268821939E-2,5.2064351538501589E-3,0,0,0,0.31219077086033648,8.6460314715545578E-3,0,1.051903946142518E-2,1.3771676618998304E-2,2.6568657839968118E-2,0,5.5192714561677861E-2,0,0,0,0,8.6604021830264444E-2,null,{"$f":"$S$91","v":22.085499098334573},{"$f":"$S$96","v":35.843852763339342},{"$f":"$S$87","v":48.806619285032355},{"$f":"'Hilfsblatt Ber. Wirtsch Wirk 2'!$BO$39/'Hilfsblatt Ber. Wirtsch Wirk 3'!$CE$30*1000/100*$CA$30","v":60849.827863872619},{"$f":"'Hilfsblatt Ber. Wirtsch Wirk 2'!BT39/'Hilfsblatt Ber. Wirtsch Wirk 2'!BR39","v":2.2981599699586932E-2},55]
[17,"23.2-23.9","Keramik, bearbeitete Steine und Erden",0.31051906293063852,0.4362801377726751,0,0,0,6.0878167567156229E-2,5.8420428455422291E-4,0.49190060215418541,7.4251299397739459E-2,2.3493480559144838E-3,0,0,0.1307676866163861,3.1211960423234181E-2,0,0.2651957144372547,12.245568939235437,0.25348658442841981,5.7711396846649277E-2,0.64719638875292318,5.2259625821079125E-2,6.5023438681385159E-2,0.11514948496775815,7.5283815365288151E-2,4.2728866491143186E-2,6.2363579669473028E-2,8.1106462904465118E-2,0.22056619127157479,0.11466609840989578,0,0.11989100817438691,0,10.626742991340086,11.197961404111551,3.4311246922265211,1.1646866992778943E-3,0,1.8187219234803063E-3,3.7623105012725457E-2,1.2615643397813289E-2,0,6.0706155425612647E-2,1.7653289396257502E-2,3.3567878122780975E-2,0,0,0.18365340120314669,0,0,0,0,1.2794524946814914E-2,0,0,1.753936237671852E-2,0.10585277643011511,0,1.1453629164212317E-2,0,0,0.22020599016041587,0.12918188198675631,0,7.5135996153037003E-4,4.4069365180794571E-3,1.3284328919984059E-2,7.5958982149639198E-2,1.8397571520559288E-2,0,0,0.13113855669295962,0,0.4164367626130816,null,{"$f":"$T$91","v":20.333562483187375},{"$f":"$T$96","v":30.851540783692499},{"$f":"$T$87","v":58.968227874585288},{"$f":"'Hilfsblatt Ber. Wirtsch Wirk 2'!$BO$40/'Hilfsblatt Ber. Wirtsch Wirk 3'!$CE$31*1000/100*$CA$31","v":59536.298935600076},{"$f":"'Hilfsblatt Ber. Wirtsch Wirk 2'!BT40/'Hilfsblatt Ber. Wirtsch Wirk 2'!BR40","v":2.3619608146828779E-2},172]
[18,"24.1-24.3","Roheisen, Stahl, Erzeugn. der ersten Bearbeitung von Eisen und Stahl",3.4910427193385392E-2,0,0,0.5196733481811433,0.4437869822485207,0.31961037972757023,3.3883848504144928E-2,0,7.8376371586502763E-2,5.4035005286033125E-2,0,0,0.46686358291990482,0,6.4204083379702945E-2,0,4.4833667095077259E-2,58.819868955671872,0,4.9056398542448472,4.5948271010379562,0.2026311810071072,0.99970689222008202,1.4927441181632595,1.4728891625770533,0.89491736825693791,0.13873473917869034,1.4647308235898753,6.088465402295351E-3,1.1491904591654323,0.45776566757493187,0,0.31662158478538927,0.24909809311114928,0.31546781568765386,6.9881201956673647E-2,0,3.6980679110766225E-2,0.12725461989598316,0,0,2.5889389813864214E-2,0,0,0,0,1.4460897732531236E-2,3.099878071462522E-3,0,0,0,0,0,6.3502623263127653E-2,7.6903358113304288E-2,1.7642129405019188E-2,3.6445046076951114E-2,1.6362327377446167E-3,9.0659091595902217E-3,0,1.951192317877103E-2,5.0859008656203271E-3,0,0,0,0,0,0,0,0,0,0,1.5790484827467015,null,{"$f":"$U$91","v":5.1886965115853441},{"$f":"$U$96","v":8.7219517551886963},{"$f":"$U$87","v":76.038654416340279},{"$f":"'Hilfsblatt Ber. Wirtsch Wirk 2'!$BO$41/'Hilfsblatt Ber. Wirtsch Wirk 3'!$CE$32*1000/100*$CA$32","v":47175.062262286177},{"$f":"'Hilfsblatt Ber. Wirtsch Wirk 2'!BT41/'Hilfsblatt Ber. Wirtsch Wirk 2'!BR41","v":1.0987627473646863E-3},106]
[19,"24.4","NE-Metalle und Halbzeug daraus ",0,0,0,0,0,0,5.8420428455422287E-3,4.2405224323636666E-3,0,9.1624574180664858E-2,3.1727326292888547E-2,4.0069988913969731E-3,6.4810300823033462E-2,2.4969568338587347E-2,6.4204083379702945E-2,5.3039142887450944E-2,1.4944555698359088E-2,0.15831472601486146,28.96419584939634,6.1402077554794143,1.2389551290812757,0.34023892333282929,0.78092287078134159,0.16349981987307979,0.14169646167283512,0.28687246647957593,0.42474173994706732,0.52250631718703155,3.0442327011476755E-3,0,0,0,0.10274475267870248,8.5895894176258383E-2,5.5509145269081961E-2,1.7470300489168412E-2,1.5316408012551175E-2,0,0,0,0,8.0346382180957916E-3,0,0,0,0,2.8921795465062473E-3,0,0,0,0,0,5.480138412638765E-3,0,1.753936237671852E-2,0,0,0,0,0,0,4.5773107790582947E-3,0,0,0,0,0,0,0,0,0,0,0.34437389641326988,null,{"$f":"$V$91","v":6.809944827904614},{"$f":"$V$96","v":8.9267988642397107},{"$f":"$V$87","v":42.159329624414227},{"$f":"'Hilfsblatt Ber. Wirtsch Wirk 2'!$BO$42/'Hilfsblatt Ber. Wirtsch Wirk 3'!$CE$33*1000/100*$CA$33","v":61074.462946452106},{"$f":"'Hilfsblatt Ber. Wirtsch Wirk 2'!BT42/'Hilfsblatt Ber. Wirtsch Wirk 2'!BR42","v":8.9752312569666619E-4},53]
[20,"24.5","Gießereierzeugnisse",0,0,0,0.34644889878742885,3.6982248520710061E-2,1.5219541891789057E-2,0,0,0,0,0,1.3356662971323245E-3,0,0,0,0,8.9667334190154518E-3,6.0397525531681248E-2,0,3.5894925762767169,0.99454087908730571,0.22531377589596249,0.6888032828071351,2.6266199876220475,2.2680859352909017,1.1194262550670409,9.6047127123708706E-2,1.2934172769711765,4.0589769348635674E-3,2.0430052607385465E-2,0.29427792915531337,1.0825556974906359E-2,0,0,5.3310763278227223E-2,0.67551828558117866,0,1.2124812823202042E-3,1.2172181033528826E-2,0,0,9.8201133776726329E-3,0,0,0,0,0,0,0,0,0,0,0,0,6.8808267785588045E-2,0,0,0,0,0,0,7.1202612118684587E-3,0,0,0,0,0,0,0,0.79314720812182737,0,0,0.33159129406452337,null,{"$f":"$W$91","v":21.705552836242997},{"$f":"$W$96","v":30.798934029477348},{"$f":"$W$87","v":42.807418284657636},{"$f":"'Hilfsblatt Ber. Wirtsch Wirk 2'!$BO$43/'Hilfsblatt Ber. Wirtsch Wirk 3'!$CE$34*1000/100*$CA$34","v":49596.550098801694},{"$f":"'Hilfsblatt Ber. Wirtsch Wirk 2'!BT43/'Hilfsblatt Ber. Wirtsch Wirk 2'!BR43","v":1.7683465959328027E-3},90]
[21,25,"Metallerzeugnisse ",0.32521819016995868,0.34443168771526977,1.0101010101010102,3.4644889878742884,0.99852071005917165,1.0349288486416559,0.36512767784638933,0.34772283945382071,0.35063113604488078,3.5240220838717258E-2,0.10424692924806235,0.35261590244293367,0.34641966103639127,0.24657448734355003,0.69340410050079182,0.55160708602948971,0.43936993753175724,0.37885720560781871,0.42013896904360676,0.17947462881383588,18.85848897321895,1.767730228338122,2.4809479943053345,5.8702901429006902,4.0064595992283669,7.0782662924851882,3.1140612994109107,6.1972675489314319,0.36226369143657339,0.75080443332141578,0.94822888283378737,0.5867451880399247,2.2436099054328911,1.9269312260207296,3.5762179036229336,1.474493361285814,7.327038427625833E-2,8.2448727197773894E-2,0.15934491534801373,4.2052144659377629E-3,8.4015963032976274E-3,0.37405704593134848,7.0613157585030006E-2,4.3896456006713575E-2,7.5513982266393845E-2,8.5170169999659318E-2,8.9657565941693662E-2,2.066585380975015E-2,1.0686196284053345E-2,1.919416497384795E-2,0,4.8167623329185567E-2,0,3.7799180513766462E-2,0.27928061630621032,0.23375821461650423,3.6445046076951114E-2,1.1453629164212317E-2,0,0,0.39023846357542052,0.12257021086144988,0.12627591286962012,5.2595197307125897E-2,5.3984972346473342E-2,8.1182010066569249E-2,3.7979491074819599E-2,0,7.4605451936872305E-2,1.1738578680203047,3.9145837818793912E-3,0,1.4275859904190991,null,{"$f":"$X$91","v":27.108273904758839},{"$f":"$X$96","v":39.184267440645129},{"$f":"$X$87","v":46.347052155106574},{"$f":"'Hilfsblatt Ber. Wirtsch Wirk 2'!$BO$44/'Hilfsblatt Ber. Wirtsch Wirk 3'!$CE$35*1000/100*$CA$35","v":57951.248513674211},{"$f":"'Hilfsblatt Ber. Wirtsch Wirk 2'!BT44/'Hilfsblatt Ber. Wirtsch Wirk 2'!BR44","v":2.0614541645403023E-2},841]
[22,"26","DV-geräte, elektron. u. optische Erzeugnisse",5.5121727147450618E-3,0,0,0,3.6982248520710061E-2,1.5219541891789057E-2,1.9862945674843577E-2,2.1202612161818336E-2,0,1.4096088335486902E-2,0.43965009291574125,1.2020996674190919E-2,3.0397751713458172E-2,0.1029994693966728,4.2802722253135299E-3,2.1215657154980375E-2,8.9667334190154518E-3,1.2811596324902082E-2,1.6159191117061798E-2,4.8947626040137054E-2,5.1455631577677907E-2,5.6358687433842434,1.6518717025374761,0.47802913437468242,0.14012554746360192,0.11225444340505146,1.6093229744728079,1.8459034648164803,0.11365135417617989,0.49542877572909749,0.22888283378746593,0,2.0968316873204587E-3,0,3.3525325360534645E-2,2.0964360587002094E-2,0.34441220179574539,0.11033579669113858,1.5491866769945777E-2,2.943650126156434E-2,0,1.7854751595768426E-2,9.7093091679416266E-2,2.3239300238848362E-2,3.6539023677287341E-2,0.31001941879875994,3.3028690421101339,0.17565975738287626,6.9104069303544957E-2,1.1196596234744638E-2,1.0260268819043059E-2,3.2613494962469396E-3,4.5406861133292627E-2,0.2555224602730613,0.38991351745166558,0.18083182640144665,3.6445046076951114E-2,2.2907258328424634E-2,0,1.1900511722004046E-2,0.27316692450279439,0.57826692842103122,5.2614963695675053E-2,5.710335707630812E-2,5.6739307670273013E-2,0.24354603019970775,2.071608604081069E-2,1.8397571520559288E-2,0.22955523672883787,1.3324873096446701,5.6761464837251176E-2,0,0.2895561978792226,null,{"$f":"$Y$91","v":20.164826856192349},{"$f":"$Y$96","v":40.975351580220774},{"$f":"$Y$87","v":36.774535006804776},{"$f":"'Hilfsblatt Ber. Wirtsch Wirk 2'!$BO$45/'Hilfsblatt Ber. Wirtsch Wirk 3'!$CE$36*1000/100*$CA$36","v":110573.24058672313},{"$f":"'Hilfsblatt Ber. Wirtsch Wirk 2'!BT45/'Hilfsblatt Ber. Wirtsch Wirk 2'!BR45","v":5.5251306745175331E-2},245]
[23,"27","Elektrische Ausrüstungen",4.777216352779054E-2,4.5924225028702644E-2,0,0,7.3964497041420121E-2,8.3707480404839815E-2,5.257838560988006E-3,3.3924179458909333E-2,0,3.054152472688829E-2,4.5324751846983639E-2,1.4692329268455569E-2,4.3015686386969121E-2,9.3635881269702546E-3,6.2777325971265105E-2,8.4862628619921499E-2,0.17933466838030904,0.1198799370401552,6.463676446824719E-2,0.19035187904497744,0.18974264144268727,0.31301980946620295,13.757223013147978,1.5426254191414874,0.88285378558906147,1.0258808855628312,0.62750789720823019,1.696004111525119,1.9016306939835814,5.1075131518463657E-2,0.22888283378746593,5.1962673479550518E-2,4.4033465433729636E-2,3.7221554143045295E-2,4.3291637354906785,0.14791521080829256,4.7605051930902302E-2,2.2430903722923778E-2,0.15934491534801373,0,0,0.16337097710128107,5.5902083088148757E-2,0.30727519204699499,1.7051544382734093E-2,3.4068067999863728E-3,0.18654558074965294,3.3065366095600242E-2,7.1241308560355647E-3,1.4395623730385963E-2,3.4200896063476863E-3,1.2292778870469232E-2,0,0,0.12277553663702964,7.9389582322586333E-2,5.2064351538501589E-3,0,0,0,0.2146311549664813,3.1532585366846028E-2,0,4.50815976918222E-3,1.4873410748518168E-2,1.7712438559978744E-2,2.7621448054414251E-2,1.8397571520559288E-2,0,0.82487309644670059,0.12918126480201991,0,0.62479696273266327,null,{"$f":"$Z$91","v":22.693869860145714},{"$f":"$Z$96","v":37.368101499036932},{"$f":"$Z$87","v":42.664977807553804},{"$f":"'Hilfsblatt Ber. Wirtsch Wirk 2'!$BO$46/'Hilfsblatt Ber. Wirtsch Wirk 3'!$CE$37*1000/100*$CA$37","v":88655.587838251304},{"$f":"'Hilfsblatt Ber. Wirtsch Wirk 2'!BT46/'Hilfsblatt Ber. Wirtsch Wirk 2'!BR46","v":2.4725888654205202E-2},401]
[24,"28","Maschinen",1.0895728066146073,1.0103329506314582,0.50505050505050508,0.79188319722840883,0.55473372781065089,0.28156152499809756,0.26639715375672568,0.16113985242981937,0,5.4035005286033125E-2,0.4623124688392331,2.2706327051249517E-2,8.5457830288778638E-2,4.0575548550204441E-2,8.7032201914708437E-2,0.15911742866235282,0.20623486863735543,6.7718437717339569E-2,2.308455873865971E-3,0.35894925762767177,0.8112301915918283,0,0.99761326522066829,12.45231255253702,1.538867559364848,1.7555347676956656,0.45889182959105268,2.5782688766114181,2.1309628908033729E-2,0.34220338117370652,1.5803814713896458,0.11042068114404487,2.7258811935165963E-2,3.4358357670503353E-2,1.0579713330988392,0.31795946890286514,6.6233115729951025E-3,9.5786021303296137E-2,4.9795286046254286E-2,0,0,7.1419006383073693E-3,5.0017653289396252E-2,0.16396617390743012,1.2179674559095782E-2,6.8136135999727456E-3,8.3873206848681159E-2,0,7.1241308560355643E-4,1.5995137478206627E-3,0,0,1.5657538321825041E-2,0,0.1443624441776063,1.3231597053764388E-2,2.6032175769250796E-2,0,0,0,3.3449011163607476E-2,1.7800653029671147E-2,0,2.25407988459111E-3,3.305202388559593E-2,7.5277863879909673E-2,0,0,0,0.38071065989847719,3.9145837818793912E-3,0,0.77295034942264618,null,{"$f":"$AA$91","v":22.324191507246642},{"$f":"$AA$96","v":35.757041115124196},{"$f":"$AA$87","v":46.281071893734357},{"$f":"'Hilfsblatt Ber. Wirtsch Wirk 2'!$BO$47/'Hilfsblatt Ber. Wirtsch Wirk 3'!$CE$38*1000/100*$CA$38","v":86199.156576860652},{"$f":"'Hilfsblatt Ber. Wirtsch Wirk 2'!BT47/'Hilfsblatt Ber. Wirtsch Wirk 2'!BR47","v":6.6740900308381807E-3},898]
[25,"29","Kraftwagen und Kraftwagenteile ",0.15434083601286172,6.8886337543053955E-2,0,0,0,3.0439083783578114E-2,7.5946556992048985E-3,0,0,0,0,0,9.1766797625534111E-3,0,0,0,4.1844755955405447E-2,0,0,3.2631750693424701E-2,0,0.27521548465144413,3.4544845490327443E-2,1.4627229647967337,25.038487398126215,0,3.4150089643985311E-2,0.17987922394963382,1.6235907739454269E-2,5.6182644670310027E-2,0.16348773841961853,0,0,0,5.4959549771368271E-3,2.3934311670160726,2.0697848665609695E-3,1.5156016029002552E-2,0.73807679539670246,4.2052144659377629E-3,0,0.25175199750033478,0,1.2910722354915758E-3,9.7437396472766242E-3,0,0,0,0,0,0,0,0,0,0.44927751318825138,0,0,0,0,0,4.1811263954509344E-3,1.6274882769985045E-2,0,0,0,0,6.9053620136035627E-3,4.5993928801398215E-2,0,0,0,0,1.6410894861582945,null,{"$f":"$AB$91","v":10.583249027604104},{"$f":"$AB$96","v":21.747736312624493},{"$f":"$AB$87","v":57.397435011279164},{"$f":"'Hilfsblatt Ber. Wirtsch Wirk 2'!$BO$48/'Hilfsblatt Ber. Wirtsch Wirk 3'!$CE$39*1000/100*$CA$39","v":108784.72238182218},{"$f":"'Hilfsblatt Ber. Wirtsch Wirk 2'!BT48/'Hilfsblatt Ber. Wirtsch Wirk 2'!BR48","v":1.8085049190903715E-2},581]
[26,"30","Sonstige Fahrzeuge",0,0,0,0,0,0,0,0,0,0,0,0,0,0,0,0,0,0,2.308455873865971E-3,0,0,0,0,0,0,14.091050826317431,0,3.5504732536725343,0,0,0,0,0,0,0,1.1646866992778943E-3,0,0,1.4385304857806794E-2,0,2.2852341944969545,0,0,0,0,0,0,0,0,0,0,0,0,0.11793344320295138,7.0157449506874081E-2,0,0,0,0,0,1.5330796783320094E-2,0.87375776871357236,0,0,0,0,6.9053620136035627E-3,7.3590286082237152E-2,0,0,0,0,0.16286472489608464,null,{"$f":"$AC$91","v":18.71842843779233},{"$f":"$AC$96","v":31.711880261927032},{"$f":"$AC$87","v":47.446211412535078},{"$f":"'Hilfsblatt Ber. Wirtsch Wirk 2'!$BO$49/'Hilfsblatt Ber. Wirtsch Wirk 3'!$CE$40*1000/100*$CA$40","v":96857.142857142841},{"$f":"'Hilfsblatt Ber. Wirtsch Wirk 2'!BT49/'Hilfsblatt Ber. Wirtsch Wirk 2'!BR49","v":2.5028583678719452E-2},105]
[27,"31-32","Herstellung von Möbeln und sonstigen Waren",0,2.2962112514351322E-2,0,4.9492699826775552E-2,3.6982248520710061E-2,1.5219541891789057E-2,0,1.6962089729454666E-2,2.0625360943816517E-2,0,4.5324751846983636E-3,1.3356662971323245E-3,0,0,0,0,0,0,0,5.4386251155707837E-3,8.039942434012173E-3,0.62150309995463482,0,0,2.0736067561878312E-2,0.15590894917368259,1.3403910185264236,0.24626322326437963,0,0,0,2.1651113949812716E-3,6.2904950619613771E-3,2.8631964725419458E-3,1.0991909954273654E-3,1.1646866992778943E-3,4.5535267064341339E-3,0,2.2131238242779684E-3,0,0,8.9273757978842116E-4,0,2.4530372474339941E-2,0,1.3627227199945491E-2,1.4460897732531237E-3,0,0,1.5995137478206627E-3,0,5.2683338016296715E-3,1.5657538321825044E-3,0,4.3173815081153276E-2,0,5.7270786692351743E-2,0,0,0,1.3937087984836449E-3,1.1697571990926752E-2,0,2.25407988459111E-3,0.80261331335522101,0.11513085063986184,0.52480751303387085,4.599392880139822E-3,5.4519368723098989E-2,0,0,0,5.9469355601786386E-2,null,{"$f":"$AD$91","v":28.745837957824637},{"$f":"$AD$96","v":44.252113036796722},{"$f":"$AD$87","v":37.836164944932982},{"$f":"('Hilfsblatt Ber. Wirtsch Wirk 2'!$BO$50+'Hilfsblatt Ber. Wirtsch Wirk 2'!$BO$51)/'Hilfsblatt Ber. Wirtsch Wirk 3'!$CE$41*1000/100*$CA$41","v":57115.702479338841},{"$f":"('Hilfsblatt Ber. Wirtsch Wirk 2'!BT50+'Hilfsblatt Ber. Wirtsch Wirk 2'!BT51)/('Hilfsblatt Ber. Wirtsch Wirk 2'!BR50+'Hilfsblatt Ber. Wirtsch Wirk 2'!BR51)","v":0.12870517801413922},363,"CPAs der Produktionswerte aus der Aufkommenstabelle für diese Tabelle zur Berechnung der Erwerbstätigen pro Bruttowertschöpfung entsprechend vereinheitlicht."]
[28,"33","Reparatur, Instandh. u. Installation v. Maschinen u. Ausrüstungen",0.12494258153422141,0,0.25252525252525254,22.618163820836426,3.5872781065088759,5.2887908073966976,0.39959573063508846,1.1873462810618269,1.7160300305255343,1.7244214730412311,0.4169877169922494,0.10284630487918899,0.68251555733990998,1.560598021161709E-2,0.40519910399634751,0.67890102895937199,1.8351914397584959,1.8887953438998499,0.64636764468247188,2.2407135476151629,1.6240683716704587,0.60486919703614095,1.2854869776400637,1.5112186740811218,1.1574495893630257,0.94792641097599006,0.80679586783915302,1.2762859223093066,2.7235735232934539,1.0163951172174268,0.43596730245231607,0,0.10274475267870248,8.8759090648800318E-2,8.2988920154766097E-2,4.0764034474726298E-2,4.7191094957590107E-2,9.214857745633552E-2,1.0689388071262587,1.4592094196804037,6.4566267590842257,4.6422354148997903E-2,2.0595504295633754E-2,2.711251694532309E-2,1.2179674559095782E-2,0.17715395359929137,1.2465293845441925,0,0,1.1196596234744638E-2,0,0.10662104122345763,7.8287691609125218E-4,1.6631639426057245E-2,0.87696811883592596,1.3231597053764388E-2,0.33321184984641017,0,0.37170227554319907,0,8.2228819110535048E-2,0.34889279938155443,3.5076642463783368E-3,2.103807892285036E-2,0.18288786550029748,0.24354603019970775,2.7621448054414251E-2,0,0,0,7.8291675637587824E-3,0,0.58096549491551186,null,{"$f":"$AE$91","v":32.513169728896315},{"$f":"$AE$96","v":36.873099490342199},{"$f":"$AE$87","v":44.706411409482207},{"$f":"'Hilfsblatt Ber. Wirtsch Wirk 2'!$BO$52/'Hilfsblatt Ber. Wirtsch Wirk 3'!$CE$42*1000/100*$CA$42","v":64977.358490566032},{"$f":"'Hilfsblatt Ber. Wirtsch Wirk 2'!BT52/'Hilfsblatt Ber. Wirtsch Wirk 2'!BR52","v":1.4913443133295472E-2},265]
[29,"35.1, 35.3","Elektr. Strom, Dienstleistg. der Elektriz.-, Wärme- und Kälteversorg.",1.7087735415709693,0,2.2727272727272729,3.4397426379609004,2.4038461538461542,2.9602008979529715,1.0276153365308782,1.3188024764651005,1.5345268542199488,3.2867379302243629,1.1240538458051941,1.0725400365972566,1.7963350635198303,0.17478697837011142,1.8519311161523204,3.7021321735440753,3.0068446065098486,2.0077601669167979,1.8467646990927769,3.5894925762767169,1.1095120558936797,0.60184485105096019,0.5694665438405494,0.53530025772005507,0.40121148903816067,0.33988150919862803,0.53999829249551778,0.3511927705683327,20.722091996712226,6.3843914398079571,6.7683923705722071,0.14073224067378268,0.507433268331551,0.31495161197961402,0.20005276116778051,0.88749126484975549,0.80183465730571968,2.2103533776697324,2.4775921212791858,0,4.200798151648813E-2,0.43476320135696112,0.88266446981287505,2.2593764121102575,0.51154633148202278,0.47695295199809218,1.17133271633503,0.22629109921676413,0.5221987917474068,0.43506773940722016,0.45829200725058994,0.21248946333239674,0.30532199727558834,0.27064213247856783,1.1495028265357061,0.23816874696775903,0.59353360753891815,0.17834936841416324,6.9505303556858355E-2,0.21817604823674086,0.67176764086911678,0.79543489538301915,9.8214598898593422E-2,0.52970877287891083,1.0202058039353943,0.95351960914552247,0.73542105444877948,1.5040014718057217,0.50215208034433279,0.72969543147208127,1.3133428588205358,0,1.2713394767982531,null,{"$f":"$AF$91","v":10.079454473499954},{"$f":"$AF$96","v":29.752300932549954},{"$f":"$AF$87","v":51.03960546744193},{"$f":"'Hilfsblatt Ber. Wirtsch Wirk 2'!$BO$53/'Hilfsblatt Ber. Wirtsch Wirk 3'!$CE$43*1000/100*$CA$43","v":200057.84761808944},{"$f":"'Hilfsblatt Ber. Wirtsch Wirk 2'!BT53/'Hilfsblatt Ber. Wirtsch Wirk 2'!BR53","v":0.14201564657156004},141]
[30,"35.2","Industriell erzeugte Gase, Dienstleistungen der Gasversorgung",7.5333027101515848E-2,0,0,0.27220984904726553,0,1.0425386195875503,0.43640060056200453,0.34772283945382071,0.22687897038198168,1.2122635968518736,0.43965009291574125,7.346164634227785E-2,0.30053626222362423,7.1787508973438621E-2,0.21544036867411437,2.3018988013153709,0.71434976238156433,0.94073721585709569,0.24931323437752487,0.53842388644150752,0.25647416364498832,7.258430364433692E-2,9.2119587974206524E-2,3.0021153366525954E-2,3.8958672388983491E-2,4.0536326785157471E-2,9.6047127123708706E-2,7.0666837980213282E-2,1.211604615056775,7.0075080443332149,0,2.5981336739775259E-2,2.3065148560525047E-2,2.5768768252877512E-2,3.4624516355962011E-2,0.18751455858374097,7.6582040062755874E-2,0.24370873774636104,1.8811552506362728E-2,0,0,1.7854751595768423E-3,1.4711074496881251E-2,0.25692337486282357,4.3846828412744808E-2,5.7915715599768339E-2,2.1691346598796853E-2,2.1699146500237656E-2,4.9868915992248949E-2,7.0378604904109146E-2,3.4200896063476864E-2,1.7561112672098906E-3,5.5584261042478905E-2,4.6870983837070411E-2,8.9045993604878651E-2,6.1747452917567149E-2,8.8509397615452706E-2,9.8173964264677005E-3,1.8131818319180443E-2,7.93367448133603E-3,8.08351103120514E-2,0.12613034146738411,2.1045985478270017E-2,0.12322303369098067,8.9791331555868936E-2,0.11217877754653206,9.3222387183648101E-2,3.6795143041118576E-2,9.7560975609756101E-2,0.19035532994923859,1.9572918909396956E-3,0,0.18347572572468468,null,{"$f":"$AG$91","v":10.404004290311047},{"$f":"$AG$96","v":34.06711272281526},{"$f":"$AG$87","v":62.735584044128913},{"$f":"'Hilfsblatt Ber. Wirtsch Wirk 2'!$BO$54/'Hilfsblatt Ber. Wirtsch Wirk 3'!$CE$44*1000/100*$CA$44","v":184473.41539404463},{"$f":"'Hilfsblatt Ber. Wirtsch Wirk 2'!BT54/'Hilfsblatt Ber. Wirtsch Wirk 2'!BR54","v":2.7085257002154511E-2},36]
[31,"36","Wasser, Dienstleistungen der Wasserversorgung",0.18373909049150206,2.2962112514351322E-2,0.25252525252525254,0.3711952487008166,0,0.22068335743094133,0.1250197168946037,0.10177253837672801,2.8875505321343125E-2,0.20909197697638904,4.0792276662285271E-2,1.2020996674190919E-2,8.8899085199736175E-2,1.8727176253940509E-2,4.9936509295324512E-2,0.21215657154980377,0.16737902382162179,6.0397525531681248E-2,5.540294097278331E-2,0.1305270027736988,7.316347614951077E-2,4.8389535762891275E-2,3.9778912988861902E-2,3.8796567427510462E-2,2.3563713138498081E-2,1.2472715933894605E-2,3.6284470246734396E-2,2.9979870658272303E-2,9.1326981034430266E-3,0,2.1798365122615803E-2,4.1137116504644161E-2,3.7742970371768256E-2,3.4358357670503353E-2,3.0777347871966232E-2,4.1928721174004188E-2,1.4488494065926786E-2,3.3343235263805615E-2,2.6557485891335622E-2,4.2052144659377629E-3,4.2007981516488137E-3,2.3211177074498952E-2,4.7075438390020007E-2,0.25821444709831515,4.3846828412744808E-2,1.7034033999931864E-2,3.1813975011568719E-2,1.6532683047800121E-2,2.0659979482503137E-2,3.1990274956413253E-2,3.4200896063476863E-3,4.0139686107654639E-3,4.2275353468927614E-2,3.4775246072665141E-2,6.745908606430201E-2,4.8515855863802762E-2,8.3302962461602542E-2,6.544930950978467E-3,9.0659091595902217E-3,7.93367448133603E-3,6.8291731125698599E-2,4.0178616838400585E-2,8.4183941913080068E-2,9.4671355152826611E-2,8.1528325584469957E-2,0.10775066790653735,7.5958982149639198E-2,0.57492411001747767,4.5911047345767578E-2,9.5177664974619297E-2,0.30142295120471313,0,5.4042422356090782E-2,null,{"$f":"$AH$91","v":21.558583106267029},{"$f":"$AH$96","v":72.239782016348769},{"$f":"$AH$87","v":23.880108991825612},{"$f":"'Hilfsblatt Ber. Wirtsch Wirk 2'!$BO$55/'Hilfsblatt Ber. Wirtsch Wirk 3'!$CE$45*1000/100*$CA$45","v":165700},{"$f":"'Hilfsblatt Ber. Wirtsch Wirk 2'!BT55/'Hilfsblatt Ber. Wirtsch Wirk 2'!BR55","v":5.209809264305177E-2},40]
[32,"37-39","Dienstleistg. d. Abwasser-, Abfallentsorg. u. Rückgewinnung",1.8006430868167203,9.1848450057405287E-2,0.50505050505050508,0.79188319722840883,0,2.5264439540369836,1.231502631840302,0.98804172674073454,1.1673954294200148,5.0980852813344297,0.11784435480215746,2.4041993348381838E-2,0.65957385793352641,4.3696744592527856E-2,1.9789125255032889,4.1370531452211736,1.3509878351316615,1.6398843295874665,2.0660680071100441,3.2903681949203243,0.70992691692327481,0.10433993648873433,9.1072774474499615E-2,6.3275354018677774E-2,8.0430807512740121E-2,3.1181789834736514E-2,0.39486041150858026,7.2808257312947017E-2,9.94449349041574E-2,0,1.0899182561307902E-2,11.544373958040142,6.9195445681575138E-2,7.1579911813548641E-2,9.3980830109039751E-2,0.20498485907290942,0.10473111424798506,0.57956605294905761,0.12172181033528826,0,4.2007981516488137E-3,0.12498326117037896,0.15887960456631753,1.0741720999289912,0.18269511838643671,0.1124246243995503,0.15328551596483109,0.10952902519167579,0.18950188077054597,0.15515283353860426,3.7620985669824553E-2,1.8313731786617431E-2,0.15422675246997666,0.13002918096735663,0.34808888409179833,0.16318969699642749,0.31238610923100951,5.0723214870083119E-2,6.0439394397268142E-2,7.93367448133603E-3,0.67873618486153497,1.0588845602221522,0.29815146094215861,0.14952063234454363,0.37183526871295419,0.50037638931939954,0.32455201463936745,1.1222518627541165,0.16355810616929697,0.53934010152284262,1.0980407508171692,0,0.54863080554220356,null,{"$f":"$AI$91","v":16.677853075540735},{"$f":"$AI$96","v":43.367181241474874},{"$f":"$AI$87","v":45.744473553164312},{"$f":"('Hilfsblatt Ber. Wirtsch Wirk 2'!$BO$56+'Hilfsblatt Ber. Wirtsch Wirk 2'!$BO$57+'Hilfsblatt Ber. Wirtsch Wirk 2'!$BO$58)/'Hilfsblatt Ber. Wirtsch Wirk 3'!$CE$46*1000/100*$CA$46","v":101675.1269035533},{"$f":"('Hilfsblatt Ber. Wirtsch Wirk 2'!BT56+'Hilfsblatt Ber. Wirtsch Wirk 2'!BT57+'Hilfsblatt Ber. Wirtsch Wirk 2'!BT58)/('Hilfsblatt Ber. Wirtsch Wirk 2'!BR56+'Hilfsblatt Ber. Wirtsch Wirk 2'!BR57+'Hilfsblatt Ber. Wirtsch Wirk 2'!BR58)","v":1.045639290254427E-2},197,"CPAs der Produktionswerte aus der Aufkommenstabelle für diese Tabelle zur Berechnung der Erwerbstätigen pro Bruttowertschöpfung entsprechend vereinheitlicht."]
[33,"41 ","Hochbauarbeiten",1.2861736334405145E-2,2.2962112514351322E-2,0.25252525252525254,0.14847809948032664,0,3.0439083783578114E-2,1.402090282930135E-2,1.6962089729454666E-2,8.2501443775266064E-3,4.6986961118289676E-3,9.0649503693967272E-3,2.671332594264649E-3,6.8825098219150579E-3,6.2423920846468367E-3,7.1337870421892165E-3,1.0607828577490187E-2,5.9778222793436349E-3,3.6604560928291665E-3,2.308455873865971E-3,1.0877250231141567E-2,5.6279597038085202E-3,4.5365189777710575E-3,6.2808809982413541E-3,6.0042306733051904E-3,3.7701941021596927E-3,3.1181789834736511E-3,4.2687612054981639E-3,4.2828386654674717E-3,1.0147442337158918E-3,5.6182644670310027E-2,4.3596730245231606E-2,3.680689371468162E-2,1.0547063387221909,1.1080570348737331,0.18246570524094269,1.1646866992778943E-2,3.7256127598097456E-3,1.6368497311322758E-2,1.2172181033528826E-2,0,4.2007981516488137E-3,2.5889389813864214E-2,2.0595504295633754E-2,7.7464334129494546E-3,1.2179674559095782E-2,1.7034033999931864E-2,4.0490513651087461E-2,4.1331707619500302E-3,2.1372392568106691E-3,1.2796109982565302E-2,3.4200896063476863E-3,0.23331192550074259,7.0458922448212689E-3,4.5359016616519756E-3,2.1586907540576638E-2,8.8210647025095939E-3,2.6032175769250796E-2,4.9086982132338502E-3,0,3.966837240668015E-3,2.2299340775738318E-2,1.3223342250612852E-2,1.7538321231891682E-2,6.1611516845490336E-2,1.9280347266597626E-2,2.3616584746638327E-2,2.071608604081069E-2,0,1.721664275466284E-2,6.3451776649746189E-2,5.8718756728190873E-3,0,5.1149318570057931E-2,null,{"$f":"$AJ$91","v":25.052945000104842},{"$f":"$AJ$96","v":40.617726615084607},{"$f":"$AJ$87","v":53.624373571533411},{"$f":"'Hilfsblatt Ber. Wirtsch Wirk 2'!$BO$59/'Hilfsblatt Ber. Wirtsch Wirk 3'!$CE$47*1000/100*$CA$47","v":51656},{"$f":"'Hilfsblatt Ber. Wirtsch Wirk 2'!BT59/'Hilfsblatt Ber. Wirtsch Wirk 2'!BR59","v":0.12824222599651927},375]
[34,"42","Tiefbauarbeiten",0,0,0,0,0,0,0,0,0,0,0,0,0,0,0,0,0,0,0,0,0,0,0,0,0,0,0,0,0.44648746283499247,1.0725777618877368,0.40326975476839233,1.1821508216597745,0,0,0,0,4.1395697331219391E-4,0,1.1065619121389842E-3,0,0,0.56063920010712853,0,0,0,0,0,0,0,0,0,0.78874483201541357,0,0,3.5078724753437041E-2,0,0,0,0,0,0,0,0,0,0.31013815745984175,0,0,0,0,0,0,0,0.10581574370352832,null,{"$f":"$AK$91","v":27.289125579797286},{"$f":"$AK$96","v":38.630246807535933},{"$f":"$AK$87","v":54.893202771574188},{"$f":"'Hilfsblatt Ber. Wirtsch Wirk 2'!$BO$60/'Hilfsblatt Ber. Wirtsch Wirk 3'!$CE$48*1000/100*$CA$48","v":55983.402489626555},{"$f":"'Hilfsblatt Ber. Wirtsch Wirk 2'!BT60/'Hilfsblatt Ber. Wirtsch Wirk 2'!BR60","v":0.12331787207238161},241]
[35,"43","Vorb. Baustellen-, Bauinstallations- und sonstige Ausbauarbeiten ",1.1630684428112081,1.6073478760045925,2.0202020202020203,4.825538233110616,0,1.0881972452629176,0.52519965181424644,0.77177508269018735,0.54450952891675597,0.4839656995183837,1.0243393917418302,0.21237094124403957,0.3980384847007542,0.45881581822154249,0.43088073734822874,0.66829320038188189,0.79803927429237531,0.57560672059738638,0.25854705787298876,0.76684614129548057,0.39476117350999768,0.36292151822168456,0.28787371241939536,0.2452497298096197,0.19259408205199097,0.1278453383224197,0.27746947835738067,0.22484902993704226,1.2390027093671041,2.5180039838602584,2.2125340599455043,3.7045055968129561,6.3366253590824257,4.5610719807593192,5.8663823425958492,0.6568832983927323,0.42016632791187686,0.96574134136804268,0.78565895761867877,0,6.7212770426381019E-2,1.309646029549614,1.3122278451218077,1.6758117616680654,0.92565526649127927,1.0016011991959937,1.4576584914391486,0.40298414929012788,0.69673999772027817,0.94691213870983226,7.8662060945996787E-2,7.1187733311925498,0.99738519110025514,0.76807934803973454,0.83649266719734472,0.97913818197856473,1.8951423960014577,0.40251325348517575,0.71318485388776398,0.21817604823674086,1.8424830315953784,2.4483526767096255,2.486933950682241,1.003065548643044,1.0251636075182338,1.1690209449585971,1.6745502882988639,0.57492411001747767,1.466284074605452,0.76142131979695438,0.5304261024446576,0,1.5406250390001737,null,{"$f":"$AL$91","v":27.030755364052055},{"$f":"$AL$96","v":43.979181322546609},{"$f":"$AL$87","v":46.215485402743575},{"$f":"'Hilfsblatt Ber. Wirtsch Wirk 2'!$BO$61/'Hilfsblatt Ber. Wirtsch Wirk 3'!$CE$49*1000/100*$CA$49","v":45622.006841505143},{"$f":"'Hilfsblatt Ber. Wirtsch Wirk 2'!BT61/'Hilfsblatt Ber. Wirtsch Wirk 2'!BR61","v":0.10084933266719007},1754]
[36,"45","Handelsleistungen mit Kfz, Instandhaltung und Reparatur an Kfz",0.28112080845199816,0.32146957520091851,0,0.14847809948032664,0,0.60117190472566773,0.1863611667727971,0.11873462810618267,0.44138272419767344,0.17855045224950075,0.22209128405021986,2.9384658536911138E-2,5.276590863468212E-2,6.2423920846468361E-2,6.5630840788140785E-2,0.12729394292988225,0.60674896135337897,4.1180131044328119E-2,5.078602922505137E-2,0.11964975254255723,0.13828700986500939,0.1013155905035536,0.14131982246043043,0.73436359773501936,5.9311436883808906,2.8749610227627063,0.20063177665841375,0.13490941796222536,6.7987863658964767E-2,0.33198835487001377,1.0899182561307902E-2,1.0111070214562539,0.32291207984735065,0.30636202256198819,0.29623197326767498,2.7649662240857209,0.13453601632646303,1.4089032500560772,2.4565674449485448,0,0,2.8987189215730034,8.7295516064493341,0.32664127557936867,0.26795284030010719,0.12945865839948217,0.34561545580749653,5.4764512595837894E-2,6.6966830046734302E-2,0.10876693485180504,0.18810492834912276,6.7735720306667203E-3,0.19023909061017424,0.17387623036332572,0.40205615294323993,0.30873726458783574,0.50502420992346542,0.96537731526932391,3.6263636638360887E-2,7.5369907572692296E-2,0.25226129252553969,0.43687888435678618,0.17538321231891685,0.11044991434496437,0.11513121653482582,0.19040871451977151,0.27276179953734075,8.7388464722656614E-2,4.5911047345767578E-2,0.28553299492385786,3.9145837818793917E-2,0,0.79781591464247092,null,{"$f":"$AM$91","v":33.897041695783834},{"$f":"$AM$96","v":67.353831819240625},{"$f":"$AM$87","v":26.728395061728392},{"$f":"'Hilfsblatt Ber. Wirtsch Wirk 2'!$BO$62/'Hilfsblatt Ber. Wirtsch Wirk 3'!$CE$50*1000/100*$CA$50","v":66394.948335246838},{"$f":"'Hilfsblatt Ber. Wirtsch Wirk 2'!BT62/'Hilfsblatt Ber. Wirtsch Wirk 2'!BR62","v":3.539142804698972E-2},871]
[37,"46","Großhandelsleistungen (ohne Handelsleistungen mit Kfz) ",5.8539274230592557,3.4213547646383464,5.808080808080808,3.0685473892600843,0.92455621301775148,2.5340537249828778,5.8846897583146873,7.3997116444745989,6.00610510683937,3.841184071420181,2.3614195712278478,2.7020529190986924,2.3176851825298961,1.2921751615218953,2.3384553924296254,6.0995014320568579,5.0901156708611053,2.4570811523115781,1.8052124933631892,3.6710719530102791,3.5970702449770457,6.7337063360048397,4.2081902688217063,3.306483645399374,1.9052047529580316,2.1141253507951356,7.2334158627166394,6.0901965822947446,1.2866956883517511,1.0112876040655805,1.0245231607629428,3.7521380475025441,3.4639659474533979,4.6555574643532038,7.2073953570172353,1.0284183554623805,1.9414582048341895,1.3294857260641038,0.81221644351001443,1.0008410428931875,0,0.59634870329866529,0.57961633517712141,3.9054935123620167,0.8087303907239598,0.39178278199843281,1.4518741323461359,0.53731219905350391,0.23010942664994871,0.14555575105168031,0.16758439071103662,2.734516116083972E-2,0.33507132008705592,0.68794508535054955,1.1171224652248413,0.63511665858069066,1.0621127713854324,0.11453629164212317,0.12087878879453628,4.7602046888016183E-2,1.004864043706708,1.1351730732064571,0.29815146094215861,0.38018814053436717,2.6986977502589076,1.8539019026111085,0.85971757069364363,0.79109557538404929,0.87517934002869435,3.4263959390862944,1.1313147129631442,0,2.1752358635952618,null,{"$f":"$AN$91","v":32.127614655732685},{"$f":"$AN$96","v":53.881881517235101},{"$f":"$AN$87","v":41.139457964739144},{"$f":"'Hilfsblatt Ber. Wirtsch Wirk 2'!$BO$63/'Hilfsblatt Ber. Wirtsch Wirk 3'!$CE$51*1000/100*$CA$51","v":66443.593670239919},{"$f":"'Hilfsblatt Ber. Wirtsch Wirk 2'!BT63/'Hilfsblatt Ber. Wirtsch Wirk 2'!BR63","v":-1.0549892878010777E-4},1959]
[38,"47","Einzelhandelsleistungen (ohne Handelsleistungen mit Kfz) ",2.9839228295819935,1.1251435132032146,3.7878787878787881,0.59391239792130657,0.22189349112426035,0.62400121756335136,3.8142697738545213,5.0419811720804004,2.3595412919726093,0.46986961118289677,0.53483207179440684,4.0069988913969731E-3,0.55174787072352383,0.40575548550204438,1.0015837007233659,0.82741062904423468,0.79803927429237531,0.12262527910977708,0.11542279369329855,0.27736988089410997,0.8007782664276123,3.0379555421140179,1.2708315886441672,0.48634268453772045,0.72890419308420729,1.546616775802931,2.4630752155724407,1.4047710822733308,0.17960972936771286,0.17365544716277645,0.39237057220708443,0.20135535973325827,0.49904594158226923,0.69575674282769284,1.8372977488568414,0.34008851618914515,0.25416958161368708,0.42618717073555173,0.35852605953303085,0.5971404541631623,8.4015963032976274E-3,0.25889389813864216,0.24420383664822878,4.410302756439223,0.76731949722303416,0.26913773719892348,0.29644840351689034,0.14982744012068858,9.4750940385272986E-2,8.4774228634495116E-2,0.17784465953007969,2.1575081282864367E-2,0.30767062802386208,0.47475770725290672,0.43173815081153277,0.51603228509681121,0.94757119800072886,8.1811636887230837E-2,0.17225227403221419,3.173469792534412E-2,0.62438154172067295,0.71660343196590415,0.19642919779718684,0.42902653803384122,2.9069255007381618,2.4103676807037742,1.312018782584677,1.002667647870481,2.7058823529411762,1.5545685279187818,0.57740110782721032,0,0.8792955500281936,null,{"$f":"$AO$91","v":38.036144067025965},{"$f":"$AO$96","v":51.932392043697831},{"$f":"$AO$87","v":43.483216227849482},{"$f":"'Hilfsblatt Ber. Wirtsch Wirk 2'!$BO$64/'Hilfsblatt Ber. Wirtsch Wirk 3'!$CE$52*1000/100*$CA$52","v":25525.327771156139},{"$f":"'Hilfsblatt Ber. Wirtsch Wirk 2'!BT64/'Hilfsblatt Ber. Wirtsch Wirk 2'!BR64","v":0},3356]
[39,"49","Landverkehrs- und Transportleistungen in Rohrfernleitungen",0.3197060174552136,0.20665901262916186,0,0.79188319722840883,0.99852071005917165,1.4078076249904878,1.150882440571819,0.5131032143160037,1.7036548139592445,1.710325384705744,0.24475365997371165,1.5787575632104076,0.78517966218347623,0.15918099815849435,0.89743040990740341,0.44552880025458791,4.5222225543234602,2.0864599729126252,0.69022830628592535,0.45140588459237507,0.30551781249246257,0.56555269922879181,0.31509086341177456,0.38334703529563907,0.73518784992114017,0.14655441222326163,1.1333561000597627,0.41543535055034475,0.66262798461647743,16.420654783186066,0.77384196185286103,0.10176023556411977,0.32291207984735065,0.3493099696501174,9.7278403095321847E-2,0.25623107384113669,5.1802575640287953,1.3191796351643823,4.603297554498174,0,2.5204788909892879E-2,11.843056733473196,0,4.6478600477696724E-2,1.0718113612004287,0.55190270159779242,5.6397501156871817E-2,0.17565975738287626,0.21016186025304912,0.15835186103424559,0.11286295700947366,0,3.1315076643650082E-2,7.5598361027532923E-3,1.6648902440669733,4.4105323512547969E-3,0.14578018430780446,0,0,0.29751279305010114,0.73309082800239711,1.2450285319038561,0.11926058437686345,3.674150211883509,3.415375801511579E-2,0,0.13810724027207125,0.33575568025020697,1.1018651362984218,6.3451776649746189E-2,8.8078135092286305E-2,0,1.2120781221222601,null,{"$f":"$AP$91","v":24.707314374239239},{"$f":"$AP$96","v":49.30950536682527},{"$f":"$AP$87","v":44.703994688502824},{"$f":"'Hilfsblatt Ber. Wirtsch Wirk 2'!$BO$65/'Hilfsblatt Ber. Wirtsch Wirk 3'!$CE$53*1000/100*$CA$53","v":52486.454652532382},{"$f":"'Hilfsblatt Ber. Wirtsch Wirk 2'!BT65/'Hilfsblatt Ber. Wirtsch Wirk 2'!BR65","v":-3.7882204383512225E-2},849]
[40,"50","Schifffahrtsleistungen ",1.2861736334405145E-2,2.2962112514351322E-2,1.2626262626262625,0.29695619896065328,7.3964497041420121E-2,0.82946503310250363,1.3436698544747126E-2,0,0,3.2890872782802769E-2,0,5.3426651885292976E-2,8.3737202833299884E-2,0,1.8547846309691963E-2,0,5.3800400514092718E-2,0.10432299864563124,1.3850735243195827E-2,0,2.4119827302036519E-3,1.3609556933313172E-2,5.2340674985344613E-3,0,1.1938947990172361E-2,0,2.1343806027490819E-3,0,0.17859498513399696,0,1.0899182561307902E-2,0,0,0,2.1983819908547308E-3,1.1646866992778943E-3,0.39739869437970621,0,1.1065619121389842E-3,1.5895710681244746,0,0.2115788064098558,0,0,0,0,0,0,0,0,0,0,0,0,1.4840998934146438E-2,0,5.2064351538501589E-3,0,0,0.27371176960609306,1.3937087984836449E-3,4.0687206924962614E-3,0,0,0,0,0,0,0,0,0,0,4.5646748624073877E-2,null,{"$f":"$AQ$91","v":3.8435660218671153},{"$f":"$AQ$96","v":27.918418839360807},{"$f":"$AQ$87","v":23.616484440706476},{"$f":"'Hilfsblatt Ber. Wirtsch Wirk 2'!$BO$66/'Hilfsblatt Ber. Wirtsch Wirk 3'!$CE$54*1000/100*$CA$54","v":301772.72727272729},{"$f":"'Hilfsblatt Ber. Wirtsch Wirk 2'!BT66/'Hilfsblatt Ber. Wirtsch Wirk 2'!BR66","v":1.9638203859662375E-3},22]
[41,"51","Luftfahrtleistungen ",1.6536518144235186E-2,0,0,9.8985399653551104E-2,0.1849112426035503,0.21307358648504682,4.9073159902554724E-2,0.12721567297091002,0.10312680471908257,0.10572066251615175,7.2519602955173817E-2,2.1370660754117192E-2,0.11528203951707723,7.4908705015762037E-2,8.5605444506270598E-2,0.12729394292988225,8.3689511910810893E-2,2.9283648742633332E-2,3.2318382234123595E-2,6.5263501386849401E-2,9.9695286181750942E-2,0.84681687585059728,0.16853697345280966,0.27203783589051977,9.5197401079532257E-2,0.22762706579357658,0.32015709041236229,0.25054606192984713,1.0147442337158918E-3,9.1935236733234588E-2,1.0899182561307902E-2,4.546733929460671E-2,3.7742970371768256E-2,3.1495161197961405E-2,2.4731797397115726E-2,2.7952480782669459E-2,0.10804277003448261,6.3655267321810718E-2,8.8524952971118735E-3,0,1.4618777567737871,2.4103914654287371E-2,0.50900317759209135,1.0328577883932606E-2,0.26308097047646889,0.34408748679862361,0.11424109208699677,0.11056231788216331,0.1994756639689958,0.13755818231257699,2.0520537638086117E-2,4.7665877252839883E-3,0.15970689088261544,0.28727377190462511,0.24015434638891514,0.11467384113262472,0.4789920341542146,2.9452189279403105E-2,4.53295457979511E-2,0.64262763298821846,0.13100862705746261,0.28125031786880411,7.0153284927566728E-2,1.051903946142518E-2,1.4873410748518168E-2,2.0664511653308536E-2,0.26240375651693543,0.13798178640419465,8.0344332855093265E-2,0.15862944162436549,4.1103129709733614E-2,0,0.11995980665746672,null,{"$f":"$AR$91","v":17.286284394034869},{"$f":"$AR$96","v":21.747532031085907},{"$f":"$AR$87","v":45.284604074774208},{"$f":"'Hilfsblatt Ber. Wirtsch Wirk 2'!$BO$67/'Hilfsblatt Ber. Wirtsch Wirk 3'!$CE$55*1000/100*$CA$55","v":94127.272727272721},{"$f":"'Hilfsblatt Ber. Wirtsch Wirk 2'!BT67/'Hilfsblatt Ber. Wirtsch Wirk 2'!BR67","v":5.563436984778191E-2},55]
[42,"52","Lagereileistungen, sonstige Dienstleistungen für den Verkehr ",0.27193385392742309,0,1.0101010101010102,0,0,0.44897648580777721,2.5523885192173998,0.42405224323636675,0.60226053955944225,0.15035827557852696,0.19036395775733128,0.16695828714154054,0.22081385678644144,8.4272293142732296E-2,0.72907303571173798,0.32884268590219584,1.7156349941716234,0.23518430396427392,0.22622867563886515,0.44052863436123352,0.37707330015517088,0.81052472402842879,0.21459676743991291,0.83874483867094041,0.99595960865385225,0,0.42047297874156914,0.5953145744999786,8.5238515632134915E-2,0.28091322335155017,0.45776566757493187,0.21218091670816464,0.24323247572917323,0.18324457424268453,0.3149182201899402,0.30864197530864196,13.216404286938415,1.2834114373359362,14.176164656412526,9.2136248948696391,9.6786389413988658,23.695040842744277,15.699658703071673,0.31889484216641922,3.166715385364903E-2,1.3627227199945491E-2,0.19956038870893103,1.4466097666825106E-2,1.2111022455260457E-2,0,0,2.7596034199012564E-3,0.12526030657460033,0.10130180377689413,0.78792212523104732,0.1234949058351343,0.47378559900036443,0.23725374697296944,4.2307576078087696E-2,7.93367448133603E-3,0.11010299508020793,8.3917364282735399E-2,0,7.5135996153037003E-4,0,0,0,0,0,0.38071065989847719,9.7864594546984793E-3,0,1.8911822356620236,null,{"$f":"$AS$91","v":19.543811096728117},{"$f":"$AS$96","v":34.079364370843187},{"$f":"$AS$87","v":55.61844395839843},{"$f":"'Hilfsblatt Ber. Wirtsch Wirk 2'!$BO$68/'Hilfsblatt Ber. Wirtsch Wirk 3'!$CE$56*1000/100*$CA$56","v":66389.565217391297},{"$f":"'Hilfsblatt Ber. Wirtsch Wirk 2'!BT68/'Hilfsblatt Ber. Wirtsch Wirk 2'!BR68","v":2.6740070782540308E-3},575]
[43,"53","Post-, Kurier- und Expressdienstleistungen",1.1024345429490124E-2,2.2962112514351322E-2,0,7.4239049740163321E-2,0,0.31200060878167568,0.10515677121976012,0.30955813756254769,0,3.5240220838717258E-2,0.57562434845669219,2.2706327051249517E-2,0.45596627570187265,0.71163269764973935,0.16265034456191416,3.1823485732470562E-2,4.1844755955405447E-2,2.7453420696218751E-3,2.5393014612525685E-2,0.10877250231141568,0.2235103996655384,0.94964463934674115,0.73695670379365219,0.63598658747240366,0.16086161502548024,0.11849080137199876,0.50584820285153254,0.38545547989207246,6.9002607892680659E-2,0.97042749885080959,0.20708446866485011,0.12990668369887631,8.387326749281835E-3,1.4315982362709728E-2,4.2868448821667252E-2,0.37153505706964829,1.517566264162503,5.6313693157361886,1.3544317804581165,0,0.29825666876706575,0.26782127393652638,0.65317170766152755,0.93860951520237557,0.83065380493033225,0.31683303239873267,2.6246529384544193,8.3696707929488107E-2,0.47731676735438278,0.87813304755354382,0.98840589623448127,1.4048890137679125E-2,0.38987270421344355,0.27517803414021985,0.46681687556496987,0.53808494685308517,0.69766231061592132,5.0723214870083119E-2,2.7288386570366563,0.22610972271807686,0.3442460732254603,0.42772426279866954,0.47704233750745378,4.50815976918222E-3,0.13330982967190358,0.31882389407961742,0.76649518350999546,8.2789071842516784E-2,0.16929698708751795,0.34898477157360408,8.0248967528527532E-2,0,0.56827743844212608,null,{"$f":"$AT$91","v":39.616923620101211},{"$f":"$AT$96","v":44.5863245851477},{"$f":"$AT$87","v":43.132870424855831},{"$f":"'Hilfsblatt Ber. Wirtsch Wirk 2'!$BO$69/'Hilfsblatt Ber. Wirtsch Wirk 3'!$CE$57*1000/100*$CA$57","v":30490.945674044266},{"$f":"'Hilfsblatt Ber. Wirtsch Wirk 2'!BT69/'Hilfsblatt Ber. Wirtsch Wirk 2'!BR69","v":1.1172715053763441E-2},497]
[44,"55-56","Beherbergungs-  und Gastronomiedienstleistungen ",1.8373909049150207E-3,0,0,9.8985399653551104E-2,0,1.5219541891789057E-2,4.0894299918795606E-3,1.2721567297091001E-2,0,2.3493480559144838E-3,9.0649503693967272E-3,0,3.1544836683777347E-2,2.8090764380910765E-2,2.2828118535005493E-2,2.1215657154980375E-2,2.9889111396718174E-3,8.2360262088656249E-3,6.9253676215979137E-3,5.4386251155707837E-3,2.9747787005845041E-2,3.7804324814758809E-2,2.0936269994137845E-2,3.2792336754205273E-2,1.2881496515712283E-2,9.3545369504209538E-3,1.2806283616494493E-2,2.3555612660071095E-2,1.0147442337158918E-3,5.1075131518463664E-3,1.0899182561307902E-2,6.4953341849438148E-3,7.7582772430856969E-2,6.0127125923380861E-2,3.0227752374252553E-2,8.1528068949452605E-3,8.4861179528999756E-2,7.0930155015731938E-2,9.6270886356091614E-2,5.887300252312868E-2,1.1384162990968285,0.1053430344150337,1.1768859597505002E-2,2.5821444709831519E-2,8.2821787001851305E-2,0.31001941879875994,5.6397501156871817E-2,6.9230610262663E-2,9.6888179642083655E-2,2.5592219965130603E-2,0.2462464516570334,5.5192068398025127E-3,4.149247655283636E-2,2.4191475528810538E-2,3.1031179589578919E-2,4.4105323512547964E-2,6.2477221846201907E-2,1.6362327377446167E-3,3.0219697198634069E-3,0.21420921099607285,6.1323187133280374E-2,0.10527814791834078,6.3137956434810058E-2,1.1270399422955549E-2,1.4873410748518168E-2,1.9188475106643642E-2,0.13465455926526948,0.13798178640419465,0.41606886657101866,0,2.3487502691276349E-2,0,4.7064936754482138E-2,null,{"$f":"$AU$91","v":31.965657478535924},{"$f":"$AU$96","v":47.445613582079915},{"$f":"$AU$87","v":44.046220386030598},{"$f":"'Hilfsblatt Ber. Wirtsch Wirk 2'!$BO$70/'Hilfsblatt Ber. Wirtsch Wirk 3'!$CE$58*1000/100*$CA$58","v":21180.979827089337},{"$f":"'Hilfsblatt Ber. Wirtsch Wirk 2'!BT70/'Hilfsblatt Ber. Wirtsch Wirk 2'!BR70","v":0.11310166199007123},1735]
[45,"58","Dienstleistungen des Verlagswesen",2.7560863573725308E-2,6.8886337543053955E-2,0,9.8985399653551104E-2,0,3.8048854729472642E-2,0.13027755545559172,0.11873462810618267,0,0.16210501585809939,0.38072791551466256,7.7468645233674818E-2,0.14051790886409912,0.32772558444395894,0.10843356304127609,0.36066617163466641,0.13450100128523179,3.1113876789047916E-2,0.1200397054410305,4.8947626040137054E-2,0.10773522861576312,0.25706940874035988,0.13085168746336154,8.4059229426272669E-2,0.11907529705987697,9.9781727471156836E-2,0.10031588832920688,9.422245064028438E-2,3.450130394634033E-2,0.14811788140354462,0,1.0262628012211228,3.9839802059088721E-2,1.7179178835251677E-2,8.4637706647907138E-2,0.25273701374330304,0.21442971217571646,0.75234463567968668,0.25561580170410531,0.13877207737594618,0.13442554085276204,0.17586930321831898,0.31775920913263506,0.83145051965657479,4.4675046282763322,1.1617211187953531,0.55674456270245254,0.75947012750831799,0.43813404764618719,0.56622786672851455,0.90974383528848457,7.9526753100790756E-2,1.3027071883758436,1.7599298447209664,1.0820437404714041,1.7068760199356061,3.2279897953870984,0.25034360887492635,0.8189537940829833,0.18644135031139672,1.4842998703850818,0.85036262473171875,1.3469430706092811,1.2404952964866407,0.511204636097217,0.97713619389216078,3.7047267202983116,0.68990893202097325,1.6987087517934003,0.2220812182741117,0.18594272963927111,0,0.46087332403254039,null,{"$f":"$AV$91","v":23.289973691902951},{"$f":"$AV$96","v":44.10503751339764},{"$f":"$AV$87","v":50.820910065283051},{"$f":"'Hilfsblatt Ber. Wirtsch Wirk 2'!$BO$71/'Hilfsblatt Ber. Wirtsch Wirk 3'!$CE$59*1000/100*$CA$59","v":63529.824561403504},{"$f":"'Hilfsblatt Ber. Wirtsch Wirk 2'!BT71/'Hilfsblatt Ber. Wirtsch Wirk 2'!BR71","v":6.2343050551370238E-2},285]
[46,"59-60","Dienstleistg. v. audiovisuell. Medien, Musikverlag. u. RF-veranstaltern",1.8373909049150207E-3,0,0,0,0,7.6097709458945286E-3,0,0,0,0,0,1.3356662971323245E-3,1.1470849703191764E-3,0,0,0,2.9889111396718174E-3,0,2.308455873865971E-3,0,1.6079884868024346E-3,0,0,4.6186389794655312E-4,2.1992798929264877E-3,6.2363579669473023E-3,2.1343806027490819E-3,0,1.014744233715892E-2,3.0645078911078198E-2,1.0899182561307902E-2,0,0,0,1.0991909954273654E-3,0,6.2093545996829095E-3,1.5762256670162653E-2,0,0,0,0,0,0.36020915370214962,0.17051544382734093,16.434436003134262,0,0.10436256173923825,2.2797218739313806E-2,8.6373742382315766E-2,1.3680358425390745E-2,2.508730381728415E-4,0.19571922902281302,0.15270868927561651,1.6190180655432481E-2,16.301327570237728,0.32800541469256,2.7815956541658485E-2,9.3681061315765618E-2,0,0.15888280302713551,3.0515405193721964E-3,0,2.9303038499684429E-2,6.8858383094991524E-2,9.0038229346558613E-2,0.54552359907468151,0.23916842976727071,0.2266857962697274,0,1.9572918909396959E-2,0,0.19398922706477792,null,{"$f":"$AW$91","v":21.994344700712023},{"$f":"$AW$96","v":52.389874970190441},{"$f":"$AW$87","v":39.771062583040916},{"$f":"'Hilfsblatt Ber. Wirtsch Wirk 2'!$BO$72/'Hilfsblatt Ber. Wirtsch Wirk 3'!$CE$60*1000/100*$CA$60","v":121086.61417322836},{"$f":"'Hilfsblatt Ber. Wirtsch Wirk 2'!BT72/'Hilfsblatt Ber. Wirtsch Wirk 2'!BR72","v":7.2163681607323893E-2},127]
[47,"61","Telekommunikationsdienstleistungen ",0.178226917776757,0.27554535017221582,0,1.855976243504083,0.62869822485207105,0.33482992161935926,0.10281995408154324,9.3291493512000681E-2,0.22275389819321839,0.16915306002584285,0.21755880886552148,3.8734322616837409E-2,0.10151701987324711,8.4272293142732296E-2,0.22828118535005493,0.36066617163466641,0.34372478106225901,2.4708078626596873E-2,5.540294097278331E-2,0.11964975254255723,0.23476631907315545,0.32965371238469682,0.22401808893727496,0.2096862096677351,8.0430807512740121E-2,0.1153726223885251,9.1778365918210536E-2,0.18416206261510129,4.1604513582351565E-2,0.44946115736248021,0.31607629427792916,0.52179184619048657,0.127906732926548,0.10021187653896811,0.28414087231797397,8.3857442348008376E-2,0.3535192552086136,0.57471612781977677,0.32754232599313932,0.10092514718250631,0.10501995379122034,0.34995313127706112,3.9690478992585621,1.1296882060551288,4.5357108058072688,2.1088134091915647,24.207542804257287,0.69953915146004253,1.1519719594209505,0.91812089124906038,1.1628304661582134,0.13998715530044556,0.45876587282947373,0.75598361027532923,0.32245443138736357,3.8900895338067309,1.5306919352319468,0.10962759342888932,3.1277386600586263,3.8398984489666388,0.58814511296009808,0.48316058223393116,1.3925427058121995,3.9822077961109606E-2,0.1801335301764978,0.45314321982612288,1.8092048475641336,0.22077085824671144,0.23816355810616932,0.92005076142131981,0.56174277269969275,0,0.75001352006017663,null,{"$f":"$AX$91","v":11.574502545118001},{"$f":"$AX$96","v":39.00971772327626},{"$f":"$AX$87","v":56.796621934289682},{"$f":"'Hilfsblatt Ber. Wirtsch Wirk 2'!$BO$73/'Hilfsblatt Ber. Wirtsch Wirk 3'!$CE$61*1000/100*$CA$61","v":191319.14893617021},{"$f":"'Hilfsblatt Ber. Wirtsch Wirk 2'!BT73/'Hilfsblatt Ber. Wirtsch Wirk 2'!BR73","v":7.6708850391120936E-2},141]
[48,"62-63","IT- und Informationsdienstleistungen",2.388608176389527E-2,0,0,0.17322444939371442,0.4437869822485207,0.38809831824062097,0.18752957534190556,0.21626664405054705,0.21862882600445507,0.33595677199577118,0.71159860399764319,2.6713325942646488E-2,0.40778870694846719,0.6398451886763008,0.27964445205381727,0.48796011456454857,0.46328122664913168,0.14916358578278854,0.25623860199912279,0.60912601294392776,0.57807186100547525,0.56706487222138213,0.54643664684699778,0.54130448839336021,0.32203741289280713,0.55815403804178365,0.36924784427559121,0.48396076919782433,0.32065917785422182,0.49542877572909749,0.14168937329700274,1.9377746985082382,8.8066930867459273E-2,8.8759090648800318E-2,0.25116514245515298,0.29699510831586301,0.69875937095098339,0.69899545925759776,0.83324111984065508,0,0.28145347616047045,1.1087800740972191,1.9595151229845829,0.18075011296882063,5.4272629835330797,1.206009607195176,3.3028690421101339,25.119345305751306,2.7741365553402484,1.4267662630560309,0.9952460754471768,7.8021514871753697E-2,0.86194748461646853,0.982778693357928,1.9441708603731838,1.6892338905305873,1.6556463789243505,0.6168597421297205,1.2662053126227675,0.90047205363163951,0.81950077350838313,0.2751472368300597,3.7146164369146586,0.61310972860878188,0.56629134257321023,0.68045284801251682,0.42813244484342095,0.28976175144880872,0.18364418938307031,0.38071065989847719,0.26227711338591925,0,1.1175889742869256,null,{"$f":"$AY$91","v":35.620698919175844},{"$f":"$AY$96","v":58.78505445452479},{"$f":"$AY$87","v":35.800491847320671},{"$f":"'Hilfsblatt Ber. Wirtsch Wirk 2'!$BO$74/'Hilfsblatt Ber. Wirtsch Wirk 3'!$CE$62*1000/100*$CA$62","v":92205.834683954614},{"$f":"'Hilfsblatt Ber. Wirtsch Wirk 2'!BT74/'Hilfsblatt Ber. Wirtsch Wirk 2'!BR74","v":2.7572960474812024E-2},617]
[49,"64","Finanzdienstleistungen",0.60266421681212679,0.50516647531572911,1.0101010101010102,0.59391239792130657,0.99852071005917165,0.67726961418461307,0.71915547428624849,0.72936985836655077,0.74663806616615791,0.68131093621520034,0.84304038435389572,0.61440649668086922,0.47259900777150066,0.67105714909953496,0.72051249126111083,0.81680280046674447,0.76815016289565707,0.34499798674914894,0.55172095385396702,0.6635122640996356,0.72520280754789801,0.70618478753969449,0.71497362029980738,0.70526617216438658,0.54353631639468902,0.61428125974430936,0.68513617348245537,0.71737547646580146,0.64030361147472781,0.84273967005465045,0.62125340599455037,0.74479831987355749,1.1616447547755342,1.0736986772032295,1.0420330636651425,1.1332401583973912,0.92064030864631929,1.205812635267443,0.80447051012504156,0.69806560134566864,0.59651333753413149,0.75079230460206214,0.90914440390726137,1.0367310050997354,0.99873331384585406,0.83807447279664782,0.9934636742248959,0.8080348839612308,13.493816254416959,3.8132407748044592,11.440199733233012,4.6860574800305059,0.92614339173595128,1.0614009888265623,1.2506914556321591,1.190843734838795,1.8274587390014059,1.0144642974016624,1.0153818258741047,0.72196437780157874,0.94493456537191112,0.730843954389641,3.135851836262233,0.22615934842064139,0.76735782121058549,0.61698327650592621,0.58350309014950108,0.56112593137705824,3.5839311334289818,1.5862944162436547,0.9414573995419937,0,1.5358977452321461,null,{"$f":"$AZ$91","v":29.254530947224438},{"$f":"$AZ$96","v":44.988173942778978},{"$f":"$AZ$87","v":46.023310156160946},{"$f":"'Hilfsblatt Ber. Wirtsch Wirk 2'!$BO$75/'Hilfsblatt Ber. Wirtsch Wirk 3'!$CE$63*1000/100*$CA$63","v":92866.176470588238},{"$f":"'Hilfsblatt Ber. Wirtsch Wirk 2'!BT75/'Hilfsblatt Ber. Wirtsch Wirk 2'!BR75","v":0},680]
[50,"65","Dienstleistungen von Versicherungen und Pensionskassen",0.74230592558566832,0.16073478760045926,0.25252525252525254,0.19797079930710221,0.22189349112426035,0.62400121756335136,0.24536579951277365,8.9050971079637012E-2,0.52800924016170281,0.31951133560436978,0.4623124688392331,6.0104983370954601E-2,0.30799231453069886,0.1029994693966728,0.34384853543352023,0.42431314309960755,0.44235884867142905,5.0331271276401038E-2,6.9253676215979137E-2,0.16315875346712352,9.6479309208146069E-2,0.14668078028126419,9.5260028473327193E-2,0.12747443583324863,9.9910143707231849E-2,0.1028999064546305,0.22624434389140274,0.11991948263308921,0.66973119425248862,1.0981153276469686,0.50136239782016356,0.97213501634659116,0.28307227778826194,0.25196128958369124,0.30392631023566657,0.31213603540647566,0.177173584577619,0.76507568914404878,2.9180037623105015,0.11774600504625736,0.28985507246376813,0.96326384859170644,0.16770624926444627,0.26466980827577302,0.24359349118191562,0.21803563519912786,0.12725590004627488,8.2663415239000601E-2,0.71241308560355643,3.7604568211263776,9.7267348404528189,2.3080319511901419E-2,0.20589662893199931,0.1708522959222244,0.35483479269822849,0.20288448815772064,0.36965689592336126,1.3597094050657765,0.14203257683358012,2.7767860684676106E-2,0.34563978202394391,0.80204656650832562,7.0153284927566728E-2,0.7348300423767018,0.19225260560121632,0.24797413983970243,0.25549839450333184,9.198785760279643E-2,0.53371592539454804,0.25380710659898476,0.10569376211074356,0,0.44799617580843343,null,{"$f":"$BA$91","v":18.967034021657415},{"$f":"$BA$96","v":30.813032838017239},{"$f":"$BA$87","v":61.155808634175216},{"$f":"'Hilfsblatt Ber. Wirtsch Wirk 2'!$BO$76/'Hilfsblatt Ber. Wirtsch Wirk 3'!$CE$64*1000/100*$CA$64","v":102468.08510638298},{"$f":"'Hilfsblatt Ber. Wirtsch Wirk 2'!BT76/'Hilfsblatt Ber. Wirtsch Wirk 2'!BR76","v":0.17274448341143975},188]
[51,"66","Mit Finanz- und Versicherungsdienstleistg. verbundene Dienstleistg.",0,0,0,0,0,0,0,0,0,0,0,0,8.0295947922342341E-3,0,0,0,0,0,0,0,0,0,5.2340674985344608E-2,0,0,0,0,0,1.2176930804590702E-2,0,0,0,0,0,0,0,0,0,0,0,0,0,0,0,0,0,0,0,4.7190242790379573,31.483229098354098,7.4455350730189132,0,0,0,1.4840998934146438E-2,0,0,2.6179723803913868E-2,0,0,0,2.5429504328101636E-3,0,0,0,0,0,0,0,0,0,0,0.54065113366177309,null,{"$f":"$BB$91","v":35.161941242860564},{"$f":"$BB$96","v":44.796333663941994},{"$f":"$BB$87","v":50.097472553780911},{"$f":"'Hilfsblatt Ber. Wirtsch Wirk 2'!$BO$77/'Hilfsblatt Ber. Wirtsch Wirk 3'!$CE$65*1000/100*$CA$65","v":39098.507462686561},{"$f":"'Hilfsblatt Ber. Wirtsch Wirk 2'!BT77/'Hilfsblatt Ber. Wirtsch Wirk 2'!BR77","v":0},335]
[52,"68","Dienstleistungen des Grundstücks- und Wohnungswesens ",0.77721635277905377,4.5924225028702644E-2,0.25252525252525254,0.14847809948032664,3.6982248520710061E-2,0.12936610608020699,1.6480402867274628,1.2467135951149182,1.6706542364491379,1.0407611887701163,2.9551738204233331,0.21370660754117191,0.55289495569384306,9.9878273354349387E-2,1.1356988971165234,1.3684098864962342,1.8202468840601369,0.20040997108239689,0.60712389482675044,0.61456463805949857,1.391714035327507,0.94813246635415094,0.79034419227870367,1.0618251013791258,0.69465826332292346,0.98222637979420013,1.2144625629642278,1.2013362456636258,0.78845626959724802,1.1594054854691251,0.19618528610354222,1.4766059713772273,11.431926359271142,10.596690144877742,3.0639948997537814,5.783834148614023,5.2518721204118046,11.109965989900031,0.81221644351001443,8.4104289318755257E-2,0.15542953161100609,1.7551220818640361,1.4975873837825115,8.5804660770770127,2.2727272727272729,2.0032023983919873,7.9694007403979636,0.82456756700903111,5.9493616778752996,4.3218861466114307,2.3667020075925986,4.3724661823144544,5.3509637214837085,6.7554695414203421,1.7890149624252889,3.9077316632117496,3.3008798875410008,1.0242816938281303,7.5911879362968779,1.1067475901463764,3.6501233432286657,2.7179054225875028,2.9569609596969375,0.53571965257115373,1.9798162307471963,2.552067189183604,0.46611193591824052,1.80756140189495,1.8651362984218076,0.53934010152284262,1.5540897614061184,0,2.8579705387488707,null,{"$f":"$BC$91","v":3.1261289286717777},{"$f":"$BC$96","v":75.116405089712202},{"$f":"$BC$87","v":22.536928511219042},{"$f":"'Hilfsblatt Ber. Wirtsch Wirk 2'!$BO$78/'Hilfsblatt Ber. Wirtsch Wirk 3'!$CE$66*1000/100*$CA$66","v":604888.88888888888},{"$f":"'Hilfsblatt Ber. Wirtsch Wirk 2'!BT78/'Hilfsblatt Ber. Wirtsch Wirk 2'!BR78","v":7.233826032248928E-3},495]
[53,"69-70","Dienstleistungen der Rechts-, Steuer- und Unternehmensberatung",0.18925126320624713,2.2962112514351322E-2,0.25252525252525254,1.0146003464488988,1.8121301775147929,0.50224488242903886,1.8677010977198507,0.31803918242727508,0.51150895140664965,0.85986138846470095,1.5274441372433487,0.7720151197424836,1.0025522640589601,0.85208651955429315,1.0372526359343122,2.8004667444574096,1.031174343186777,0.5216149932281563,0.31394999884577207,0.76684614129548057,0.54189212005242038,1.0101315590503555,1.516832761075287,2.0899341382081529,1.1577637722048724,0.71406298721546613,0.71074874071544436,1.5204077262409526,0.14104944848650897,0.66397670974002754,0.14168937329700274,1.0176023556411977,0.65001782306934219,0.54400732978296973,0.59301354203306367,1.2194269741439552,1.5784179392393953,2.5080175324793426,0.67057651875622437,0,3.3606385213190509E-2,0.14283801276614741,0.37660350712016005,0.36279129817313277,1.8756698821007505,0.94368548359622517,0.73316751503933364,1.176920374465271,7.0956343326114206,5.8430237207888798,5.9304353774068881,2.6630173002047122,16.283839854698044,12.709596455948835,1.4800523482507859,2.862435495964363,9.3299317956994852,1.1797238039138687,1.5502704662899278,1.1345154508310524,9.2458641691404999,0.62861734699067251,1.9537689852327333,9.0163195383644396E-2,0.50624683251437763,0.74835052915910205,0.38324759175499773,0.4047465734523043,0.77474892395982786,0.34898477157360408,0.41886046466109489,0,2.0329632303527054,null,{"$f":"$BD$91","v":35.797829865188596},{"$f":"$BD$96","v":55.642193934269656},{"$f":"$BD$87","v":37.375326851112469},{"$f":"'Hilfsblatt Ber. Wirtsch Wirk 2'!$BO$79/'Hilfsblatt Ber. Wirtsch Wirk 3'!$CE$67*1000/100*$CA$67","v":60591.64535379369},{"$f":"'Hilfsblatt Ber. Wirtsch Wirk 2'!BT79/'Hilfsblatt Ber. Wirtsch Wirk 2'!BR79","v":7.324409188563874E-2},1173]
[54,"71","Dienstleistg. v. Architektur- u. Ing.büros u.d..techn.,physik.U.suchung ",0.45751033532384017,2.2962112514351322E-2,0,0.71764414748824545,1.4792899408284024,2.3742485351190927,0.35753302214718441,0,0.85801501526276713,0.77998355456360868,6.7987127770475456E-2,0.10685330377058595,0.95896303518683146,1.126751771278754,1.5708599066900655,1.8351543439058025,2.6720865588666052,0.26172261063728541,0.30009926360257627,0.75053026594876815,0.78711036428979164,1.6029033721457735,1.8162214219914579,0.8013338629372696,0.39618456356861437,1.9644527595884003,0.21130367967215916,1.614630176881237,1.1405725186966624,4.4946115736248027,2.6594005449591283,6.1359256933769242,1.4090708938793484,1.2311744831930367,0.70568061906436863,4.0764034474726298E-2,0.11135442582098015,0.23158392492315899,1.7041053446940357,0.10513036164844407,0.47048939298466708,1.1534169530866401,0.10886195127692126,0.1433090181395649,0.28256844977102213,7.1542942799713821E-2,0.36296853308653398,0.43191634462377809,0.42459819901971962,0.18714310849501753,0.33858887102842095,0.39211455866415124,0.70458922448212691,3.6302332965421313,1.3680702653840446,0.71891677325453185,1.1141771229239339,0.6152235093919759,0.23873560786920917,1.1900511722004046E-2,0.85991832866440887,0.66218429270376666,5.9630292188431723E-2,0.14876927238301327,8.3180926778749761E-2,7.3801827333244766E-2,4.833753409522494E-2,0.10118664336307608,0.55380200860832141,0.4124365482233503,6.2633340510070259E-2,0,0.7014736676500698,null,{"$f":"$BE$91","v":27.697727513267512},{"$f":"$BE$96","v":53.438969443142469},{"$f":"$BE$87","v":39.351970849271986},{"$f":"'Hilfsblatt Ber. Wirtsch Wirk 2'!$BO$80/'Hilfsblatt Ber. Wirtsch Wirk 3'!$CE$68*1000/100*$CA$68","v":55835.703001579779},{"$f":"'Hilfsblatt Ber. Wirtsch Wirk 2'!BT80/'Hilfsblatt Ber. Wirtsch Wirk 2'!BR80","v":4.3902826294061607E-2},633]
[55,"72","Forschungs- und Entwicklungsleistungen ",0,0,0,0,0,0,0,0,0,0,0,0,0,0,0,0,0,0,0,0,0,0,0,0,0,0,0,0,0,0,0,0,0,0,0,0,0,0,0,0,0,0,0,0,0,0,0,0,0,0,0,0,0,0,1.1157732835035552,0,0,0,0,0,0,0,0,0,0,0,0,0,0,0,0,0,1.5637887784635086E-2,null,{"$f":"$BF$91","v":53.942983580458446},{"$f":"$BF$96","v":64.967147425086679},{"$f":"$BF$87","v":28.711936210688215},{"$f":"'Hilfsblatt Ber. Wirtsch Wirk 2'!$BO$81/'Hilfsblatt Ber. Wirtsch Wirk 3'!$CE$69*1000/100*$CA$69","v":89503.717472118966},{"$f":"'Hilfsblatt Ber. Wirtsch Wirk 2'!BT81/'Hilfsblatt Ber. Wirtsch Wirk 2'!BR81","v":4.011216776396001E-3},538]
[56,"73","Werbe- und Marktforschungsleistungen ",6.9820854386770784E-2,4.5924225028702644E-2,0.25252525252525254,0.12373174956693887,3.6982248520710061E-2,0.76858686553534739,2.1773293685335888,0.41557119837163942,9.900173253031927E-2,0.20674262892047454,0.10877940443276074,0.30319624944903767,0.82590117862980705,1.6355067261774709,0.43230749475666652,0.48796011456454857,0.34671369220193088,2.1962736556975001E-2,5.540294097278331E-2,0.12508837765812802,0.1447189638122191,0.60940571601391202,0.29624822041705051,0.15795745309772116,0.35596915981224431,8.7309011537262241E-2,0.95406812942883978,0.21628335260610734,9.8430190670441522E-2,0.25026814444047191,0.46866485013623976,7.3613787429363239E-2,1.0484158436602295E-2,8.5895894176258383E-3,4.0120471333098838E-2,1.0913114372233867,0.51910204453349118,1.1651945123097163,0.20692707756999004,4.2052144659377629E-3,0.16803192606595252,3.0353077712806324E-2,0.53842532658585385,0.10199470660383449,1.8829776868362076,0.58597076959765615,0.29644840351689034,0,0.37615410919867776,0.62061133415441705,4.1041075276172234E-2,3.5122225344197812E-3,0.17301579845616671,0.14968475483451518,0.49649887343326271,0.52926388215057552,0.25511532253865776,0.32397408207343414,0.94889849203710974,0.6664286564322266,0.16863876461652103,6.6625301339626283E-2,0.33322810340594194,1.8783999038259249E-2,2.5890752043716807E-2,3.5424877119957489E-2,0.27276179953734075,0.74050225370251122,2.5824964131994262E-2,0.19035532994923859,8.4163551310406925E-2,0,0.36048451357470768,null,{"$f":"$BG$91","v":19.269615842632206},{"$f":"$BG$96","v":51.775239271380059},{"$f":"$BG$87","v":45.397609491465616},{"$f":"'Hilfsblatt Ber. Wirtsch Wirk 2'!$BO$82/'Hilfsblatt Ber. Wirtsch Wirk 3'!$CE$70*1000/100*$CA$70","v":46216.535433070865},{"$f":"'Hilfsblatt Ber. Wirtsch Wirk 2'!BT82/'Hilfsblatt Ber. Wirtsch Wirk 2'!BR82","v":1.0850774267112959E-2},254]
[57,"74-75","Sonst. freiberuf., wiss., techn. u. veterinärmedizinische Dienstleistg. ",0.88929719797886997,0,0,7.4239049740163321E-2,0.36982248520710059,6.0878167567156229E-2,7.7114965561157434E-2,2.4637435332032909,2.8875505321343125E-2,7.0480441677434516E-2,0.17676653220323618,3.8734322616837409E-2,0.12445871927963063,6.8666312931115206E-2,8.2751929689394904E-2,9.5470457197411679E-2,0.19129031293899632,2.1047622533767706E-2,1.6159191117061798E-2,3.2631750693424701E-2,7.2359481906109552E-2,0.21624073794042037,0.12771124696424085,0.11685156618047793,0.11247745738109752,6.2363579669473028E-2,0.9775463160590796,0.10064670863848559,6.595837519153297E-2,0.13790285509985187,5.4495912806539509E-2,0.20135535973325827,5.8711287244972842E-2,4.0084750615587236E-2,2.1983819908547308E-2,9.5504309340787324E-2,0.10017758754155093,0.13640414426102299,0.10622994356534249,4.2052144659377629E-3,8.4015963032976274E-3,1.3391063696826317E-2,4.1191008591267508E-2,0.14072687366858175,2.2142648348436129,0.5178346335979287,0.19811429893567792,1.1366219595362582E-2,0.52433603100421755,0.83654569011020652,1.5287800540374157,9.8342230963753857E-2,0.82750090030845347,0.56093983882429432,0.18213953237361538,0.70127464384951266,2.0409225803092621,0.11780875711761242,0.19642803179112145,1.9834186203340078E-2,0.57281431617677803,0.12409598112113598,0.22449051176821355,2.3292158807441468E-2,9.0342198620628866E-2,0.12103499682652143,0.45575389289783513,0.75889982522307053,0.15208034433285511,0.15862944162436549,4.6975005382552698E-2,0,0.21208530760878733,null,{"$f":"$BH$91","v":16.353412818243349},{"$f":"$BH$96","v":51.392721403654917},{"$f":"$BH$87","v":43.609100848648929},{"$f":"('Hilfsblatt Ber. Wirtsch Wirk 2'!$BO$83+'Hilfsblatt Ber. Wirtsch Wirk 2'!$BO$84)/'Hilfsblatt Ber. Wirtsch Wirk 3'!$CE$71*1000/100*$CA$71","v":51411.458333333328},{"$f":"('Hilfsblatt Ber. Wirtsch Wirk 2'!BT83+'Hilfsblatt Ber. Wirtsch Wirk 2'!BT84)/('Hilfsblatt Ber. Wirtsch Wirk 2'!BR83+'Hilfsblatt Ber. Wirtsch Wirk 2'!BR84)","v":6.8973450513044682E-2},192,"CPAs der Produktionswerte aus der Aufkommenstabelle für diese Tabelle zur Berechnung der Erwerbstätigen pro Bruttowertschöpfung entsprechend vereinheitlicht."]
[58,"77","Dienstleistungen der Vermietung von beweglichen Sachen ",3.4414331649058334,1.0103329506314582,0,0.14847809948032664,0.29585798816568049,1.0044897648580777,0.56726236030215038,0.17810194215927402,1.5551522151637653,0.90919769763890523,3.6123827222045963,9.4832307096395035E-2,0.30168334719394335,0.65857236493024129,0.77900954500706243,0.59403840033945055,1.8889918402725887,0.16838098027014164,0.29317389598097832,0.60912601294392776,0.62470352712274579,0.44306668682897327,0.4396616698768947,0.30298271705293883,0.29941624827984892,0.19332709697536637,0.52292324767352516,0.41543535055034475,1.4439810445777141,1.128760406558047,0,2.9900188364691367,3.3863831750225408,3.8824944167668787,1.863678332747098,0.43442813883065462,1.6574837211420244,1.7429418433352935,1.6852937921876729,2.220353238015139,2.9195547153959254,1.5212248359594698,0.68259385665529015,1.1852043121812665,1.2057877813504823,1.1719415391953123,0.99201758445164268,0.87519890884291895,0.61694973213267978,0.55343175674594924,2.3427613803481653,2.6341669008148359E-2,0.15266099863779417,0.13002918096735663,0.64355968105344108,0.33078992634410975,0.42692768261571301,17.846390470580538,3.0219697198634071E-2,1.2654210797730969,0.976989867737035,0.35855601102623308,0.35427408888421202,0.31031166411204281,0.41535376682898884,0.56827407046598477,0.71470496840796882,1.1452488271548156,0.91535150645624097,0.76142131979695438,1.0999980427081091,0,1.018939807935727,null,{"$f":"$BI$91","v":5.7366319785326265},{"$f":"$BI$96","v":69.263368021467372},{"$f":"$BI$87","v":28.948229596177761},{"$f":"'Hilfsblatt Ber. Wirtsch Wirk 2'!$BO$85/'Hilfsblatt Ber. Wirtsch Wirk 3'!$CE$72*1000/100*$CA$72","v":325623.07692307694},{"$f":"'Hilfsblatt Ber. Wirtsch Wirk 2'!BT85/'Hilfsblatt Ber. Wirtsch Wirk 2'!BR85","v":2.7809746023237849E-2},130]
[59,"78","Dienstleistungen der Vermittlung und Überlassung von Arbeitskräften ",4.7147450620119429,1.6762342135476462,0.75757575757575757,0.29695619896065328,0.66568047337278113,0.73814778175176921,0.96160025237625091,0.61911627512509537,0.77138849929873765,0.51215787618935738,0.80678058287630872,2.4041993348381838E-2,0.31430128186745432,0.6211180124223602,1.6436245345203955,1.7184682295534104,1.0132408763487462,0.25897726856766357,0.17313419053994783,2.3658019252732911,1.8869744892626568,1.2430061999092696,0.98295787622477182,1.3426383513306299,0.75937992874333149,3.1836607421265981,0.96260565183983615,3.6361300269818835,0.16235907739454272,0.27069819704785741,0,0.78593543637820173,0.25791029754041644,0.26627727194640094,6.210429124164614E-2,0.13044491031912417,0.12460104896697037,0.17884098914223012,0.209140201394268,1.9343986543313711,0.38227263180004201,1.7328036423693256,0.39425679651641754,0.2685430249822478,0.20949040241644745,9.8797397199604814E-2,0.76787366959740855,0.66027402922151734,0.13820813860708991,0.15675234728642493,0,3.5373098382370648E-2,0.21450827500900307,0.92230000453590177,1.0159338361283883,0.25581087637277816,0.20305097100015621,0.17344067020092938,0.60439394397268142,7.933674481336031E-2,1.5902217390698388,3.5601306059342293E-3,0,1.5027199230607401E-3,0.18949827027741664,0.20664511653308537,4.143217208162138E-2,5.0593321681538038E-2,1.721664275466284E-2,1.681472081218274,7.2419799964768744E-2,0,0.58852916494435592,null,{"$f":"$BJ$91","v":59.29104590372004},{"$f":"$BJ$96","v":72.083043727901838},{"$f":"$BJ$87","v":24.411471397056602},{"$f":"'Hilfsblatt Ber. Wirtsch Wirk 2'!$BO$86/'Hilfsblatt Ber. Wirtsch Wirk 3'!$CE$73*1000/100*$CA$73","v":29667.910447761191},{"$f":"'Hilfsblatt Ber. Wirtsch Wirk 2'!BT86/'Hilfsblatt Ber. Wirtsch Wirk 2'!BR86","v":6.3914624135100271E-3},804]
[60,"79","Dienstleistg. v. Reisebüros, -veranstaltern u. sonst. Reservierungen",0,0,0,0,0,0,0,0,0,0,0,0,1.1470849703191764E-3,0,0,0,0,0,0,0,0,4.5365189777710575E-3,0,4.6186389794655312E-4,0,0,0,0,0,0,0.17438692098092642,0,0,0,3.2975729862820967E-3,2.3293733985557886E-2,3.4358428784912097E-2,8.366120848009409E-2,1.119840655084652,0.74852817493692181,9.0653224112581388,8.9273757978842131E-3,0,0.45833064359950937,0,0.27254454399890982,5.3505321610365579E-2,3.2032073405112729E-2,1.6385500968881798E-2,2.3992706217309936E-2,0,0,6.419590711948267E-2,4.9894918278171732E-2,2.428527098314872E-2,6.6157985268821939E-2,9.3715832769302856E-2,9.8173964264677005E-3,1.5109848599317036E-2,59.347851957634177,7.2472857521149528E-2,8.340877419617336E-2,0,2.7800318576623691E-2,4.4069365180794571E-3,8.8562192799893722E-3,0.81483271760522047,2.7274399779229141,4.3041606886657098E-2,0,4.5017713491613001E-2,0,0.38650353847393126,null,{"$f":"$BK$91","v":9.107858304573762},{"$f":"$BK$96","v":24.34448014597961},{"$f":"$BK$87","v":74.052917608790509},{"$f":"'Hilfsblatt Ber. Wirtsch Wirk 2'!$BO$87/'Hilfsblatt Ber. Wirtsch Wirk 3'!$CE$74*1000/100*$CA$74","v":66706.521739130418},{"$f":"'Hilfsblatt Ber. Wirtsch Wirk 2'!BT87/'Hilfsblatt Ber. Wirtsch Wirk 2'!BR87","v":3.1377682573684E-2},92]
[61,"80-82","Wach-, Sicherheitsdienstlg., wirtschaftl. Dienstleistg. a.n.g",0.20578778135048231,0.16073478760045926,0.50505050505050508,0.71764414748824545,0.48076923076923078,1.3697587702610152,0.94173730670140732,0.82690187431091522,0.57751010642686251,0.68600963232702927,0.87930018583148251,0.20034994456984864,0.87579937483869119,0.68354193326882862,0.56214241892451033,0.76376365757929343,0.91759571987924793,0.20864599729126249,0.30240771947644218,0.61456463805949857,0.38511324258918306,0.82413428096174202,0.66263294531446282,0.6752450187978607,0.5293980885115902,0.72965388213283444,0.75130197216767702,0.71309263780033405,0.58550742285406965,0.59757903876602481,9.8092643051771108E-2,1.4874315283521338,0.63114633788345809,0.49246979327721463,0.89474147027787543,0.70696482646168179,1.8988206365830336,2.13699826008936,0.95606949208808223,0.13456686291000841,0.23524469649233354,0.74186492880417798,0.97681534659291513,1.0406042218062099,4.3871187761863002,1.7885735699928458,1.0108167515039335,0.32032073405112732,2.3352900946084576,1.965802396071594,2.6403091761004136,0.44504876971862084,1.220505112186262,1.3970577117888083,1.051012560881825,1.2084858642438143,2.4418180871557245,1.071732443222724,0.69505303556858355,0.68229600539489865,1.6250644590319299,1.5842581196407319,1.1329755515802029,0.50115709434075684,1.2267809532203688,1.4022347193316507,1.0254462590201292,1.0946555054732776,0.32711621233859395,0.38071065989847719,2.4524867393474388,0,0.99430115281676745,null,{"$f":"$BL$91","v":42.187565330099929},{"$f":"$BL$96","v":58.021490989672621},{"$f":"$BL$87","v":36.655935108918342},{"$f":"'Hilfsblatt Ber. Wirtsch Wirk 2'!$BO$88/'Hilfsblatt Ber. Wirtsch Wirk 3'!$CE$75*1000/100*$CA$75","v":23205.685618729098},{"$f":"'Hilfsblatt Ber. Wirtsch Wirk 2'!BT88/'Hilfsblatt Ber. Wirtsch Wirk 2'!BR88","v":6.3141236269999859E-2},1794]
[62,"84.1-84.2","Dienstleistungen der öffentlichen Verwaltung und der Verteidigung",0.54570509875976114,1.3088404133180254,0.75757575757575757,0,0.8875739644970414,2.2144433452553076,0.73200796854644123,0.54278687134254933,0.66826169457965512,0.57559027369904858,0.65267642659656433,0.18165061640999614,0.4880846548708096,0.55245169949124506,0.59067756709326713,0.76376365757929343,1.2164868338464296,0.21230645338409163,0.16159191117061797,0.68526676456191871,0.3400895649587149,0.4884318766066838,0.47630014236663598,0.22308026270818512,0.26705541556964491,0.22762706579357658,0.40553231452232563,0.30836438391365795,7.893695394075924,3.9889677715920122,1.013623978201635,1.2947366141988004,2.9397580256232834,2.5511080570348739,0.83978192050650713,0.29932448171441883,0.21608554006896522,0.47893010651648071,0.55549407989376998,8.8309503784693016E-2,0.15122873345935728,0.27049948667589158,0.21772390255384252,0.69201471822348459,0.30692779888921368,0.4701393383981195,0.23715872281351225,0.47428134493376595,0.25860595007409098,0.28151441961643658,0.10260268819043059,0.62467386505037537,2.1505628885026695,2.1999123059012082,0.64625804449601321,2.1567503197635953,3.3060863226948509,0.40578571896066495,0.86428333988093442,4.3635209647348169E-2,1.9400426474892336,0.88036943983887861,2.4167806657546738,0.22615934842064139,0.28810347486944454,0.37786535594621323,0.32800469564616924,0.35875264465090606,1.3543758967001436,0.19035532994923859,0.11939480534732144,0,0.75718009741250625,null,{"$f":"$BM$91","v":51.430663913498996},{"$f":"$BM$96","v":65.575062810875693},{"$f":"$BM$87","v":26.572306252606527},{"$f":"'Hilfsblatt Ber. Wirtsch Wirk 2'!$BO$89/'Hilfsblatt Ber. Wirtsch Wirk 3'!$CE$76*1000/100*$CA$76","v":55053.373185311699},{"$f":"'Hilfsblatt Ber. Wirtsch Wirk 2'!BT89/'Hilfsblatt Ber. Wirtsch Wirk 2'!BR89","v":0},2342]
[63,"84.3","Dienstleistungen der Sozialversicherung",0,0,0,0,0,0,0,0,0,0,0,0,0,0,0,0,0,0,0,0,0,0,0,0,0,0,0,0,0,0,0,0,0,0,0,0,0,0,0,0,0,0,0,0,0,0,0,0,0,0,0,0,0,0,5.3967268851441595E-3,0,0,0,0,0,0,0.60623938318194304,0,0,0,0,0,0,0,0,0,0,2.2615373386243726E-2,null,{"$f":"$BN$91","v":65.449507173173387},{"$f":"$BN$96","v":69.192184924059063},{"$f":"$BN$87","v":25.935669437721419},{"$f":"'Hilfsblatt Ber. Wirtsch Wirk 2'!$BO$90/'Hilfsblatt Ber. Wirtsch Wirk 3'!$CE$77*1000/100*$CA$77","v":50321.428571428572},{"$f":"'Hilfsblatt Ber. Wirtsch Wirk 2'!BT90/'Hilfsblatt Ber. Wirtsch Wirk 2'!BR90","v":0},392]
[64,"85","Erziehungs- und Unterrichtsdienstleistungen",2.9398254478640331E-2,0,0,0,0,7.6097709458945286E-3,5.2578385609880061E-2,0,0,0,0,3.2055991131175784E-2,5.1618823664362941E-2,8.1151097100408881E-2,1.5694331492816276E-2,0,0,0,0,0,5.6279597038085209E-2,6.6535611673975495E-2,0.15492839795662006,8.5906685018058884E-2,0.19039480215906451,0.14343623323978796,2.9881328438487148E-2,8.993961197481691E-2,2.8412838544044972E-2,0,0,3.680689371468162E-2,0,0,8.2439324657052407E-3,6.9881201956673647E-3,5.7953976263707147E-3,1.2124812823202042E-2,0.12061524842314929,0,0.1890359168241966,8.0346382180957916E-3,0.24420383664822878,2.5821444709831515E-3,0.16077170418006431,6.1322522399754706E-2,0.34850763535400275,0.65097439500712972,0.52576085717542465,0.14715526479950095,0.15732412189199357,0.10110183438365512,3.9143845804562602E-3,2.7215409969911852E-2,1.7498886925079937,4.4105323512547964E-2,9.8922267923153007E-2,1.6362327377446167E-3,3.0219697198634069E-3,0,0.11149670387869158,0.90020445321479792,1.1820828510294994,5.2625251705587113,7.5468787872110699E-2,0.11217877754653206,7.5958982149639198E-2,0.18397571520559286,0.34720229555236726,3.1725888324873094E-2,1.9572918909396956E-3,0,0.28242743887703703,null,{"$f":"$BO$91","v":63.405013073663326},{"$f":"$BO$96","v":78.812400444805093},{"$f":"$BO$87","v":17.873350764884442},{"$f":"'Hilfsblatt Ber. Wirtsch Wirk 2'!$BO$91/'Hilfsblatt Ber. Wirtsch Wirk 3'!$CE$78*1000/100*$CA$78","v":47548.957388939249},{"$f":"'Hilfsblatt Ber. Wirtsch Wirk 2'!BT91/'Hilfsblatt Ber. Wirtsch Wirk 2'!BR91","v":1.0646770654885342E-2},2206]
[65,"86","Dienstleistungen des Gesundheitswesens ",5.5121727147450618E-3,0,0,0,0,0,3.5052257073253375E-3,0,0,0,0,0,1.2044392188351353E-2,0,7.1337870421892165E-3,0,0,2.7453420696218751E-3,0,0,8.039942434012173E-4,4.5365189777710575E-3,1.0468134997068921E-3,1.3855916938396594E-3,5.0269254695462576E-3,0,0,2.1414193327337358E-3,0,0,2.1798365122615803E-2,0,0,0,0,0,2.0697848665609695E-3,1.6368497311322758E-2,0,0,0,0,0,3.3567878122780975E-2,0,0,0,0,0,7.9975687391033133E-3,0,0,1.5657538321825044E-3,1.5119672205506586E-3,0.35078724753437041,0,0.6143593481543187,0,0,0,1.2543379186352803E-2,4.5773107790582947E-2,5.9630292188431723E-2,0.2006131097286088,3.4792763810237313,2.0930198231708217,0,0.7864961825039094,0,0,0,0,0.1663440131093529,null,{"$f":"$BP$91","v":44.126104488464847},{"$f":"$BP$96","v":67.652535090232021},{"$f":"$BP$87","v":24.281118480488288},{"$f":"'Hilfsblatt Ber. Wirtsch Wirk 2'!$BO$92/'Hilfsblatt Ber. Wirtsch Wirk 3'!$CE$79*1000/100*$CA$79","v":44577.495462794919},{"$f":"'Hilfsblatt Ber. Wirtsch Wirk 2'!BT92/'Hilfsblatt Ber. Wirtsch Wirk 2'!BR92","v":5.6574047550845032E-3},2755]
[66,"87-88","Dienstleistungen von Heimen und des Sozialwesens ",0,0,0,0,0,0,0,0,0,0,0,0,0,0,0,0,0,0,0,0,0,0,0,0,0,0,0,0,0,0,0,0,0,0,0,0,0,0,0,0,0,0,0,0,0,0,0,0,0,0,0,0,0,0,0,0,0,0,0,0,0,0,0,0,0,0.98008826698549067,0,0,0,0,0,0,1.2555692247881133E-2,null,{"$f":"$BQ$91","v":64.769959704202279},{"$f":"$BQ$96","v":67.866684379105223},{"$f":"$BQ$87","v":25.105905622223208},{"$f":"'Hilfsblatt Ber. Wirtsch Wirk 2'!$BO$93/'Hilfsblatt Ber. Wirtsch Wirk 3'!$CE$80*1000/100*$CA$80","v":21884.340790099948},{"$f":"'Hilfsblatt Ber. Wirtsch Wirk 2'!BT93/'Hilfsblatt Ber. Wirtsch Wirk 2'!BR93","v":1.8893267797310662E-3},2101]
[67,"90-92","Dienstleistungen der Kunst,  der Kultur und des Glücksspiels",0,0,0,0,0,0,1.1684085691084458E-3,0,4.1250721887633032E-3,7.0480441677434509E-3,9.9714454063364003E-2,1.3356662971323245E-3,4.014797396117117E-3,0,0,0,0,0,0,0,0,3.0243459851807047E-3,0,1.3855916938396594E-3,1.5709142092332053E-3,0,0,2.1414193327337358E-3,0,0,0,0,4.1936633746409175E-3,0,1.0991909954273654E-3,0,8.2791394662438782E-4,4.243684488120715E-3,0,0,8.4015963032976274E-3,8.9273757978842116E-4,0,0.18720547414627847,4.0558316281788951,3.7236398323851052,4.4828782970846831E-2,0,5.4143394505870288E-2,4.4786384938978553E-2,3.4200896063476863E-3,5.0174607634568299E-4,2.7400692063193823E-2,6.0478688822026344E-3,0.12412471835831568,8.8210647025095939E-3,2.0825740615400636E-2,0,6.0439394397268139E-3,1.9834186203340078E-2,1.8118214380287382E-2,0.12613034146738411,0,7.0627836383854781E-2,2.7543353237996608E-3,0,5.8591996685426233,2.7090424064023551,0.52510760401721668,3.1725888324873094E-2,0,0,0.11492996608828542,null,{"$f":"$BR$91","v":24.427718123122606},{"$f":"$BR$96","v":66.108483237233713},{"$f":"$BR$87","v":27.403929150985739},{"$f":"'Hilfsblatt Ber. Wirtsch Wirk 2'!$BO$94/'Hilfsblatt Ber. Wirtsch Wirk 3'!$CE$81*1000/100*$CA$81","v":51058.666666666672},{"$f":"'Hilfsblatt Ber. Wirtsch Wirk 2'!BT94/'Hilfsblatt Ber. Wirtsch Wirk 2'!BR94","v":7.0501115844998991E-2},375]
[68,"93","Dienstleistungen des Sports, der Unterhaltung und der Erholung",0,0,0,0,0,0,0.1296933511710375,0,0,0,0,0,8.6031372773938235E-3,2.4969568338587347E-2,0,0,0,0,0,0,0,0,0,7.38982236714485E-3,1.8850970510798464E-2,0,0,0,0,0,0.11989100817438691,0,0,0,0,6.9881201956673647E-3,0,7.274887693921225E-3,0,0,0,0,4.7075438390020007E-2,0,0,0,7.6642757982415544E-2,0,0.22156046962270604,0.11196596234744638,0,0,0,0,5.1268905408869518E-2,0,0,0,0,0,6.9685439924182238E-3,1.4184577514215093,4.2091970956540034E-2,0.1277311934601629,3.0297688561796269E-2,0,0,12.128599024928709,1.2022955523672882,0,0,0,0.13094603737436272,null,{"$f":"$BS$91","v":27.067427099622847},{"$f":"$BS$96","v":56.885291141569319},{"$f":"$BS$87","v":36.946923006163182},{"$f":"'Hilfsblatt Ber. Wirtsch Wirk 2'!$BO$95/'Hilfsblatt Ber. Wirtsch Wirk 3'!$CE$82*1000/100*$CA$82","v":55963.800904977383},{"$f":"'Hilfsblatt Ber. Wirtsch Wirk 2'!BT95/'Hilfsblatt Ber. Wirtsch Wirk 2'!BR95","v":4.4568117008554869E-2},221]
[69,"94","Dienstleistg. d. Interessenvertr., kirchl. u. sonst. Vereinigungen",0.12494258153422141,9.1848450057405287E-2,0.50505050505050508,0.6928977975748577,7.3964497041420121E-2,0.24351267026862491,0.16240879110607395,0.22050716648291069,5.775101064268625E-2,9.6323270292493837E-2,0.25835108552780672,6.5447648559483901E-2,6.4236758337873873E-2,6.2423920846468361E-2,7.5618142647205691E-2,0.18033308581733321,8.070060077113908E-2,3.9349902997913543E-2,4.1552205729587476E-2,0.14140425300484039,5.7887585524887646E-2,0.12248601239981853,6.9089690980654886E-2,3.9258431325457012E-2,2.921900429173762E-2,4.0536326785157471E-2,6.6165798685221544E-2,3.8545547989207243E-2,0.11263660994246399,0.11236528934062005,0,0.31177604087730315,0.24113564404185275,0.21473973544064595,0.24402040098487512,0.20847891917074307,0.11301025371422894,0.68505192451091534,0.15159898196304084,4.2052144659377629E-3,1.2602394454946439E-2,0.27496317457483377,0,8.9083984248918724E-2,0.2411575562700965,0.13967907879944128,7.2304488662656178E-3,8.2663415239000601E-2,0.19662601162658155,0.15835186103424559,9.9182598584082904E-2,3.2613494962469396E-3,0.41883915010881995,0.37496787069656329,0.17674280548847124,0.24698981167026859,0.44775342323111367,4.9086982132338509E-2,9.06590915959022E-2,0.12297195446070847,0.22438711655586679,6.4082350906816118E-2,0.21747518327545687,4.7335677576413306E-2,0.29856994909988321,0.12841517955984588,0.27276179953734075,7.3590286082237152E-2,2.5824964131994262E-2,9.5177664974619297E-2,0.33273962145974828,0,0.14219699654226825,null,{"$f":"$BT$91","v":67.934002869440462},{"$f":"$BT$96","v":71.589670014347206},{"$f":"$BT$87","v":23.678622668579628},{"$f":"'Hilfsblatt Ber. Wirtsch Wirk 2'!$BO$96/'Hilfsblatt Ber. Wirtsch Wirk 3'!$CE$83*1000/100*$CA$83","v":36157.971014492752},{"$f":"'Hilfsblatt Ber. Wirtsch Wirk 2'!BT96/'Hilfsblatt Ber. Wirtsch Wirk 2'!BR96","v":0},690]
[70,"95","Reparaturarbeiten an DV-Geräten und Gebrauchsgütern",0,0,0,0,0,0,3.5052257073253372E-2,7.6329403782546004E-2,7.4251299397739459E-2,3.9938916950546223E-2,7.7052078139872193E-2,1.6027995565587892E-2,2.638295431734106E-2,2.4969568338587347E-2,2.1401361126567649E-2,0.18033308581733321,5.6789311653764531E-2,1.4641824371316666E-2,4.1552205729587476E-2,2.1754500462283135E-2,1.125591940761704E-2,0.13760774232572207,0.11828992546687883,2.4478786591167315E-2,2.0736067561878312E-2,4.365450576863112E-2,0.19636301545291557,0,0,0.16344042085908372,0.18528610354223435,0,3.354930699712734E-2,5.4400732978296971E-2,8.7935279634189234E-3,1.1646866992778943E-3,9.9349673594926538E-3,6.4867748604130929E-2,3.7623105012725457E-2,7.1488645920941965E-2,0.20163831127914303,1.4283801276614739E-2,0,9.4248273190885024E-2,6.0898372795478904E-2,5.4508908799781965E-2,4.4828782970846831E-2,5.2697927214862883E-2,3.9182719708195597E-2,7.3577632399750473E-2,0.12996340504121207,3.5122225344197812E-3,4.149247655283636E-2,6.8038524924779631E-2,7.2855812949446166E-2,8.8210647025095928E-2,0.18743166553860571,2.4543491066169255E-2,0,0.13487246618271251,3.7630137559058405E-2,3.6618486232466357E-2,5.9630292188431723E-2,8.3400955729871065E-2,2.2585549655157217E-2,1.1808292373319164E-2,0,0,6.3127690100430428E-2,0,0,0,3.7421257467705964E-2,null,{"$f":"$BU$91","v":55.615482233502533},{"$f":"$BU$96","v":68.940355329949242},{"$f":"$BU$87","v":24.524111675126903},{"$f":"'Hilfsblatt Ber. Wirtsch Wirk 2'!$BO$97/'Hilfsblatt Ber. Wirtsch Wirk 3'!$CE$84*1000/100*$CA$84","v":26827.160493827163},{"$f":"'Hilfsblatt Ber. Wirtsch Wirk 2'!BT97/'Hilfsblatt Ber. Wirtsch Wirk 2'!BR97","v":8.7880710659898484E-2},81]
[71,"96","Sonstige überwiegend persönliche Dienstleistungen",7.9007808911345886E-2,4.5924225028702644E-2,0,0.27220984904726553,0.25887573964497046,0.31200060878167568,8.2957008406699659E-2,8.0569926214909687E-2,4.1250721887633034E-2,8.6925878068835893E-2,0.25381861034310838,2.4041993348381838E-2,4.1295058931490353E-2,4.0575548550204441E-2,2.5681633351881179E-2,2.1215657154980375E-2,0.11058971216785726,4.7585929206779162E-2,2.3084558738659711E-2,0.1685973785826943,4.8239654604073035E-2,0.1738998941478905,9.6306841973034088E-2,6.8355856896089862E-2,2.3877895980344722E-2,3.1181789834736511E-3,0.10245026893195594,6.2101160649278342E-2,7.1032096360112429E-2,0.1940854997701619,0,0.6235520817546063,3.5646138684447798E-2,2.0042375307793618E-2,3.5723707351389376E-2,2.911716748194736E-2,9.3968232941868027E-2,0.18975332068311196,3.3196857364169524E-2,8.4104289318755257E-3,1.6803192606595255E-2,5.0886042047940006E-2,2.9422148993762502E-2,0.62229681750693955,9.9873331384585401E-2,0.21803563519912786,0.40635122628412773,0.30378805100332718,0.20873703408184202,0.19833970472976215,7.182188173330141E-2,3.6627463573234861E-2,1.5086038173078429,0.681897216468347,0.20777398507805014,0.758611564415825,0.78617170823137394,0.21925518685777864,0.38681212414251609,0.34908167717878535,1.951192317877103E-2,4.6281697877144978E-2,4.9107299449296711E-2,2.7048958615093318E-2,0.37183526871295419,0.47971187766609102,1.1359320512377862,2.2721000827890721,3.443328550932568E-2,0.19035532994923859,11.921864907713688,0,0.29084202178412605,null,{"$f":"$BV$91","v":16.719187332406882},{"$f":"$BV$96","v":69.550410052651159},{"$f":"$BV$87","v":28.085181343093694},{"$f":"'Hilfsblatt Ber. Wirtsch Wirk 2'!$BO$98/'Hilfsblatt Ber. Wirtsch Wirk 3'!$CE$85*1000/100*$CA$85","v":46693.823915900139},{"$f":"'Hilfsblatt Ber. Wirtsch Wirk 2'!BT98/'Hilfsblatt Ber. Wirtsch Wirk 2'!BR98","v":1.6245522694799477E-2},761]
[72,"97-98","Waren und Dienstleistungen privater Haushalte o.a.S.",0,0,0,0,0,0,0,0,0,0,0,0,0,0,0,0,0,0,0,0,0,0,0,0,0,0,0,0,0,0,0,0,0,0,0,0,0,0,0,0,0,0,0,0,0,0,0,0,0,0,0,0,0,0,0,0,0,0,0,0,0,0,0,0,0,0,0,0,0,0,0,0,0,null,{"$f":"$BW$91","v":100},{"$f":"$BW$96","v":100},{"$f":"$BW$87","v":0},{"$f":"'Hilfsblatt Ber. Wirtsch Wirk 2'!$BO$99/'Hilfsblatt Ber. Wirtsch Wirk 3'!$CE$86*1000/100*$CA$86","v":8614.4121365360297},{"$f":"'Hilfsblatt Ber. Wirtsch Wirk 2'!BT99/'Hilfsblatt Ber. Wirtsch Wirk 2'!BR99","v":0},791]
[73,null,"Vorleistungen der Produktionsbereiche aus inländischer Produktion",58.746899402847951,36.188289322617678,32.070707070707073,57.683741648106903,29.770710059171595,51.335514801004493,61.879502024267843,47.421762361122887,64.68938206418612,54.666979913074123,47.006300140506731,18.531034206413867,61.982162828711537,25.649989075813849,39.335701750631344,48.806619285032355,58.968227874585288,76.038654416340279,42.159329624414227,42.807418284657636,46.347052155106574,36.774535006804776,42.664977807553804,46.281071893734357,57.397435011279164,47.446211412535078,37.836164944932982,44.706411409482207,51.03960546744193,62.735584044128913,23.880108991825612,45.744473553164312,53.624373571533411,54.893202771574188,46.215485402743575,26.728395061728392,41.139457964739144,43.483216227849482,44.703994688502824,23.616484440706476,45.284604074774208,55.61844395839843,43.132870424855831,44.046220386030598,50.820910065283051,39.771062583040916,56.796621934289682,35.800491847320671,46.023310156160946,61.155808634175216,50.097472553780911,22.536928511219042,37.375326851112469,39.351970849271986,28.711936210688215,45.397609491465616,43.609100848648929,28.948229596177761,24.411471397056602,74.052917608790509,36.655935108918342,26.572306252606527,25.935669437721419,17.873350764884442,24.281118480488288,25.105905622223208,27.403929150985739,36.946923006163182,23.678622668579628,24.524111675126903,28.085181343093694,0,41.968252251420928,null,{"$f":"$BX$91","v":25.275119042711669},{"$f":"$BX$96","v":45.837409836325961},{"$f":"$BX$87","v":41.968252251420928},null,null,41020]
[74,null,"Vorleistungen der Produktionsbereiche aus Importen",8.8507119889756538,5.556831228473019,11.616161616161616,2.1776787923781242,3.4023668639053253,8.9567004033178605,17.138216891682685,23.7511661436689,10.00330005775101,24.456713262069776,16.18093640937316,77.3978549199268,19.778612600728398,21.286557008645712,28.637874702164389,14.967646122838655,9.9411184505484655,15.124089461546909,48.73612040905838,25.795398923152231,14.367377129579753,21.327687887494328,19.43199899505904,17.563760311111519,20.520223949529669,22.251325226067976,17.41868009903526,18.011478007623452,18.733193298629082,2.0021451555237753,2.4414168937329701,8.0455539437504058,4.8625526828961441,5.7693408921720213,9.3172924727400623,5.6149545772187279,3.9027863443873643,3.8672090499602914,3.7634170631846855,48.402018502943648,32.892249527410208,7.9025130562871038,9.7593268212310225,6.7742560196242971,4.7939199064600997,7.5460770619698154,3.9145650161962053,5.2728925995577507,4.4668300467342981,4.3442793390809191,2.5616471151544173,1.2390619355356642,6.6325332331250877,7.0245997066783596,4.8044361094995889,2.6683720725091518,4.5660436299265896,1.4889717913476013,3.43295760176483,1.4597961045658296,4.8863430474836589,3.3307564768947522,1.7398014662036549,0.91590779310552106,4.6658440385166244,3.7033756955822228,2.706901909332597,2.5204672983166221,2.0143472022955522,6.4403553299492389,1.8300679180286157,0,10.964693166488857]
[75,null,"Gütersteuern abzüglich Gütersubventionen",2.4639412034910428,1.0332950631458095,2.0202020202020203,0.5196733481811433,0.62869822485207105,2.6025416634959289,0.84592780403451484,0.78449664998727842,0.30938041415724776,0.59203571009044997,0.40339029143815436,0.32323124390602248,0.59820481202145048,0.22784731108960954,0.53075375593887764,0.38188182878964672,0.2391128911737454,0.11530436692411875,0.17775110228767976,0.59824876271278615,0.10130327466855338,0.92242552548011492,0.53492169835022196,0.39812668002992874,0.33460472656667273,-1.4094169005300905,0.49304191923503798,0.40901109255214357,0.47490030137903744,1.1951580775320496,1.4386920980926432,2.8427912616104098,0.89534713048583581,0.70720952871786058,0.48804080196975025,0.30281854181225248,1.0758741736383919,0.7171826784924008,2.223082881487219,6.3078216989066446E-2,7.5614366729678639E-2,2.3996786144712763,2.5214781687654466,1.7339100122651865,0.28013251485920299,0.29298538479882807,0.27909532623785283,0.14156109859678853,4.5216858543257725,3.6868791887266275,2.5445466671226784,1.1076044635330951,0.34994598149278971,0.18446000090718032,1.516480254725509,0.15877916464517267,0.43213411776956318,0.29943059100726488,7.2527273276721774E-2,0.14280614066404856,0.4362308539253808,4.5218744596230325,3.1323441720158542,2.398340997204941,3.4005023907630614,3.3240343030893444,3.780685702447951,3.6473185539508783,2.7173601147776183,9.5177664974619297E-2,0.53434068622653697,0,1.2296447457642503]
[76,null,"Vorleistungen der Produktionsbereiche zu Anschaffungspreisen",70.061552595314652,42.778415614236508,45.707070707070706,60.38109378866617,33.801775147928993,62.89475686781828,79.863646719985041,71.95742515477906,75.002062536094385,79.715728885234356,63.590626841318041,96.252120370246701,82.358980241461381,47.164393395549176,68.504330208734615,64.156147236660658,69.148459216307501,91.278048244811302,91.073201135760286,69.201065970522663,60.815732559354871,59.024648419779226,62.631898500963068,64.242958884875804,78.252263687375503,68.288119738072965,55.747886963203271,63.126900509657801,70.247699067450057,65.932887277184733,27.760217983651224,56.632818758525126,59.382273384915393,61.369753192464074,56.020818677453398,32.646168180759375,46.118118482764899,48.067607956302169,50.690494633174723,72.081581160639203,78.25246796891409,65.920635629156806,55.413675414852307,52.554386417920085,55.89496248660236,47.610125029809559,60.99028227672374,41.21494554547521,55.011826057221015,69.186967161982764,55.203666336057999,24.883594910287801,44.357806065730351,46.561030556857531,35.032852574913314,48.224760728619941,48.607278596345083,30.736631978532625,27.916956272098155,75.655519854020397,41.978509010327379,34.424937189124307,30.80781507594093,21.187599555194904,32.347464909767979,32.133315620894777,33.891516762766287,43.114708858430689,28.410329985652798,31.059644670050762,30.449589947348848,0,54.162590163674039]
[77,null,"Arbeitnehmerentgelt im Inland",9.6701883325677542,20.642939150401837,17.676767676767678,72.531551596139565,13.831360946745564,27.182101818735255,15.938261291208311,20.409634466966331,17.387179275637322,13.771878303770704,22.630648597198931,1.7577368470261387,9.7519428751684778,13.093417397546739,20.606657250067769,22.085499098334573,20.333562483187375,5.1886965115853441,6.809944827904614,21.705552836242997,27.108273904758839,20.164826856192349,22.693869860145714,22.324191507246642,10.583249027604104,18.71842843779233,28.745837957824637,32.513169728896315,10.079454473499954,10.404004290311047,21.558583106267029,16.677853075540735,25.052945000104842,27.289125579797286,27.030755364052055,33.897041695783834,32.127614655732685,38.036144067025965,24.707314374239239,3.8435660218671153,17.286284394034869,19.543811096728117,39.616923620101211,31.965657478535924,23.289973691902951,21.994344700712023,11.574502545118001,35.620698919175844,29.254530947224438,18.967034021657415,35.161941242860564,3.1261289286717777,35.797829865188596,27.697727513267512,53.942983580458446,19.269615842632206,16.353412818243349,5.7366319785326265,59.29104590372004,9.107858304573762,42.187565330099929,51.430663913498996,65.449507173173387,63.405013073663326,44.126104488464847,64.769959704202279,24.427718123122606,27.067427099622847,67.934002869440462,55.615482233502533,16.719187332406882,100,25.275119042711669]
[78,null,"darunter: Bruttolöhne und -gehälter",8.1120808451998165,16.371986222732492,14.898989898989898,41.672853254145018,9.6893491124260347,19.389696370139259,13.304084172153319,17.24196420999067,14.635756125732199,11.373193938682016,19.154240130535285,1.4104636097717347,7.549539732155659,10.50906707450295,17.072579149367233,18.224249496128142,16.687090892787758,4.2241663311248585,5.5564532883953923,17.659215750258333,22.846300420488987,15.957961590805988,18.153839711916923,18.731814109018355,8.4958182263750217,14.76457748674774,24.353282677367027,27.275258041029595,8.4781880726962768,8.784922621175749,18.125340599455043,13.956308052049277,20.536369545616573,22.665063276642044,22.530117833274709,28.461448870253903,26.909273050159165,32.143485034949769,20.453690383976983,3.2127838519764507,14.706994328922496,16.245145739409899,30.590208308814876,27.192563423923566,19.45337620578778,16.141450618335433,8.8413928736695979,29.625534728967327,22.795081500056995,14.907468129688576,28.366223195047713,2.5859992774856502,27.219847495576744,23.219280605996463,43.250718439266585,16.266043311427687,13.828291768626022,4.7041691210157737,50.080082197576381,7.7551668055059695,35.370935596716421,37.854360142812098,49.871970255007191,48.836143419589455,36.983562126787561,53.863525660895363,19.379898491178398,22.067887038910865,54.826398852223811,43.81345177664975,14.035740149928557,97.783974170824777,20.526817181179016]
[79,null,"Sonstige Produktionsabgaben abzüglich sonstige Subventionen",-11.145613229214515,-2.8243398392652126,-0.25252525252525254,-41.054194506310324,1.6642011834319528,0.10653679324252341,3.2715439935036485E-2,0.11025358324145534,-2.8875505321343125E-2,7.7528485845177963E-2,4.9857227031682001E-2,2.6713325942646488E-2,6.5957385793352641E-2,0.1560598021161709,9.7019503773773344E-2,0.10607828577490189,0.14346773470424723,-8.3275376111863531E-2,2.5393014612525685E-2,3.2631750693424701E-2,9.6479309208146069E-2,5.5950400725843036E-2,0.10572816347039612,0.10161005754824168,8.8285378558906141E-2,-0.29934518241347052,0.10245026893195594,4.282838665467472E-2,0.87673901793053066,0.72015935441033763,-0.34877384196185285,-0.39188516249161015,2.0968316873204587E-3,-8.3032697703716435E-2,-4.3967639817094617E-3,0.17237363149312834,0.37959854452728181,0.26310843826348435,-1.5425473055217438,-4.2052144659377629E-2,8.4015963032976274E-3,-0.29728161406954423,9.7093091679416266E-2,-3.4858950358272543E-2,-9.500146156094709E-2,-0.39518958879841926,5.061314206385932E-2,9.092975676290066E-2,0.49227744215205743,0.15995137478206625,6.1561612914258351E-2,1.3665054389274676,-0.55897411808915398,0.12700524652625531,-3.2663689472335027,0.11467384113262472,0.15098661946165462,-6.3813076772040053E-2,-0.19340606207125804,-0.53948986473085003,-0.21045002857103035,-0.20903052557699545,3.5076642463783364E-2,-1.0421362666426233,-1.663067668510235,-1.0494619846787405,1.3638089976867038,-1.0624597553122987,-0.90100430416068866,6.3451776649746189E-2,-0.13896772425671838,0,-0.17161967295447161]
[80,null,"Abschreibungen",16.150666054203029,6.5212399540757744,19.696969696969695,15.812917594654788,12.758875739644971,9.6263602465565778,3.261028316381672,3.9776100415571198,3.8074416302285288,4.3063549864912485,6.735258124461768,1.0244560499004929,4.1839924292391961,16.773307531446051,4.237469503060395,9.2924578338814037,4.1187195504677643,1.7780665470917678,1.5004963180128812,4.0952847120248004,4.0553469637157402,15.759866928776653,4.6876308516874632,4.4463637455314666,6.7439347002381504,6.9722482070470839,3.9443353538803039,2.9637243565034903,6.5704689133103997,14.740282956228612,34.376021798365123,22.950180786801479,2.1408651527541886,3.4587413388306705,1.7092419978895532,5.9422315397158165,3.5807278191504777,4.1448672636116175,8.1686400354099806,16.442388561816653,5.4232304137786178,9.9986608936303174,3.9455101800635517,3.8461041895294041,2.9450453083893597,15.398766735938404,12.031466913465987,7.1927504184835396,2.7926592955659411,3.1558406244501671,0.91658401450117988,32.321980492112552,2.5701849155275807,3.3263278852114482,12.788893536070372,2.1435187227098309,2.3220700786171706,63.305844623339226,0.58324015593363754,0.80526795985560706,4.0598737299828578,14.353429422953687,3.707601108421902,13.494424909085446,9.253464953837339,10.124134673574519,12.978627904567897,20.701867353509336,4.1348637015781922,6.503807106598984,3.3391399659431213,0,8.9672791852717193,null,null,null,null,null,{"$f":"'Hilfsblatt Ber. Wirtsch Wirk 2'!BT103/'Hilfsblatt Ber. Wirtsch Wirk 2'!BR103","v":4.8194911504746654E-2}]
[81,null,"Nettobetriebsüberschuss",15.263206247129077,32.881745120551095,17.171717171717169,-7.6713684731502099,37.943786982248525,0.19024427364736321,0.90434823248993712,3.5450767534560259,3.8321920633611088,2.1285093386585223,6.9936092099895752,0.93897340688402409,3.6391270683375874,22.812821873341864,6.5545235343634518,4.3598175453484673,6.2557910153331147,1.8384640726234489,0.59096470370968857,4.9654647305161257,7.9241672629623974,4.9947073945259337,9.8808726237333548,8.8848758047978436,4.3322672062233334,6.3205487995010916,11.459489456159822,1.3533770182877209,12.225638527809066,8.2026661218652634,16.653950953678471,4.1310325416242666,13.421819630538256,7.9654125866116932,15.243580724586705,27.342184952247845,17.793940497824657,9.4882722747967581,17.9760982626978,7.674516400336417,-0.97038437303087577,4.834173994554301,0.92679769330351902,11.66871086437286,17.965019974666276,15.391953122338432,15.353135122628414,15.880675360102503,12.448706257836543,8.5302068171275938,8.6562467936659928,38.3017902300004,17.833153271642633,22.287908798137256,1.5016392557913625,30.247430864905393,32.56625188733274,0.28470449636756334,12.402163730319423,14.970843746281091,11.984501958160863,0,0,2.9550987286989452,15.936033316440076,-5.9779480139928269,27.338328211856506,10.178456443749425,0.4218077474892396,6.7576142131979697,49.631050478557867,0,11.766631281297048]
[82,null,"Bruttowertschöpfung",29.938447404685348,57.221584385763492,54.292929292929294,39.61890621133383,66.198224852071007,37.10524313218172,20.136353280014959,28.04257484522093,24.997937463905618,20.284271114765655,36.409373158681959,3.7478796297533026,17.641019758538615,52.835606604450824,31.495669791265392,35.843852763339342,30.851540783692499,8.7219517551886963,8.9267988642397107,30.798934029477348,39.184267440645129,40.975351580220774,37.368101499036932,35.757041115124196,21.747736312624493,31.711880261927032,44.252113036796722,36.873099490342199,29.752300932549954,34.06711272281526,72.239782016348769,43.367181241474874,40.617726615084607,38.630246807535933,43.979181322546609,67.353831819240625,53.881881517235101,51.932392043697831,49.30950536682527,27.918418839360807,21.747532031085907,34.079364370843187,44.5863245851477,47.445613582079915,44.10503751339764,52.389874970190441,39.00971772327626,58.78505445452479,44.988173942778978,30.813032838017239,44.796333663941994,75.116405089712202,55.642193934269656,53.438969443142469,64.967147425086679,51.775239271380059,51.392721403654917,69.263368021467372,72.083043727901838,24.34448014597961,58.021490989672621,65.575062810875693,69.192184924059063,78.812400444805093,67.652535090232021,67.866684379105223,66.108483237233713,56.885291141569319,71.589670014347206,68.940355329949242,69.550410052651159,100,45.837409836325961]
[83,null,"Produktionswert",100,100,100,100,100,100,100,100,100,100,100,100,100,100,100,100,100,100,100,100,100,100,100,100,100,100,100,100,100,100,100,100,100,100,100,100,100,100,100,100,100,100,100,100,100,100,100,100,100,100,100,100,100,100,100,100,100,100,100,100,100,100,100,100,100,100,100,100,100,100,100,100,100]
["____________"]
["*) Der Input-Output-Tabelle zu Herstellungspreisen."]
["1) Die Abgrenzung der Produktionsbereiche entspricht derjenigen für Gütergruppen."]

{"sheet":"Hilfsblatt Ber. Wirtsch Wirk 4","index":17,"n_rows":135,"n_cols":10,"rows_kept":135,"cut":false,"hidden":false,"merged":[[21,0,21,1],[1,0,1,1],[6,0,6,1],[11,0,11,1]]}
[]
["Umrechnungsfaktoren Verkehrsleistung/Treibstoffverbrauch"]
["Treibstoffverbrauch in l pro km",6.4000000000000003E-3]
[]
[]
[]
["Sparquoten"]
["Private Sparquote",9.5000000000000001E-2]
["Staatliche Sparquote",0]
[]
[]
["Sozialversicherung"]
["Arbeitnehmerentgelte Gesamt in 2011 in Mrd. €",1485.29]
["Sozialversicherungszahlungen Gesamt 2011 in Mrd.€",480.95]
[]
[]
[]
[]
[]
[]
[]
["Liste für Umrechnung der Branchen",null,null,null,null,null,null,"Liste alphabethisch:"]
["Erzeugnisse der Landwirtschaft, Jagd und Dienstleistungen","Erzeugnisse der Landwirtschaft, Jagd und Dienstleistungen","A, B","Land- und Forstwirtschaft, Fischerei, Bergbau, Gewinnung von Steinen, Erden, Erdöl und Erdgas",null,null,null,"Beherbergungs-  und Gastronomiedienstleistungen ","Beherbergungs-  und Gastronomiedienstleistungen ","G, H, I"]
["Forstwirtschaftliche Erzeugnisse und Dienstleistungen","Forstwirtschaftliche Erzeugnisse und Dienstleistungen","A, B",null,null,null,null,"Bekleidung ","Textilien, Bekleidung, Leder- und Lederwaren","C_1"]
["Fische, Fischerei- und Aquakulturerzeugnisse","Fische, Fischerei- und Aquakulturerzeugnisse","A, B",null,null,null,null,"Braunkohle ","Kohle","A, B"]
["Steinkohle ","Kohle","A, B",null,null,null,null,"Chemische Erzeugnisse ","Chemische Erzeugnisse ","C_2"]
["Braunkohle ","Kohle","A, B",null,null,null,null,"Dienstleistg. d. Beseitigung v. Umweltverschm. u. sonst. Entsorg.","Dienstleistg. d. Abwasser-, Abfallentsorg. u. Rückgewinnung","D, E"]
["Erdöl und Erdgas","Erdöl und Erdgas","A, B",null,null,null,null,"Dienstleistg. d. Interessenvertr., kirchl. u. sonst. Vereinigungen","Dienstleistg. d. Interessenvertr., kirchl. u. sonst. Vereinigungen","R, S, T, U"]
["Erze ","Erze, Steine u. Erden, sonst. Bergbauerzeugn. u. Dienstleistg.","A, B",null,null,null,null,"Dienstleistg. d. Sammlg., Behandlg., Beseit. v. Abfällen u. d. Rückgew. ","Dienstleistg. d. Abwasser-, Abfallentsorg. u. Rückgewinnung","D, E"]
["Steine und Erden, sonstige Bergbauerzeugnisse und Dienstleistungen ","Erze, Steine u. Erden, sonst. Bergbauerzeugn. u. Dienstleistg.","A, B",null,null,null,null,"Dienstleistg. v. Architektur- u. Ing.büros u.d..techn.,physik.U.suchung ","Dienstleistg. v. Architektur- u. Ing.büros u.d..techn.,physik.U.suchung ","M, N"]
["Nahrungs- und Futtermittel ","Nahrungs- und Futtermittel, Getränke, Tabakerzeugnisse","C_1","Verarbeitendes Gewerbe 1: (Nahrungs- und Futtermittel, Getränke, Tabak, Textilien, Holz, Papier und Druckereileistungen)",null,null,null,"Dienstleistg. v. audiovisuell. Medien, Musikverlag. u. RF-veranstaltern","Dienstleistg. v. audiovisuell. Medien, Musikverlag. u. RF-veranstaltern","J"]
["Getränke","Nahrungs- und Futtermittel, Getränke, Tabakerzeugnisse","C_1",null,null,null,null,"Dienstleistg. v. Reisebüros, -veranstaltern u. sonst. Reservierungen","Dienstleistg. v. Reisebüros, -veranstaltern u. sonst. Reservierungen","M, N"]
["Tabakerzeugnisse ","Nahrungs- und Futtermittel, Getränke, Tabakerzeugnisse","C_1",null,null,null,null,"Dienstleistungen der Abwasserentsorgung","Dienstleistg. d. Abwasser-, Abfallentsorg. u. Rückgewinnung","D, E"]
["Textilien ","Textilien, Bekleidung, Leder- und Lederwaren","C_1",null,null,null,null,"Dienstleistungen der Kunst,  der Kultur und des Glücksspiels","Dienstleistungen der Kunst,  der Kultur und des Glücksspiels","R, S, T, U"]
["Bekleidung ","Textilien, Bekleidung, Leder- und Lederwaren","C_1",null,null,null,null,"Dienstleistungen der öffentlichen Verwaltung und der Verteidigung","Dienstleistungen der öffentlichen Verwaltung und der Verteidigung","O, P, Q"]
["Leder und  Lederwaren ","Textilien, Bekleidung, Leder- und Lederwaren","C_1",null,null,null,null,"Dienstleistungen der Rechts-, Steuer- und Unternehmensberatung","Dienstleistungen der Rechts-, Steuer- und Unternehmensberatung","M, N"]
["Holz, Holz-, Flecht-, Korb- und Korkwaren (ohne Möbel)","Holz, Holz-, Flecht-, Korb- und Korkwaren (ohne Möbel)","C_1",null,null,null,null,"Dienstleistungen der Sozialversicherung","Dienstleistungen der Sozialversicherung","O, P, Q"]
["Holz- und Zellstoff, Papier, Karton und Pappe","Papier, Pappe und Waren daraus","C_1",null,null,null,null,"Dienstleistungen der Vermietung von beweglichen Sachen ","Dienstleistungen der Vermietung von beweglichen Sachen ","M, N"]
["Papier-, Karton- und Pappewaren ","Papier, Pappe und Waren daraus","C_1",null,null,null,null,"Dienstleistungen der Vermittlung und Überlassung von Arbeitskräften ","Dienstleistungen der Vermittlung und Überlassung von Arbeitskräften ","M, N"]
["Druckereileistungen, bespielte Ton-, Bild- und Datenträger","Druckereileistungen, bespielte Ton-, Bild- und Datenträger","C_1",null,null,null,null,"Dienstleistungen des Gesundheitswesens ","Dienstleistungen des Gesundheitswesens ","O, P, Q"]
["Kokereierzeugnisse ","Kokerei- und Mineralölerzeugnisse","C_2","Verarbeitendes Gewerbe  2:  (Mineralöl-, Chemische Erzeugnisse, Glas, Gummi, Metalle, Maschinen, Fahrzeuge etc.)",null,null,null,"Dienstleistungen des Grundstücks- und Wohnungswesens ","Dienstleistungen des Grundstücks- und Wohnungswesens ","L"]
["Mineralölerzeugnisse ","Kokerei- und Mineralölerzeugnisse","C_2",null,null,null,null,"Dienstleistungen des Sports, der Unterhaltung und der Erholung","Dienstleistungen des Sports, der Unterhaltung und der Erholung","R, S, T, U"]
["Chemische Erzeugnisse ","Chemische Erzeugnisse ","C_2",null,null,null,null,"Dienstleistungen des Verlagswesen","Dienstleistungen des Verlagswesen","J"]
["Pharmazeutische Erzeugnisse ","Pharmazeutische Erzeugnisse ","C_2",null,null,null,null,"Dienstleistungen des Veterinärwesens ","Sonst. freiberuf., wiss., techn. u. veterinärmedizinische Dienstleistg. ","M, N"]
["Gummiwaren ","Gummi- und Kunststoffwaren","C_2",null,null,null,null,"Dienstleistungen von Heimen und des Sozialwesens ","Dienstleistungen von Heimen und des Sozialwesens ","O, P, Q"]
["Kunststoffwaren ","Gummi- und Kunststoffwaren","C_2",null,null,null,null,"Dienstleistungen von Versicherungen und Pensionskassen","Dienstleistungen von Versicherungen und Pensionskassen","K"]
["Glas und Glaswaren ","Glas und Glaswaren","C_2",null,null,null,null,"Druckereileistungen, bespielte Ton-, Bild- und Datenträger","Druckereileistungen, bespielte Ton-, Bild- und Datenträger","C_1"]
["Keramik, bearbeitete Steine und Erden","Keramik, bearbeitete Steine und Erden","C_2",null,null,null,null,"DV-geräte, elektronische und optische Erzeugnisse","DV-geräte, elektronische und optische Erzeugnisse","C_2"]
["Roheisen, Stahl, Erzeugn. der ersten Bearbeitung von Eisen und Stahl","Roheisen, Stahl, Erzeugn. der ersten Bearbeitung von Eisen und Stahl","C_2",null,null,null,null,"Einzelhandelsleistungen (ohne Handelsleistungen mit Kfz) ","Einzelhandelsleistungen (ohne Handelsleistungen mit Kfz) ","G, H, I"]
["NE-Metalle und Halbzeug daraus ","NE-Metalle und Halbzeug daraus ","C_2",null,null,null,null,"Elektr. Strom, Dienstleistg. der Elektriz.-, Wärme- und Kälteversorg.","Elektr. Strom, Dienstleistg. der Elektriz.-, Wärme- und Kälteversorg.","D, E"]
["Gießereierzeugnisse","Gießereierzeugnisse","C_2",null,null,null,null,"Elektrische Ausrüstungen","Elektrische Ausrüstungen","C_2"]
["Metallerzeugnisse ","Metallerzeugnisse ","C_2",null,null,null,null,"Erdöl und Erdgas","Erdöl und Erdgas","A, B"]
["DV-geräte, elektronische und optische Erzeugnisse","DV-geräte, elektronische und optische Erzeugnisse","C_2",null,null,null,null,"Erze ","Erze, Steine u. Erden, sonst. Bergbauerzeugn. u. Dienstleistg.","A, B"]
["Elektrische Ausrüstungen","Elektrische Ausrüstungen","C_2",null,null,null,null,"Erzeugnisse der Landwirtschaft, Jagd und Dienstleistungen","Erzeugnisse der Landwirtschaft, Jagd und Dienstleistungen","A, B"]
["Maschinen","Maschinen","C_2",null,null,null,null,"Erziehungs- und Unterrichtsdienstleistungen","Erziehungs- und Unterrichtsdienstleistungen","O, P, Q"]
["Kraftwagen und Kraftwagenteile ","Kraftwagen und Kraftwagenteile ","C_2",null,null,null,null,"Finanzdienstleistungen","Finanzdienstleistungen","K"]
["Sonstige Fahrzeuge","Sonstige Fahrzeuge","C_2",null,null,null,null,"Fische, Fischerei- und Aquakulturerzeugnisse","Fische, Fischerei- und Aquakulturerzeugnisse","A, B"]
["Möbel ","Herstellung von Möbeln und sonstigen Waren","C_2",null,null,null,null,"Forschungs- und Entwicklungsleistungen ","Forschungs- und Entwicklungsleistungen ","M, N"]
["Sonstige Waren ","Herstellung von Möbeln und sonstigen Waren","C_2",null,null,null,null,"Forstwirtschaftliche Erzeugnisse und Dienstleistungen","Forstwirtschaftliche Erzeugnisse und Dienstleistungen","A, B"]
["Reparatur, Instandh. u. Installation v. Maschinen u. Ausrüstungen","Reparatur, Instandh. u. Installation v. Maschinen u. Ausrüstungen","C_2",null,null,null,null,"Getränke","Nahrungs- und Futtermittel, Getränke, Tabakerzeugnisse","C_1"]
["Elektr. Strom, Dienstleistg. der Elektriz.-, Wärme- und Kälteversorg.","Elektr. Strom, Dienstleistg. der Elektriz.-, Wärme- und Kälteversorg.","D, E","Elektriz.-, Wärme- und Kälte-, Gasversorg., Wasser- und Abwasserver- und entsorgung",null,null,null,"Gießereierzeugnisse","Gießereierzeugnisse","C_2"]
["Industriell erzeugte Gase, Dienstleistungen der Gasversorgung","Industriell erzeugte Gase, Dienstleistungen der Gasversorgung","D, E",null,null,null,null,"Glas und Glaswaren ","Glas und Glaswaren","C_2"]
["Wasser, Dienstleistungen der Wasserversorgung","Wasser, Dienstleistungen der Wasserversorgung","D, E",null,null,null,null,"Großhandelsleistungen (ohne Handelsleistungen mit Kfz) ","Großhandelsleistungen (ohne Handelsleistungen mit Kfz) ","G, H, I"]
["Dienstleistungen der Abwasserentsorgung","Dienstleistg. d. Abwasser-, Abfallentsorg. u. Rückgewinnung","D, E",null,null,null,null,"Gummiwaren ","Gummi- und Kunststoffwaren","C_2"]
["Dienstleistg. d. Sammlg., Behandlg., Beseit. v. Abfällen u. d. Rückgew. ","Dienstleistg. d. Abwasser-, Abfallentsorg. u. Rückgewinnung","D, E",null,null,null,null,"Handelsleistungen mit Kfz, Instandhaltung und Reparatur an Kfz","Handelsleistungen mit Kfz, Instandhaltung und Reparatur an Kfz","G, H, I"]
["Dienstleistg. d. Beseitigung v. Umweltverschm. u. sonst. Entsorg.","Dienstleistg. d. Abwasser-, Abfallentsorg. u. Rückgewinnung","D, E",null,null,null,null,"Hochbauarbeiten","Hochbauarbeiten","F"]
["Hochbauarbeiten","Hochbauarbeiten","F",null,null,null,null,"Holz- und Zellstoff, Papier, Karton und Pappe","Papier, Pappe und Waren daraus","C_1"]
["Tiefbauarbeiten","Tiefbauarbeiten","F",null,null,null,null,"Holz, Holz-, Flecht-, Korb- und Korkwaren (ohne Möbel)","Holz, Holz-, Flecht-, Korb- und Korkwaren (ohne Möbel)","C_1"]
["Vorb. Baustellen-, Bauinstallations- und sonstige Ausbauarbeiten ","Vorb. Baustellen-, Bauinstallations- und sonstige Ausbauarbeiten ","F",null,null,null,null,"Industriell erzeugte Gase, Dienstleistungen der Gasversorgung","Industriell erzeugte Gase, Dienstleistungen der Gasversorgung","D, E"]
["Handelsleistungen mit Kfz, Instandhaltung und Reparatur an Kfz","Handelsleistungen mit Kfz, Instandhaltung und Reparatur an Kfz","G, H, I",null,null,null,null,"IT- und Informationsdienstleistungen","IT- und Informationsdienstleistungen","J"]
["Großhandelsleistungen (ohne Handelsleistungen mit Kfz) ","Großhandelsleistungen (ohne Handelsleistungen mit Kfz) ","G, H, I",null,null,null,null,"Keramik, bearbeitete Steine und Erden","Keramik, bearbeitete Steine und Erden","C_2"]
["Einzelhandelsleistungen (ohne Handelsleistungen mit Kfz) ","Einzelhandelsleistungen (ohne Handelsleistungen mit Kfz) ","G, H, I",null,null,null,null,"Kokereierzeugnisse ","Kokerei- und Mineralölerzeugnisse","C_2"]
["Landverkehrs- und Transportleistungen in Rohrfernleitungen","Landverkehrs- und Transportleistungen in Rohrfernleitungen","G, H, I",null,null,null,null,"Kraftwagen und Kraftwagenteile ","Kraftwagen und Kraftwagenteile ","C_2"]
["Schifffahrtsleistungen ","Schifffahrtsleistungen ","G, H, I",null,null,null,null,"Kunststoffwaren ","Gummi- und Kunststoffwaren","C_2"]
["Luftfahrtleistungen ","Luftfahrtleistungen ","G, H, I",null,null,null,null,"Lagereileistungen, sonstige Dienstleistungen für den Verkehr ","Lagereileistungen, sonstige Dienstleistungen für den Verkehr ","G, H, I"]
["Lagereileistungen, sonstige Dienstleistungen für den Verkehr ","Lagereileistungen, sonstige Dienstleistungen für den Verkehr ","G, H, I",null,null,null,null,"Landverkehrs- und Transportleistungen in Rohrfernleitungen","Landverkehrs- und Transportleistungen in Rohrfernleitungen","G, H, I"]
["Post-, Kurier- und Expressdienstleistungen","Post-, Kurier- und Expressdienstleistungen","G, H, I",null,null,null,null,"Leder und  Lederwaren ","Textilien, Bekleidung, Leder- und Lederwaren","C_1"]
["Beherbergungs-  und Gastronomiedienstleistungen ","Beherbergungs-  und Gastronomiedienstleistungen ","G, H, I",null,null,null,null,"Luftfahrtleistungen ","Luftfahrtleistungen ","G, H, I"]
["Dienstleistungen des Verlagswesen","Dienstleistungen des Verlagswesen","J",null,null,null,null,"Maschinen","Maschinen","C_2"]
["Dienstleistg. v. audiovisuell. Medien, Musikverlag. u. RF-veranstaltern","Dienstleistg. v. audiovisuell. Medien, Musikverlag. u. RF-veranstaltern","J",null,null,null,null,"Metallerzeugnisse ","Metallerzeugnisse ","C_2"]
["Telekommunikationsdienstleistungen ","Telekommunikationsdienstleistungen ","J",null,null,null,null,"Mineralölerzeugnisse ","Kokerei- und Mineralölerzeugnisse","C_2"]
["IT- und Informationsdienstleistungen","IT- und Informationsdienstleistungen","J",null,null,null,null,"Mit Finanz- und Versicherungsdienstleistg. verbundene Dienstleistg.","Mit Finanz- und Versicherungsdienstleistg. verbundene Dienstleistg.","K"]
["Finanzdienstleistungen","Finanzdienstleistungen","K",null,null,null,null,"Möbel ","Herstellung von Möbeln und sonstigen Waren","C_2"]
["Dienstleistungen von Versicherungen und Pensionskassen","Dienstleistungen von Versicherungen und Pensionskassen","K",null,null,null,null,"Nahrungs- und Futtermittel ","Nahrungs- und Futtermittel, Getränke, Tabakerzeugnisse","C_1"]
["Mit Finanz- und Versicherungsdienstleistg. verbundene Dienstleistg.","Mit Finanz- und Versicherungsdienstleistg. verbundene Dienstleistg.","K",null,null,null,null,"NE-Metalle und Halbzeug daraus ","NE-Metalle und Halbzeug daraus ","C_2"]
["Dienstleistungen des Grundstücks- und Wohnungswesens ","Dienstleistungen des Grundstücks- und Wohnungswesens ","L",null,null,null,null,"Papier-, Karton- und Pappewaren ","Papier, Pappe und Waren daraus","C_1"]
["Dienstleistungen der Rechts-, Steuer- und Unternehmensberatung","Dienstleistungen der Rechts-, Steuer- und Unternehmensberatung","M, N",null,null,null,null,"Pharmazeutische Erzeugnisse ","Pharmazeutische Erzeugnisse ","C_2"]
["Dienstleistg. v. Architektur- u. Ing.büros u.d..techn.,physik.U.suchung ","Dienstleistg. v. Architektur- u. Ing.büros u.d..techn.,physik.U.suchung ","M, N",null,null,null,null,"Post-, Kurier- und Expressdienstleistungen","Post-, Kurier- und Expressdienstleistungen","G, H, I"]
["Forschungs- und Entwicklungsleistungen ","Forschungs- und Entwicklungsleistungen ","M, N",null,null,null,null,"Reparatur, Instandh. u. Installation v. Maschinen u. Ausrüstungen","Reparatur, Instandh. u. Installation v. Maschinen u. Ausrüstungen","C_2"]
["Werbe- und Marktforschungsleistungen ","Werbe- und Marktforschungsleistungen ","M, N",null,null,null,null,"Reparaturarbeiten an DV-Geräten und Gebrauchsgütern","Reparaturarbeiten an DV-Geräten und Gebrauchsgütern","R, S, T, U"]
["Sonst. freiberufliche, wissenschaftliche und technische Dienstleistg.","Sonst. freiberuf., wiss., techn. u. veterinärmedizinische Dienstleistg. ","M, N",null,null,null,null,"Roheisen, Stahl, Erzeugn. der ersten Bearbeitung von Eisen und Stahl","Roheisen, Stahl, Erzeugn. der ersten Bearbeitung von Eisen und Stahl","C_2"]
["Dienstleistungen des Veterinärwesens ","Sonst. freiberuf., wiss., techn. u. veterinärmedizinische Dienstleistg. ","M, N",null,null,null,null,"Schifffahrtsleistungen ","Schifffahrtsleistungen ","G, H, I"]
["Dienstleistungen der Vermietung von beweglichen Sachen ","Dienstleistungen der Vermietung von beweglichen Sachen ","M, N",null,null,null,null,"Sonst. freiberufliche, wissenschaftliche und technische Dienstleistg.","Sonst. freiberuf., wiss., techn. u. veterinärmedizinische Dienstleistg. ","M, N"]
["Dienstleistungen der Vermittlung und Überlassung von Arbeitskräften ","Dienstleistungen der Vermittlung und Überlassung von Arbeitskräften ","M, N",null,null,null,null,"Sonstige Fahrzeuge","Sonstige Fahrzeuge","C_2"]
["Dienstleistg. v. Reisebüros, -veranstaltern u. sonst. Reservierungen","Dienstleistg. v. Reisebüros, -veranstaltern u. sonst. Reservierungen","M, N",null,null,null,null,"Sonstige überwiegend persönliche Dienstleistungen","Sonstige überwiegend persönliche Dienstleistungen","R, S, T, U"]
["Wach-, Sicherheitsdienstlg., wirtschaftl. Dienstleistg. a.n.g","Wach-, Sicherheitsdienstlg., wirtschaftl. Dienstleistg. a.n.g","M, N",null,null,null,null,"Sonstige Waren ","Herstellung von Möbeln und sonstigen Waren","C_2"]
["Dienstleistungen der öffentlichen Verwaltung und der Verteidigung","Dienstleistungen der öffentlichen Verwaltung und der Verteidigung","O, P, Q",null,null,null,null,"Steine und Erden, sonstige Bergbauerzeugnisse und Dienstleistungen ","Erze, Steine u. Erden, sonst. Bergbauerzeugn. u. Dienstleistg.","A, B"]
["Dienstleistungen der Sozialversicherung","Dienstleistungen der Sozialversicherung","O, P, Q",null,null,null,null,"Steinkohle ","Kohle","A, B"]
["Erziehungs- und Unterrichtsdienstleistungen","Erziehungs- und Unterrichtsdienstleistungen","O, P, Q",null,null,null,null,"Tabakerzeugnisse ","Nahrungs- und Futtermittel, Getränke, Tabakerzeugnisse","C_1"]
["Dienstleistungen des Gesundheitswesens ","Dienstleistungen des Gesundheitswesens ","O, P, Q",null,null,null,null,"Telekommunikationsdienstleistungen ","Telekommunikationsdienstleistungen ","J"]
["Dienstleistungen von Heimen und des Sozialwesens ","Dienstleistungen von Heimen und des Sozialwesens ","O, P, Q",null,null,null,null,"Textilien ","Textilien, Bekleidung, Leder- und Lederwaren","C_1"]
["Dienstleistungen der Kunst,  der Kultur und des Glücksspiels","Dienstleistungen der Kunst,  der Kultur und des Glücksspiels","R, S, T, U",null,null,null,null,"Tiefbauarbeiten","Tiefbauarbeiten","F"]
["Dienstleistungen des Sports, der Unterhaltung und der Erholung","Dienstleistungen des Sports, der Unterhaltung und der Erholung","R, S, T, U",null,null,null,null,"Vorb. Baustellen-, Bauinstallations- und sonstige Ausbauarbeiten ","Vorb. Baustellen-, Bauinstallations- und sonstige Ausbauarbeiten ","F"]
["Dienstleistg. d. Interessenvertr., kirchl. u. sonst. Vereinigungen","Dienstleistg. d. Interessenvertr., kirchl. u. sonst. Vereinigungen","R, S, T, U",null,null,null,null,"Wach-, Sicherheitsdienstlg., wirtschaftl. Dienstleistg. a.n.g","Wach-, Sicherheitsdienstlg., wirtschaftl. Dienstleistg. a.n.g","M, N"]
["Reparaturarbeiten an DV-Geräten und Gebrauchsgütern","Reparaturarbeiten an DV-Geräten und Gebrauchsgütern","R, S, T, U",null,null,null,null,"Waren und Dienstleistungen privater Haushalte o.a.S.","Waren und Dienstleistungen privater Haushalte o.a.S.","R, S, T, U"]
["Sonstige überwiegend persönliche Dienstleistungen","Sonstige überwiegend persönliche Dienstleistungen","R, S, T, U",null,null,null,null,"Wasser, Dienstleistungen der Wasserversorgung","Wasser, Dienstleistungen der Wasserversorgung","D, E"]
["Waren und Dienstleistungen privater Haushalte o.a.S.","Waren und Dienstleistungen privater Haushalte o.a.S.","R, S, T, U",null,null,null,null,"Werbe- und Marktforschungsleistungen ","Werbe- und Marktforschungsleistungen ","M, N"]
[]
[]
[]
[]
["Liste Prozentsätze für Überwälzung"]
[0]
[0.1]
[0.2]
[0.3]
[0.4]
[0.5]
[0.6]
[0.7]
[0.8]
[0.9]
[1]
[]
[]
["Liste für Zeitraumbestimmung"]
[2015]
[2016]
[2017]
[2018]
[2019]
[2020]
[2025]
[2030]
[2035]

{"sheet":"Hilfsblatt Output","index":18,"n_rows":456,"n_cols":20,"rows_kept":456,"cut":false,"hidden":false,"merged":[[46,2,46,3],[46,6,46,7],[46,10,46,11],[46,14,46,15],[64,1,64,3],[64,6,64,8],[206,2,206,3],[206,6,206,7],[206,10,206,11],[206,14,206,15],[224,1,224,3],[224,6,224,8],[355,2,355,3],[355,6,355,7],[355,10,355,11],[355,14,355,15],[373,1,373,3],[373,6,373,8]]}
[null,{"$f":"\"Zeitpunkt 1: \"&Eingabevariablen!B7","v":"Zeitpunkt 1: "}]
[]
[null,"Aktivitäten"]
[null,"1. Energie"]
[null,"i. Strommenge",null,null,null,null,"ii. Energie: Wärmemenge",null,null,null,null,"iii. Brennstoffmenge",null,null,null,null,"iv. Kraftstoffmenge"]
[null,{"$f":"IF(Eingabevariablen!C124=\"\",\"\",Eingabevariablen!B124&\":  \"&Eingabevariablen!C124&\" kWh(el)\"&CHAR(10))","v":""},null,{"$f":"B6&B7&B8&B9&B10&B11&B12&B13&B14&B15&B16&B17&B18&B19&B20&B21&B22&B23","v":""},null,null,{"$f":"ISBLANK(Eingabevariablen!C144)","v":true},{"$f":"IF(Eingabevariablen!C144=\"\",\"\",Eingabevariablen!B144&\":  \"&Eingabevariablen!C144&\" kWh(Endenergie)\"&CHAR(10))","v":""},null,{"$f":"H6&H7&H8&H9&H10&H11&H12&H13&H14&H15&H16&H17&H18&H19","v":""},null,{"$f":"ISBLANK(Eingabevariablen!C160)","v":true},{"$f":"IF(Eingabevariablen!C160=\"\",\"\",Eingabevariablen!B160&\":  \"&Eingabevariablen!C160&\" t\"&CHAR(10))","v":""},null,{"$f":"M6&M7&M8&M9&M10&M11","v":""},null,{"$f":"ISBLANK(Eingabevariablen!C168)","v":true},{"$f":"IF(Eingabevariablen!C168=\"\",\"\",Eingabevariablen!B168&\":  \"&Eingabevariablen!C168&\" t\"&CHAR(10))","v":""},null,{"$f":"R6&R7&R8&R9","v":""}]
[null,{"$f":"IF(Eingabevariablen!C125=\"\",\"\",Eingabevariablen!B125&\":  \"&Eingabevariablen!C125&\" kWh(el)\"&CHAR(10))","v":""},null,null,null,null,{"$f":"ISBLANK(Eingabevariablen!C145)","v":true},{"$f":"IF(Eingabevariablen!C145=\"\",\"\",Eingabevariablen!B145&\":  \"&Eingabevariablen!C145&\" kWh(Endenergie)\"&CHAR(10))","v":""},null,null,null,{"$f":"ISBLANK(Eingabevariablen!C161)","v":true},{"$f":"IF(Eingabevariablen!C161=\"\",\"\",Eingabevariablen!B161&\":  \"&Eingabevariablen!C161&\" t\"&CHAR(10))","v":""},null,null,null,{"$f":"ISBLANK(Eingabevariablen!C169)","v":true},{"$f":"IF(Eingabevariablen!C169=\"\",\"\",Eingabevariablen!B169&\":  \"&Eingabevariablen!C169&\" t\"&CHAR(10))","v":""}]
[null,{"$f":"IF(Eingabevariablen!C126=\"\",\"\",Eingabevariablen!B126&\":  \"&Eingabevariablen!C126&\" kWh(el)\"&CHAR(10))","v":""},null,null,null,null,{"$f":"ISBLANK(Eingabevariablen!C146)","v":true},{"$f":"IF(Eingabevariablen!C146=\"\",\"\",Eingabevariablen!B146&\":  \"&Eingabevariablen!C146&\" kWh(Endenergie)\"&CHAR(10))","v":""},null,null,null,{"$f":"ISBLANK(Eingabevariablen!C162)","v":true},{"$f":"IF(Eingabevariablen!C162=\"\",\"\",Eingabevariablen!B162&\":  \"&Eingabevariablen!C162&\" t\"&CHAR(10))","v":""},null,null,null,{"$f":"ISBLANK(Eingabevariablen!C170)","v":true},{"$f":"IF(Eingabevariablen!C170=\"\",\"\",Eingabevariablen!B170&\":  \"&Eingabevariablen!C170&\" t\"&CHAR(10))","v":""}]
[null,{"$f":"IF(Eingabevariablen!C127=\"\",\"\",Eingabevariablen!B127&\":  \"&Eingabevariablen!C127&\" kWh(el)\"&CHAR(10))","v":""},null,null,null,null,{"$f":"ISBLANK(Eingabevariablen!C147)","v":true},{"$f":"IF(Eingabevariablen!C147=\"\",\"\",Eingabevariablen!B147&\":  \"&Eingabevariablen!C147&\" kWh(Endenergie)\"&CHAR(10))","v":""},null,null,null,{"$f":"ISBLANK(Eingabevariablen!C163)","v":true},{"$f":"IF(Eingabevariablen!C163=\"\",\"\",Eingabevariablen!B163&\":  \"&Eingabevariablen!C163&\" t\"&CHAR(10))","v":""},null,null,null,{"$f":"ISBLANK(Eingabevariablen!C171)","v":true},{"$f":"IF(Eingabevariablen!C171=\"\",\"\",Eingabevariablen!B171&\":  \"&Eingabevariablen!C171&\" t\"&CHAR(10))","v":""}]
[null,{"$f":"IF(Eingabevariablen!C128=\"\",\"\",Eingabevariablen!B128&\":  \"&Eingabevariablen!C128&\" kWh(el)\"&CHAR(10))","v":""},null,null,null,null,{"$f":"ISBLANK(Eingabevariablen!C148)","v":true},{"$f":"IF(Eingabevariablen!C148=\"\",\"\",Eingabevariablen!B148&\":  \"&Eingabevariablen!C148&\" kWh(Endenergie)\"&CHAR(10))","v":""},null,null,null,{"$f":"ISBLANK(Eingabevariablen!C164)","v":true},{"$f":"IF(Eingabevariablen!C164=\"\",\"\",Eingabevariablen!B164&\":  \"&Eingabevariablen!C164&\" t\"&CHAR(10))","v":""}]
[null,{"$f":"IF(Eingabevariablen!C129=\"\",\"\",Eingabevariablen!B129&\":  \"&Eingabevariablen!C129&\" kWh(el)\"&CHAR(10))","v":""},null,null,null,null,{"$f":"ISBLANK(Eingabevariablen!C149)","v":true},{"$f":"IF(Eingabevariablen!C149=\"\",\"\",Eingabevariablen!B149&\":  \"&Eingabevariablen!C149&\" kWh(Endenergie)\"&CHAR(10))","v":""},null,null,null,{"$f":"ISBLANK(Eingabevariablen!C165)","v":true},{"$f":"IF(Eingabevariablen!C165=\"\",\"\",Eingabevariablen!B165&\":  \"&Eingabevariablen!C165&\" t\"&CHAR(10))","v":""}]
[null,{"$f":"IF(Eingabevariablen!C130=\"\",\"\",Eingabevariablen!B130&\":  \"&Eingabevariablen!C130&\" kWh(el)\"&CHAR(10))","v":""},null,null,null,null,{"$f":"ISBLANK(Eingabevariablen!C150)","v":true},{"$f":"IF(Eingabevariablen!C150=\"\",\"\",Eingabevariablen!B150&\":  \"&Eingabevariablen!C150&\" kWh(Endenergie)\"&CHAR(10))","v":""}]
[null,{"$f":"IF(Eingabevariablen!C131=\"\",\"\",Eingabevariablen!B131&\":  \"&Eingabevariablen!C131&\" kWh(el)\"&CHAR(10))","v":""},null,null,null,null,{"$f":"ISBLANK(Eingabevariablen!C151)","v":true},{"$f":"IF(Eingabevariablen!C151=\"\",\"\",Eingabevariablen!B151&\":  \"&Eingabevariablen!C151&\" kWh(Endenergie)\"&CHAR(10))","v":""}]
[null,{"$f":"IF(Eingabevariablen!C132=\"\",\"\",Eingabevariablen!B132&\":  \"&Eingabevariablen!C132&\" kWh(el)\"&CHAR(10))","v":""},null,null,null,null,{"$f":"ISBLANK(Eingabevariablen!C152)","v":true},{"$f":"IF(Eingabevariablen!C152=\"\",\"\",Eingabevariablen!B152&\":  \"&Eingabevariablen!C152&\" kWh(Endenergie)\"&CHAR(10))","v":""}]
[null,{"$f":"IF(Eingabevariablen!C133=\"\",\"\",Eingabevariablen!B133&\":  \"&Eingabevariablen!C133&\" kWh(el)\"&CHAR(10))","v":""},null,null,null,null,{"$f":"ISBLANK(Eingabevariablen!C153)","v":true},{"$f":"IF(Eingabevariablen!C153=\"\",\"\",Eingabevariablen!B153&\":  \"&Eingabevariablen!C153&\" kWh(Endenergie)\"&CHAR(10))","v":""}]
[null,{"$f":"IF(Eingabevariablen!C134=\"\",\"\",Eingabevariablen!B134&\":  \"&Eingabevariablen!C134&\" kWh(el)\"&CHAR(10))","v":""},null,null,null,null,{"$f":"ISBLANK(Eingabevariablen!C154)","v":true},{"$f":"IF(Eingabevariablen!C154=\"\",\"\",Eingabevariablen!B154&\":  \"&Eingabevariablen!C154&\" kWh(Endenergie)\"&CHAR(10))","v":""}]
[null,{"$f":"IF(Eingabevariablen!C135=\"\",\"\",Eingabevariablen!B135&\":  \"&Eingabevariablen!C135&\" kWh(el)\"&CHAR(10))","v":""},null,null,null,null,{"$f":"ISBLANK(Eingabevariablen!C155)","v":true},{"$f":"IF(Eingabevariablen!C155=\"\",\"\",Eingabevariablen!B155&\":  \"&Eingabevariablen!C155&\" kWh(Endenergie)\"&CHAR(10))","v":""}]
[null,{"$f":"IF(Eingabevariablen!C136=\"\",\"\",Eingabevariablen!B136&\":  \"&Eingabevariablen!C136&\" kWh(el)\"&CHAR(10))","v":""},null,null,null,null,{"$f":"ISBLANK(Eingabevariablen!C156)","v":true},{"$f":"IF(Eingabevariablen!C156=\"\",\"\",Eingabevariablen!B156&\":  \"&Eingabevariablen!C156&\" kWh(Endenergie)\"&CHAR(10))","v":""}]
[null,{"$f":"IF(Eingabevariablen!C137=\"\",\"\",Eingabevariablen!B137&\":  \"&Eingabevariablen!C137&\" kWh(el)\"&CHAR(10))","v":""},null,null,null,null,{"$f":"ISBLANK(Eingabevariablen!C157)","v":true},{"$f":"IF(Eingabevariablen!C157=\"\",\"\",Eingabevariablen!B157&\":  \"&Eingabevariablen!C157&\" kWh(Endenergie)\"&CHAR(10))","v":""}]
[null,{"$f":"IF(Eingabevariablen!C138=\"\",\"\",Eingabevariablen!B138&\":  \"&Eingabevariablen!C138&\" kWh(el)\"&CHAR(10))","v":""}]
[null,{"$f":"IF(Eingabevariablen!C139=\"\",\"\",Eingabevariablen!B139&\":  \"&Eingabevariablen!C139&\" kWh(el)\"&CHAR(10))","v":""}]
[null,{"$f":"IF(Eingabevariablen!C140=\"\",\"\",Eingabevariablen!B140&\":  \"&Eingabevariablen!C140&\" kWh(el)\"&CHAR(10))","v":""}]
[null,{"$f":"IF(Eingabevariablen!C141=\"\",\"\",Eingabevariablen!B141&\":  \"&Eingabevariablen!C141&\" kWh(el)\"&CHAR(10))","v":""}]
[]
[]
[null,"2. Verkehr"]
[null,"i. Verkehr: Fahrzeug-km"]
[null,"Ort unbekannt\n(Ø alle Strecken)","Innerorts","Außerorts","Autobahn",null,"Ort unbekannt\n(Ø alle Strecken)","Innerorts","Außerorts","Autobahn"]
[null,{"$f":"IF(Eingabevariablen!C55=\"\",\"\",Eingabevariablen!$B55&\":  \"&Eingabevariablen!C55&\" Fzkm\"&CHAR(10))","v":""},{"$f":"IF(Eingabevariablen!D55=\"\",\"\",Eingabevariablen!$B55&\":  \"&Eingabevariablen!D55&\" Fzkm\"&CHAR(10))","v":""},{"$f":"IF(Eingabevariablen!E55=\"\",\"\",Eingabevariablen!$B55&\":  \"&Eingabevariablen!E55&\" Fzkm\"&CHAR(10))","v":""},{"$f":"IF(Eingabevariablen!F55=\"\",\"\",Eingabevariablen!$B55&\":  \"&Eingabevariablen!F55&\" Fzkm\"&CHAR(10))","v":""},null,{"$f":"B29&B30&B31&B32&B33&B34&B35&B36&B37&B38&B39&B40&B41&B42","v":""},{"$f":"C29&C30&C31&C32&C33&C34&C35&C36&C37&C38&C39&C40&C41&C42","v":""},"",""]
[null,{"$f":"IF(Eingabevariablen!C56=\"\",\"\",Eingabevariablen!$B56&\":  \"&Eingabevariablen!C56&\" Fzkm\"&CHAR(10))","v":""},{"$f":"IF(Eingabevariablen!D56=\"\",\"\",Eingabevariablen!$B56&\":  \"&Eingabevariablen!D56&\" Fzkm\"&CHAR(10))","v":""},{"$f":"IF(Eingabevariablen!E56=\"\",\"\",Eingabevariablen!$B56&\":  \"&Eingabevariablen!E56&\" Fzkm\"&CHAR(10))","v":""},{"$f":"IF(Eingabevariablen!F56=\"\",\"\",Eingabevariablen!$B56&\":  \"&Eingabevariablen!F56&\" Fzkm\"&CHAR(10))","v":""}]
[null,{"$f":"IF(Eingabevariablen!C57=\"\",\"\",Eingabevariablen!$B57&\":  \"&Eingabevariablen!C57&\" Fzkm\"&CHAR(10))","v":""},{"$f":"IF(Eingabevariablen!D57=\"\",\"\",Eingabevariablen!$B57&\":  \"&Eingabevariablen!D57&\" Fzkm\"&CHAR(10))","v":""},{"$f":"IF(Eingabevariablen!E57=\"\",\"\",Eingabevariablen!$B57&\":  \"&Eingabevariablen!E57&\" Fzkm\"&CHAR(10))","v":""},{"$f":"IF(Eingabevariablen!F57=\"\",\"\",Eingabevariablen!$B57&\":  \"&Eingabevariablen!F57&\" Fzkm\"&CHAR(10))","v":""}]
[null,{"$f":"IF(Eingabevariablen!C58=\"\",\"\",Eingabevariablen!$B58&\":  \"&Eingabevariablen!C58&\" Fzkm\"&CHAR(10))","v":""},{"$f":"IF(Eingabevariablen!D58=\"\",\"\",Eingabevariablen!$B58&\":  \"&Eingabevariablen!D58&\" Fzkm\"&CHAR(10))","v":""},{"$f":"IF(Eingabevariablen!E58=\"\",\"\",Eingabevariablen!$B58&\":  \"&Eingabevariablen!E58&\" Fzkm\"&CHAR(10))","v":""},{"$f":"IF(Eingabevariablen!F58=\"\",\"\",Eingabevariablen!$B58&\":  \"&Eingabevariablen!F58&\" Fzkm\"&CHAR(10))","v":""}]
[null,{"$f":"IF(Eingabevariablen!C59=\"\",\"\",Eingabevariablen!$B59&\":  \"&Eingabevariablen!C59&\" Fzkm\"&CHAR(10))","v":""},{"$f":"IF(Eingabevariablen!D59=\"\",\"\",Eingabevariablen!$B59&\":  \"&Eingabevariablen!D59&\" Fzkm\"&CHAR(10))","v":""},{"$f":"IF(Eingabevariablen!E59=\"\",\"\",Eingabevariablen!$B59&\":  \"&Eingabevariablen!E59&\" Fzkm\"&CHAR(10))","v":""},{"$f":"IF(Eingabevariablen!F59=\"\",\"\",Eingabevariablen!$B59&\":  \"&Eingabevariablen!F59&\" Fzkm\"&CHAR(10))","v":""}]
[null,{"$f":"IF(Eingabevariablen!C60=\"\",\"\",Eingabevariablen!$B60&\":  \"&Eingabevariablen!C60&\" Fzkm\"&CHAR(10))","v":""},{"$f":"IF(Eingabevariablen!D60=\"\",\"\",Eingabevariablen!$B60&\":  \"&Eingabevariablen!D60&\" Fzkm\"&CHAR(10))","v":""},{"$f":"IF(Eingabevariablen!E60=\"\",\"\",Eingabevariablen!$B60&\":  \"&Eingabevariablen!E60&\" Fzkm\"&CHAR(10))","v":""},{"$f":"IF(Eingabevariablen!F60=\"\",\"\",Eingabevariablen!$B60&\":  \"&Eingabevariablen!F60&\" Fzkm\"&CHAR(10))","v":""}]
[null,{"$f":"IF(Eingabevariablen!C61=\"\",\"\",Eingabevariablen!$B61&\":  \"&Eingabevariablen!C61&\" Fzkm\"&CHAR(10))","v":""},{"$f":"IF(Eingabevariablen!D61=\"\",\"\",Eingabevariablen!$B61&\":  \"&Eingabevariablen!D61&\" Fzkm\"&CHAR(10))","v":""},{"$f":"IF(Eingabevariablen!E61=\"\",\"\",Eingabevariablen!$B61&\":  \"&Eingabevariablen!E61&\" Fzkm\"&CHAR(10))","v":""},{"$f":"IF(Eingabevariablen!F61=\"\",\"\",Eingabevariablen!$B61&\":  \"&Eingabevariablen!F61&\" Fzkm\"&CHAR(10))","v":""}]
[null,{"$f":"IF(Eingabevariablen!C62=\"\",\"\",Eingabevariablen!$B62&\":  \"&Eingabevariablen!C62&\" Fzkm\"&CHAR(10))","v":""},{"$f":"IF(Eingabevariablen!D62=\"\",\"\",Eingabevariablen!$B62&\":  \"&Eingabevariablen!D62&\" Fzkm\"&CHAR(10))","v":""},{"$f":"IF(Eingabevariablen!E62=\"\",\"\",Eingabevariablen!$B62&\":  \"&Eingabevariablen!E62&\" Fzkm\"&CHAR(10))","v":""},{"$f":"IF(Eingabevariablen!F62=\"\",\"\",Eingabevariablen!$B62&\":  \"&Eingabevariablen!F62&\" Fzkm\"&CHAR(10))","v":""}]
[null,{"$f":"IF(Eingabevariablen!C88=\"\",\"\",Eingabevariablen!$B88&\":  \"&Eingabevariablen!C88&\" Fzkm\"&CHAR(10))","v":""},{"$f":"IF(Eingabevariablen!D88=\"\",\"\",Eingabevariablen!$B88&\":  \"&Eingabevariablen!D88&\" Fzkm\"&CHAR(10))","v":""},{"$f":"IF(Eingabevariablen!E88=\"\",\"\",Eingabevariablen!$B88&\":  \"&Eingabevariablen!E88&\" Fzkm\"&CHAR(10))","v":""}]
[null,{"$f":"IF(Eingabevariablen!C89=\"\",\"\",Eingabevariablen!$B89&\":  \"&Eingabevariablen!C89&\" Fzkm\"&CHAR(10))","v":""},{"$f":"IF(Eingabevariablen!D89=\"\",\"\",Eingabevariablen!$B89&\":  \"&Eingabevariablen!D89&\" Fzkm\"&CHAR(10))","v":""},{"$f":"IF(Eingabevariablen!E89=\"\",\"\",Eingabevariablen!$B89&\":  \"&Eingabevariablen!E89&\" Fzkm\"&CHAR(10))","v":""}]
[null,{"$f":"IF(Eingabevariablen!C90=\"\",\"\",Eingabevariablen!$B90&\":  \"&Eingabevariablen!C90&\" Fzkm\"&CHAR(10))","v":""},{"$f":"IF(Eingabevariablen!D90=\"\",\"\",Eingabevariablen!$B90&\":  \"&Eingabevariablen!D90&\" Fzkm\"&CHAR(10))","v":""},{"$f":"IF(Eingabevariablen!E90=\"\",\"\",Eingabevariablen!$B90&\":  \"&Eingabevariablen!E90&\" Fzkm\"&CHAR(10))","v":""}]
[null,{"$f":"IF(Eingabevariablen!C91=\"\",\"\",Eingabevariablen!$B91&\":  \"&Eingabevariablen!C91&\" Fzkm\"&CHAR(10))","v":""},{"$f":"IF(Eingabevariablen!D91=\"\",\"\",Eingabevariablen!$B91&\":  \"&Eingabevariablen!D91&\" Fzkm\"&CHAR(10))","v":""},{"$f":"IF(Eingabevariablen!E91=\"\",\"\",Eingabevariablen!$B91&\":  \"&Eingabevariablen!E91&\" Fzkm\"&CHAR(10))","v":""}]
[null,{"$f":"IF(Eingabevariablen!C109=\"\",\"\",Eingabevariablen!$B109&\":  \"&Eingabevariablen!C109&\" Fzkm\"&CHAR(10))","v":""}]
[null,{"$f":"IF(Eingabevariablen!C113=\"\",\"\",Eingabevariablen!$B113&\":  \"&Eingabevariablen!C113&\" Fzkm\"&CHAR(10))","v":""}]
[]
[]
[null,"Wirkungskategorien"]
[null,"1. Luftschadstoffemissionen"]
[null,"Quelle unbekannt","Verkehr",null,"Kraftwerk/Energie","Industrie","Kleinfeuerung",null,null,"Quelle unbekannt","Verkehr",null,"Kraftwerk/Energie","Industrie","Kleinfeuerung"]
[null,null,"Innerorts (Durchschnitt)","Außerorts",null,null,"Innerorts","Außerorts",null,null,"Innerorts (Durchschnitt)","Außerorts",null,null,"Innerorts","Außerorts"]
[null,{"$f":"IF(Eingabevariablen!C206=\"\",\"\",\"Partikel PM10:  \"&Eingabevariablen!C206&\" t\"&CHAR(10))","v":""},{"$f":"IF(Eingabevariablen!D206=\"\",\"\",\"Partikel PM10:  \"&Eingabevariablen!D206&\" t\"&CHAR(10))","v":""},{"$f":"IF(Eingabevariablen!E206=\"\",\"\",\"Partikel PM10:  \"&Eingabevariablen!E206&\" t\"&CHAR(10))","v":""},{"$f":"IF(Eingabevariablen!F206=\"\",\"\",\"Partikel PM10:  \"&Eingabevariablen!F206&\" t\"&CHAR(10))","v":""},{"$f":"IF(Eingabevariablen!G206=\"\",\"\",\"Partikel PM10:  \"&Eingabevariablen!G206&\" t\"&CHAR(10))","v":""},{"$f":"IF(Eingabevariablen!H206=\"\",\"\",\"Partikel PM10:  \"&Eingabevariablen!H206&\" t\"&CHAR(10))","v":""},{"$f":"IF(Eingabevariablen!I206=\"\",\"\",\"Partikel PM10:  \"&Eingabevariablen!I206&\" t\"&CHAR(10))","v":""},null,{"$f":"B49&B50&B51&B52&B53&B54","v":""},{"$f":"C49&C50&C51&C52&C53&C54","v":""},"","","","",""]
[null,{"$f":"IF(Eingabevariablen!C207=\"\",\"\",\"Partikel fein PM2.5:  \"&Eingabevariablen!C207&\" t\"&CHAR(10))","v":""},{"$f":"IF(Eingabevariablen!D207=\"\",\"\",\"Partikel fein PM2.5:  \"&Eingabevariablen!D207&\" t\"&CHAR(10))","v":""},{"$f":"IF(Eingabevariablen!E207=\"\",\"\",\"Partikel fein PM2.5:  \"&Eingabevariablen!E207&\" t\"&CHAR(10))","v":""},{"$f":"IF(Eingabevariablen!F207=\"\",\"\",\"Partikel fein PM2.5:  \"&Eingabevariablen!F207&\" t\"&CHAR(10))","v":""},{"$f":"IF(Eingabevariablen!G207=\"\",\"\",\"Partikel fein PM2.5:  \"&Eingabevariablen!G207&\" t\"&CHAR(10))","v":""},{"$f":"IF(Eingabevariablen!H207=\"\",\"\",\"Partikel fein PM2.5:  \"&Eingabevariablen!H207&\" t\"&CHAR(10))","v":""},{"$f":"IF(Eingabevariablen!I207=\"\",\"\",\"Partikel fein PM2.5:  \"&Eingabevariablen!I207&\" t\"&CHAR(10))","v":""}]
[null,{"$f":"IF(Eingabevariablen!C208=\"\",\"\",Eingabevariablen!$B208&\":  \"&Eingabevariablen!C208&\" t\"&CHAR(10))","v":""},{"$f":"IF(Eingabevariablen!D208=\"\",\"\",Eingabevariablen!$B208&\":  \"&Eingabevariablen!D208&\" t\"&CHAR(10))","v":""},{"$f":"IF(Eingabevariablen!E208=\"\",\"\",Eingabevariablen!$B208&\":  \"&Eingabevariablen!E208&\" t\"&CHAR(10))","v":""},{"$f":"IF(Eingabevariablen!F208=\"\",\"\",Eingabevariablen!$B208&\":  \"&Eingabevariablen!F208&\" t\"&CHAR(10))","v":""},{"$f":"IF(Eingabevariablen!G208=\"\",\"\",Eingabevariablen!$B208&\":  \"&Eingabevariablen!G208&\" t\"&CHAR(10))","v":""},{"$f":"IF(Eingabevariablen!H208=\"\",\"\",Eingabevariablen!$B208&\":  \"&Eingabevariablen!H208&\" t\"&CHAR(10))","v":""},{"$f":"IF(Eingabevariablen!I208=\"\",\"\",Eingabevariablen!$B208&\":  \"&Eingabevariablen!I208&\" t\"&CHAR(10))","v":""}]
[null,{"$f":"IF(Eingabevariablen!C209=\"\",\"\",Eingabevariablen!$B209&\":  \"&Eingabevariablen!C209&\" t\"&CHAR(10))","v":""},{"$f":"IF(Eingabevariablen!D209=\"\",\"\",Eingabevariablen!$B209&\":  \"&Eingabevariablen!D209&\" t\"&CHAR(10))","v":""},{"$f":"IF(Eingabevariablen!E209=\"\",\"\",Eingabevariablen!$B209&\":  \"&Eingabevariablen!E209&\" t\"&CHAR(10))","v":""},{"$f":"IF(Eingabevariablen!F209=\"\",\"\",Eingabevariablen!$B209&\":  \"&Eingabevariablen!F209&\" t\"&CHAR(10))","v":""},{"$f":"IF(Eingabevariablen!G209=\"\",\"\",Eingabevariablen!$B209&\":  \"&Eingabevariablen!G209&\" t\"&CHAR(10))","v":""},{"$f":"IF(Eingabevariablen!H209=\"\",\"\",Eingabevariablen!$B209&\":  \"&Eingabevariablen!H209&\" t\"&CHAR(10))","v":""},{"$f":"IF(Eingabevariablen!I209=\"\",\"\",Eingabevariablen!$B209&\":  \"&Eingabevariablen!I209&\" t\"&CHAR(10))","v":""}]
[null,{"$f":"IF(Eingabevariablen!C210=\"\",\"\",\"NMVOC (Flüchtige KW):  \"&Eingabevariablen!C210&\" t\"&CHAR(10))","v":""},{"$f":"IF(Eingabevariablen!D210=\"\",\"\",\"NMVOC (Flüchtige KW):  \"&Eingabevariablen!D210&\" t\"&CHAR(10))","v":""},{"$f":"IF(Eingabevariablen!E210=\"\",\"\",\"NMVOC (Flüchtige KW):  \"&Eingabevariablen!E210&\" t\"&CHAR(10))","v":""},{"$f":"IF(Eingabevariablen!F210=\"\",\"\",\"NMVOC (Flüchtige KW):  \"&Eingabevariablen!F210&\" t\"&CHAR(10))","v":""},{"$f":"IF(Eingabevariablen!G210=\"\",\"\",\"NMVOC (Flüchtige KW):  \"&Eingabevariablen!G210&\" t\"&CHAR(10))","v":""},{"$f":"IF(Eingabevariablen!H210=\"\",\"\",\"NMVOC (Flüchtige KW):  \"&Eingabevariablen!H210&\" t\"&CHAR(10))","v":""},{"$f":"IF(Eingabevariablen!I210=\"\",\"\",\"NMVOC (Flüchtige KW):  \"&Eingabevariablen!I210&\" t\"&CHAR(10))","v":""}]
[null,{"$f":"IF(Eingabevariablen!C211=\"\",\"\",Eingabevariablen!$B211&\":  \"&Eingabevariablen!C211&\" t\"&CHAR(10))","v":""},{"$f":"IF(Eingabevariablen!D211=\"\",\"\",Eingabevariablen!$B211&\":  \"&Eingabevariablen!D211&\" t\"&CHAR(10))","v":""},{"$f":"IF(Eingabevariablen!E211=\"\",\"\",Eingabevariablen!$B211&\":  \"&Eingabevariablen!E211&\" t\"&CHAR(10))","v":""},{"$f":"IF(Eingabevariablen!F211=\"\",\"\",Eingabevariablen!$B211&\":  \"&Eingabevariablen!F211&\" t\"&CHAR(10))","v":""},{"$f":"IF(Eingabevariablen!G211=\"\",\"\",Eingabevariablen!$B211&\":  \"&Eingabevariablen!G211&\" t\"&CHAR(10))","v":""},{"$f":"IF(Eingabevariablen!H211=\"\",\"\",Eingabevariablen!$B211&\":  \"&Eingabevariablen!H211&\" t\"&CHAR(10))","v":""},{"$f":"IF(Eingabevariablen!I211=\"\",\"\",Eingabevariablen!$B211&\":  \"&Eingabevariablen!I211&\" t\"&CHAR(10))","v":""}]
[]
[]
[null,"2. Treibhausgasemissionen"]
[null,{"$f":"IF(Eingabevariablen!C238=\"\",\"\",Eingabevariablen!$B238&\":  \"&Eingabevariablen!C238&\" t\"&CHAR(10))","v":""},null,{"$f":"B58&B59&B60&B61","v":""}]
[null,{"$f":"IF(Eingabevariablen!C239=\"\",\"\",Eingabevariablen!$B239&\":  \"&Eingabevariablen!C239&\" t\"&CHAR(10))","v":""}]
[null,{"$f":"IF(Eingabevariablen!C240=\"\",\"\",Eingabevariablen!$B240&\":  \"&Eingabevariablen!C240&\" t\"&CHAR(10))","v":""}]
[null,{"$f":"IF(Eingabevariablen!C241=\"\",\"\",Eingabevariablen!$B241&\":  \"&Eingabevariablen!C241&\" t\"&CHAR(10))","v":""}]
[]
[]
[null,"3. Lärmemissionen"]
[null,"Quelle: Verkehr",null,null,"Quelle: unbekannt",null,"Quelle: Verkehr",null,null,"Quelle: unbekannt"]
[null,"Strassenverkehr","Schienenverkehr","Luftverkehr",null,null,"Strassenverkehr","Schienenverkehr","Luftverkehr"]
[null,{"$f":"IF(Eingabevariablen!C250=\"\",\"\",Eingabevariablen!$B250&\":  \"&Eingabevariablen!C250&\" Personen\"&CHAR(10))","v":""},{"$f":"IF(Eingabevariablen!D250=\"\",\"\",Eingabevariablen!$B250&\":  \"&Eingabevariablen!D250&\" Personen\"&CHAR(10))","v":""},{"$f":"IF(Eingabevariablen!E250=\"\",\"\",Eingabevariablen!$B250&\":  \"&Eingabevariablen!E250&\" Personen\"&CHAR(10))","v":""},{"$f":"IF(Eingabevariablen!F250=\"\",\"\",Eingabevariablen!$B250&\":  \"&Eingabevariablen!F250&\" Personen\"&CHAR(10))","v":""},null,{"$f":"B67&B68&B69&B70&B71&B72&B73&B74&B75","v":""},{"$f":"C67&C68&C69&C70&C71&C72&C73&C74&C75","v":""},"",""]
[null,{"$f":"IF(Eingabevariablen!C251=\"\",\"\",Eingabevariablen!$B251&\":  \"&Eingabevariablen!C251&\" Personen\"&CHAR(10))","v":""},{"$f":"IF(Eingabevariablen!D251=\"\",\"\",Eingabevariablen!$B251&\":  \"&Eingabevariablen!D251&\" Personen\"&CHAR(10))","v":""},{"$f":"IF(Eingabevariablen!E251=\"\",\"\",Eingabevariablen!$B251&\":  \"&Eingabevariablen!E251&\" Personen\"&CHAR(10))","v":""},{"$f":"IF(Eingabevariablen!F251=\"\",\"\",Eingabevariablen!$B251&\":  \"&Eingabevariablen!F251&\" Personen\"&CHAR(10))","v":""}]
[null,{"$f":"IF(Eingabevariablen!C252=\"\",\"\",Eingabevariablen!$B252&\":  \"&Eingabevariablen!C252&\" Personen\"&CHAR(10))","v":""},{"$f":"IF(Eingabevariablen!D252=\"\",\"\",Eingabevariablen!$B252&\":  \"&Eingabevariablen!D252&\" Personen\"&CHAR(10))","v":""},{"$f":"IF(Eingabevariablen!E252=\"\",\"\",Eingabevariablen!$B252&\":  \"&Eingabevariablen!E252&\" Personen\"&CHAR(10))","v":""},{"$f":"IF(Eingabevariablen!F252=\"\",\"\",Eingabevariablen!$B252&\":  \"&Eingabevariablen!F252&\" Personen\"&CHAR(10))","v":""}]
[null,{"$f":"IF(Eingabevariablen!C253=\"\",\"\",Eingabevariablen!$B253&\":  \"&Eingabevariablen!C253&\" Personen\"&CHAR(10))","v":""},{"$f":"IF(Eingabevariablen!D253=\"\",\"\",Eingabevariablen!$B253&\":  \"&Eingabevariablen!D253&\" Personen\"&CHAR(10))","v":""},{"$f":"IF(Eingabevariablen!E253=\"\",\"\",Eingabevariablen!$B253&\":  \"&Eingabevariablen!E253&\" Personen\"&CHAR(10))","v":""},{"$f":"IF(Eingabevariablen!F253=\"\",\"\",Eingabevariablen!$B253&\":  \"&Eingabevariablen!F253&\" Personen\"&CHAR(10))","v":""}]
[null,{"$f":"IF(Eingabevariablen!C254=\"\",\"\",Eingabevariablen!$B254&\":  \"&Eingabevariablen!C254&\" Personen\"&CHAR(10))","v":""},{"$f":"IF(Eingabevariablen!D254=\"\",\"\",Eingabevariablen!$B254&\":  \"&Eingabevariablen!D254&\" Personen\"&CHAR(10))","v":""},{"$f":"IF(Eingabevariablen!E254=\"\",\"\",Eingabevariablen!$B254&\":  \"&Eingabevariablen!E254&\" Personen\"&CHAR(10))","v":""},{"$f":"IF(Eingabevariablen!F254=\"\",\"\",Eingabevariablen!$B254&\":  \"&Eingabevariablen!F254&\" Personen\"&CHAR(10))","v":""}]
[null,{"$f":"IF(Eingabevariablen!C255=\"\",\"\",Eingabevariablen!$B255&\":  \"&Eingabevariablen!C255&\" Personen\"&CHAR(10))","v":""},{"$f":"IF(Eingabevariablen!D255=\"\",\"\",Eingabevariablen!$B255&\":  \"&Eingabevariablen!D255&\" Personen\"&CHAR(10))","v":""},{"$f":"IF(Eingabevariablen!E255=\"\",\"\",Eingabevariablen!$B255&\":  \"&Eingabevariablen!E255&\" Personen\"&CHAR(10))","v":""},{"$f":"IF(Eingabevariablen!F255=\"\",\"\",Eingabevariablen!$B255&\":  \"&Eingabevariablen!F255&\" Personen\"&CHAR(10))","v":""}]
[null,{"$f":"IF(Eingabevariablen!C256=\"\",\"\",Eingabevariablen!$B256&\":  \"&Eingabevariablen!C256&\" Personen\"&CHAR(10))","v":""},{"$f":"IF(Eingabevariablen!D256=\"\",\"\",Eingabevariablen!$B256&\":  \"&Eingabevariablen!D256&\" Personen\"&CHAR(10))","v":""},{"$f":"IF(Eingabevariablen!E256=\"\",\"\",Eingabevariablen!$B256&\":  \"&Eingabevariablen!E256&\" Personen\"&CHAR(10))","v":""},{"$f":"IF(Eingabevariablen!F256=\"\",\"\",Eingabevariablen!$B256&\":  \"&Eingabevariablen!F256&\" Personen\"&CHAR(10))","v":""}]
[null,{"$f":"IF(Eingabevariablen!C257=\"\",\"\",Eingabevariablen!$B257&\":  \"&Eingabevariablen!C257&\" Personen\"&CHAR(10))","v":""},{"$f":"IF(Eingabevariablen!D257=\"\",\"\",Eingabevariablen!$B257&\":  \"&Eingabevariablen!D257&\" Personen\"&CHAR(10))","v":""},{"$f":"IF(Eingabevariablen!E257=\"\",\"\",Eingabevariablen!$B257&\":  \"&Eingabevariablen!E257&\" Personen\"&CHAR(10))","v":""},{"$f":"IF(Eingabevariablen!F257=\"\",\"\",Eingabevariablen!$B257&\":  \"&Eingabevariablen!F257&\" Personen\"&CHAR(10))","v":""}]
[null,{"$f":"IF(Eingabevariablen!C258=\"\",\"\",Eingabevariablen!$B258&\":  \"&Eingabevariablen!C258&\" Personen\"&CHAR(10))","v":""},{"$f":"IF(Eingabevariablen!D258=\"\",\"\",Eingabevariablen!$B258&\":  \"&Eingabevariablen!D258&\" Personen\"&CHAR(10))","v":""},{"$f":"IF(Eingabevariablen!E258=\"\",\"\",Eingabevariablen!$B258&\":  \"&Eingabevariablen!E258&\" Personen\"&CHAR(10))","v":""},{"$f":"IF(Eingabevariablen!F258=\"\",\"\",Eingabevariablen!$B258&\":  \"&Eingabevariablen!F258&\" Personen\"&CHAR(10))","v":""}]
[]
[]
[null,"4. Beeinträchtigung von Ökosystemen"]
[]
[null,"a. Flächenumwandlung, Verbauung natürlicher Flächen, Versiegelung",null,"Versiegelte / verbaute Fläche:"]
[null,{"$f":"IF(Eingabevariablen!C306=\"\",\"\",Eingabevariablen!$B306&\":  \"&Eingabevariablen!C306&\" km2\"&CHAR(10))","v":""},null,{"$f":"B81","v":""}]
[]
[null,"b. Landnutzungsänderung, Nutzungsintenvisierung",null,"Veränderte Landnutzung:"]
[null,{"$f":"IF(Eingabevariablen!C178=\"\",\"\",Eingabevariablen!$B178&\":  \"&Eingabevariablen!C178&\" km2\"&CHAR(10)&Eingabevariablen!B179&\":  \"&Eingabevariablen!C179&CHAR(10)&Eingabevariablen!B180&\":  \"&Eingabevariablen!C180)","v":""},null,{"$f":"B84","v":""}]
[]
[null,"c. Nährstoffeintrag",null,"Nährstoffeintrag in Umwelt:"]
[null,{"$f":"IF(Eingabevariablen!C184=\"\",\"\",Eingabevariablen!$B184&\":  \"&Eingabevariablen!C184&\" t\"&CHAR(10))","v":""},null,{"$f":"B87","v":""}]
[]
[null,"d. Schadstoffeinträge ins Meer",null,"ins Meer eingetragene Schadstoffmengen:"]
[null,{"$f":"IF(Eingabevariablen!C289=\"\",\"\",Eingabevariablen!$B289&\":  \"&Eingabevariablen!C289&\" t\"&CHAR(10))","v":""},null,{"$f":"B90&B91&B92","v":""}]
[null,{"$f":"IF(Eingabevariablen!C290=\"\",\"\",Eingabevariablen!$B290&\":  \"&Eingabevariablen!C290&\" t\"&CHAR(10))","v":""}]
[null,{"$f":"IF(Eingabevariablen!C291=\"\",\"\",Eingabevariablen!$B291&\":  \"&Eingabevariablen!C291&\" t\"&CHAR(10))","v":""}]
[]
[null,"e. Zerschneidung der Landschaft durch Verkehrswege",null,"Länge der Verkehrswege:"]
[null,{"$f":"IF(Eingabevariablen!C297=\"\",\"\",Eingabevariablen!$B297&\":  \"&Eingabevariablen!C297&\" km\"&CHAR(10))","v":""},null,{"$f":"B95&B96&B97&B98&B99&B100","v":""}]
[null,{"$f":"IF(Eingabevariablen!C298=\"\",\"\",Eingabevariablen!$B298&\":  \"&Eingabevariablen!C298&\" km\"&CHAR(10))","v":""}]
[null,{"$f":"IF(Eingabevariablen!C299=\"\",\"\",Eingabevariablen!$B299&\":  \"&Eingabevariablen!C299&\" km\"&CHAR(10))","v":""}]
[null,{"$f":"IF(Eingabevariablen!C300=\"\",\"\",Eingabevariablen!$B300&\":  \"&Eingabevariablen!C300&\" km\"&CHAR(10))","v":""}]
[null,{"$f":"IF(Eingabevariablen!C301=\"\",\"\",Eingabevariablen!$B301&\":  \"&Eingabevariablen!C301&\" km\"&CHAR(10))","v":""}]
[null,{"$f":"IF(Eingabevariablen!C302=\"\",\"\",Eingabevariablen!$B302&\":  \"&Eingabevariablen!C302&\" km2\"&CHAR(10))","v":""}]
[]
[]
[null,"5. Emission toxischer Stoffe"]
[null,{"$f":"IF(Eingabevariablen!C313=\"\",\"\",Eingabevariablen!$B313&\":  \"&Eingabevariablen!C313&\" t\"&CHAR(10))","v":""},null,{"$f":"B104&B105&B106&B107&B108&B109","v":""},{"$f":"B111&B112&B113&B114&B115","v":""}]
[null,{"$f":"IF(Eingabevariablen!C314=\"\",\"\",Eingabevariablen!$B314&\":  \"&Eingabevariablen!C314&\" t\"&CHAR(10))","v":""}]
[null,{"$f":"IF(Eingabevariablen!C315=\"\",\"\",Eingabevariablen!$B315&\":  \"&Eingabevariablen!C315&\" t\"&CHAR(10))","v":""}]
[null,{"$f":"IF(Eingabevariablen!C316=\"\",\"\",Eingabevariablen!$B316&\":  \"&Eingabevariablen!C316&\" t\"&CHAR(10))","v":""}]
[null,{"$f":"IF(Eingabevariablen!C317=\"\",\"\",Eingabevariablen!$B317&\":  \"&Eingabevariablen!C317&\" t\"&CHAR(10))","v":""}]
[null,{"$f":"IF(Eingabevariablen!C318=\"\",\"\",Eingabevariablen!$B318&\":  \"&Eingabevariablen!C318&\" t\"&CHAR(10))","v":""}]
[]
[null,{"$f":"IF(Eingabevariablen!C320=\"\",\"\",Eingabevariablen!$B320&\":  \"&Eingabevariablen!C320&\" t\"&CHAR(10))","v":""}]
[null,{"$f":"IF(Eingabevariablen!C321=\"\",\"\",Eingabevariablen!$B321&\":  \"&Eingabevariablen!C321&\" t\"&CHAR(10))","v":""}]
[null,{"$f":"IF(Eingabevariablen!C322=\"\",\"\",Eingabevariablen!$B322&\":  \"&Eingabevariablen!C322&\" t\"&CHAR(10))","v":""}]
[null,{"$f":"IF(Eingabevariablen!C323=\"\",\"\",Eingabevariablen!$B323&\":  \"&Eingabevariablen!C323&\" t\"&CHAR(10))","v":""}]
[null,{"$f":"IF(Eingabevariablen!C324=\"\",\"\",Eingabevariablen!$B324&\":  \"&Eingabevariablen!C324&\" t\"&CHAR(10))","v":""}]
[]
[]
[null,"6. Indirekte Effekte vor- und nachgelagerte Prozesse"]
[null,{"$f":"IF(Eingabevariablen!C330=\"\",\"\",Eingabevariablen!$B330&\":  \"&Eingabevariablen!C330&\" t\"&CHAR(10))","v":""},null,{"$f":"B119&B120&B121&B122&B123&B124","v":""},{"$f":"B125&B126&B127&B128&B129","v":""}]
[null,{"$f":"IF(Eingabevariablen!C331=\"\",\"\",Eingabevariablen!$B331&\":  \"&Eingabevariablen!C331&\" t\"&CHAR(10))","v":""}]
[null,{"$f":"IF(Eingabevariablen!C332=\"\",\"\",Eingabevariablen!$B332&\":  \"&Eingabevariablen!C332&\" t\"&CHAR(10))","v":""}]
[null,{"$f":"IF(Eingabevariablen!C333=\"\",\"\",Eingabevariablen!$B333&\":  \"&Eingabevariablen!C333&\" t\"&CHAR(10))","v":""}]
[null,{"$f":"IF(Eingabevariablen!C334=\"\",\"\",Eingabevariablen!$B334&\":  \"&Eingabevariablen!C334&\" t\"&CHAR(10))","v":""}]
[null,{"$f":"IF(Eingabevariablen!C335=\"\",\"\",Eingabevariablen!$B335&\":  \"&Eingabevariablen!C335&\" t\"&CHAR(10))","v":""}]
[null,{"$f":"IF(Eingabevariablen!C336=\"\",\"\",Eingabevariablen!$B336&\":  \"&Eingabevariablen!C336&\" t\"&CHAR(10))","v":""}]
[null,{"$f":"IF(Eingabevariablen!C337=\"\",\"\",Eingabevariablen!$B337&\":  \"&Eingabevariablen!C337&\" t\"&CHAR(10))","v":""}]
[null,{"$f":"IF(Eingabevariablen!C338=\"\",\"\",Eingabevariablen!$B338&\":  \"&Eingabevariablen!C338&\" t\"&CHAR(10))","v":""}]
[null,{"$f":"IF(Eingabevariablen!C339=\"\",\"\",\"Treibhausgase total (in CO2-eq):  \"&Eingabevariablen!C339&\" t\"&CHAR(10))","v":""}]
[null,{"$f":"IF(Eingabevariablen!C340=\"\",\"\",Eingabevariablen!$B340&\":  \"&Eingabevariablen!C340&\" t\"&CHAR(10))","v":""}]
[]
[]
[null,"9. Unfälle",null,"Anzahl Unfallopfer (aus Verkehrsunfällen)","Anzahl Verkehrsunfälle"]
[null,{"$f":"IF(Eingabevariablen!C346=\"\",\"\",Eingabevariablen!$B346&\":  \"&Eingabevariablen!C346&\"\"&CHAR(10))","v":""},null,{"$f":"B133&B134&B135","v":""},{"$f":"B138&B139&B140&B141&B142&B143&B144&B145&B146&B147","v":""}]
[null,{"$f":"IF(Eingabevariablen!C347=\"\",\"\",Eingabevariablen!$B347&\":  \"&Eingabevariablen!C347&\"\"&CHAR(10))","v":""}]
[null,{"$f":"IF(Eingabevariablen!C348=\"\",\"\",Eingabevariablen!$B348&\":  \"&Eingabevariablen!C348&\"\"&CHAR(10))","v":""}]
[]
[]
[null,{"$f":"IF(Eingabevariablen!C351=\"\",\"\",Eingabevariablen!$B351&\":  \"&Eingabevariablen!C351&\" Unfälle\"&CHAR(10))","v":""}]
[null,{"$f":"IF(Eingabevariablen!C352=\"\",\"\",Eingabevariablen!$B352&\":  \"&Eingabevariablen!C352&\" Unfälle\"&CHAR(10))","v":""}]
[null,{"$f":"IF(Eingabevariablen!C353=\"\",\"\",Eingabevariablen!$B353&\":  \"&Eingabevariablen!C353&\" Unfälle\"&CHAR(10))","v":""}]
[null,{"$f":"IF(Eingabevariablen!C354=\"\",\"\",Eingabevariablen!$B354&\":  \"&Eingabevariablen!C354&\" Unfälle\"&CHAR(10))","v":""}]
[null,{"$f":"IF(Eingabevariablen!C355=\"\",\"\",Eingabevariablen!$B355&\":  \"&Eingabevariablen!C355&\" Unfälle\"&CHAR(10))","v":""}]
[null,{"$f":"IF(Eingabevariablen!C356=\"\",\"\",Eingabevariablen!$B356&\":  \"&Eingabevariablen!C356&\" Unfälle\"&CHAR(10))","v":""}]
[null,{"$f":"IF(Eingabevariablen!C357=\"\",\"\",Eingabevariablen!$B357&\":  \"&Eingabevariablen!C357&\" Unfälle\"&CHAR(10))","v":""}]
[null,{"$f":"IF(Eingabevariablen!C358=\"\",\"\",Eingabevariablen!$B358&\":  \"&Eingabevariablen!C358&\" Unfälle\"&CHAR(10))","v":""}]
[null,{"$f":"IF(Eingabevariablen!C359=\"\",\"\",Eingabevariablen!$B359&\":  \"&Eingabevariablen!C359&\" Unfälle\"&CHAR(10))","v":""}]
[null,{"$f":"IF(Eingabevariablen!C360=\"\",\"\",Eingabevariablen!$B360&\":  \"&Eingabevariablen!C360&\" Unfälle\"&CHAR(10))","v":""}]
[]
[]
[]
[]
[]
[]
[]
[]
[null,"Weitere Eingabevariablen"]
[]
[]
[]
[]
[null,{"$f":"\"Zeitpunkt 2: \"&Eingabevariablen!C7","v":"Zeitpunkt 2: "}]
[]
[null,"Aktivitäten"]
[null,"1. Energie"]
[null,"i. Strommenge",null,null,null,null,"ii. Energie: Wärmemenge",null,null,null,null,"iii. Brennstoffmenge",null,null,null,null,"iv. Kraftstoffmenge"]
[null,{"$f":"IF(Eingabevariablen!D124=\"\",\"\",Eingabevariablen!B124&\":  \"&Eingabevariablen!D124&\" kWh(el)\"&CHAR(10))","v":""},null,{"$f":"B166&B167&B168&B169&B170&B171&B172&B173&B174&B175&B176&B177&B178&B179&B180&B181&B182&B183","v":""},null,null,{"$f":"ISBLANK(Eingabevariablen!D144)","v":true},{"$f":"IF(Eingabevariablen!D144=\"\",\"\",Eingabevariablen!B144&\":  \"&Eingabevariablen!D144&\" kWh(Endenergie)\"&CHAR(10))","v":""},null,{"$f":"H166&H167&H168&H169&H170&H171&H172&H173&H174&H175&H176&H177&H178&H179","v":""},null,{"$f":"ISBLANK(Eingabevariablen!D160)","v":true},{"$f":"IF(Eingabevariablen!D160=\"\",\"\",Eingabevariablen!B160&\":  \"&Eingabevariablen!D160&\" t\"&CHAR(10))","v":""},null,{"$f":"M166&M167&M168&M169&M170&M171","v":""},null,{"$f":"ISBLANK(Eingabevariablen!D168)","v":true},{"$f":"IF(Eingabevariablen!D168=\"\",\"\",Eingabevariablen!B168&\":  \"&Eingabevariablen!D168&\" t\"&CHAR(10))","v":""},null,{"$f":"R166&R167&R168&R169","v":""}]
[null,{"$f":"IF(Eingabevariablen!D125=\"\",\"\",Eingabevariablen!B125&\":  \"&Eingabevariablen!D125&\" kWh(el)\"&CHAR(10))","v":""},null,null,null,null,{"$f":"ISBLANK(Eingabevariablen!D145)","v":true},{"$f":"IF(Eingabevariablen!D145=\"\",\"\",Eingabevariablen!B145&\":  \"&Eingabevariablen!D145&\" kWh(Endenergie)\"&CHAR(10))","v":""},null,null,null,{"$f":"ISBLANK(Eingabevariablen!D161)","v":true},{"$f":"IF(Eingabevariablen!D161=\"\",\"\",Eingabevariablen!B161&\":  \"&Eingabevariablen!D161&\" t\"&CHAR(10))","v":""},null,null,null,{"$f":"ISBLANK(Eingabevariablen!D169)","v":true},{"$f":"IF(Eingabevariablen!D169=\"\",\"\",Eingabevariablen!B169&\":  \"&Eingabevariablen!D169&\" t\"&CHAR(10))","v":""}]
[null,{"$f":"IF(Eingabevariablen!D126=\"\",\"\",Eingabevariablen!B126&\":  \"&Eingabevariablen!D126&\" kWh(el)\"&CHAR(10))","v":""},null,null,null,null,{"$f":"ISBLANK(Eingabevariablen!D146)","v":true},{"$f":"IF(Eingabevariablen!D146=\"\",\"\",Eingabevariablen!B146&\":  \"&Eingabevariablen!D146&\" kWh(Endenergie)\"&CHAR(10))","v":""},null,null,null,{"$f":"ISBLANK(Eingabevariablen!D162)","v":true},{"$f":"IF(Eingabevariablen!D162=\"\",\"\",Eingabevariablen!B162&\":  \"&Eingabevariablen!D162&\" t\"&CHAR(10))","v":""},null,null,null,{"$f":"ISBLANK(Eingabevariablen!D170)","v":true},{"$f":"IF(Eingabevariablen!D170=\"\",\"\",Eingabevariablen!B170&\":  \"&Eingabevariablen!D170&\" t\"&CHAR(10))","v":""}]
[null,{"$f":"IF(Eingabevariablen!D127=\"\",\"\",Eingabevariablen!B127&\":  \"&Eingabevariablen!D127&\" kWh(el)\"&CHAR(10))","v":""},null,null,null,null,{"$f":"ISBLANK(Eingabevariablen!D147)","v":true},{"$f":"IF(Eingabevariablen!D147=\"\",\"\",Eingabevariablen!B147&\":  \"&Eingabevariablen!D147&\" kWh(Endenergie)\"&CHAR(10))","v":""},null,null,null,{"$f":"ISBLANK(Eingabevariablen!D163)","v":true},{"$f":"IF(Eingabevariablen!D163=\"\",\"\",Eingabevariablen!B163&\":  \"&Eingabevariablen!D163&\" t\"&CHAR(10))","v":""},null,null,null,{"$f":"ISBLANK(Eingabevariablen!D171)","v":true},{"$f":"IF(Eingabevariablen!D171=\"\",\"\",Eingabevariablen!B171&\":  \"&Eingabevariablen!D171&\" t\"&CHAR(10))","v":""}]
[null,{"$f":"IF(Eingabevariablen!D128=\"\",\"\",Eingabevariablen!B128&\":  \"&Eingabevariablen!D128&\" kWh(el)\"&CHAR(10))","v":""},null,null,null,null,{"$f":"ISBLANK(Eingabevariablen!D148)","v":true},{"$f":"IF(Eingabevariablen!D148=\"\",\"\",Eingabevariablen!B148&\":  \"&Eingabevariablen!D148&\" kWh(Endenergie)\"&CHAR(10))","v":""},null,null,null,{"$f":"ISBLANK(Eingabevariablen!D164)","v":true},{"$f":"IF(Eingabevariablen!D164=\"\",\"\",Eingabevariablen!B164&\":  \"&Eingabevariablen!D164&\" t\"&CHAR(10))","v":""}]
[null,{"$f":"IF(Eingabevariablen!D129=\"\",\"\",Eingabevariablen!B129&\":  \"&Eingabevariablen!D129&\" kWh(el)\"&CHAR(10))","v":""},null,null,null,null,{"$f":"ISBLANK(Eingabevariablen!D149)","v":true},{"$f":"IF(Eingabevariablen!D149=\"\",\"\",Eingabevariablen!B149&\":  \"&Eingabevariablen!D149&\" kWh(Endenergie)\"&CHAR(10))","v":""},null,null,null,{"$f":"ISBLANK(Eingabevariablen!D165)","v":true},{"$f":"IF(Eingabevariablen!D165=\"\",\"\",Eingabevariablen!B165&\":  \"&Eingabevariablen!D165&\" t\"&CHAR(10))","v":""}]
[null,{"$f":"IF(Eingabevariablen!D130=\"\",\"\",Eingabevariablen!B130&\":  \"&Eingabevariablen!D130&\" kWh(el)\"&CHAR(10))","v":""},null,null,null,null,{"$f":"ISBLANK(Eingabevariablen!D150)","v":true},{"$f":"IF(Eingabevariablen!D150=\"\",\"\",Eingabevariablen!B150&\":  \"&Eingabevariablen!D150&\" kWh(Endenergie)\"&CHAR(10))","v":""}]
[null,{"$f":"IF(Eingabevariablen!D131=\"\",\"\",Eingabevariablen!B131&\":  \"&Eingabevariablen!D131&\" kWh(el)\"&CHAR(10))","v":""},null,null,null,null,{"$f":"ISBLANK(Eingabevariablen!D151)","v":true},{"$f":"IF(Eingabevariablen!D151=\"\",\"\",Eingabevariablen!B151&\":  \"&Eingabevariablen!D151&\" kWh(Endenergie)\"&CHAR(10))","v":""}]
[null,{"$f":"IF(Eingabevariablen!D132=\"\",\"\",Eingabevariablen!B132&\":  \"&Eingabevariablen!D132&\" kWh(el)\"&CHAR(10))","v":""},null,null,null,null,{"$f":"ISBLANK(Eingabevariablen!D152)","v":true},{"$f":"IF(Eingabevariablen!D152=\"\",\"\",Eingabevariablen!B152&\":  \"&Eingabevariablen!D152&\" kWh(Endenergie)\"&CHAR(10))","v":""}]
[null,{"$f":"IF(Eingabevariablen!D133=\"\",\"\",Eingabevariablen!B133&\":  \"&Eingabevariablen!D133&\" kWh(el)\"&CHAR(10))","v":""},null,null,null,null,{"$f":"ISBLANK(Eingabevariablen!D153)","v":true},{"$f":"IF(Eingabevariablen!D153=\"\",\"\",Eingabevariablen!B153&\":  \"&Eingabevariablen!D153&\" kWh(Endenergie)\"&CHAR(10))","v":""}]
[null,{"$f":"IF(Eingabevariablen!D134=\"\",\"\",Eingabevariablen!B134&\":  \"&Eingabevariablen!D134&\" kWh(el)\"&CHAR(10))","v":""},null,null,null,null,{"$f":"ISBLANK(Eingabevariablen!D154)","v":true},{"$f":"IF(Eingabevariablen!D154=\"\",\"\",Eingabevariablen!B154&\":  \"&Eingabevariablen!D154&\" kWh(Endenergie)\"&CHAR(10))","v":""}]
[null,{"$f":"IF(Eingabevariablen!D135=\"\",\"\",Eingabevariablen!B135&\":  \"&Eingabevariablen!D135&\" kWh(el)\"&CHAR(10))","v":""},null,null,null,null,{"$f":"ISBLANK(Eingabevariablen!D155)","v":true},{"$f":"IF(Eingabevariablen!D155=\"\",\"\",Eingabevariablen!B155&\":  \"&Eingabevariablen!D155&\" kWh(Endenergie)\"&CHAR(10))","v":""}]
[null,{"$f":"IF(Eingabevariablen!D136=\"\",\"\",Eingabevariablen!B136&\":  \"&Eingabevariablen!D136&\" kWh(el)\"&CHAR(10))","v":""},null,null,null,null,{"$f":"ISBLANK(Eingabevariablen!D156)","v":true},{"$f":"IF(Eingabevariablen!D156=\"\",\"\",Eingabevariablen!B156&\":  \"&Eingabevariablen!D156&\" kWh(Endenergie)\"&CHAR(10))","v":""}]
[null,{"$f":"IF(Eingabevariablen!D137=\"\",\"\",Eingabevariablen!B137&\":  \"&Eingabevariablen!D137&\" kWh(el)\"&CHAR(10))","v":""},null,null,null,null,{"$f":"ISBLANK(Eingabevariablen!D157)","v":true},{"$f":"IF(Eingabevariablen!D157=\"\",\"\",Eingabevariablen!B157&\":  \"&Eingabevariablen!D157&\" kWh(Endenergie)\"&CHAR(10))","v":""}]
[null,{"$f":"IF(Eingabevariablen!D138=\"\",\"\",Eingabevariablen!B138&\":  \"&Eingabevariablen!D138&\" kWh(el)\"&CHAR(10))","v":""}]
[null,{"$f":"IF(Eingabevariablen!D139=\"\",\"\",Eingabevariablen!B139&\":  \"&Eingabevariablen!D139&\" kWh(el)\"&CHAR(10))","v":""}]
[null,{"$f":"IF(Eingabevariablen!D140=\"\",\"\",Eingabevariablen!B140&\":  \"&Eingabevariablen!D140&\" kWh(el)\"&CHAR(10))","v":""}]
[null,{"$f":"IF(Eingabevariablen!D141=\"\",\"\",Eingabevariablen!B141&\":  \"&Eingabevariablen!D141&\" kWh(el)\"&CHAR(10))","v":""}]
[]
[]
[null,"2. Verkehr"]
[null,"i. Verkehr: Fahrzeug-km"]
[null,"Ort unbekannt\n(Ø alle Strecken)","Innerorts","Außerorts","Autobahn",null,"Ort unbekannt\n(Ø alle Strecken)","Innerorts","Außerorts","Autobahn"]
[null,{"$f":"IF(Eingabevariablen!C66=\"\",\"\",Eingabevariablen!$B66&\":  \"&Eingabevariablen!C66&\" Fzkm\"&CHAR(10))","v":""},{"$f":"IF(Eingabevariablen!D66=\"\",\"\",Eingabevariablen!$B66&\":  \"&Eingabevariablen!D66&\" Fzkm\"&CHAR(10))","v":""},{"$f":"IF(Eingabevariablen!E66=\"\",\"\",Eingabevariablen!$B66&\":  \"&Eingabevariablen!E66&\" Fzkm\"&CHAR(10))","v":""},{"$f":"IF(Eingabevariablen!F66=\"\",\"\",Eingabevariablen!$B66&\":  \"&Eingabevariablen!F66&\" Fzkm\"&CHAR(10))","v":""},null,{"$f":"B189&B190&B191&B192&B193&B194&B195&B196&B197&B198&B199&B200&B201&B202","v":""},{"$f":"C189&C190&C191&C192&C193&C194&C195&C196&C197&C198&C199&C200&C201&C202","v":""},{"$f":"D189&D190&D191&D192&D193&D194&D195&D196&D197&D198&D199&D200&D201&D202","v":""},{"$f":"E189&E190&E191&E192&E193&E194&E195&E196&E197&E198&E199&E200&E201&E202","v":""}]
[null,{"$f":"IF(Eingabevariablen!C67=\"\",\"\",Eingabevariablen!$B67&\":  \"&Eingabevariablen!C67&\" Fzkm\"&CHAR(10))","v":""},{"$f":"IF(Eingabevariablen!D67=\"\",\"\",Eingabevariablen!$B67&\":  \"&Eingabevariablen!D67&\" Fzkm\"&CHAR(10))","v":""},{"$f":"IF(Eingabevariablen!E67=\"\",\"\",Eingabevariablen!$B67&\":  \"&Eingabevariablen!E67&\" Fzkm\"&CHAR(10))","v":""},{"$f":"IF(Eingabevariablen!F67=\"\",\"\",Eingabevariablen!$B67&\":  \"&Eingabevariablen!F67&\" Fzkm\"&CHAR(10))","v":""}]
[null,{"$f":"IF(Eingabevariablen!C68=\"\",\"\",Eingabevariablen!$B68&\":  \"&Eingabevariablen!C68&\" Fzkm\"&CHAR(10))","v":""},{"$f":"IF(Eingabevariablen!D68=\"\",\"\",Eingabevariablen!$B68&\":  \"&Eingabevariablen!D68&\" Fzkm\"&CHAR(10))","v":""},{"$f":"IF(Eingabevariablen!E68=\"\",\"\",Eingabevariablen!$B68&\":  \"&Eingabevariablen!E68&\" Fzkm\"&CHAR(10))","v":""},{"$f":"IF(Eingabevariablen!F68=\"\",\"\",Eingabevariablen!$B68&\":  \"&Eingabevariablen!F68&\" Fzkm\"&CHAR(10))","v":""}]
[null,{"$f":"IF(Eingabevariablen!C69=\"\",\"\",Eingabevariablen!$B69&\":  \"&Eingabevariablen!C69&\" Fzkm\"&CHAR(10))","v":""},{"$f":"IF(Eingabevariablen!D69=\"\",\"\",Eingabevariablen!$B69&\":  \"&Eingabevariablen!D69&\" Fzkm\"&CHAR(10))","v":""},{"$f":"IF(Eingabevariablen!E69=\"\",\"\",Eingabevariablen!$B69&\":  \"&Eingabevariablen!E69&\" Fzkm\"&CHAR(10))","v":""},{"$f":"IF(Eingabevariablen!F69=\"\",\"\",Eingabevariablen!$B69&\":  \"&Eingabevariablen!F69&\" Fzkm\"&CHAR(10))","v":""}]
[null,{"$f":"IF(Eingabevariablen!C70=\"\",\"\",Eingabevariablen!$B70&\":  \"&Eingabevariablen!C70&\" Fzkm\"&CHAR(10))","v":""},{"$f":"IF(Eingabevariablen!D70=\"\",\"\",Eingabevariablen!$B70&\":  \"&Eingabevariablen!D70&\" Fzkm\"&CHAR(10))","v":""},{"$f":"IF(Eingabevariablen!E70=\"\",\"\",Eingabevariablen!$B70&\":  \"&Eingabevariablen!E70&\" Fzkm\"&CHAR(10))","v":""},{"$f":"IF(Eingabevariablen!F70=\"\",\"\",Eingabevariablen!$B70&\":  \"&Eingabevariablen!F70&\" Fzkm\"&CHAR(10))","v":""}]
[null,{"$f":"IF(Eingabevariablen!C71=\"\",\"\",Eingabevariablen!$B71&\":  \"&Eingabevariablen!C71&\" Fzkm\"&CHAR(10))","v":""},{"$f":"IF(Eingabevariablen!D71=\"\",\"\",Eingabevariablen!$B71&\":  \"&Eingabevariablen!D71&\" Fzkm\"&CHAR(10))","v":""},{"$f":"IF(Eingabevariablen!E71=\"\",\"\",Eingabevariablen!$B71&\":  \"&Eingabevariablen!E71&\" Fzkm\"&CHAR(10))","v":""},{"$f":"IF(Eingabevariablen!F71=\"\",\"\",Eingabevariablen!$B71&\":  \"&Eingabevariablen!F71&\" Fzkm\"&CHAR(10))","v":""}]
[null,{"$f":"IF(Eingabevariablen!C72=\"\",\"\",Eingabevariablen!$B72&\":  \"&Eingabevariablen!C72&\" Fzkm\"&CHAR(10))","v":""},{"$f":"IF(Eingabevariablen!D72=\"\",\"\",Eingabevariablen!$B72&\":  \"&Eingabevariablen!D72&\" Fzkm\"&CHAR(10))","v":""},{"$f":"IF(Eingabevariablen!E72=\"\",\"\",Eingabevariablen!$B72&\":  \"&Eingabevariablen!E72&\" Fzkm\"&CHAR(10))","v":""},{"$f":"IF(Eingabevariablen!F72=\"\",\"\",Eingabevariablen!$B72&\":  \"&Eingabevariablen!F72&\" Fzkm\"&CHAR(10))","v":""}]
[null,{"$f":"IF(Eingabevariablen!C73=\"\",\"\",Eingabevariablen!$B73&\":  \"&Eingabevariablen!C73&\" Fzkm\"&CHAR(10))","v":""},{"$f":"IF(Eingabevariablen!D73=\"\",\"\",Eingabevariablen!$B73&\":  \"&Eingabevariablen!D73&\" Fzkm\"&CHAR(10))","v":""},{"$f":"IF(Eingabevariablen!E73=\"\",\"\",Eingabevariablen!$B73&\":  \"&Eingabevariablen!E73&\" Fzkm\"&CHAR(10))","v":""},{"$f":"IF(Eingabevariablen!F73=\"\",\"\",Eingabevariablen!$B73&\":  \"&Eingabevariablen!F73&\" Fzkm\"&CHAR(10))","v":""}]
[null,{"$f":"IF(Eingabevariablen!C95=\"\",\"\",Eingabevariablen!$B95&\":  \"&Eingabevariablen!C95&\" Fzkm\"&CHAR(10))","v":""},{"$f":"IF(Eingabevariablen!D95=\"\",\"\",Eingabevariablen!$B95&\":  \"&Eingabevariablen!D95&\" Fzkm\"&CHAR(10))","v":""},{"$f":"IF(Eingabevariablen!E95=\"\",\"\",Eingabevariablen!$B95&\":  \"&Eingabevariablen!E95&\" Fzkm\"&CHAR(10))","v":""}]
[null,{"$f":"IF(Eingabevariablen!C96=\"\",\"\",Eingabevariablen!$B96&\":  \"&Eingabevariablen!C96&\" Fzkm\"&CHAR(10))","v":""},{"$f":"IF(Eingabevariablen!D96=\"\",\"\",Eingabevariablen!$B96&\":  \"&Eingabevariablen!D96&\" Fzkm\"&CHAR(10))","v":""},{"$f":"IF(Eingabevariablen!E96=\"\",\"\",Eingabevariablen!$B96&\":  \"&Eingabevariablen!E96&\" Fzkm\"&CHAR(10))","v":""}]
[null,{"$f":"IF(Eingabevariablen!C97=\"\",\"\",Eingabevariablen!$B97&\":  \"&Eingabevariablen!C97&\" Fzkm\"&CHAR(10))","v":""},{"$f":"IF(Eingabevariablen!D97=\"\",\"\",Eingabevariablen!$B97&\":  \"&Eingabevariablen!D97&\" Fzkm\"&CHAR(10))","v":""},{"$f":"IF(Eingabevariablen!E97=\"\",\"\",Eingabevariablen!$B97&\":  \"&Eingabevariablen!E97&\" Fzkm\"&CHAR(10))","v":""}]
[null,{"$f":"IF(Eingabevariablen!C98=\"\",\"\",Eingabevariablen!$B98&\":  \"&Eingabevariablen!C98&\" Fzkm\"&CHAR(10))","v":""},{"$f":"IF(Eingabevariablen!D98=\"\",\"\",Eingabevariablen!$B98&\":  \"&Eingabevariablen!D98&\" Fzkm\"&CHAR(10))","v":""},{"$f":"IF(Eingabevariablen!E98=\"\",\"\",Eingabevariablen!$B98&\":  \"&Eingabevariablen!E98&\" Fzkm\"&CHAR(10))","v":""}]
[null,{"$f":"IF(Eingabevariablen!D109=\"\",\"\",Eingabevariablen!$B109&\":  \"&Eingabevariablen!D109&\" Fzkm\"&CHAR(10))","v":""}]
[null,{"$f":"IF(Eingabevariablen!D113=\"\",\"\",Eingabevariablen!$B113&\":  \"&Eingabevariablen!D113&\" Fzkm\"&CHAR(10))","v":""}]
[]
[]
[null,"Wirkungskategorien"]
[null,"1. Luftschadstoffemissionen"]
[null,"Quelle unbekannt","Verkehr",null,"Kraftwerk/Energie","Industrie","Kleinfeuerung",null,null,"Quelle unbekannt","Verkehr",null,"Kraftwerk/Energie","Industrie","Kleinfeuerung"]
[null,null,"Innerorts (Durchschnitt)","Außerorts",null,null,"Innerorts","Außerorts",null,null,"Innerorts (Durchschnitt)","Außerorts",null,null,"Innerorts","Außerorts"]
[null,{"$f":"IF(Eingabevariablen!C216=\"\",\"\",\"Partikel PM10:  \"&Eingabevariablen!C216&\" t\"&CHAR(10))","v":""},{"$f":"IF(Eingabevariablen!D216=\"\",\"\",\"Partikel PM10:  \"&Eingabevariablen!D216&\" t\"&CHAR(10))","v":""},{"$f":"IF(Eingabevariablen!E216=\"\",\"\",\"Partikel PM10:  \"&Eingabevariablen!E216&\" t\"&CHAR(10))","v":""},{"$f":"IF(Eingabevariablen!F216=\"\",\"\",\"Partikel PM10:  \"&Eingabevariablen!F216&\" t\"&CHAR(10))","v":""},{"$f":"IF(Eingabevariablen!G216=\"\",\"\",\"Partikel PM10:  \"&Eingabevariablen!G216&\" t\"&CHAR(10))","v":""},{"$f":"IF(Eingabevariablen!H216=\"\",\"\",\"Partikel PM10:  \"&Eingabevariablen!H216&\" t\"&CHAR(10))","v":""},{"$f":"IF(Eingabevariablen!I216=\"\",\"\",\"Partikel PM10:  \"&Eingabevariablen!I216&\" t\"&CHAR(10))","v":""},null,{"$f":"B209&B210&B211&B212&B213&B214","v":""},{"$f":"C209&C210&C211&C212&C213&C214","v":""},{"$f":"D209&D210&D211&D212&D213&D214","v":""},{"$f":"E209&E210&E211&E212&E213&E214","v":""},{"$f":"F209&F210&F211&F212&F213&F214","v":""},{"$f":"G209&G210&G211&G212&G213&G214","v":""},{"$f":"H209&H210&H211&H212&H213&H214","v":""}]
[null,{"$f":"IF(Eingabevariablen!C217=\"\",\"\",\"Partikel PM10:  \"&Eingabevariablen!C217&\" t\"&CHAR(10))","v":""},{"$f":"IF(Eingabevariablen!D217=\"\",\"\",\"Partikel PM10:  \"&Eingabevariablen!D217&\" t\"&CHAR(10))","v":""},{"$f":"IF(Eingabevariablen!E217=\"\",\"\",\"Partikel PM10:  \"&Eingabevariablen!E217&\" t\"&CHAR(10))","v":""},{"$f":"IF(Eingabevariablen!F217=\"\",\"\",\"Partikel PM10:  \"&Eingabevariablen!F217&\" t\"&CHAR(10))","v":""},{"$f":"IF(Eingabevariablen!G217=\"\",\"\",\"Partikel PM10:  \"&Eingabevariablen!G217&\" t\"&CHAR(10))","v":""},{"$f":"IF(Eingabevariablen!H217=\"\",\"\",\"Partikel PM10:  \"&Eingabevariablen!H217&\" t\"&CHAR(10))","v":""},{"$f":"IF(Eingabevariablen!I217=\"\",\"\",\"Partikel PM10:  \"&Eingabevariablen!I217&\" t\"&CHAR(10))","v":""}]
[null,{"$f":"IF(Eingabevariablen!C218=\"\",\"\",\"Partikel PM10:  \"&Eingabevariablen!C218&\" t\"&CHAR(10))","v":""},{"$f":"IF(Eingabevariablen!D218=\"\",\"\",\"Partikel PM10:  \"&Eingabevariablen!D218&\" t\"&CHAR(10))","v":""},{"$f":"IF(Eingabevariablen!E218=\"\",\"\",\"Partikel PM10:  \"&Eingabevariablen!E218&\" t\"&CHAR(10))","v":""},{"$f":"IF(Eingabevariablen!F218=\"\",\"\",\"Partikel PM10:  \"&Eingabevariablen!F218&\" t\"&CHAR(10))","v":""},{"$f":"IF(Eingabevariablen!G218=\"\",\"\",\"Partikel PM10:  \"&Eingabevariablen!G218&\" t\"&CHAR(10))","v":""},{"$f":"IF(Eingabevariablen!H218=\"\",\"\",\"Partikel PM10:  \"&Eingabevariablen!H218&\" t\"&CHAR(10))","v":""},{"$f":"IF(Eingabevariablen!I218=\"\",\"\",\"Partikel PM10:  \"&Eingabevariablen!I218&\" t\"&CHAR(10))","v":""}]
[null,{"$f":"IF(Eingabevariablen!C219=\"\",\"\",\"Partikel PM10:  \"&Eingabevariablen!C219&\" t\"&CHAR(10))","v":""},{"$f":"IF(Eingabevariablen!D219=\"\",\"\",\"Partikel PM10:  \"&Eingabevariablen!D219&\" t\"&CHAR(10))","v":""},{"$f":"IF(Eingabevariablen!E219=\"\",\"\",\"Partikel PM10:  \"&Eingabevariablen!E219&\" t\"&CHAR(10))","v":""},{"$f":"IF(Eingabevariablen!F219=\"\",\"\",\"Partikel PM10:  \"&Eingabevariablen!F219&\" t\"&CHAR(10))","v":""},{"$f":"IF(Eingabevariablen!G219=\"\",\"\",\"Partikel PM10:  \"&Eingabevariablen!G219&\" t\"&CHAR(10))","v":""},{"$f":"IF(Eingabevariablen!H219=\"\",\"\",\"Partikel PM10:  \"&Eingabevariablen!H219&\" t\"&CHAR(10))","v":""},{"$f":"IF(Eingabevariablen!I219=\"\",\"\",\"Partikel PM10:  \"&Eingabevariablen!I219&\" t\"&CHAR(10))","v":""}]
[null,{"$f":"IF(Eingabevariablen!C220=\"\",\"\",\"Partikel PM10:  \"&Eingabevariablen!C220&\" t\"&CHAR(10))","v":""},{"$f":"IF(Eingabevariablen!D220=\"\",\"\",\"Partikel PM10:  \"&Eingabevariablen!D220&\" t\"&CHAR(10))","v":""},{"$f":"IF(Eingabevariablen!E220=\"\",\"\",\"Partikel PM10:  \"&Eingabevariablen!E220&\" t\"&CHAR(10))","v":""},{"$f":"IF(Eingabevariablen!F220=\"\",\"\",\"Partikel PM10:  \"&Eingabevariablen!F220&\" t\"&CHAR(10))","v":""},{"$f":"IF(Eingabevariablen!G220=\"\",\"\",\"Partikel PM10:  \"&Eingabevariablen!G220&\" t\"&CHAR(10))","v":""},{"$f":"IF(Eingabevariablen!H220=\"\",\"\",\"Partikel PM10:  \"&Eingabevariablen!H220&\" t\"&CHAR(10))","v":""},{"$f":"IF(Eingabevariablen!I220=\"\",\"\",\"Partikel PM10:  \"&Eingabevariablen!I220&\" t\"&CHAR(10))","v":""}]
[null,{"$f":"IF(Eingabevariablen!C221=\"\",\"\",\"Partikel PM10:  \"&Eingabevariablen!C221&\" t\"&CHAR(10))","v":""},{"$f":"IF(Eingabevariablen!D221=\"\",\"\",\"Partikel PM10:  \"&Eingabevariablen!D221&\" t\"&CHAR(10))","v":""},{"$f":"IF(Eingabevariablen!E221=\"\",\"\",\"Partikel PM10:  \"&Eingabevariablen!E221&\" t\"&CHAR(10))","v":""},{"$f":"IF(Eingabevariablen!F221=\"\",\"\",\"Partikel PM10:  \"&Eingabevariablen!F221&\" t\"&CHAR(10))","v":""},{"$f":"IF(Eingabevariablen!G221=\"\",\"\",\"Partikel PM10:  \"&Eingabevariablen!G221&\" t\"&CHAR(10))","v":""},{"$f":"IF(Eingabevariablen!H221=\"\",\"\",\"Partikel PM10:  \"&Eingabevariablen!H221&\" t\"&CHAR(10))","v":""},{"$f":"IF(Eingabevariablen!I221=\"\",\"\",\"Partikel PM10:  \"&Eingabevariablen!I221&\" t\"&CHAR(10))","v":""}]
[]
[]
[null,"2. Treibhausgasemissionen"]
[null,{"$f":"IF(Eingabevariablen!D238=\"\",\"\",Eingabevariablen!$B238&\":  \"&Eingabevariablen!D238&\" t\"&CHAR(10))","v":""},null,{"$f":"B218&B219&B220&B221","v":""}]
[null,{"$f":"IF(Eingabevariablen!D239=\"\",\"\",Eingabevariablen!$B239&\":  \"&Eingabevariablen!D239&\" t\"&CHAR(10))","v":""}]
[null,{"$f":"IF(Eingabevariablen!D240=\"\",\"\",Eingabevariablen!$B240&\":  \"&Eingabevariablen!D240&\" t\"&CHAR(10))","v":""}]
[null,{"$f":"IF(Eingabevariablen!D241=\"\",\"\",Eingabevariablen!$B241&\":  \"&Eingabevariablen!D241&\" t\"&CHAR(10))","v":""}]
[]
[]
[null,"3. Lärmemissionen"]
[null,"Quelle: Verkehr",null,null,"Quelle: unbekannt",null,"Quelle: Verkehr",null,null,"Quelle: unbekannt"]
[null,"Strassenverkehr","Schienenverkehr","Luftverkehr",null,null,"Strassenverkehr","Schienenverkehr","Luftverkehr"]
[null,{"$f":"IF(Eingabevariablen!C262=\"\",\"\",Eingabevariablen!$B262&\":  \"&Eingabevariablen!C262&\" Personen\"&CHAR(10))","v":""},{"$f":"IF(Eingabevariablen!D262=\"\",\"\",Eingabevariablen!$B262&\":  \"&Eingabevariablen!D262&\" Personen\"&CHAR(10))","v":""},{"$f":"IF(Eingabevariablen!E262=\"\",\"\",Eingabevariablen!$B262&\":  \"&Eingabevariablen!E262&\" Personen\"&CHAR(10))","v":""},{"$f":"IF(Eingabevariablen!F262=\"\",\"\",Eingabevariablen!$B262&\":  \"&Eingabevariablen!F262&\" Personen\"&CHAR(10))","v":""},null,{"$f":"B227&B228&B229&B230&B231&B232&B233&B234&B235","v":""},{"$f":"C227&C228&C229&C230&C231&C232&C233&C234&C235","v":""},{"$f":"D227&D228&D229&D230&D231&D232&D233&D234&D235","v":""},{"$f":"E227&E228&E229&E230&E231&E232&E233&E234&E235","v":""}]
[null,{"$f":"IF(Eingabevariablen!C263=\"\",\"\",Eingabevariablen!$B263&\":  \"&Eingabevariablen!C263&\" Personen\"&CHAR(10))","v":""},{"$f":"IF(Eingabevariablen!D263=\"\",\"\",Eingabevariablen!$B263&\":  \"&Eingabevariablen!D263&\" Personen\"&CHAR(10))","v":""},{"$f":"IF(Eingabevariablen!E263=\"\",\"\",Eingabevariablen!$B263&\":  \"&Eingabevariablen!E263&\" Personen\"&CHAR(10))","v":""},{"$f":"IF(Eingabevariablen!F263=\"\",\"\",Eingabevariablen!$B263&\":  \"&Eingabevariablen!F263&\" Personen\"&CHAR(10))","v":""}]
[null,{"$f":"IF(Eingabevariablen!C264=\"\",\"\",Eingabevariablen!$B264&\":  \"&Eingabevariablen!C264&\" Personen\"&CHAR(10))","v":""},{"$f":"IF(Eingabevariablen!D264=\"\",\"\",Eingabevariablen!$B264&\":  \"&Eingabevariablen!D264&\" Personen\"&CHAR(10))","v":""},{"$f":"IF(Eingabevariablen!E264=\"\",\"\",Eingabevariablen!$B264&\":  \"&Eingabevariablen!E264&\" Personen\"&CHAR(10))","v":""},{"$f":"IF(Eingabevariablen!F264=\"\",\"\",Eingabevariablen!$B264&\":  \"&Eingabevariablen!F264&\" Personen\"&CHAR(10))","v":""}]
[null,{"$f":"IF(Eingabevariablen!C265=\"\",\"\",Eingabevariablen!$B265&\":  \"&Eingabevariablen!C265&\" Personen\"&CHAR(10))","v":""},{"$f":"IF(Eingabevariablen!D265=\"\",\"\",Eingabevariablen!$B265&\":  \"&Eingabevariablen!D265&\" Personen\"&CHAR(10))","v":""},{"$f":"IF(Eingabevariablen!E265=\"\",\"\",Eingabevariablen!$B265&\":  \"&Eingabevariablen!E265&\" Personen\"&CHAR(10))","v":""},{"$f":"IF(Eingabevariablen!F265=\"\",\"\",Eingabevariablen!$B265&\":  \"&Eingabevariablen!F265&\" Personen\"&CHAR(10))","v":""}]
[null,{"$f":"IF(Eingabevariablen!C266=\"\",\"\",Eingabevariablen!$B266&\":  \"&Eingabevariablen!C266&\" Personen\"&CHAR(10))","v":""},{"$f":"IF(Eingabevariablen!D266=\"\",\"\",Eingabevariablen!$B266&\":  \"&Eingabevariablen!D266&\" Personen\"&CHAR(10))","v":""},{"$f":"IF(Eingabevariablen!E266=\"\",\"\",Eingabevariablen!$B266&\":  \"&Eingabevariablen!E266&\" Personen\"&CHAR(10))","v":""},{"$f":"IF(Eingabevariablen!F266=\"\",\"\",Eingabevariablen!$B266&\":  \"&Eingabevariablen!F266&\" Personen\"&CHAR(10))","v":""}]
[null,{"$f":"IF(Eingabevariablen!C267=\"\",\"\",Eingabevariablen!$B267&\":  \"&Eingabevariablen!C267&\" Personen\"&CHAR(10))","v":""},{"$f":"IF(Eingabevariablen!D267=\"\",\"\",Eingabevariablen!$B267&\":  \"&Eingabevariablen!D267&\" Personen\"&CHAR(10))","v":""},{"$f":"IF(Eingabevariablen!E267=\"\",\"\",Eingabevariablen!$B267&\":  \"&Eingabevariablen!E267&\" Personen\"&CHAR(10))","v":""},{"$f":"IF(Eingabevariablen!F267=\"\",\"\",Eingabevariablen!$B267&\":  \"&Eingabevariablen!F267&\" Personen\"&CHAR(10))","v":""}]
[null,{"$f":"IF(Eingabevariablen!C268=\"\",\"\",Eingabevariablen!$B268&\":  \"&Eingabevariablen!C268&\" Personen\"&CHAR(10))","v":""},{"$f":"IF(Eingabevariablen!D268=\"\",\"\",Eingabevariablen!$B268&\":  \"&Eingabevariablen!D268&\" Personen\"&CHAR(10))","v":""},{"$f":"IF(Eingabevariablen!E268=\"\",\"\",Eingabevariablen!$B268&\":  \"&Eingabevariablen!E268&\" Personen\"&CHAR(10))","v":""},{"$f":"IF(Eingabevariablen!F268=\"\",\"\",Eingabevariablen!$B268&\":  \"&Eingabevariablen!F268&\" Personen\"&CHAR(10))","v":""}]
[null,{"$f":"IF(Eingabevariablen!C269=\"\",\"\",Eingabevariablen!$B269&\":  \"&Eingabevariablen!C269&\" Personen\"&CHAR(10))","v":""},{"$f":"IF(Eingabevariablen!D269=\"\",\"\",Eingabevariablen!$B269&\":  \"&Eingabevariablen!D269&\" Personen\"&CHAR(10))","v":""},{"$f":"IF(Eingabevariablen!E269=\"\",\"\",Eingabevariablen!$B269&\":  \"&Eingabevariablen!E269&\" Personen\"&CHAR(10))","v":""},{"$f":"IF(Eingabevariablen!F269=\"\",\"\",Eingabevariablen!$B269&\":  \"&Eingabevariablen!F269&\" Personen\"&CHAR(10))","v":""}]
[null,{"$f":"IF(Eingabevariablen!C270=\"\",\"\",Eingabevariablen!$B270&\":  \"&Eingabevariablen!C270&\" Personen\"&CHAR(10))","v":""},{"$f":"IF(Eingabevariablen!D270=\"\",\"\",Eingabevariablen!$B270&\":  \"&Eingabevariablen!D270&\" Personen\"&CHAR(10))","v":""},{"$f":"IF(Eingabevariablen!E270=\"\",\"\",Eingabevariablen!$B270&\":  \"&Eingabevariablen!E270&\" Personen\"&CHAR(10))","v":""},{"$f":"IF(Eingabevariablen!F270=\"\",\"\",Eingabevariablen!$B270&\":  \"&Eingabevariablen!F270&\" Personen\"&CHAR(10))","v":""}]
[]
[]
[null,"4. Beeinträchtigung von Ökosystemen"]
[]
[null,"a. Flächenumwandlung, Verbauung natürlicher Flächen, Versiegelung",null,"Versiegelte / verbaute Fläche:"]
[null,{"$f":"IF(Eingabevariablen!D306=\"\",\"\",Eingabevariablen!$B306&\":  \"&Eingabevariablen!D306&\" km2\"&CHAR(10))","v":""},null,{"$f":"B241","v":""}]
[]
[null,"b. Landnutzungsänderung, Nutzungsintenvisierung",null,"Veränderte Landnutzung:"]
[null,{"$f":"IF(Eingabevariablen!D178=\"\",\"\",Eingabevariablen!$B178&\":  \"&Eingabevariablen!D178&\" km2\"&CHAR(10)&Eingabevariablen!B179&\":  \"&Eingabevariablen!C179&CHAR(10)&Eingabevariablen!B180&\":  \"&Eingabevariablen!C180)","v":""},null,{"$f":"B244","v":""}]
[]
[null,"c. Nährstoffeintrag",null,"Nährstoffeintrag in Umwelt:"]
[null,{"$f":"IF(Eingabevariablen!D184=\"\",\"\",Eingabevariablen!$B184&\":  \"&Eingabevariablen!D184&\" t\"&CHAR(10))","v":""},null,{"$f":"B247","v":""}]
[]
[null,"d. Schadstoffeinträge ins Meer",null,"ins Meer eingetragene Schadstoffmengen:"]
[null,{"$f":"IF(Eingabevariablen!D289=\"\",\"\",Eingabevariablen!$B289&\":  \"&Eingabevariablen!D289&\" t\"&CHAR(10))","v":""},null,{"$f":"B250&B251&B252","v":""}]
[null,{"$f":"IF(Eingabevariablen!D290=\"\",\"\",Eingabevariablen!$B290&\":  \"&Eingabevariablen!D290&\" t\"&CHAR(10))","v":""}]
[null,{"$f":"IF(Eingabevariablen!D291=\"\",\"\",Eingabevariablen!$B291&\":  \"&Eingabevariablen!D291&\" t\"&CHAR(10))","v":""}]
[]
[null,"e. Zerschneidung der Landschaft durch Verkehrswege",null,"Länge der Verkehrswege:"]
[null,{"$f":"IF(Eingabevariablen!D297=\"\",\"\",Eingabevariablen!$B297&\":  \"&Eingabevariablen!D297&\" km\"&CHAR(10))","v":""},null,{"$f":"B255&B256&B257&B258&B259&B260","v":""}]
[null,{"$f":"IF(Eingabevariablen!D298=\"\",\"\",Eingabevariablen!$B298&\":  \"&Eingabevariablen!D298&\" km\"&CHAR(10))","v":""}]
[null,{"$f":"IF(Eingabevariablen!D299=\"\",\"\",Eingabevariablen!$B299&\":  \"&Eingabevariablen!D299&\" km\"&CHAR(10))","v":""}]
[null,{"$f":"IF(Eingabevariablen!D300=\"\",\"\",Eingabevariablen!$B300&\":  \"&Eingabevariablen!D300&\" km\"&CHAR(10))","v":""}]
[null,{"$f":"IF(Eingabevariablen!D301=\"\",\"\",Eingabevariablen!$B301&\":  \"&Eingabevariablen!D301&\" km\"&CHAR(10))","v":""}]
[null,{"$f":"IF(Eingabevariablen!D302=\"\",\"\",Eingabevariablen!$B302&\":  \"&Eingabevariablen!D302&\" km\"&CHAR(10))","v":""}]
[]
[]
[null,"5. Emission toxischer Stoffe"]
[null,{"$f":"IF(Eingabevariablen!D313=\"\",\"\",Eingabevariablen!$B313&\":  \"&Eingabevariablen!D313&\" t\"&CHAR(10))","v":""},null,{"$f":"B264&B265&B266&B267&B268&B269","v":""},{"$f":"B271&B272&B273&B274&B275","v":""}]
[null,{"$f":"IF(Eingabevariablen!D314=\"\",\"\",Eingabevariablen!$B314&\":  \"&Eingabevariablen!D314&\" t\"&CHAR(10))","v":""}]
[null,{"$f":"IF(Eingabevariablen!D315=\"\",\"\",Eingabevariablen!$B315&\":  \"&Eingabevariablen!D315&\" t\"&CHAR(10))","v":""}]
[null,{"$f":"IF(Eingabevariablen!D316=\"\",\"\",Eingabevariablen!$B316&\":  \"&Eingabevariablen!D316&\" t\"&CHAR(10))","v":""}]
[null,{"$f":"IF(Eingabevariablen!D317=\"\",\"\",Eingabevariablen!$B317&\":  \"&Eingabevariablen!D317&\" t\"&CHAR(10))","v":""}]
[null,{"$f":"IF(Eingabevariablen!D318=\"\",\"\",Eingabevariablen!$B318&\":  \"&Eingabevariablen!D318&\" t\"&CHAR(10))","v":""}]
[]
[null,{"$f":"IF(Eingabevariablen!D320=\"\",\"\",Eingabevariablen!$B320&\":  \"&Eingabevariablen!D320&\" t\"&CHAR(10))","v":""}]
[null,{"$f":"IF(Eingabevariablen!D321=\"\",\"\",Eingabevariablen!$B321&\":  \"&Eingabevariablen!D321&\" t\"&CHAR(10))","v":""}]
[null,{"$f":"IF(Eingabevariablen!D322=\"\",\"\",Eingabevariablen!$B322&\":  \"&Eingabevariablen!D322&\" t\"&CHAR(10))","v":""}]
[null,{"$f":"IF(Eingabevariablen!D323=\"\",\"\",Eingabevariablen!$B323&\":  \"&Eingabevariablen!D323&\" t\"&CHAR(10))","v":""}]
[null,{"$f":"IF(Eingabevariablen!D324=\"\",\"\",Eingabevariablen!$B324&\":  \"&Eingabevariablen!D324&\" t\"&CHAR(10))","v":""}]
[]
[]
[null,"6. Indirekte Effekte vor- und nachgelagerte Prozesse"]
[null,{"$f":"IF(Eingabevariablen!D330=\"\",\"\",Eingabevariablen!$B330&\":  \"&Eingabevariablen!D330&\" t\"&CHAR(10))","v":""},null,{"$f":"B279&B280&B281&B282&B283&B284","v":""},{"$f":"B285&B286&B287&B288&B289","v":""}]
[null,{"$f":"IF(Eingabevariablen!D331=\"\",\"\",Eingabevariablen!$B331&\":  \"&Eingabevariablen!D331&\" t\"&CHAR(10))","v":""}]
[null,{"$f":"IF(Eingabevariablen!D332=\"\",\"\",Eingabevariablen!$B332&\":  \"&Eingabevariablen!D332&\" t\"&CHAR(10))","v":""}]
[null,{"$f":"IF(Eingabevariablen!D333=\"\",\"\",Eingabevariablen!$B333&\":  \"&Eingabevariablen!D333&\" t\"&CHAR(10))","v":""}]
[null,{"$f":"IF(Eingabevariablen!D334=\"\",\"\",Eingabevariablen!$B334&\":  \"&Eingabevariablen!D334&\" t\"&CHAR(10))","v":""}]
[null,{"$f":"IF(Eingabevariablen!D335=\"\",\"\",Eingabevariablen!$B335&\":  \"&Eingabevariablen!D335&\" t\"&CHAR(10))","v":""}]
[null,{"$f":"IF(Eingabevariablen!D336=\"\",\"\",Eingabevariablen!$B336&\":  \"&Eingabevariablen!D336&\" t\"&CHAR(10))","v":""}]
[null,{"$f":"IF(Eingabevariablen!D337=\"\",\"\",Eingabevariablen!$B337&\":  \"&Eingabevariablen!D337&\" t\"&CHAR(10))","v":""}]
[null,{"$f":"IF(Eingabevariablen!D338=\"\",\"\",Eingabevariablen!$B338&\":  \"&Eingabevariablen!D338&\" t\"&CHAR(10))","v":""}]
[null,{"$f":"IF(Eingabevariablen!D339=\"\",\"\",Eingabevariablen!$B339&\":  \"&Eingabevariablen!D339&\" t\"&CHAR(10))","v":""}]
[null,{"$f":"IF(Eingabevariablen!D340=\"\",\"\",Eingabevariablen!$B340&\":  \"&Eingabevariablen!D340&\" t\"&CHAR(10))","v":""}]
[]
[]
[null,"9. Unfälle",null,"Anzahl Unfallopfer (aus Verkehrsunfällen)","Anzahl Verkehrsunfälle"]
[null,{"$f":"IF(Eingabevariablen!D346=\"\",\"\",Eingabevariablen!$B346&\":  \"&Eingabevariablen!D346&\"\"&CHAR(10))","v":""},null,{"$f":"B293&B294&B295","v":""},{"$f":"B298&B299&B300&B301&B302&B303&B304&B305&B306&B307","v":""}]
[null,{"$f":"IF(Eingabevariablen!D347=\"\",\"\",Eingabevariablen!$B347&\":  \"&Eingabevariablen!D347&\"\"&CHAR(10))","v":""}]
[null,{"$f":"IF(Eingabevariablen!D348=\"\",\"\",Eingabevariablen!$B348&\":  \"&Eingabevariablen!D348&\"\"&CHAR(10))","v":""}]
[]
[]
[null,{"$f":"IF(Eingabevariablen!D351=\"\",\"\",Eingabevariablen!$B351&\":  \"&Eingabevariablen!D351&\"\"&CHAR(10))","v":""}]
[null,{"$f":"IF(Eingabevariablen!D352=\"\",\"\",Eingabevariablen!$B352&\":  \"&Eingabevariablen!D352&\"\"&CHAR(10))","v":""}]
[null,{"$f":"IF(Eingabevariablen!D353=\"\",\"\",Eingabevariablen!$B353&\":  \"&Eingabevariablen!D353&\"\"&CHAR(10))","v":""}]
[null,{"$f":"IF(Eingabevariablen!D354=\"\",\"\",Eingabevariablen!$B354&\":  \"&Eingabevariablen!D354&\"\"&CHAR(10))","v":""}]
[null,{"$f":"IF(Eingabevariablen!D355=\"\",\"\",Eingabevariablen!$B355&\":  \"&Eingabevariablen!D355&\"\"&CHAR(10))","v":""}]
[null,{"$f":"IF(Eingabevariablen!D356=\"\",\"\",Eingabevariablen!$B356&\":  \"&Eingabevariablen!D356&\"\"&CHAR(10))","v":""}]
[null,{"$f":"IF(Eingabevariablen!D357=\"\",\"\",Eingabevariablen!$B357&\":  \"&Eingabevariablen!D357&\"\"&CHAR(10))","v":""}]
[null,{"$f":"IF(Eingabevariablen!D358=\"\",\"\",Eingabevariablen!$B358&\":  \"&Eingabevariablen!D358&\"\"&CHAR(10))","v":""}]
[null,{"$f":"IF(Eingabevariablen!D359=\"\",\"\",Eingabevariablen!$B359&\":  \"&Eingabevariablen!D359&\"\"&CHAR(10))","v":""}]
[null,{"$f":"IF(Eingabevariablen!D360=\"\",\"\",Eingabevariablen!$B360&\":  \"&Eingabevariablen!D360&\"\"&CHAR(10))","v":""}]
[]
[]
[null,{"$f":"\"Zeitpunkt 3: \"&Eingabevariablen!D7","v":"Zeitpunkt 3: "}]
[]
[null,"Aktivitäten"]
[null,"1. Energie"]
[null,"i. Strommenge",null,null,null,null,"ii. Energie: Wärmemenge",null,null,null,null,"iii. Brennstoffmenge",null,null,null,null,"iv. Kraftstoffmenge"]
[null,{"$f":"IF(Eingabevariablen!E124=\"\",\"\",Eingabevariablen!B124&\":  \"&Eingabevariablen!E124&\" kWh(el)\"&CHAR(10))","v":""},null,{"$f":"B315&B316&B317&B318&B319&B320&B321&B322&B323&B324&B325&B326&B327&B328&B329&B330&B331&B332","v":""},null,null,{"$f":"ISBLANK(Eingabevariablen!E144)","v":true},{"$f":"IF(Eingabevariablen!E144=\"\",\"\",Eingabevariablen!B144&\":  \"&Eingabevariablen!E144&\" kWh(Endenergie)\"&CHAR(10))","v":""},null,{"$f":"H315&H316&H317&H318&H319&H320&H321&H322&H323&H324&H325&H326&H327&H328","v":""},null,{"$f":"ISBLANK(Eingabevariablen!E160)","v":true},{"$f":"IF(Eingabevariablen!E160=\"\",\"\",Eingabevariablen!B160&\":  \"&Eingabevariablen!E160&\" t\"&CHAR(10))","v":""},null,{"$f":"M315&M316&M317&M318&M319&M320","v":""},null,{"$f":"ISBLANK(Eingabevariablen!E168)","v":true},{"$f":"IF(Eingabevariablen!E168=\"\",\"\",Eingabevariablen!B168&\":  \"&Eingabevariablen!E168&\" t\"&CHAR(10))","v":""},null,{"$f":"R315&R316&R317&R318","v":""}]
[null,{"$f":"IF(Eingabevariablen!E125=\"\",\"\",Eingabevariablen!B125&\":  \"&Eingabevariablen!E125&\" kWh(el)\"&CHAR(10))","v":""},null,null,null,null,{"$f":"ISBLANK(Eingabevariablen!E145)","v":true},{"$f":"IF(Eingabevariablen!E145=\"\",\"\",Eingabevariablen!B145&\":  \"&Eingabevariablen!E145&\" kWh(Endenergie)\"&CHAR(10))","v":""},null,null,null,{"$f":"ISBLANK(Eingabevariablen!E161)","v":true},{"$f":"IF(Eingabevariablen!E161=\"\",\"\",Eingabevariablen!B161&\":  \"&Eingabevariablen!E161&\" t\"&CHAR(10))","v":""},null,null,null,{"$f":"ISBLANK(Eingabevariablen!E169)","v":true},{"$f":"IF(Eingabevariablen!E169=\"\",\"\",Eingabevariablen!B169&\":  \"&Eingabevariablen!E169&\" t\"&CHAR(10))","v":""}]
[null,{"$f":"IF(Eingabevariablen!E126=\"\",\"\",Eingabevariablen!B126&\":  \"&Eingabevariablen!E126&\" kWh(el)\"&CHAR(10))","v":""},null,null,null,null,{"$f":"ISBLANK(Eingabevariablen!E146)","v":true},{"$f":"IF(Eingabevariablen!E146=\"\",\"\",Eingabevariablen!B146&\":  \"&Eingabevariablen!E146&\" kWh(Endenergie)\"&CHAR(10))","v":""},null,null,null,{"$f":"ISBLANK(Eingabevariablen!E162)","v":true},{"$f":"IF(Eingabevariablen!E162=\"\",\"\",Eingabevariablen!B162&\":  \"&Eingabevariablen!E162&\" t\"&CHAR(10))","v":""},null,null,null,{"$f":"ISBLANK(Eingabevariablen!E170)","v":true},{"$f":"IF(Eingabevariablen!E170=\"\",\"\",Eingabevariablen!B170&\":  \"&Eingabevariablen!E170&\" t\"&CHAR(10))","v":""}]
[null,{"$f":"IF(Eingabevariablen!E127=\"\",\"\",Eingabevariablen!B127&\":  \"&Eingabevariablen!E127&\" kWh(el)\"&CHAR(10))","v":""},null,null,null,null,{"$f":"ISBLANK(Eingabevariablen!E147)","v":true},{"$f":"IF(Eingabevariablen!E147=\"\",\"\",Eingabevariablen!B147&\":  \"&Eingabevariablen!E147&\" kWh(Endenergie)\"&CHAR(10))","v":""},null,null,null,{"$f":"ISBLANK(Eingabevariablen!E163)","v":true},{"$f":"IF(Eingabevariablen!E163=\"\",\"\",Eingabevariablen!B163&\":  \"&Eingabevariablen!E163&\" t\"&CHAR(10))","v":""},null,null,null,{"$f":"ISBLANK(Eingabevariablen!E171)","v":true},{"$f":"IF(Eingabevariablen!E171=\"\",\"\",Eingabevariablen!B171&\":  \"&Eingabevariablen!E171&\" t\"&CHAR(10))","v":""}]
[null,{"$f":"IF(Eingabevariablen!E128=\"\",\"\",Eingabevariablen!B128&\":  \"&Eingabevariablen!E128&\" kWh(el)\"&CHAR(10))","v":""},null,null,null,null,{"$f":"ISBLANK(Eingabevariablen!E148)","v":true},{"$f":"IF(Eingabevariablen!E148=\"\",\"\",Eingabevariablen!B148&\":  \"&Eingabevariablen!E148&\" kWh(Endenergie)\"&CHAR(10))","v":""},null,null,null,{"$f":"ISBLANK(Eingabevariablen!E164)","v":true},{"$f":"IF(Eingabevariablen!E164=\"\",\"\",Eingabevariablen!B164&\":  \"&Eingabevariablen!E164&\" t\"&CHAR(10))","v":""}]
[null,{"$f":"IF(Eingabevariablen!E129=\"\",\"\",Eingabevariablen!B129&\":  \"&Eingabevariablen!E129&\" kWh(el)\"&CHAR(10))","v":""},null,null,null,null,{"$f":"ISBLANK(Eingabevariablen!E149)","v":true},{"$f":"IF(Eingabevariablen!E149=\"\",\"\",Eingabevariablen!B149&\":  \"&Eingabevariablen!E149&\" kWh(Endenergie)\"&CHAR(10))","v":""},null,null,null,{"$f":"ISBLANK(Eingabevariablen!E165)","v":true},{"$f":"IF(Eingabevariablen!E165=\"\",\"\",Eingabevariablen!B165&\":  \"&Eingabevariablen!E165&\" t\"&CHAR(10))","v":""}]
[null,{"$f":"IF(Eingabevariablen!E130=\"\",\"\",Eingabevariablen!B130&\":  \"&Eingabevariablen!E130&\" kWh(el)\"&CHAR(10))","v":""},null,null,null,null,{"$f":"ISBLANK(Eingabevariablen!E150)","v":true},{"$f":"IF(Eingabevariablen!E150=\"\",\"\",Eingabevariablen!B150&\":  \"&Eingabevariablen!E150&\" kWh(Endenergie)\"&CHAR(10))","v":""}]
[null,{"$f":"IF(Eingabevariablen!E131=\"\",\"\",Eingabevariablen!B131&\":  \"&Eingabevariablen!E131&\" kWh(el)\"&CHAR(10))","v":""},null,null,null,null,{"$f":"ISBLANK(Eingabevariablen!E151)","v":true},{"$f":"IF(Eingabevariablen!E151=\"\",\"\",Eingabevariablen!B151&\":  \"&Eingabevariablen!E151&\" kWh(Endenergie)\"&CHAR(10))","v":""}]
[null,{"$f":"IF(Eingabevariablen!E132=\"\",\"\",Eingabevariablen!B132&\":  \"&Eingabevariablen!E132&\" kWh(el)\"&CHAR(10))","v":""},null,null,null,null,{"$f":"ISBLANK(Eingabevariablen!E152)","v":true},{"$f":"IF(Eingabevariablen!E152=\"\",\"\",Eingabevariablen!B152&\":  \"&Eingabevariablen!E152&\" kWh(Endenergie)\"&CHAR(10))","v":""}]
[null,{"$f":"IF(Eingabevariablen!E133=\"\",\"\",Eingabevariablen!B133&\":  \"&Eingabevariablen!E133&\" kWh(el)\"&CHAR(10))","v":""},null,null,null,null,{"$f":"ISBLANK(Eingabevariablen!E153)","v":true},{"$f":"IF(Eingabevariablen!E153=\"\",\"\",Eingabevariablen!B153&\":  \"&Eingabevariablen!E153&\" kWh(Endenergie)\"&CHAR(10))","v":""}]
[null,{"$f":"IF(Eingabevariablen!E134=\"\",\"\",Eingabevariablen!B134&\":  \"&Eingabevariablen!E134&\" kWh(el)\"&CHAR(10))","v":""},null,null,null,null,{"$f":"ISBLANK(Eingabevariablen!E154)","v":true},{"$f":"IF(Eingabevariablen!E154=\"\",\"\",Eingabevariablen!B154&\":  \"&Eingabevariablen!E154&\" kWh(Endenergie)\"&CHAR(10))","v":""}]
[null,{"$f":"IF(Eingabevariablen!E135=\"\",\"\",Eingabevariablen!B135&\":  \"&Eingabevariablen!E135&\" kWh(el)\"&CHAR(10))","v":""},null,null,null,null,{"$f":"ISBLANK(Eingabevariablen!E155)","v":true},{"$f":"IF(Eingabevariablen!E155=\"\",\"\",Eingabevariablen!B155&\":  \"&Eingabevariablen!E155&\" kWh(Endenergie)\"&CHAR(10))","v":""}]
[null,{"$f":"IF(Eingabevariablen!E136=\"\",\"\",Eingabevariablen!B136&\":  \"&Eingabevariablen!E136&\" kWh(el)\"&CHAR(10))","v":""},null,null,null,null,{"$f":"ISBLANK(Eingabevariablen!E156)","v":true},{"$f":"IF(Eingabevariablen!E156=\"\",\"\",Eingabevariablen!B156&\":  \"&Eingabevariablen!E156&\" kWh(Endenergie)\"&CHAR(10))","v":""}]
[null,{"$f":"IF(Eingabevariablen!E137=\"\",\"\",Eingabevariablen!B137&\":  \"&Eingabevariablen!E137&\" kWh(el)\"&CHAR(10))","v":""},null,null,null,null,{"$f":"ISBLANK(Eingabevariablen!E157)","v":true},{"$f":"IF(Eingabevariablen!E157=\"\",\"\",Eingabevariablen!B157&\":  \"&Eingabevariablen!E157&\" kWh(Endenergie)\"&CHAR(10))","v":""}]
[null,{"$f":"IF(Eingabevariablen!E138=\"\",\"\",Eingabevariablen!B138&\":  \"&Eingabevariablen!E138&\" kWh(el)\"&CHAR(10))","v":""}]
[null,{"$f":"IF(Eingabevariablen!E139=\"\",\"\",Eingabevariablen!B139&\":  \"&Eingabevariablen!E139&\" kWh(el)\"&CHAR(10))","v":""}]
[null,{"$f":"IF(Eingabevariablen!E140=\"\",\"\",Eingabevariablen!B140&\":  \"&Eingabevariablen!E140&\" kWh(el)\"&CHAR(10))","v":""}]
[null,{"$f":"IF(Eingabevariablen!E141=\"\",\"\",Eingabevariablen!B141&\":  \"&Eingabevariablen!E141&\" kWh(el)\"&CHAR(10))","v":""}]
[]
[]
[null,"2. Verkehr"]
[null,"i. Verkehr: Fahrzeug-km"]
[null,"Ort unbekannt\n(Ø alle Strecken)","Innerorts","Außerorts","Autobahn",null,"Ort unbekannt\n(Ø alle Strecken)","Innerorts","Außerorts","Autobahn"]
[null,{"$f":"IF(Eingabevariablen!C77=\"\",\"\",Eingabevariablen!$B77&\":  \"&Eingabevariablen!C77&\" Fzkm\"&CHAR(10))","v":""},{"$f":"IF(Eingabevariablen!D77=\"\",\"\",Eingabevariablen!$B77&\":  \"&Eingabevariablen!D77&\" Fzkm\"&CHAR(10))","v":""},{"$f":"IF(Eingabevariablen!E77=\"\",\"\",Eingabevariablen!$B77&\":  \"&Eingabevariablen!E77&\" Fzkm\"&CHAR(10))","v":""},{"$f":"IF(Eingabevariablen!F77=\"\",\"\",Eingabevariablen!$B77&\":  \"&Eingabevariablen!F77&\" Fzkm\"&CHAR(10))","v":""},null,{"$f":"B338&B339&B340&B341&B342&B343&B344&B345&B346&B347&B348&B349&B350&B351","v":""},{"$f":"C338&C339&C340&C341&C342&C343&C344&C345&C346&C347&C348&C349&C350&C351","v":""},{"$f":"D338&D339&D340&D341&D342&D343&D344&D345&D346&D347&D348&D349&D350&D351","v":""},{"$f":"E338&E339&E340&E341&E342&E343&E344&E345&E346&E347&E348&E349&E350&E351","v":""}]
[null,{"$f":"IF(Eingabevariablen!C78=\"\",\"\",Eingabevariablen!$B78&\":  \"&Eingabevariablen!C78&\" Fzkm\"&CHAR(10))","v":""},{"$f":"IF(Eingabevariablen!D78=\"\",\"\",Eingabevariablen!$B78&\":  \"&Eingabevariablen!D78&\" Fzkm\"&CHAR(10))","v":""},{"$f":"IF(Eingabevariablen!E78=\"\",\"\",Eingabevariablen!$B78&\":  \"&Eingabevariablen!E78&\" Fzkm\"&CHAR(10))","v":""},{"$f":"IF(Eingabevariablen!F78=\"\",\"\",Eingabevariablen!$B78&\":  \"&Eingabevariablen!F78&\" Fzkm\"&CHAR(10))","v":""}]
[null,{"$f":"IF(Eingabevariablen!C79=\"\",\"\",Eingabevariablen!$B79&\":  \"&Eingabevariablen!C79&\" Fzkm\"&CHAR(10))","v":""},{"$f":"IF(Eingabevariablen!D79=\"\",\"\",Eingabevariablen!$B79&\":  \"&Eingabevariablen!D79&\" Fzkm\"&CHAR(10))","v":""},{"$f":"IF(Eingabevariablen!E79=\"\",\"\",Eingabevariablen!$B79&\":  \"&Eingabevariablen!E79&\" Fzkm\"&CHAR(10))","v":""},{"$f":"IF(Eingabevariablen!F79=\"\",\"\",Eingabevariablen!$B79&\":  \"&Eingabevariablen!F79&\" Fzkm\"&CHAR(10))","v":""}]
[null,{"$f":"IF(Eingabevariablen!C80=\"\",\"\",Eingabevariablen!$B80&\":  \"&Eingabevariablen!C80&\" Fzkm\"&CHAR(10))","v":""},{"$f":"IF(Eingabevariablen!D80=\"\",\"\",Eingabevariablen!$B80&\":  \"&Eingabevariablen!D80&\" Fzkm\"&CHAR(10))","v":""},{"$f":"IF(Eingabevariablen!E80=\"\",\"\",Eingabevariablen!$B80&\":  \"&Eingabevariablen!E80&\" Fzkm\"&CHAR(10))","v":""},{"$f":"IF(Eingabevariablen!F80=\"\",\"\",Eingabevariablen!$B80&\":  \"&Eingabevariablen!F80&\" Fzkm\"&CHAR(10))","v":""}]
[null,{"$f":"IF(Eingabevariablen!C81=\"\",\"\",Eingabevariablen!$B81&\":  \"&Eingabevariablen!C81&\" Fzkm\"&CHAR(10))","v":""},{"$f":"IF(Eingabevariablen!D81=\"\",\"\",Eingabevariablen!$B81&\":  \"&Eingabevariablen!D81&\" Fzkm\"&CHAR(10))","v":""},{"$f":"IF(Eingabevariablen!E81=\"\",\"\",Eingabevariablen!$B81&\":  \"&Eingabevariablen!E81&\" Fzkm\"&CHAR(10))","v":""},{"$f":"IF(Eingabevariablen!F81=\"\",\"\",Eingabevariablen!$B81&\":  \"&Eingabevariablen!F81&\" Fzkm\"&CHAR(10))","v":""}]
[null,{"$f":"IF(Eingabevariablen!C82=\"\",\"\",Eingabevariablen!$B82&\":  \"&Eingabevariablen!C82&\" Fzkm\"&CHAR(10))","v":""},{"$f":"IF(Eingabevariablen!D82=\"\",\"\",Eingabevariablen!$B82&\":  \"&Eingabevariablen!D82&\" Fzkm\"&CHAR(10))","v":""},{"$f":"IF(Eingabevariablen!E82=\"\",\"\",Eingabevariablen!$B82&\":  \"&Eingabevariablen!E82&\" Fzkm\"&CHAR(10))","v":""},{"$f":"IF(Eingabevariablen!F82=\"\",\"\",Eingabevariablen!$B82&\":  \"&Eingabevariablen!F82&\" Fzkm\"&CHAR(10))","v":""}]
[null,{"$f":"IF(Eingabevariablen!C83=\"\",\"\",Eingabevariablen!$B83&\":  \"&Eingabevariablen!C83&\" Fzkm\"&CHAR(10))","v":""},{"$f":"IF(Eingabevariablen!D83=\"\",\"\",Eingabevariablen!$B83&\":  \"&Eingabevariablen!D83&\" Fzkm\"&CHAR(10))","v":""},{"$f":"IF(Eingabevariablen!E83=\"\",\"\",Eingabevariablen!$B83&\":  \"&Eingabevariablen!E83&\" Fzkm\"&CHAR(10))","v":""},{"$f":"IF(Eingabevariablen!F83=\"\",\"\",Eingabevariablen!$B83&\":  \"&Eingabevariablen!F83&\" Fzkm\"&CHAR(10))","v":""}]
[null,{"$f":"IF(Eingabevariablen!C84=\"\",\"\",Eingabevariablen!$B84&\":  \"&Eingabevariablen!C84&\" Fzkm\"&CHAR(10))","v":""},{"$f":"IF(Eingabevariablen!D84=\"\",\"\",Eingabevariablen!$B84&\":  \"&Eingabevariablen!D84&\" Fzkm\"&CHAR(10))","v":""},{"$f":"IF(Eingabevariablen!E84=\"\",\"\",Eingabevariablen!$B84&\":  \"&Eingabevariablen!E84&\" Fzkm\"&CHAR(10))","v":""},{"$f":"IF(Eingabevariablen!F84=\"\",\"\",Eingabevariablen!$B84&\":  \"&Eingabevariablen!F84&\" Fzkm\"&CHAR(10))","v":""}]
[null,{"$f":"IF(Eingabevariablen!C102=\"\",\"\",Eingabevariablen!$B102&\":  \"&Eingabevariablen!C102&\" Fzkm\"&CHAR(10))","v":""},{"$f":"IF(Eingabevariablen!D102=\"\",\"\",Eingabevariablen!$B102&\":  \"&Eingabevariablen!D102&\" Fzkm\"&CHAR(10))","v":""},{"$f":"IF(Eingabevariablen!E102=\"\",\"\",Eingabevariablen!$B102&\":  \"&Eingabevariablen!E102&\" Fzkm\"&CHAR(10))","v":""}]
[null,{"$f":"IF(Eingabevariablen!C103=\"\",\"\",Eingabevariablen!$B103&\":  \"&Eingabevariablen!C103&\" Fzkm\"&CHAR(10))","v":""},{"$f":"IF(Eingabevariablen!D103=\"\",\"\",Eingabevariablen!$B103&\":  \"&Eingabevariablen!D103&\" Fzkm\"&CHAR(10))","v":""},{"$f":"IF(Eingabevariablen!E103=\"\",\"\",Eingabevariablen!$B103&\":  \"&Eingabevariablen!E103&\" Fzkm\"&CHAR(10))","v":""}]
[null,{"$f":"IF(Eingabevariablen!C104=\"\",\"\",Eingabevariablen!$B104&\":  \"&Eingabevariablen!C104&\" Fzkm\"&CHAR(10))","v":""},{"$f":"IF(Eingabevariablen!D104=\"\",\"\",Eingabevariablen!$B104&\":  \"&Eingabevariablen!D104&\" Fzkm\"&CHAR(10))","v":""},{"$f":"IF(Eingabevariablen!E104=\"\",\"\",Eingabevariablen!$B104&\":  \"&Eingabevariablen!E104&\" Fzkm\"&CHAR(10))","v":""}]
[null,{"$f":"IF(Eingabevariablen!C105=\"\",\"\",Eingabevariablen!$B105&\":  \"&Eingabevariablen!C105&\" Fzkm\"&CHAR(10))","v":""},{"$f":"IF(Eingabevariablen!D105=\"\",\"\",Eingabevariablen!$B105&\":  \"&Eingabevariablen!D105&\" Fzkm\"&CHAR(10))","v":""},{"$f":"IF(Eingabevariablen!E105=\"\",\"\",Eingabevariablen!$B105&\":  \"&Eingabevariablen!E105&\" Fzkm\"&CHAR(10))","v":""}]
[null,{"$f":"IF(Eingabevariablen!E109=\"\",\"\",Eingabevariablen!$B109&\":  \"&Eingabevariablen!E109&\" Fzkm\"&CHAR(10))","v":""}]
[null,{"$f":"IF(Eingabevariablen!E113=\"\",\"\",Eingabevariablen!$B113&\":  \"&Eingabevariablen!E113&\" Fzkm\"&CHAR(10))","v":""}]
[]
[]
[null,"Wirkungskategorien"]
[null,"1. Luftschadstoffemissionen"]
[null,"Quelle unbekannt","Verkehr",null,"Kraftwerk/Energie","Industrie","Kleinfeuerung",null,null,"Quelle unbekannt","Verkehr",null,"Kraftwerk/Energie","Industrie","Kleinfeuerung"]
[null,null,"Innerorts (Durchschnitt)","Außerorts",null,null,"Innerorts","Außerorts",null,null,"Innerorts (Durchschnitt)","Außerorts",null,null,"Innerorts","Außerorts"]
[null,{"$f":"IF(Eingabevariablen!C226=\"\",\"\",\"Partikel PM10:  \"&Eingabevariablen!C226&\" t\"&CHAR(10))","v":""},{"$f":"IF(Eingabevariablen!D226=\"\",\"\",\"Partikel PM10:  \"&Eingabevariablen!D226&\" t\"&CHAR(10))","v":""},{"$f":"IF(Eingabevariablen!E226=\"\",\"\",\"Partikel PM10:  \"&Eingabevariablen!E226&\" t\"&CHAR(10))","v":""},{"$f":"IF(Eingabevariablen!F226=\"\",\"\",\"Partikel PM10:  \"&Eingabevariablen!F226&\" t\"&CHAR(10))","v":""},{"$f":"IF(Eingabevariablen!G226=\"\",\"\",\"Partikel PM10:  \"&Eingabevariablen!G226&\" t\"&CHAR(10))","v":""},{"$f":"IF(Eingabevariablen!H226=\"\",\"\",\"Partikel PM10:  \"&Eingabevariablen!H226&\" t\"&CHAR(10))","v":""},{"$f":"IF(Eingabevariablen!I226=\"\",\"\",\"Partikel PM10:  \"&Eingabevariablen!I226&\" t\"&CHAR(10))","v":""},null,{"$f":"B358&B359&B360&B361&B362&B363","v":""},{"$f":"C358&C359&C360&C361&C362&C363","v":""},{"$f":"D358&D359&D360&D361&D362&D363","v":""},{"$f":"E358&E359&E360&E361&E362&E363","v":""},{"$f":"F358&F359&F360&F361&F362&F363","v":""},{"$f":"G358&G359&G360&G361&G362&G363","v":""},{"$f":"H358&H359&H360&H361&H362&H363","v":""}]
[null,{"$f":"IF(Eingabevariablen!C227=\"\",\"\",\"Partikel PM10:  \"&Eingabevariablen!C227&\" t\"&CHAR(10))","v":""},{"$f":"IF(Eingabevariablen!D227=\"\",\"\",\"Partikel PM10:  \"&Eingabevariablen!D227&\" t\"&CHAR(10))","v":""},{"$f":"IF(Eingabevariablen!E227=\"\",\"\",\"Partikel PM10:  \"&Eingabevariablen!E227&\" t\"&CHAR(10))","v":""},{"$f":"IF(Eingabevariablen!F227=\"\",\"\",\"Partikel PM10:  \"&Eingabevariablen!F227&\" t\"&CHAR(10))","v":""},{"$f":"IF(Eingabevariablen!G227=\"\",\"\",\"Partikel PM10:  \"&Eingabevariablen!G227&\" t\"&CHAR(10))","v":""},{"$f":"IF(Eingabevariablen!H227=\"\",\"\",\"Partikel PM10:  \"&Eingabevariablen!H227&\" t\"&CHAR(10))","v":""},{"$f":"IF(Eingabevariablen!I227=\"\",\"\",\"Partikel PM10:  \"&Eingabevariablen!I227&\" t\"&CHAR(10))","v":""}]
[null,{"$f":"IF(Eingabevariablen!C228=\"\",\"\",\"Partikel PM10:  \"&Eingabevariablen!C228&\" t\"&CHAR(10))","v":""},{"$f":"IF(Eingabevariablen!D228=\"\",\"\",\"Partikel PM10:  \"&Eingabevariablen!D228&\" t\"&CHAR(10))","v":""},{"$f":"IF(Eingabevariablen!E228=\"\",\"\",\"Partikel PM10:  \"&Eingabevariablen!E228&\" t\"&CHAR(10))","v":""},{"$f":"IF(Eingabevariablen!F228=\"\",\"\",\"Partikel PM10:  \"&Eingabevariablen!F228&\" t\"&CHAR(10))","v":""},{"$f":"IF(Eingabevariablen!G228=\"\",\"\",\"Partikel PM10:  \"&Eingabevariablen!G228&\" t\"&CHAR(10))","v":""},{"$f":"IF(Eingabevariablen!H228=\"\",\"\",\"Partikel PM10:  \"&Eingabevariablen!H228&\" t\"&CHAR(10))","v":""},{"$f":"IF(Eingabevariablen!I228=\"\",\"\",\"Partikel PM10:  \"&Eingabevariablen!I228&\" t\"&CHAR(10))","v":""}]
[null,{"$f":"IF(Eingabevariablen!C229=\"\",\"\",\"Partikel PM10:  \"&Eingabevariablen!C229&\" t\"&CHAR(10))","v":""},{"$f":"IF(Eingabevariablen!D229=\"\",\"\",\"Partikel PM10:  \"&Eingabevariablen!D229&\" t\"&CHAR(10))","v":""},{"$f":"IF(Eingabevariablen!E229=\"\",\"\",\"Partikel PM10:  \"&Eingabevariablen!E229&\" t\"&CHAR(10))","v":""},{"$f":"IF(Eingabevariablen!F229=\"\",\"\",\"Partikel PM10:  \"&Eingabevariablen!F229&\" t\"&CHAR(10))","v":""},{"$f":"IF(Eingabevariablen!G229=\"\",\"\",\"Partikel PM10:  \"&Eingabevariablen!G229&\" t\"&CHAR(10))","v":""},{"$f":"IF(Eingabevariablen!H229=\"\",\"\",\"Partikel PM10:  \"&Eingabevariablen!H229&\" t\"&CHAR(10))","v":""},{"$f":"IF(Eingabevariablen!I229=\"\",\"\",\"Partikel PM10:  \"&Eingabevariablen!I229&\" t\"&CHAR(10))","v":""}]
[null,{"$f":"IF(Eingabevariablen!C230=\"\",\"\",\"Partikel PM10:  \"&Eingabevariablen!C230&\" t\"&CHAR(10))","v":""},{"$f":"IF(Eingabevariablen!D230=\"\",\"\",\"Partikel PM10:  \"&Eingabevariablen!D230&\" t\"&CHAR(10))","v":""},{"$f":"IF(Eingabevariablen!E230=\"\",\"\",\"Partikel PM10:  \"&Eingabevariablen!E230&\" t\"&CHAR(10))","v":""},{"$f":"IF(Eingabevariablen!F230=\"\",\"\",\"Partikel PM10:  \"&Eingabevariablen!F230&\" t\"&CHAR(10))","v":""},{"$f":"IF(Eingabevariablen!G230=\"\",\"\",\"Partikel PM10:  \"&Eingabevariablen!G230&\" t\"&CHAR(10))","v":""},{"$f":"IF(Eingabevariablen!H230=\"\",\"\",\"Partikel PM10:  \"&Eingabevariablen!H230&\" t\"&CHAR(10))","v":""},{"$f":"IF(Eingabevariablen!I230=\"\",\"\",\"Partikel PM10:  \"&Eingabevariablen!I230&\" t\"&CHAR(10))","v":""}]
[null,{"$f":"IF(Eingabevariablen!C231=\"\",\"\",\"Partikel PM10:  \"&Eingabevariablen!C231&\" t\"&CHAR(10))","v":""},{"$f":"IF(Eingabevariablen!D231=\"\",\"\",\"Partikel PM10:  \"&Eingabevariablen!D231&\" t\"&CHAR(10))","v":""},{"$f":"IF(Eingabevariablen!E231=\"\",\"\",\"Partikel PM10:  \"&Eingabevariablen!E231&\" t\"&CHAR(10))","v":""},{"$f":"IF(Eingabevariablen!F231=\"\",\"\",\"Partikel PM10:  \"&Eingabevariablen!F231&\" t\"&CHAR(10))","v":""},{"$f":"IF(Eingabevariablen!G231=\"\",\"\",\"Partikel PM10:  \"&Eingabevariablen!G231&\" t\"&CHAR(10))","v":""},{"$f":"IF(Eingabevariablen!H231=\"\",\"\",\"Partikel PM10:  \"&Eingabevariablen!H231&\" t\"&CHAR(10))","v":""},{"$f":"IF(Eingabevariablen!I231=\"\",\"\",\"Partikel PM10:  \"&Eingabevariablen!I231&\" t\"&CHAR(10))","v":""}]
[]
[]
[null,"2. Treibhausgasemissionen"]
[null,{"$f":"IF(Eingabevariablen!E238=\"\",\"\",Eingabevariablen!$B238&\":  \"&Eingabevariablen!E238&\" t\"&CHAR(10))","v":""},null,{"$f":"B367&B368&B369&B370","v":""}]
[null,{"$f":"IF(Eingabevariablen!E239=\"\",\"\",Eingabevariablen!$B239&\":  \"&Eingabevariablen!E239&\" t\"&CHAR(10))","v":""}]
[null,{"$f":"IF(Eingabevariablen!E240=\"\",\"\",Eingabevariablen!$B240&\":  \"&Eingabevariablen!E240&\" t\"&CHAR(10))","v":""}]
[null,{"$f":"IF(Eingabevariablen!E241=\"\",\"\",Eingabevariablen!$B241&\":  \"&Eingabevariablen!E241&\" t\"&CHAR(10))","v":""}]
[]
[]
[null,"3. Lärmemissionen"]
[null,"Quelle: Verkehr",null,null,"Quelle: unbekannt",null,"Quelle: Verkehr",null,null,"Quelle: unbekannt"]
[null,"Strassenverkehr","Schienenverkehr","Luftverkehr",null,null,"Strassenverkehr","Schienenverkehr","Luftverkehr"]
[null,{"$f":"IF(Eingabevariablen!C274=\"\",\"\",Eingabevariablen!$B274&\":  \"&Eingabevariablen!C274&\" Personen\"&CHAR(10))","v":""},{"$f":"IF(Eingabevariablen!D274=\"\",\"\",Eingabevariablen!$B274&\":  \"&Eingabevariablen!D274&\" Personen\"&CHAR(10))","v":""},{"$f":"IF(Eingabevariablen!E274=\"\",\"\",Eingabevariablen!$B274&\":  \"&Eingabevariablen!E274&\" Personen\"&CHAR(10))","v":""},{"$f":"IF(Eingabevariablen!F274=\"\",\"\",Eingabevariablen!$B274&\":  \"&Eingabevariablen!F274&\" Personen\"&CHAR(10))","v":""},null,{"$f":"B376&B377&B378&B379&B380&B381&B382&B383&B384","v":""},{"$f":"C376&C377&C378&C379&C380&C381&C382&C383&C384","v":""},{"$f":"D376&D377&D378&D379&D380&D381&D382&D383&D384","v":""},{"$f":"E376&E377&E378&E379&E380&E381&E382&E383&E384","v":""}]
[null,{"$f":"IF(Eingabevariablen!C275=\"\",\"\",Eingabevariablen!$B275&\":  \"&Eingabevariablen!C275&\" Personen\"&CHAR(10))","v":""},{"$f":"IF(Eingabevariablen!D275=\"\",\"\",Eingabevariablen!$B275&\":  \"&Eingabevariablen!D275&\" Personen\"&CHAR(10))","v":""},{"$f":"IF(Eingabevariablen!E275=\"\",\"\",Eingabevariablen!$B275&\":  \"&Eingabevariablen!E275&\" Personen\"&CHAR(10))","v":""},{"$f":"IF(Eingabevariablen!F275=\"\",\"\",Eingabevariablen!$B275&\":  \"&Eingabevariablen!F275&\" Personen\"&CHAR(10))","v":""}]
[null,{"$f":"IF(Eingabevariablen!C276=\"\",\"\",Eingabevariablen!$B276&\":  \"&Eingabevariablen!C276&\" Personen\"&CHAR(10))","v":""},{"$f":"IF(Eingabevariablen!D276=\"\",\"\",Eingabevariablen!$B276&\":  \"&Eingabevariablen!D276&\" Personen\"&CHAR(10))","v":""},{"$f":"IF(Eingabevariablen!E276=\"\",\"\",Eingabevariablen!$B276&\":  \"&Eingabevariablen!E276&\" Personen\"&CHAR(10))","v":""},{"$f":"IF(Eingabevariablen!F276=\"\",\"\",Eingabevariablen!$B276&\":  \"&Eingabevariablen!F276&\" Personen\"&CHAR(10))","v":""}]
[null,{"$f":"IF(Eingabevariablen!C277=\"\",\"\",Eingabevariablen!$B277&\":  \"&Eingabevariablen!C277&\" Personen\"&CHAR(10))","v":""},{"$f":"IF(Eingabevariablen!D277=\"\",\"\",Eingabevariablen!$B277&\":  \"&Eingabevariablen!D277&\" Personen\"&CHAR(10))","v":""},{"$f":"IF(Eingabevariablen!E277=\"\",\"\",Eingabevariablen!$B277&\":  \"&Eingabevariablen!E277&\" Personen\"&CHAR(10))","v":""},{"$f":"IF(Eingabevariablen!F277=\"\",\"\",Eingabevariablen!$B277&\":  \"&Eingabevariablen!F277&\" Personen\"&CHAR(10))","v":""}]
[null,{"$f":"IF(Eingabevariablen!C278=\"\",\"\",Eingabevariablen!$B278&\":  \"&Eingabevariablen!C278&\" Personen\"&CHAR(10))","v":""},{"$f":"IF(Eingabevariablen!D278=\"\",\"\",Eingabevariablen!$B278&\":  \"&Eingabevariablen!D278&\" Personen\"&CHAR(10))","v":""},{"$f":"IF(Eingabevariablen!E278=\"\",\"\",Eingabevariablen!$B278&\":  \"&Eingabevariablen!E278&\" Personen\"&CHAR(10))","v":""},{"$f":"IF(Eingabevariablen!F278=\"\",\"\",Eingabevariablen!$B278&\":  \"&Eingabevariablen!F278&\" Personen\"&CHAR(10))","v":""}]
[null,{"$f":"IF(Eingabevariablen!C279=\"\",\"\",Eingabevariablen!$B279&\":  \"&Eingabevariablen!C279&\" Personen\"&CHAR(10))","v":""},{"$f":"IF(Eingabevariablen!D279=\"\",\"\",Eingabevariablen!$B279&\":  \"&Eingabevariablen!D279&\" Personen\"&CHAR(10))","v":""},{"$f":"IF(Eingabevariablen!E279=\"\",\"\",Eingabevariablen!$B279&\":  \"&Eingabevariablen!E279&\" Personen\"&CHAR(10))","v":""},{"$f":"IF(Eingabevariablen!F279=\"\",\"\",Eingabevariablen!$B279&\":  \"&Eingabevariablen!F279&\" Personen\"&CHAR(10))","v":""}]
[null,{"$f":"IF(Eingabevariablen!C280=\"\",\"\",Eingabevariablen!$B280&\":  \"&Eingabevariablen!C280&\" Personen\"&CHAR(10))","v":""},{"$f":"IF(Eingabevariablen!D280=\"\",\"\",Eingabevariablen!$B280&\":  \"&Eingabevariablen!D280&\" Personen\"&CHAR(10))","v":""},{"$f":"IF(Eingabevariablen!E280=\"\",\"\",Eingabevariablen!$B280&\":  \"&Eingabevariablen!E280&\" Personen\"&CHAR(10))","v":""},{"$f":"IF(Eingabevariablen!F280=\"\",\"\",Eingabevariablen!$B280&\":  \"&Eingabevariablen!F280&\" Personen\"&CHAR(10))","v":""}]
[null,{"$f":"IF(Eingabevariablen!C281=\"\",\"\",Eingabevariablen!$B281&\":  \"&Eingabevariablen!C281&\" Personen\"&CHAR(10))","v":""},{"$f":"IF(Eingabevariablen!D281=\"\",\"\",Eingabevariablen!$B281&\":  \"&Eingabevariablen!D281&\" Personen\"&CHAR(10))","v":""},{"$f":"IF(Eingabevariablen!E281=\"\",\"\",Eingabevariablen!$B281&\":  \"&Eingabevariablen!E281&\" Personen\"&CHAR(10))","v":""},{"$f":"IF(Eingabevariablen!F281=\"\",\"\",Eingabevariablen!$B281&\":  \"&Eingabevariablen!F281&\" Personen\"&CHAR(10))","v":""}]
[null,{"$f":"IF(Eingabevariablen!C282=\"\",\"\",Eingabevariablen!$B282&\":  \"&Eingabevariablen!C282&\" Personen\"&CHAR(10))","v":""},{"$f":"IF(Eingabevariablen!D282=\"\",\"\",Eingabevariablen!$B282&\":  \"&Eingabevariablen!D282&\" Personen\"&CHAR(10))","v":""},{"$f":"IF(Eingabevariablen!E282=\"\",\"\",Eingabevariablen!$B282&\":  \"&Eingabevariablen!E282&\" Personen\"&CHAR(10))","v":""},{"$f":"IF(Eingabevariablen!F282=\"\",\"\",Eingabevariablen!$B282&\":  \"&Eingabevariablen!F282&\" Personen\"&CHAR(10))","v":""}]
[]
[]
[null,"4. Beeinträchtigung von Ökosystemen"]
[]
[null,"a. Flächenumwandlung, Verbauung natürlicher Flächen, Versiegelung",null,"Versiegelte / verbaute Fläche:"]
[null,{"$f":"IF(Eingabevariablen!E306=\"\",\"\",Eingabevariablen!$B306&\":  \"&Eingabevariablen!E306&\" km2\"&CHAR(10))","v":""},null,{"$f":"B390","v":""}]
[]
[null,"b. Landnutzungsänderung, Nutzungsintenvisierung",null,"Veränderte Landnutzung:"]
[null,{"$f":"IF(Eingabevariablen!E178=\"\",\"\",Eingabevariablen!$B178&\":  \"&Eingabevariablen!E178&\" km2\"&CHAR(10)&Eingabevariablen!B179&\":  \"&Eingabevariablen!C179&CHAR(10)&Eingabevariablen!B180&\":  \"&Eingabevariablen!C180)","v":""},null,{"$f":"B393","v":""}]
[]
[null,"c. Nährstoffeintrag",null,"Nährstoffeintrag in Umwelt:"]
[null,{"$f":"IF(Eingabevariablen!E184=\"\",\"\",Eingabevariablen!$B184&\":  \"&Eingabevariablen!E184&\" t\"&CHAR(10))","v":""},null,{"$f":"B396","v":""}]
[]
[null,"d. Schadstoffeinträge ins Meer",null,"ins Meer eingetragene Schadstoffmengen:"]
[null,{"$f":"IF(Eingabevariablen!E289=\"\",\"\",Eingabevariablen!$B289&\":  \"&Eingabevariablen!E289&\" t\"&CHAR(10))","v":""},null,{"$f":"B399&B400&B401","v":""}]
[null,{"$f":"IF(Eingabevariablen!E290=\"\",\"\",Eingabevariablen!$B290&\":  \"&Eingabevariablen!E290&\" t\"&CHAR(10))","v":""}]
[null,{"$f":"IF(Eingabevariablen!E291=\"\",\"\",Eingabevariablen!$B291&\":  \"&Eingabevariablen!E291&\" t\"&CHAR(10))","v":""}]
[]
[null,"e. Zerschneidung der Landschaft durch Verkehrswege",null,"Länge der Verkehrswege:"]
[null,{"$f":"IF(Eingabevariablen!E297=\"\",\"\",Eingabevariablen!$B297&\":  \"&Eingabevariablen!E297&\" km\"&CHAR(10))","v":""},null,{"$f":"B404&B405&B406&B407&B408&B409","v":""}]
[null,{"$f":"IF(Eingabevariablen!E298=\"\",\"\",Eingabevariablen!$B298&\":  \"&Eingabevariablen!E298&\" km\"&CHAR(10))","v":""}]
[null,{"$f":"IF(Eingabevariablen!E299=\"\",\"\",Eingabevariablen!$B299&\":  \"&Eingabevariablen!E299&\" km\"&CHAR(10))","v":""}]
[null,{"$f":"IF(Eingabevariablen!E300=\"\",\"\",Eingabevariablen!$B300&\":  \"&Eingabevariablen!E300&\" km\"&CHAR(10))","v":""}]
[null,{"$f":"IF(Eingabevariablen!E301=\"\",\"\",Eingabevariablen!$B301&\":  \"&Eingabevariablen!E301&\" km\"&CHAR(10))","v":""}]
[null,{"$f":"IF(Eingabevariablen!E302=\"\",\"\",Eingabevariablen!$B302&\":  \"&Eingabevariablen!E302&\" km\"&CHAR(10))","v":""}]
[]
[]
[null,"5. Emission toxischer Stoffe"]
[null,{"$f":"IF(Eingabevariablen!E313=\"\",\"\",Eingabevariablen!$B313&\":  \"&Eingabevariablen!E313&\" t\"&CHAR(10))","v":""},null,{"$f":"B413&B414&B415&B416&B417&B418","v":""},{"$f":"B420&B421&B422&B423&B424","v":""}]
[null,{"$f":"IF(Eingabevariablen!E314=\"\",\"\",Eingabevariablen!$B314&\":  \"&Eingabevariablen!E314&\" t\"&CHAR(10))","v":""}]
[null,{"$f":"IF(Eingabevariablen!E315=\"\",\"\",Eingabevariablen!$B315&\":  \"&Eingabevariablen!E315&\" t\"&CHAR(10))","v":""}]
[null,{"$f":"IF(Eingabevariablen!E316=\"\",\"\",Eingabevariablen!$B316&\":  \"&Eingabevariablen!E316&\" t\"&CHAR(10))","v":""}]
[null,{"$f":"IF(Eingabevariablen!E317=\"\",\"\",Eingabevariablen!$B317&\":  \"&Eingabevariablen!E317&\" t\"&CHAR(10))","v":""}]
[null,{"$f":"IF(Eingabevariablen!E318=\"\",\"\",Eingabevariablen!$B318&\":  \"&Eingabevariablen!E318&\" t\"&CHAR(10))","v":""}]
[]
[null,{"$f":"IF(Eingabevariablen!E320=\"\",\"\",Eingabevariablen!$B320&\":  \"&Eingabevariablen!E320&\" t\"&CHAR(10))","v":""}]
[null,{"$f":"IF(Eingabevariablen!E321=\"\",\"\",Eingabevariablen!$B321&\":  \"&Eingabevariablen!E321&\" t\"&CHAR(10))","v":""}]
[null,{"$f":"IF(Eingabevariablen!E322=\"\",\"\",Eingabevariablen!$B322&\":  \"&Eingabevariablen!E322&\" t\"&CHAR(10))","v":""}]
[null,{"$f":"IF(Eingabevariablen!E323=\"\",\"\",Eingabevariablen!$B323&\":  \"&Eingabevariablen!E323&\" t\"&CHAR(10))","v":""}]
[null,{"$f":"IF(Eingabevariablen!E324=\"\",\"\",Eingabevariablen!$B324&\":  \"&Eingabevariablen!E324&\" t\"&CHAR(10))","v":""}]
[]
[]
[null,"6. Indirekte Effekte vor- und nachgelagerte Prozesse"]
[null,{"$f":"IF(Eingabevariablen!E330=\"\",\"\",Eingabevariablen!$B330&\":  \"&Eingabevariablen!E330&\" t\"&CHAR(10))","v":""},null,{"$f":"B428&B429&B430&B431&B432&B433","v":""},{"$f":"B434&B435&B436&B437&B438","v":""}]
[null,{"$f":"IF(Eingabevariablen!E331=\"\",\"\",Eingabevariablen!$B331&\":  \"&Eingabevariablen!E331&\" t\"&CHAR(10))","v":""}]
[null,{"$f":"IF(Eingabevariablen!E332=\"\",\"\",Eingabevariablen!$B332&\":  \"&Eingabevariablen!E332&\" t\"&CHAR(10))","v":""}]
[null,{"$f":"IF(Eingabevariablen!E333=\"\",\"\",Eingabevariablen!$B333&\":  \"&Eingabevariablen!E333&\" t\"&CHAR(10))","v":""}]
[null,{"$f":"IF(Eingabevariablen!E334=\"\",\"\",Eingabevariablen!$B334&\":  \"&Eingabevariablen!E334&\" t\"&CHAR(10))","v":""}]
[null,{"$f":"IF(Eingabevariablen!E335=\"\",\"\",Eingabevariablen!$B335&\":  \"&Eingabevariablen!E335&\" t\"&CHAR(10))","v":""}]
[null,{"$f":"IF(Eingabevariablen!E336=\"\",\"\",Eingabevariablen!$B336&\":  \"&Eingabevariablen!E336&\" t\"&CHAR(10))","v":""}]
[null,{"$f":"IF(Eingabevariablen!E337=\"\",\"\",Eingabevariablen!$B337&\":  \"&Eingabevariablen!E337&\" t\"&CHAR(10))","v":""}]
[null,{"$f":"IF(Eingabevariablen!E338=\"\",\"\",Eingabevariablen!$B338&\":  \"&Eingabevariablen!E338&\" t\"&CHAR(10))","v":""}]
[null,{"$f":"IF(Eingabevariablen!E339=\"\",\"\",Eingabevariablen!$B339&\":  \"&Eingabevariablen!E339&\" t\"&CHAR(10))","v":""}]
[null,{"$f":"IF(Eingabevariablen!E340=\"\",\"\",Eingabevariablen!$B340&\":  \"&Eingabevariablen!E340&\" t\"&CHAR(10))","v":""}]
[]
[]
[null,"9. Unfälle",null,"Anzahl Unfallopfer (aus Verkehrsunfällen)","Anzahl Verkehrsunfälle"]
[null,{"$f":"IF(Eingabevariablen!E346=\"\",\"\",Eingabevariablen!$B346&\":  \"&Eingabevariablen!E346&\"\"&CHAR(10))","v":""},null,{"$f":"B442&B443&B444","v":""},{"$f":"B447&B448&B449&B450&B451&B452&B453&B454&B455&B456","v":""}]
[null,{"$f":"IF(Eingabevariablen!E347=\"\",\"\",Eingabevariablen!$B347&\":  \"&Eingabevariablen!E347&\"\"&CHAR(10))","v":""}]
[null,{"$f":"IF(Eingabevariablen!E348=\"\",\"\",Eingabevariablen!$B348&\":  \"&Eingabevariablen!E348&\"\"&CHAR(10))","v":""}]
[]
[]
[null,{"$f":"IF(Eingabevariablen!E351=\"\",\"\",Eingabevariablen!$B351&\":  \"&Eingabevariablen!E351&\"\"&CHAR(10))","v":""}]
[null,{"$f":"IF(Eingabevariablen!E352=\"\",\"\",Eingabevariablen!$B352&\":  \"&Eingabevariablen!E352&\"\"&CHAR(10))","v":""}]
[null,{"$f":"IF(Eingabevariablen!E353=\"\",\"\",Eingabevariablen!$B353&\":  \"&Eingabevariablen!E353&\"\"&CHAR(10))","v":""}]
[null,{"$f":"IF(Eingabevariablen!E354=\"\",\"\",Eingabevariablen!$B354&\":  \"&Eingabevariablen!E354&\"\"&CHAR(10))","v":""}]
[null,{"$f":"IF(Eingabevariablen!E355=\"\",\"\",Eingabevariablen!$B355&\":  \"&Eingabevariablen!E355&\"\"&CHAR(10))","v":""}]
[null,{"$f":"IF(Eingabevariablen!E356=\"\",\"\",Eingabevariablen!$B356&\":  \"&Eingabevariablen!E356&\"\"&CHAR(10))","v":""}]
[null,{"$f":"IF(Eingabevariablen!E357=\"\",\"\",Eingabevariablen!$B357&\":  \"&Eingabevariablen!E357&\"\"&CHAR(10))","v":""}]
[null,{"$f":"IF(Eingabevariablen!E358=\"\",\"\",Eingabevariablen!$B358&\":  \"&Eingabevariablen!E358&\"\"&CHAR(10))","v":""}]
[null,{"$f":"IF(Eingabevariablen!E359=\"\",\"\",Eingabevariablen!$B359&\":  \"&Eingabevariablen!E359&\"\"&CHAR(10))","v":""}]
[null,{"$f":"IF(Eingabevariablen!E360=\"\",\"\",Eingabevariablen!$B360&\":  \"&Eingabevariablen!E360&\"\"&CHAR(10))","v":""}]