Workbook
Name Dropdown5: TitelseiteSonstigeAltbatterien!#REF!
Name Dropdown6: TitelseiteSonstigeAltbatterien!#REF!
Name Text44: TitelseiteSonstigeAltbatterien!#REF!

Sheet Ausfüllhinweise
B5: Ausfüllhinweise
B7: Schritt 1: Bearbeitung des Formblattes "Titelseite" Tragen Sie zunächst im Formblatt "Titelseite" den Namen Ihres Recyclingbetriebes, das Jahr, über das sie berichten, und die Bezeichnung des ersten Recyclingschrittes ein. Diese Angaben werden automatisch auf Folgeformblätter übernommen.
B9: Schritt 2: Bearbeitung des Formblattes "Recyclingschritt N_0" Überspringen Sie das Formblatt "Gesamtergebnis", in dem keine Daten zu hinterlegen sind. Dieses Blatt dokumentiert die Ergebnisse des ersten Recyclingbetriebes (Ihre eigenen Recyclingergebnisse) sowie die Ergebnisse vorgelagerter Abfallbehandler und nachgelagerter Folgerecyclingbetriebe.
B11: Schritt 3: Bearbeitung der Formblätter N_1 bis N_6 Diese Formblätter dokumentieren die Ergebnisse der weiteren Recyclingschritte. Alle Recyclingschritte sind in den einzelnen Blättern vollständig abzubilden. Sollten diese Schritte nicht von Ihrem Unternehmen, sondern von nachgelagerten Recyclingbetrieben duchgeführt werden, müssen diese Daten vom ersten Recyclingbetrieb (Ihnen) beschafft werden.
B13: Schritt 4: Prüfung der Gesamtergebnisse (Zusammenfassung im Formblatt "Gesamtergebnis") Im Formblatt "Gesamtergebnis" sind keine Angaben und Daten zu hinterlegen. Dieses Formblatt übernimmt sämtliche Eingaben von der Titelseite und den Formblättern N_0, N_1, N_2, etc.. Bitte prüfen Sie die übernommenen zusammengefassten Angaben und korrigieren sie die Formblätter "Titelseite" und N_0, N_1, N_2, etc. bei Bedarf.
B15: Allgemeines zur Formularbearbeitung Weiße Ausfüllfelder: Angaben und Daten müssen bzw. können nur in weiß gehaltenen Eingabefeldern hinterlegt werden. Alle sonstigen Felder sind ausgegraut und geschützt. Tooltips: Zur Hilfestellung wurden - zusätzlich zu den Fußnoten - weitergehende Hinweise an ausgewählten Stellen hinzugefügt. Zu erkennen sind diese an der roten Markierung in der oberen rechten Ecke eines Feldes. Blaue Schrift: Teilweise werden Angaben und Daten zur Erleichterung und verbesserten Übersichtlichkeit automatisch innerhalb eines Formblattes sowie blattübergreifend übernommen. Angaben dieser Art sind leicht an der blauen Schrift zu erkennen. Individuelle Bemerkungen: Erklärende Bemerkungen können im Registerblatt "Ihre Bemerkungen" hinterlegt werden (siehe letztes Blatt).
B17: Umweltbundesamt
B18: Ansprechpartner: Falk Petrikowski
B19: Telefon: 0340 - 21032468
B20: E-Mail: batterierecht@uba.de

Sheet TitelseiteSonstigeAltbatterien
A2: Dokumentation gem. § 29 Abs. 2 BattDG der Recyclingbetriebe von
A3: Sonstigen Altbatterien
A4: Format* gemäß delegierter Verordnung (DV) zur Berechnung der Recyclingeffizienz und stofflichen Verwertung von Altbatterien (EU) 2025/606 vom 21.03.2025.
A5: Titelseite
B7: Name des (ersten) Recyclingbetriebs
B8: Kalenderjahr | F8: 2026
B10: Zu prüfendes Formblatt (Ergebniszusammenfassung) | F10: Formblatt "Gesamtergebnis"
B12: Bezeichnung 1. Recyclingschritt
B13: Auszufüllendes Formblatt | F13: Formblatt "Recyclingschritt N_0"
A15: Bezeichnung vorgelagerter Behandlungsschritte
A16: Bei Bedarf auszufüllen | B16: Formblatt RS N_-1 | D16: Formblatt RS N_-2 | F16: Formblatt RS N_-3 | H16: Formblatt RS N_-4 | J16: Formblatt RS N_-5
A18: Bezeichnung weiterer/ nachgelagerter Recyclingschritte
A19: Bei Bedarf auszufüllen | B19: Formblatt RS N_1 | D19: Formblatt RS N_2 | F19: Formblatt RS N_3 | H19: Formblatt RS N_4 | J19: Formblatt RS N_5
A21: Bezeichnung weiterer/ nachgelagerter Recyclingschritte
A22: Bei Bedarf auszufüllen | B22: Formblatt RS N_6 | D22: Formblatt RS N_7 | F22: Formblatt RS N_8 | H22: Formblatt RS N_9 | J22: Formblatt RS N_10
A25: Hinweise zur Bearbeitung: Bitte lesen Sie die prägnanten Ausfüllhinweise vor der Bearbeitung des Formulars (vgl. Registerblatt "Ausfüllhinweise"). Sollten die vorbereiteten Eingabefelder oder Formblätter nicht ausreichen, wenden Sie sich bitte an den Ansprechpartner beim UBA (siehe Kontaktadresse unten). In diesem Fall wird das UBA das Formular nach Bedarf erweitern und zurücksenden. Eigenständige Formularanpassungen sind zur Sicherstellung der Funktionalitäten nicht mehr möglich.
A31: Umweltbundesamt
A32: Wörlitzer Platz 1
A33: 06844 Dessau-Roßlau
A35: Ansprechpartner: Falk Petrikowski
A36: Telefon: 0340 - 21032468
A37: E-Mail: batterierecht@uba.de
H38: * Verbindliches elektronisches Format

Sheet Gesamtergebnis
D1: Name des (ersten) Recyclingbetriebes: | F1: =IF(TitelseiteSonstigeAltbatterien!$F$7<>"",TitelseiteSonstigeAltbatterien!$F$7,"")
A2: Ergebnisse (Quoten) für die Recyclingeffizienz und stoffliche Verwertung von
A3: {=IF(TitelseiteSonstigeAltbatterien!A3:B3<>"",TitelseiteSonstigeAltbatterien!A3:B3,"")} -> Sonstigen Altbatterien
A5: DV Abschnitt 9 (Teil 1) | B5: Von den Recyclingbetrieben ist Folgendes zu dokumentieren:
A6: Ausfüllhinweis: Angaben müssen bzw. können nur in den weiß gehaltenen Eingabefeldern hinterlegt werden. Teilweise werden Ihre Angaben automatisch innerhalb eines Formblattes sowie auf Folgeformblätter übertragen. Übernommene Angaben sind jeweils blau gekennzeichnet (vgl. auch die allgemeinen Formularbearbeitungshinweise im Formblatt "Ausfüllhinweise").
A8: Recyclingeffizienz eines Batterie-Recyclingverfahrens
A10: Kalenderjahr | C10: =IF(TitelseiteSonstigeAltbatterien!$F$8<>"",TitelseiteSonstigeAltbatterien!$F$8,"") -> 2026
A12: Angaben zum Recyclingbetrieb1
A13: Name | C13: =IF('Recyclingschritt N_0'!C11<>"",'Recyclingschritt N_0'!C11,"")
A14: Straße und Hausnummer | C14: =IF('Recyclingschritt N_0'!C12<>"",'Recyclingschritt N_0'!C12,"")
A15: PLZ | C15: =IF('Recyclingschritt N_0'!C13<>"",'Recyclingschritt N_0'!C13,"")
A16: Ort | C16: =IF('Recyclingschritt N_0'!C14<>"",'Recyclingschritt N_0'!C14,"")
A17: Land | C17: =IF('Recyclingschritt N_0'!C15<>"",'Recyclingschritt N_0'!C15,"")
A18: Kontaktperson | C18: =IF('Recyclingschritt N_0'!C16<>"",'Recyclingschritt N_0'!C16,"")
A19: Telefon | C19: =IF('Recyclingschritt N_0'!C17<>"",'Recyclingschritt N_0'!C17,"")
A20: E-Mail | C20: =IF('Recyclingschritt N_0'!C18<>"",'Recyclingschritt N_0'!C18,"")
A22: Beschreibung der Recyclingschritte des gesamten Recyclingverfahrens2 | C22: Bitte die Anlage A "Beschreibung des gesamten Batterie-Recyclings" nutzen (Word-Dokument).
A24: Input Angaben zu den Altbatterien zum Zeitpunkt der Zuführung zum vollständigen Recyclingprozess3
A25: Art/Beschreibung der Altbatterien und -akkumulatoren | C25: Abfallcode nach dem Europäischen Abfall-verzeichnis | D25: (Feucht) Masse4 | E25: Masseanteile | F25: Mitgliedstaat, in dem die Altbatterien gesammelt wurden9
D26: [t/a] | E26: [%]
A27: =IF('Recyclingschritt N_0'!A26<>"",'Recyclingschritt N_0'!A26,"") | C27: =IF('Recyclingschritt N_0'!C26<>"",'Recyclingschritt N_0'!C26,"") | D27: =IF('Recyclingschritt N_0'!D26<>"",'Recyclingschritt N_0'!D26,"") | E27: =IF(D27<>"",D27/$D$33,"") | F27: =IF('Recyclingschritt N_0'!E26<>"",'Recyclingschritt N_0'!E26,"")
A28: =IF('Recyclingschritt N_0'!A27<>"",'Recyclingschritt N_0'!A27,"") | C28: =IF('Recyclingschritt N_0'!C27<>"",'Recyclingschritt N_0'!C27,"") | D28: =IF('Recyclingschritt N_0'!D27<>"",'Recyclingschritt N_0'!D27,"") | E28: =IF(D28<>"",D28/$D$33,"") | F28: =IF('Recyclingschritt N_0'!E27<>"",'Recyclingschritt N_0'!E27,"")
A29: =IF('Recyclingschritt N_0'!A28<>"",'Recyclingschritt N_0'!A28,"") | C29: =IF('Recyclingschritt N_0'!C28<>"",'Recyclingschritt N_0'!C28,"") | D29: =IF('Recyclingschritt N_0'!D28<>"",'Recyclingschritt N_0'!D28,"") | E29: =IF(D29<>"",D29/$D$33,"") | F29: =IF('Recyclingschritt N_0'!E28<>"",'Recyclingschritt N_0'!E28,"")
A30: =IF('Recyclingschritt N_0'!A29<>"",'Recyclingschritt N_0'!A29,"") | C30: =IF('Recyclingschritt N_0'!C29<>"",'Recyclingschritt N_0'!C29,"") | D30: =IF('Recyclingschritt N_0'!D29<>"",'Recyclingschritt N_0'!D29,"") | E30: =IF(D30<>"",D30/$D$33,"") | F30: =IF('Recyclingschritt N_0'!E29<>"",'Recyclingschritt N_0'!E29,"")
A31: =IF('Recyclingschritt N_0'!A30<>"",'Recyclingschritt N_0'!A30,"") | C31: =IF('Recyclingschritt N_0'!C30<>"",'Recyclingschritt N_0'!C30,"") | D31: =IF('Recyclingschritt N_0'!D30<>"",'Recyclingschritt N_0'!D30,"") | E31: =IF(D31<>"",D31/$D$33,"") | F31: =IF('Recyclingschritt N_0'!E30<>"",'Recyclingschritt N_0'!E30,"")
A32: =IF('Recyclingschritt N_0'!A31<>"",'Recyclingschritt N_0'!A31,"") | C32: =IF('Recyclingschritt N_0'!C31<>"",'Recyclingschritt N_0'!C31,"") | D32: =IF('Recyclingschritt N_0'!D31<>"",'Recyclingschritt N_0'!D31,"") | E32: =IF(D32<>"",D32/$D$33,"") | F32: =IF('Recyclingschritt N_0'!E31<>"",'Recyclingschritt N_0'!E31,"")
A33: Gesamt | C33: =IF('Recyclingschritt N_0'!C32<>"",'Recyclingschritt N_0'!C32,"") | D33: =SUM(D27:D32) -> 0 | E33: =SUM(E27:E32) -> 0
E34: =IF('Recyclingschritt N_0'!E33<>"",'Recyclingschritt N_0'!E33,"")
A35: Output ERGEBNISSE je Herkunftsland— Berechnete Recyclingergebnisse von in DE gesammelten Altbatterien 10 (RS N_0 + N_1 + N_2, etc.)
A36: Masse Altbatterieinput: | B36: =D27
A37: MS, in dem die Altbatterien gesammelt wurden: | D37: =IF('Recyclingschritt N_0'!E26<>"",'Recyclingschritt N_0'!E26,"")
A38: Element oder Verbindung | B38: Input minput 5 | C38: Output moutput 5 innerhalb der EU-MS erzeugt | D38: Output moutput 9 außerhalb der EU erzeugt | E38: Output moutput 5 Gesamt | F38: rRE11 | G38: rRM12 | H38: Masse Cadmium (Cd) mCd,waste insges. und Masse Quecksilber (Hg) mHg,waste insges. sicher immobilisiert und entsorgt (13)
B39: [t/a] | C39: [t/a] | D39: [t/a] | E39: [t/a] | F39: [m%] | G39: [m%] | H39: [t/a]
A40: =IF('Recyclingschritt N_0'!A81<>"",'Recyclingschritt N_0'!A81,"") -> Kobalt (Co) | B40: ='Recyclingschritt N_0'!B81 | C40: =IFERROR('Recyclingschritt N_0'!C81+('Recyclingschritt N_1'!C45+'Recyclingschritt N_2'!C45+'Recyclingschritt N_3'!C45+'Recyclingschritt N_4'!C45+'Recyclingschritt N_4'!C45+'Recyclingschritt N_6'!C45+'Recyclingschritt N_7'!C45+'Recyclingschritt N_8'!C45)*$E$27,"") | D40: =IFERROR('Recyclingschritt N_0'!D81+('Recyclingschritt N_1'!D45+'Recyclingschritt N_2'!D45+'Recyclingschritt N_3'!D45+'Recyclingschritt N_4'!D45+'Recyclingschritt N_4'!D45+'Recyclingschritt N_6'!D45+'Recyclingschritt N_7'!D45+'Recyclingschritt N_8'!D45)*$E$27,"") | E40: =IFERROR(C40+D40,"") | G40: =IFERROR(E40/B40, "ggf. Pflichtfeld!") -> ggf. Pflichtfeld!
A41: =IF('Recyclingschritt N_0'!A82<>"",'Recyclingschritt N_0'!A82,"") -> Kupfer (Cu) | B41: ='Recyclingschritt N_0'!B82 | C41: =IFERROR('Recyclingschritt N_0'!C82+('Recyclingschritt N_1'!C46+'Recyclingschritt N_2'!C46+'Recyclingschritt N_3'!C46+'Recyclingschritt N_4'!C46+'Recyclingschritt N_4'!C46+'Recyclingschritt N_6'!C46+'Recyclingschritt N_7'!C46+'Recyclingschritt N_8'!C46)*$E$27,"") | D41: =IFERROR('Recyclingschritt N_0'!D82+('Recyclingschritt N_1'!D46+'Recyclingschritt N_2'!D46+'Recyclingschritt N_3'!D46+'Recyclingschritt N_4'!D46+'Recyclingschritt N_4'!D46+'Recyclingschritt N_6'!D46+'Recyclingschritt N_7'!D46+'Recyclingschritt N_8'!D46)*$E$27,"") | E41: =IFERROR(C41+D41,"") | G41: =IFERROR(E41/B41, "ggf. Pflichtfeld!") -> ggf. Pflichtfeld!
A42: =IF('Recyclingschritt N_0'!A83<>"",'Recyclingschritt N_0'!A83,"") -> Blei (Pb) | B42: ='Recyclingschritt N_0'!B83 | C42: =IFERROR('Recyclingschritt N_0'!C83+('Recyclingschritt N_1'!C47+'Recyclingschritt N_2'!C47+'Recyclingschritt N_3'!C47+'Recyclingschritt N_4'!C47+'Recyclingschritt N_4'!C47+'Recyclingschritt N_6'!C47+'Recyclingschritt N_7'!C47+'Recyclingschritt N_8'!C47)*$E$27,"") | D42: =IFERROR('Recyclingschritt N_0'!D83+('Recyclingschritt N_1'!D47+'Recyclingschritt N_2'!D47+'Recyclingschritt N_3'!D47+'Recyclingschritt N_4'!D47+'Recyclingschritt N_4'!D47+'Recyclingschritt N_6'!D47+'Recyclingschritt N_7'!D47+'Recyclingschritt N_8'!D47)*$E$27,"") | E42: =IFERROR(C42+D42,"") | G42: =IFERROR(E42/B42, "ggf. Pflichtfeld!") -> ggf. Pflichtfeld!
A43: =IF('Recyclingschritt N_0'!A84<>"",'Recyclingschritt N_0'!A84,"") -> Lithium (Li) | B43: ='Recyclingschritt N_0'!B84 | C43: =IFERROR('Recyclingschritt N_0'!C84+('Recyclingschritt N_1'!C48+'Recyclingschritt N_2'!C48+'Recyclingschritt N_3'!C48+'Recyclingschritt N_4'!C48+'Recyclingschritt N_4'!C48+'Recyclingschritt N_6'!C48+'Recyclingschritt N_7'!C48+'Recyclingschritt N_8'!C48)*$E$27,"") | D43: =IFERROR('Recyclingschritt N_0'!D84+('Recyclingschritt N_1'!D48+'Recyclingschritt N_2'!D48+'Recyclingschritt N_3'!D48+'Recyclingschritt N_4'!D48+'Recyclingschritt N_4'!D48+'Recyclingschritt N_6'!D48+'Recyclingschritt N_7'!D48+'Recyclingschritt N_8'!D48)*$E$27,"") | E43: =IFERROR(C43+D43,"") | G43: =IFERROR(E43/B43, "ggf. Pflichtfeld!") -> ggf. Pflichtfeld!
A44: =IF('Recyclingschritt N_0'!A85<>"",'Recyclingschritt N_0'!A85,"") -> Nickel (Ni) | B44: ='Recyclingschritt N_0'!B85 | C44: =IFERROR('Recyclingschritt N_0'!C85+('Recyclingschritt N_1'!C49+'Recyclingschritt N_2'!C49+'Recyclingschritt N_3'!C49+'Recyclingschritt N_4'!C49+'Recyclingschritt N_4'!C49+'Recyclingschritt N_6'!C49+'Recyclingschritt N_7'!C49+'Recyclingschritt N_8'!C49)*$E$27,"") | D44: =IFERROR('Recyclingschritt N_0'!D85+('Recyclingschritt N_1'!D49+'Recyclingschritt N_2'!D49+'Recyclingschritt N_3'!D49+'Recyclingschritt N_4'!D49+'Recyclingschritt N_4'!D49+'Recyclingschritt N_6'!D49+'Recyclingschritt N_7'!D49+'Recyclingschritt N_8'!D49)*$E$27,"") | E44: =IFERROR(C44+D44,"")
A45: =IF('Recyclingschritt N_0'!A86<>"",'Recyclingschritt N_0'!A86,"") -> Mangan (Mn) | B45: ='Recyclingschritt N_0'!B86 | C45: =IFERROR('Recyclingschritt N_0'!C86+('Recyclingschritt N_1'!C50+'Recyclingschritt N_2'!C50+'Recyclingschritt N_3'!C50+'Recyclingschritt N_4'!C50+'Recyclingschritt N_4'!C50+'Recyclingschritt N_6'!C50+'Recyclingschritt N_7'!C50+'Recyclingschritt N_8'!C50)*$E$27,"") | D45: =IFERROR('Recyclingschritt N_0'!D86+('Recyclingschritt N_1'!D50+'Recyclingschritt N_2'!D50+'Recyclingschritt N_3'!D50+'Recyclingschritt N_4'!D50+'Recyclingschritt N_4'!D50+'Recyclingschritt N_6'!D50+'Recyclingschritt N_7'!D50+'Recyclingschritt N_8'!D50)*$E$27,"") | E45: =IFERROR(C45+D45,"")
A46: =IF('Recyclingschritt N_0'!A87<>"",'Recyclingschritt N_0'!A87,"") -> Aluminium (Al) | B46: ='Recyclingschritt N_0'!B87 | C46: =IFERROR('Recyclingschritt N_0'!C87+('Recyclingschritt N_1'!C51+'Recyclingschritt N_2'!C51+'Recyclingschritt N_3'!C51+'Recyclingschritt N_4'!C51+'Recyclingschritt N_4'!C51+'Recyclingschritt N_6'!C51+'Recyclingschritt N_7'!C51+'Recyclingschritt N_8'!C51)*$E$27,"") | D46: =IFERROR('Recyclingschritt N_0'!D87+('Recyclingschritt N_1'!D51+'Recyclingschritt N_2'!D51+'Recyclingschritt N_3'!D51+'Recyclingschritt N_4'!D51+'Recyclingschritt N_4'!D51+'Recyclingschritt N_6'!D51+'Recyclingschritt N_7'!D51+'Recyclingschritt N_8'!D51)*$E$27,"") | E46: =IFERROR(C46+D46,"")
...

Sheet Recyclingschritt N_0
C1: Name des (ersten) Recyclingbetriebes: | I1: =IF(TitelseiteSonstigeAltbatterien!$F$7<>"",TitelseiteSonstigeAltbatterien!$F$7,"")
A2: DV Abschnitt 9 (Teil 2) | B2: Die einzelnen Recyclingschritte, d. h., alle beteiligten Recyclinganlagen, sind zu dokumentieren:
A3: Ausfüllhinweis: Angaben müssen bzw. können nur in den weiß gehaltenen Eingabefeldern hinterlegt werden. Teilweise werden Ihre Angaben automatisch innerhalb eines Formblattes sowie auf Folgeformblätter übertragen. Übernommene Angaben sind jeweils blau gekennzeichnet (vgl. auch die allgemeinen Formularbearbeitungshinweise im Formblatt "Ausfüllhinweise").
A5: Recyclingschritt | B5: =CONCATENATE("N_0, hier: ",TitelseiteSonstigeAltbatterien!F12) -> N_0, hier:
A8: Kalenderjahr | C8: =IF(TitelseiteSonstigeAltbatterien!$F$8<>"",TitelseiteSonstigeAltbatterien!$F$8,"") -> 2026
A10: Angaben zum Recyclingbetrieb1
A11: Name
A12: Straße und Hausnummer
A13: PLZ
A14: Ort
A15: Land
A16: Kontaktperson
A17: Telefon
A18: E-Mail
A20: Beschreibung der einzelnen Recyclingschritte: | C20: Bitte Anlage A "Beschreibung des gesamten Batterie-Recyclingverfahrens" am Ende des Formulars nutzen.
A23: 1. Recycling-Input zum Zeitpunkt der Zuführung zum jeweiligen Recyclingschritt2 (Altbatterien oder Fraktionen von Altbatterien) | I23: =CONCATENATE("hier: ",$I$1) -> hier:
A24: Art/Beschreibung der Altbatterien und -akkumulatoren | C24: Abfallcode nach dem Europäischen Abfall-verzeichnis | D24: Masse3 | E24: Mitgliedstaat, in dem die Altbatterien gesammelt wurden12 | G24: Masseanteile
D25: [t/a] | G25: [%]
G26: =IF(D26<>"",D26/$D$32,"")
G27: =IF(D27<>"",D27/$D$32,"")
G28: =IF(D28<>"",D28/$D$32,"")
G29: =IF(D29<>"",D29/$D$32,"")
G30: =IF(D30<>"",D30/$D$32,"")
G31: =IF(D31<>"",D31/$D$32,"")
A32: Gesamt | D32: =SUM(D26:D31) -> 0 | E32: =SUM(G26:G31) -> 0
A34: 2. Recycling-Output Zwischenfraktionen4 (noch keine "Endgültige Outputfraktion" - zur weiteren Behandlung) | I34: =CONCATENATE("hier: ",$I$1) -> hier:
A35: Beschreibung der Fraktion | C35: Abfallcode nach dem Europäischen Abfall-verzeichnis | D35: Masse | E35: Weitere Behandlung
E36: Weiterer Recycling- schritt | G36: Weiterer Akteur5 | I36: Weiterer Recycling- schritt
D37: [t/a] | E37: Bezeichnung | G37: Name des Empfängers | I37: Nummer
I38: N_1
I39: N_2
I40: N_3
I41: N_4
I42: N_5
I43: N_6
I44: N_7
I45: N_8
A46: Gesamt Output der Zwischenfraktionen | D46: =SUM(D38:D45) -> 0
A48: 3. Recycling-Input und -Output Input- und Outputfraktionen, die in den rRE- und rRM-Berechnungen6 berücksichtigt werden und aus Altbatterien stammen, die in DE und anderen MS gesammelt wurden | I48: =CONCATENATE("hier: ",$I$1) -> hier:
A49: Gesamtbetrachtung RS N_0: Ergebnisse des gesamten Anlagen In- und Outputs | B49: =D32 -> 0 | D49: Die benötigte Aufteilung nach Ländern, in den die Altbatterien gesammelt wurden, erfolgt in weiteren Schritten automatisiert gemäß den Masseanteilen unter 1., Spalte G.
...

Sheet Recyclingschritt N_1
C1: Name des (ersten) Recyclingbetriebes: | H1: =IF(TitelseiteSonstigeAltbatterien!$F$7<>"",TitelseiteSonstigeAltbatterien!$F$7,"")
A2: ='Recyclingschritt N_0'!A2 -> DV Abschnitt 9 (Teil 2) | B2: Die einzelnen Recyclingschritte, d. h. alle beteiligten Recyclinganlagen, sind zu dokumentieren:
A3: Ausfüllhinweis: Angaben müssen bzw. können nur in den weiß gehaltenen Eingabefeldern hinterlegt werden. Teilweise werden Ihre Angaben automatisch innerhalb eines Formblattes sowie auf Folgeformblätter übertragen. Übernommene Angaben sind jeweils blau gekennzeichnet (vgl. auch die allgemeinen Formularbearbeitungshinweise im Formblatt "Ausfüllhinweise").
A5: Recyclingschritt | B5: =CONCATENATE("N_1, hier: ",IF(TitelseiteSonstigeAltbatterien!$B$18<>"",TitelseiteSonstigeAltbatterien!$B$18,"")) -> N_1, hier:
A7: Kalenderjahr | C7: =IF(TitelseiteSonstigeAltbatterien!$F$8<>"",TitelseiteSonstigeAltbatterien!$F$8,"") -> 2026
A9: Angaben zum Recyclingbetrieb1
A10: Name
A11: Straße und Hausnummer
A12: PLZ
A13: Ort
A14: Land
A15: Kontaktperson
A16: Telefon
A17: E-Mail
A19: Beschreibung der einzelnen Recyclingschritte: | C19: Bitte Anlage B "Beschreibung des einzelnen Recyclingschrittes" am Ende des Formulars zur Beschreibung der einzelnen Recyclingverfahren bspw. N_1, N_2, etc. nutzen.
A22: 1. Recycling-Input zum Zeitpunkt der Zuführung zum jeweiligen Recyclingschritt2 (Altbatterien oder Fraktionen von Altbatterien) | I22: =CONCATENATE("hier: ",$C$10) -> hier:
A23: Art des Inputs | C23: Abfallcode nach dem Europäischen Abfall-verzeichnis | D23: Masse3
D24: [t/a]
A25: {=IF('Recyclingschritt N_0'!A38:B38<>"",'Recyclingschritt N_0'!A38:B38,"")} | C25: =IF('Recyclingschritt N_0'!C38<>"",'Recyclingschritt N_0'!C38,"") | D25: =IF('Recyclingschritt N_0'!D38<>"",'Recyclingschritt N_0'!D38,"")
A31: 2. Recycling-Output Zwischenfraktionen4 (noch keine "Endgültige Outputfraktion" - zur weiteren Behandlung) | I31: =CONCATENATE("hier: ",C10) -> hier:
A32: Beschreibung der Fraktion | C32: Abfallcode nach dem Europäischen Abfall-verzeichnis | D32: Masse | E32: Weitere Behandlung
E33: Weiterer Recycling- schritt | G33: Weiterer Akteur5 | I33: Weiterer Recycling- schritt
D34: [t/a] | E34: Bezeichnung | G34: Name des Empfängers | I34: Nummer
I35: N_X
I36: N_X
I37: N_X
I38: N_X
I39: N_X
A40: Gesamt Output der Zwischenfraktionen | D40: =SUM(D35:D39) -> 0
A42: 3. Recycling-Output Input- und Outputfraktionen, die in den rRE- und rRM-Berechnungen6 berücksichtigt werden. | I42: =CONCATENATE("hier: ",$C$10) -> hier:
A43: Element oder Verbindung7 | B43: Input minput (nur dieser Recyclingschritt) | C43: Output moutput innerhalb der EU-MS erzeugt | D43: Output moutput außerhalb der EU erzeugt8 | E43: Output moutput Gesamt | F43: Bezeichnung der Outputfraktion (kein Abfall), die das Element oder die Verbindung enthält | G43: Ertrag der Outputfraktion | H43: Verbleib der Fraktion | I43: Masse Cadmium (Cd) mCd,waste insges. oder Masse Quecksilber (Hg) mHg,waste insges. sicher immobilisiert und entsorgt (13)
B44: [t/a] | C44: [t/a] | D44: [t/a] | E44: [t/a] | G44: [m%] | I44: [t/a]
A45: Kobalt (Co) | E45: =C45+D45 -> 0
A46: Kupfer (Cu) | E46: =C46+D46 -> 0
A47: Blei (Pb) | E47: =C47+D47 -> 0
A48: Lithium (Li) | E48: =C48+D48 -> 0
A49: Nickel (Ni) | E49: =C49+D49 -> 0
A50: Mangan (Mn) | E50: =C50+D50 -> 0
A51: Aluminium (Al) | E51: =C51+D51 -> 0
A52: Stahl | E52: =C52+D52 -> 0
...

Sheet Recyclingschritt N_2
C1: Name des (ersten) Recyclingbetriebes: | H1: =IF(TitelseiteSonstigeAltbatterien!$F$7<>"",TitelseiteSonstigeAltbatterien!$F$7,"")
A2: ='Recyclingschritt N_0'!A2 -> DV Abschnitt 9 (Teil 2) | B2: Die einzelnen Recyclingschritte, d. h. alle beteiligten Recyclinganlagen, sind zu dokumentieren:
A3: Ausfüllhinweis: Angaben müssen bzw. können nur in den weiß gehaltenen Eingabefeldern hinterlegt werden. Teilweise werden Ihre Angaben automatisch innerhalb eines Formblattes sowie auf Folgeformblätter übertragen. Übernommene Angaben sind jeweils blau gekennzeichnet (vgl. auch die allgemeinen Formularbearbeitungshinweise im Formblatt "Ausfüllhinweise").
A5: Recyclingschritt | B5: =CONCATENATE("N_2, hier: ",IF(TitelseiteSonstigeAltbatterien!$D$18<>"",TitelseiteSonstigeAltbatterien!$D$18,"")) -> N_2, hier:
A7: Kalenderjahr | C7: =IF(TitelseiteSonstigeAltbatterien!$F$8<>"",TitelseiteSonstigeAltbatterien!$F$8,"") -> 2026
A9: Angaben zum Recyclingbetrieb1
A10: Name
A11: Straße und Hausnummer
A12: PLZ
A13: Ort
A14: Land
A15: Kontaktperson
A16: Telefon
A17: E-Mail
A19: Beschreibung der einzelnen Recyclingschritte: | C19: Bitte Anlage B "Beschreibung des einzelnen Recyclingschrittes" am Ende des Formulars zur Beschreibung der einzelnen Recyclingverfahren bspw. N_1, N_2, etc. nutzen.
A22: 1. Recycling-Input zum Zeitpunkt der Zuführung zum jeweiligen Recyclingschritt2 (Altbatterien oder Fraktionen von Altbatterien) | I22: =CONCATENATE("hier: ",$C$10) -> hier:
A23: Art des Inputs | C23: Abfallcode nach dem Europäischen Abfall-verzeichnis | D23: Masse3
D24: [t/a]
A25: {=IF('Recyclingschritt N_0'!A39:B39<>"",'Recyclingschritt N_0'!A39:B39,"")} | C25: =IF('Recyclingschritt N_0'!C39<>"",'Recyclingschritt N_0'!C39,"") | D25: =IF('Recyclingschritt N_0'!D39<>"",'Recyclingschritt N_0'!D39,"")
A31: 2. Recycling-Output Zwischenfraktionen4 (noch keine "Endgültige Outputfraktion" - zur weiteren Behandlung) | I31: =CONCATENATE("hier: ",C10) -> hier:
A32: Beschreibung der Fraktion | C32: Abfallcode nach dem Europäischen Abfall-verzeichnis | D32: Masse | E32: Weitere Behandlung
E33: Weiterer Recycling- schritt | G33: Weiterer Akteur5 | I33: Weiterer Recycling- schritt
D34: [t/a] | E34: Bezeichnung | G34: Name des Empfängers | I34: Nummer
I35: N_X
I36: N_X
I37: N_X
I38: N_X
I39: N_X
A40: Gesamt Output der Zwischenfraktionen | D40: =SUM(D35:D39) -> 0
A42: 3. Recycling-Output Input- und Outputfraktionen, die in den rRE- und rRM-Berechnungen6 berücksichtigt werden. | I42: =CONCATENATE("hier: ",$C$10) -> hier:
A43: Element oder Verbindung7 | B43: Input minput (nur dieser Recyclingschritt) | C43: Output moutput innerhalb der EU-MS erzeugt | D43: Output moutput außerhalb der EU erzeugt8 | E43: Output moutput Gesamt | F43: Bezeichnung der Outputfraktion (kein Abfall), die das Element oder die Verbindung enthält | G43: Ertrag der Outputfraktion | H43: Verbleib der Fraktion | I43: Masse Cadmium (Cd) mCd,waste insges. oder Masse Quecksilber (Hg) mHg,waste insges. sicher immobilisiert und entsorgt (13)
B44: [t/a] | C44: [t/a] | D44: [t/a] | E44: [t/a] | G44: [m%] | I44: [t/a]
A45: Kobalt (Co) | E45: =C45+D45 -> 0
A46: Kupfer (Cu) | E46: =C46+D46 -> 0
A47: Blei (Pb) | E47: =C47+D47 -> 0
A48: Lithium (Li) | E48: =C48+D48 -> 0
A49: Nickel (Ni) | E49: =C49+D49 -> 0
A50: Mangan (Mn) | E50: =C50+D50 -> 0
A51: Aluminium (Al) | E51: =C51+D51 -> 0
A52: Stahl | E52: =C52+D52 -> 0
...

Sheet Recyclingschritt N_3
C1: Name des (ersten) Recyclingbetriebes: | H1: =IF(TitelseiteSonstigeAltbatterien!$F$7<>"",TitelseiteSonstigeAltbatterien!$F$7,"")
A2: ='Recyclingschritt N_0'!A2 -> DV Abschnitt 9 (Teil 2) | B2: Die einzelnen Recyclingschritte, d. h. alle beteiligten Recyclinganlagen, sind zu dokumentieren:
A3: Ausfüllhinweis: Angaben müssen bzw. können nur in den weiß gehaltenen Eingabefeldern hinterlegt werden. Teilweise werden Ihre Angaben automatisch innerhalb eines Formblattes sowie auf Folgeformblätter übertragen. Übernommene Angaben sind jeweils blau gekennzeichnet (vgl. auch die allgemeinen Formularbearbeitungshinweise im Formblatt "Ausfüllhinweise").
A5: Recyclingschritt | B5: =CONCATENATE("N_3, hier: ",IF(TitelseiteSonstigeAltbatterien!$F$18<>"",TitelseiteSonstigeAltbatterien!$F$18,"")) -> N_3, hier:
A7: Kalenderjahr | C7: =IF(TitelseiteSonstigeAltbatterien!$F$8<>"",TitelseiteSonstigeAltbatterien!$F$8,"") -> 2026
A9: Angaben zum Recyclingbetrieb1
A10: Name
A11: Straße und Hausnummer
A12: PLZ
A13: Ort
A14: Land
A15: Kontaktperson
A16: Telefon
A17: E-Mail
A19: Beschreibung der einzelnen Recyclingschritte: | C19: Bitte Anlage B "Beschreibung des einzelnen Recyclingschrittes" am Ende des Formulars zur Beschreibung der einzelnen Recyclingverfahren bspw. N_1, N_2, etc. nutzen.
A22: 1. Recycling-Input zum Zeitpunkt der Zuführung zum jeweiligen Recyclingschritt2 (Altbatterien oder Fraktionen von Altbatterien) | I22: =CONCATENATE("hier: ",$C$10) -> hier:
A23: Art des Inputs | C23: Abfallcode nach dem Europäischen Abfall-verzeichnis | D23: Masse3
D24: [t/a]
A25: {=IF('Recyclingschritt N_0'!A40:B40<>"",'Recyclingschritt N_0'!A40:B40,"")} | C25: =IF('Recyclingschritt N_0'!C40<>"",'Recyclingschritt N_0'!C40,"") | D25: =IF('Recyclingschritt N_0'!D40<>"",'Recyclingschritt N_0'!D40,"")
A31: 2. Recycling-Output Zwischenfraktionen4 (noch keine "Endgültige Outputfraktion" - zur weiteren Behandlung) | I31: =CONCATENATE("hier: ",C10) -> hier:
A32: Beschreibung der Fraktion | C32: Abfallcode nach dem Europäischen Abfall-verzeichnis | D32: Masse | E32: Weitere Behandlung
E33: Weiterer Recycling- schritt | G33: Weiterer Akteur5 | I33: Weiterer Recycling- schritt
D34: [t/a] | E34: Bezeichnung | G34: Name des Empfängers | I34: Nummer
I35: N_X
I36: N_X
I37: N_X
I38: N_X
I39: N_X
A40: Gesamt Output der Zwischenfraktionen | D40: =SUM(D35:D39) -> 0
A42: 3. Recycling-Output Input- und Outputfraktionen, die in den rRE- und rRM-Berechnungen6 berücksichtigt werden. | I42: =CONCATENATE("hier: ",$C$10) -> hier:
A43: Element oder Verbindung7 | B43: Input minput (nur dieser Recyclingschritt) | C43: Output moutput innerhalb der EU-MS erzeugt | D43: Output moutput außerhalb der EU erzeugt8 | E43: Output moutput Gesamt | F43: Bezeichnung der Outputfraktion (kein Abfall), die das Element oder die Verbindung enthält | G43: Ertrag der Outputfraktion | H43: Verbleib der Fraktion | I43: Masse Cadmium (Cd) mCd,waste insges. oder Masse Quecksilber (Hg) mHg,waste insges. sicher immobilisiert und entsorgt (13)
B44: [t/a] | C44: [t/a] | D44: [t/a] | E44: [t/a] | G44: [m%] | I44: [t/a]
A45: Kobalt (Co) | E45: =C45+D45 -> 0
A46: Kupfer (Cu) | E46: =C46+D46 -> 0
A47: Blei (Pb) | E47: =C47+D47 -> 0
A48: Lithium (Li) | E48: =C48+D48 -> 0
A49: Nickel (Ni) | E49: =C49+D49 -> 0
A50: Mangan (Mn) | E50: =C50+D50 -> 0
A51: Aluminium (Al) | E51: =C51+D51 -> 0
A52: Stahl | E52: =C52+D52 -> 0
...

Sheet Recyclingschritt N_4
C1: Name des (ersten) Recyclingbetriebes: | H1: =IF(TitelseiteSonstigeAltbatterien!$F$7<>"",TitelseiteSonstigeAltbatterien!$F$7,"")
A2: ='Recyclingschritt N_0'!A2 -> DV Abschnitt 9 (Teil 2) | B2: Die einzelnen Recyclingschritte, d. h. alle beteiligten Recyclinganlagen, sind zu dokumentieren:
A3: Ausfüllhinweis: Angaben müssen bzw. können nur in den weiß gehaltenen Eingabefeldern hinterlegt werden. Teilweise werden Ihre Angaben automatisch innerhalb eines Formblattes sowie auf Folgeformblätter übertragen. Übernommene Angaben sind jeweils blau gekennzeichnet (vgl. auch die allgemeinen Formularbearbeitungshinweise im Formblatt "Ausfüllhinweise").
A5: Recyclingschritt | B5: =CONCATENATE("N_4, hier: ",IF(TitelseiteSonstigeAltbatterien!$H$18<>"",TitelseiteSonstigeAltbatterien!$H$18,"")) -> N_4, hier:
A7: Kalenderjahr | C7: =IF(TitelseiteSonstigeAltbatterien!$F$8<>"",TitelseiteSonstigeAltbatterien!$F$8,"") -> 2026
A9: Angaben zum Recyclingbetrieb1
A10: Name
A11: Straße und Hausnummer
A12: PLZ
A13: Ort
A14: Land
A15: Kontaktperson
A16: Telefon
A17: E-Mail
A19: Beschreibung der einzelnen Recyclingschritte: | C19: Bitte Anlage B "Beschreibung des einzelnen Recyclingschrittes" am Ende des Formulars zur Beschreibung der einzelnen Recyclingverfahren bspw. N_1, N_2, etc. nutzen.
A22: 1. Recycling-Input zum Zeitpunkt der Zuführung zum jeweiligen Recyclingschritt2 (Altbatterien oder Fraktionen von Altbatterien) | I22: =CONCATENATE("hier: ",$C$10) -> hier:
A23: Art des Inputs | C23: Abfallcode nach dem Europäischen Abfall-verzeichnis | D23: Masse3
D24: [t/a]
A25: {=IF('Recyclingschritt N_0'!A41:B41<>"",'Recyclingschritt N_0'!A41:B41,"")} | C25: =IF('Recyclingschritt N_0'!C41<>"",'Recyclingschritt N_0'!C41,"") | D25: =IF('Recyclingschritt N_0'!D41<>"",'Recyclingschritt N_0'!D41,"")
A31: 2. Recycling-Output Zwischenfraktionen4 (noch keine "Endgültige Outputfraktion" - zur weiteren Behandlung) | I31: =CONCATENATE("hier: ",C10) -> hier:
A32: Beschreibung der Fraktion | C32: Abfallcode nach dem Europäischen Abfall-verzeichnis | D32: Masse | E32: Weitere Behandlung
E33: Weiterer Recycling- schritt | G33: Weiterer Akteur5 | I33: Weiterer Recycling- schritt
D34: [t/a] | E34: Bezeichnung | G34: Name des Empfängers | I34: Nummer
I35: N_X
I36: N_X
I37: N_X
I38: N_X
I39: N_X
A40: Gesamt Output der Zwischenfraktionen | D40: =SUM(D35:D39) -> 0
A42: 3. Recycling-Output Input- und Outputfraktionen, die in den rRE- und rRM-Berechnungen6 berücksichtigt werden. | I42: =CONCATENATE("hier: ",$C$10) -> hier:
A43: Element oder Verbindung7 | B43: Input minput (nur dieser Recyclingschritt) | C43: Output moutput innerhalb der EU-MS erzeugt | D43: Output moutput außerhalb der EU erzeugt8 | E43: Output moutput Gesamt | F43: Bezeichnung der Outputfraktion (kein Abfall), die das Element oder die Verbindung enthält | G43: Ertrag der Outputfraktion | H43: Verbleib der Fraktion | I43: Masse Cadmium (Cd) mCd,waste insges. oder Masse Quecksilber (Hg) mHg,waste insges. sicher immobilisiert und entsorgt (13)
B44: [t/a] | C44: [t/a] | D44: [t/a] | E44: [t/a] | G44: [m%] | I44: [t/a]
A45: Kobalt (Co) | E45: =C45+D45 -> 0
A46: Kupfer (Cu) | E46: =C46+D46 -> 0
A47: Blei (Pb) | E47: =C47+D47 -> 0
A48: Lithium (Li) | E48: =C48+D48 -> 0
A49: Nickel (Ni) | E49: =C49+D49 -> 0
A50: Mangan (Mn) | E50: =C50+D50 -> 0
A51: Aluminium (Al) | E51: =C51+D51 -> 0
A52: Stahl | E52: =C52+D52 -> 0
...

Sheet Recyclingschritt N_5
C1: Name des (ersten) Recyclingbetriebes: | H1: =IF(TitelseiteSonstigeAltbatterien!$F$7<>"",TitelseiteSonstigeAltbatterien!$F$7,"")
A2: ='Recyclingschritt N_0'!A2 -> DV Abschnitt 9 (Teil 2) | B2: Die einzelnen Recyclingschritte, d. h. alle beteiligten Recyclinganlagen, sind zu dokumentieren:
A3: Ausfüllhinweis: Angaben müssen bzw. können nur in den weiß gehaltenen Eingabefeldern hinterlegt werden. Teilweise werden Ihre Angaben automatisch innerhalb eines Formblattes sowie auf Folgeformblätter übertragen. Übernommene Angaben sind jeweils blau gekennzeichnet (vgl. auch die allgemeinen Formularbearbeitungshinweise im Formblatt "Ausfüllhinweise").
A5: Recyclingschritt | B5: =CONCATENATE("N_5, hier: ",IF(TitelseiteSonstigeAltbatterien!$J$18<>"",TitelseiteSonstigeAltbatterien!$J$18,"")) -> N_5, hier:
A7: Kalenderjahr | C7: =IF(TitelseiteSonstigeAltbatterien!$F$8<>"",TitelseiteSonstigeAltbatterien!$F$8,"") -> 2026
A9: Angaben zum Recyclingbetrieb1
A10: Name
A11: Straße und Hausnummer
A12: PLZ
A13: Ort
A14: Land
A15: Kontaktperson
A16: Telefon
A17: E-Mail
A19: Beschreibung der einzelnen Recyclingschritte: | C19: Bitte Anlage B "Beschreibung des einzelnen Recyclingschrittes" am Ende des Formulars zur Beschreibung der einzelnen Recyclingverfahren bspw. N_1, N_2, etc. nutzen.
A22: 1. Recycling-Input zum Zeitpunkt der Zuführung zum jeweiligen Recyclingschritt2 (Altbatterien oder Fraktionen von Altbatterien) | I22: =CONCATENATE("hier: ",$C$10) -> hier:
A23: Art des Inputs | C23: Abfallcode nach dem Europäischen Abfall-verzeichnis | D23: Masse3
D24: [t/a]
A25: {=IF('Recyclingschritt N_0'!A43:B43<>"",'Recyclingschritt N_0'!A43:B43,"")} | C25: =IF('Recyclingschritt N_0'!C43<>"",'Recyclingschritt N_0'!C43,"") | D25: =IF('Recyclingschritt N_0'!D43<>"",'Recyclingschritt N_0'!D43,"")
A31: 2. Recycling-Output Zwischenfraktionen4 (noch keine "Endgültige Outputfraktion" - zur weiteren Behandlung) | I31: =CONCATENATE("hier: ",C10) -> hier:
A32: Beschreibung der Fraktion | C32: Abfallcode nach dem Europäischen Abfall-verzeichnis | D32: Masse | E32: Weitere Behandlung
E33: Weiterer Recycling- schritt | G33: Weiterer Akteur5 | I33: Weiterer Recycling- schritt
D34: [t/a] | E34: Bezeichnung | G34: Name des Empfängers | I34: Nummer
I35: N_X
I36: N_X
I37: N_X
I38: N_X
I39: N_X
A40: Gesamt Output der Zwischenfraktionen | D40: =SUM(D35:D39) -> 0
A42: 3. Recycling-Output Input- und Outputfraktionen, die in den rRE- und rRM-Berechnungen6 berücksichtigt werden. | I42: =CONCATENATE("hier: ",$C$10) -> hier:
A43: Element oder Verbindung7 | B43: Input minput (nur dieser Recyclingschritt) | C43: Output moutput innerhalb der EU-MS erzeugt | D43: Output moutput außerhalb der EU erzeugt8 | E43: Output moutput Gesamt | F43: Bezeichnung der Outputfraktion (kein Abfall), die das Element oder die Verbindung enthält | G43: Ertrag der Outputfraktion | H43: Verbleib der Fraktion | I43: Masse Cadmium (Cd) mCd,waste insges. oder Masse Quecksilber (Hg) mHg,waste insges. sicher immobilisiert und entsorgt (13)
B44: [t/a] | C44: [t/a] | D44: [t/a] | E44: [t/a] | G44: [m%] | I44: [t/a]
A45: Kobalt (Co) | E45: =C45+D45 -> 0
A46: Kupfer (Cu) | E46: =C46+D46 -> 0
A47: Blei (Pb) | E47: =C47+D47 -> 0
A48: Lithium (Li) | E48: =C48+D48 -> 0
A49: Nickel (Ni) | E49: =C49+D49 -> 0
A50: Mangan (Mn) | E50: =C50+D50 -> 0
A51: Aluminium (Al) | E51: =C51+D51 -> 0
A52: Stahl | E52: =C52+D52 -> 0
...

Sheet Recyclingschritt N_6
C1: Name des (ersten) Recyclingbetriebes: | H1: =IF(TitelseiteSonstigeAltbatterien!$F$7<>"",TitelseiteSonstigeAltbatterien!$F$7,"")
A2: ='Recyclingschritt N_0'!A2 -> DV Abschnitt 9 (Teil 2) | B2: Die einzelnen Recyclingschritte, d. h. alle beteiligten Recyclinganlagen, sind zu dokumentieren:
A3: Ausfüllhinweis: Angaben müssen bzw. können nur in den weiß gehaltenen Eingabefeldern hinterlegt werden. Teilweise werden Ihre Angaben automatisch innerhalb eines Formblattes sowie auf Folgeformblätter übertragen. Übernommene Angaben sind jeweils blau gekennzeichnet (vgl. auch die allgemeinen Formularbearbeitungshinweise im Formblatt "Ausfüllhinweise").
A5: Recyclingschritt | B5: =CONCATENATE("N_6, hier: ",IF(TitelseiteSonstigeAltbatterien!$B$21<>"",TitelseiteSonstigeAltbatterien!$B$21,"")) -> N_6, hier:
A7: Kalenderjahr | C7: =IF(TitelseiteSonstigeAltbatterien!$F$8<>"",TitelseiteSonstigeAltbatterien!$F$8,"") -> 2026
A9: Angaben zum Recyclingbetrieb1
A10: Name
A11: Straße und Hausnummer
A12: PLZ
A13: Ort
A14: Land
A15: Kontaktperson
A16: Telefon
A17: E-Mail
A19: Beschreibung der einzelnen Recyclingschritte: | C19: Bitte Anlage B "Beschreibung des einzelnen Recyclingschrittes" am Ende des Formulars zur Beschreibung der einzelnen Recyclingverfahren bspw. N_1, N_2, etc. nutzen.
A22: 1. Recycling-Input zum Zeitpunkt der Zuführung zum jeweiligen Recyclingschritt2 (Altbatterien oder Fraktionen von Altbatterien) | I22: =CONCATENATE("hier: ",$C$10) -> hier:
A23: Art des Inputs | C23: Abfallcode nach dem Europäischen Abfall-verzeichnis | D23: Masse3
D24: [t/a]
A25: {=IF('Recyclingschritt N_0'!A43:B43<>"",'Recyclingschritt N_0'!A43:B43,"")} | C25: =IF('Recyclingschritt N_0'!C43<>"",'Recyclingschritt N_0'!C43,"") | D25: =IF('Recyclingschritt N_0'!D43<>"",'Recyclingschritt N_0'!D43,"")
A31: 2. Recycling-Output Zwischenfraktionen4 (noch keine "Endgültige Outputfraktion" - zur weiteren Behandlung) | I31: =CONCATENATE("hier: ",C10) -> hier:
A32: Beschreibung der Fraktion | C32: Abfallcode nach dem Europäischen Abfall-verzeichnis | D32: Masse | E32: Weitere Behandlung
E33: Weiterer Recycling- schritt | G33: Weiterer Akteur5 | I33: Weiterer Recycling- schritt
D34: [t/a] | E34: Bezeichnung | G34: Name des Empfängers | I34: Nummer
I35: N_X
I36: N_X
I37: N_X
I38: N_X
I39: N_X
A40: Gesamt Output der Zwischenfraktionen | D40: =SUM(D35:D39) -> 0
A42: 3. Recycling-Output Input- und Outputfraktionen, die in den rRE- und rRM-Berechnungen6 berücksichtigt werden. | I42: =CONCATENATE("hier: ",$C$10) -> hier:
A43: Element oder Verbindung7 | B43: Input minput (nur dieser Recyclingschritt) | C43: Output moutput innerhalb der EU-MS erzeugt | D43: Output moutput außerhalb der EU erzeugt8 | E43: Output moutput Gesamt | F43: Bezeichnung der Outputfraktion (kein Abfall), die das Element oder die Verbindung enthält | G43: Ertrag der Outputfraktion | H43: Verbleib der Fraktion | I43: Masse Cadmium (Cd) mCd,waste insges. oder Masse Quecksilber (Hg) mHg,waste insges. sicher immobilisiert und entsorgt (13)
B44: [t/a] | C44: [t/a] | D44: [t/a] | E44: [t/a] | G44: [m%] | I44: [t/a]
A45: Kobalt (Co) | E45: =C45+D45 -> 0
A46: Kupfer (Cu) | E46: =C46+D46 -> 0
A47: Blei (Pb) | E47: =C47+D47 -> 0
A48: Lithium (Li) | E48: =C48+D48 -> 0
A49: Nickel (Ni) | E49: =C49+D49 -> 0
A50: Mangan (Mn) | E50: =C50+D50 -> 0
A51: Aluminium (Al) | E51: =C51+D51 -> 0
A52: Stahl | E52: =C52+D52 -> 0
...

Sheet Recyclingschritt N_7
C1: Name des (ersten) Recyclingbetriebes: | H1: =IF(TitelseiteSonstigeAltbatterien!$F$7<>"",TitelseiteSonstigeAltbatterien!$F$7,"")
A2: ='Recyclingschritt N_0'!A2 -> DV Abschnitt 9 (Teil 2) | B2: Die einzelnen Recyclingschritte, d. h. alle beteiligten Recyclinganlagen, sind zu dokumentieren:
A3: Ausfüllhinweis: Angaben müssen bzw. können nur in den weiß gehaltenen Eingabefeldern hinterlegt werden. Teilweise werden Ihre Angaben automatisch innerhalb eines Formblattes sowie auf Folgeformblätter übertragen. Übernommene Angaben sind jeweils blau gekennzeichnet (vgl. auch die allgemeinen Formularbearbeitungshinweise im Formblatt "Ausfüllhinweise").
A5: Recyclingschritt | B5: =CONCATENATE("N_7, hier: ",IF(TitelseiteSonstigeAltbatterien!$D$21<>"",TitelseiteSonstigeAltbatterien!$D$21,"")) -> N_7, hier:
A7: Kalenderjahr | C7: =IF(TitelseiteSonstigeAltbatterien!$F$8<>"",TitelseiteSonstigeAltbatterien!$F$8,"") -> 2026
A9: Angaben zum Recyclingbetrieb1
A10: Name
A11: Straße und Hausnummer
A12: PLZ
A13: Ort
A14: Land
A15: Kontaktperson
A16: Telefon
A17: E-Mail
A19: Beschreibung der einzelnen Recyclingschritte: | C19: Bitte Anlage B "Beschreibung des einzelnen Recyclingschrittes" am Ende des Formulars zur Beschreibung der einzelnen Recyclingverfahren bspw. N_1, N_2, etc. nutzen.
A22: 1. Recycling-Input zum Zeitpunkt der Zuführung zum jeweiligen Recyclingschritt2 (Altbatterien oder Fraktionen von Altbatterien) | I22: =CONCATENATE("hier: ",$C$10) -> hier:
A23: Art des Inputs | C23: Abfallcode nach dem Europäischen Abfall-verzeichnis | D23: Masse3
D24: [t/a]
A25: {=IF('Recyclingschritt N_0'!A44:B44<>"",'Recyclingschritt N_0'!A44:B44,"")} | C25: =IF('Recyclingschritt N_0'!C44<>"",'Recyclingschritt N_0'!C44,"") | D25: =IF('Recyclingschritt N_0'!D44<>"",'Recyclingschritt N_0'!D44,"")
A31: 2. Recycling-Output Zwischenfraktionen4 (noch keine "Endgültige Outputfraktion" - zur weiteren Behandlung) | I31: =CONCATENATE("hier: ",C10) -> hier:
A32: Beschreibung der Fraktion | C32: Abfallcode nach dem Europäischen Abfall-verzeichnis | D32: Masse | E32: Weitere Behandlung
E33: Weiterer Recycling- schritt | G33: Weiterer Akteur5 | I33: Weiterer Recycling- schritt
D34: [t/a] | E34: Bezeichnung | G34: Name des Empfängers | I34: Nummer
I35: N_X
I36: N_X
I37: N_X
I38: N_X
I39: N_X
A40: Gesamt Output der Zwischenfraktionen | D40: =SUM(D35:D39) -> 0
A42: 3. Recycling-Output Input- und Outputfraktionen, die in den rRE- und rRM-Berechnungen6 berücksichtigt werden. | I42: =CONCATENATE("hier: ",$C$10) -> hier:
A43: Element oder Verbindung7 | B43: Input minput (nur dieser Recyclingschritt) | C43: Output moutput innerhalb der EU-MS erzeugt | D43: Output moutput außerhalb der EU erzeugt8 | E43: Output moutput Gesamt | F43: Bezeichnung der Outputfraktion (kein Abfall), die das Element oder die Verbindung enthält | G43: Ertrag der Outputfraktion | H43: Verbleib der Fraktion | I43: Masse Cadmium (Cd) mCd,waste insges. oder Masse Quecksilber (Hg) mHg,waste insges. sicher immobilisiert und entsorgt (13)
B44: [t/a] | C44: [t/a] | D44: [t/a] | E44: [t/a] | G44: [m%] | I44: [t/a]
A45: Kobalt (Co) | E45: =C45+D45 -> 0
A46: Kupfer (Cu) | E46: =C46+D46 -> 0
A47: Blei (Pb) | E47: =C47+D47 -> 0
A48: Lithium (Li) | E48: =C48+D48 -> 0
A49: Nickel (Ni) | E49: =C49+D49 -> 0
A50: Mangan (Mn) | E50: =C50+D50 -> 0
A51: Aluminium (Al) | E51: =C51+D51 -> 0
A52: Stahl | E52: =C52+D52 -> 0
...

Sheet Recyclingschritt N_8
C1: Name des (ersten) Recyclingbetriebes: | H1: =IF(TitelseiteSonstigeAltbatterien!$F$7<>"",TitelseiteSonstigeAltbatterien!$F$7,"")
A2: ='Recyclingschritt N_0'!A2 -> DV Abschnitt 9 (Teil 2) | B2: Die einzelnen Recyclingschritte, d. h. alle beteiligten Recyclinganlagen, sind zu dokumentieren:
A3: Ausfüllhinweis: Angaben müssen bzw. können nur in den weiß gehaltenen Eingabefeldern hinterlegt werden. Teilweise werden Ihre Angaben automatisch innerhalb eines Formblattes sowie auf Folgeformblätter übertragen. Übernommene Angaben sind jeweils blau gekennzeichnet (vgl. auch die allgemeinen Formularbearbeitungshinweise im Formblatt "Ausfüllhinweise").
A5: Recyclingschritt | B5: =CONCATENATE("N_8, hier: ",IF(TitelseiteSonstigeAltbatterien!$F$21<>"",TitelseiteSonstigeAltbatterien!$F$21,"")) -> N_8, hier:
A7: Kalenderjahr | C7: =IF(TitelseiteSonstigeAltbatterien!$F$8<>"",TitelseiteSonstigeAltbatterien!$F$8,"") -> 2026
A9: Angaben zum Recyclingbetrieb1
A10: Name
A11: Straße und Hausnummer
A12: PLZ
A13: Ort
A14: Land
A15: Kontaktperson
A16: Telefon
A17: E-Mail
A19: Beschreibung der einzelnen Recyclingschritte: | C19: Bitte Anlage B "Beschreibung des einzelnen Recyclingschrittes" am Ende des Formulars zur Beschreibung der einzelnen Recyclingverfahren bspw. N_1, N_2, etc. nutzen.
A22: 1. Recycling-Input zum Zeitpunkt der Zuführung zum jeweiligen Recyclingschritt2 (Altbatterien oder Fraktionen von Altbatterien) | I22: =CONCATENATE("hier: ",$C$10) -> hier:
A23: Art des Inputs | C23: Abfallcode nach dem Europäischen Abfall-verzeichnis | D23: Masse3
D24: [t/a]
A25: {=IF('Recyclingschritt N_0'!A45:B45<>"",'Recyclingschritt N_0'!A45:B45,"")} | C25: =IF('Recyclingschritt N_0'!C45<>"",'Recyclingschritt N_0'!C45,"") | D25: =IF('Recyclingschritt N_0'!D45<>"",'Recyclingschritt N_0'!D45,"")
A31: 2. Recycling-Output Zwischenfraktionen4 (noch keine "Endgültige Outputfraktion" - zur weiteren Behandlung) | I31: =CONCATENATE("hier: ",C10) -> hier:
A32: Beschreibung der Fraktion | C32: Abfallcode nach dem Europäischen Abfall-verzeichnis | D32: Masse | E32: Weitere Behandlung
E33: Weiterer Recycling- schritt | G33: Weiterer Akteur5 | I33: Weiterer Recycling- schritt
D34: [t/a] | E34: Bezeichnung | G34: Name des Empfängers | I34: Nummer
I35: N_X
I36: N_X
I37: N_X
I38: N_X
I39: N_X
A40: Gesamt Output der Zwischenfraktionen | D40: =SUM(D35:D39) -> 0
A42: 3. Recycling-Output Input- und Outputfraktionen, die in den rRE- und rRM-Berechnungen6 berücksichtigt werden. | I42: =CONCATENATE("hier: ",$C$10) -> hier:
A43: Element oder Verbindung7 | B43: Input minput (nur dieser Recyclingschritt) | C43: Output moutput innerhalb der EU-MS erzeugt | D43: Output moutput außerhalb der EU erzeugt8 | E43: Output moutput Gesamt | F43: Bezeichnung der Outputfraktion (kein Abfall), die das Element oder die Verbindung enthält | G43: Ertrag der Outputfraktion | H43: Verbleib der Fraktion | I43: Masse Cadmium (Cd) mCd,waste insges. oder Masse Quecksilber (Hg) mHg,waste insges. sicher immobilisiert und entsorgt (13)
B44: [t/a] | C44: [t/a] | D44: [t/a] | E44: [t/a] | G44: [m%] | I44: [t/a]
A45: Kobalt (Co) | E45: =C45+D45 -> 0
A46: Kupfer (Cu) | E46: =C46+D46 -> 0
A47: Blei (Pb) | E47: =C47+D47 -> 0
A48: Lithium (Li) | E48: =C48+D48 -> 0
A49: Nickel (Ni) | E49: =C49+D49 -> 0
A50: Mangan (Mn) | E50: =C50+D50 -> 0
A51: Aluminium (Al) | E51: =C51+D51 -> 0
A52: Stahl | E52: =C52+D52 -> 0
...

Sheet Anlage A
A2: Anlage A | H2: 2. Fließschema des gesamten Batterie-Recyclingverfahrens (fakultativ):
A3: Zur Dokumentation gem. § 29 Abs. 2 BattDG der Recyclingbetriebe | H3: Hinweis zum Einfügen von Bildern bzw. Grafiken: Siehe "Einfügen" , "Bilder", "Über Zeile einfügen", "dieses Gerät"
A6: Name des Recyclingbetriebes:
A7: Bezeichnung des Recyclingschrittes:
A10: 1. Beschreibung des gesamten Recyclingverfahrens1
A11: 1 Beschreibung des vollständigen Batterie-Recyclingverfahrens unabhängig davon, ob es in einer oder mehreren Anlagen durchgeführt wird (mit Beschreibung der einzelnen Recyclingschritte und ihrer Outputfraktionen). Siehe auch die zusätzlichen Hinweise im folgenden Freitextfeld.

Sheet Anlage B
A2: Anlage B | H2: 2. Fließschema des einzelnen Recyclingschrittes/ -verfahrens (fakultativ):
A3: Zur Dokumentation gem. § 29 Abs. 2 BattDG der Recyclingbetriebe | H3: Hinweis zum Einfügen von Bildern bzw. Grafiken: Siehe "Einfügen" , "Bilder", "Über Zeile einfügen", "dieses Gerät"
A6: Name des Recyclingbetriebes:
A7: Bezeichnung des Recyclingschrittes:
A10: 1. Beschreibung des einzelnen Recyclingschrittes/ -verfahrens2
A11: 2 Beschreibung eines einzelnen Recyclingschrittes. Beschreibt jeweils die nachgelagerten Recyclingschritte N_1, N_2, etc.. Die nachgelagerten Recyclingbetriebe hinterlegen jeweils diese Angaben, die vom ersten Recyclingbetrieb in Anlage A zusammengeführt werden.
A47: Anlage B | H47: 2. Fließschema des einzelnen Recyclingschrittes/ -verfahrens (fakultativ):
A48: Zur Dokumentation gem. § 28 BattDG der Recyclingbetriebe | H48: Hinweis zum Einfügen von Bildern bzw. Grafiken: Siehe "Einfügen" , "Bilder", "Über Zeile einfügen", "dieses Gerät"
A51: Name des Recyclingbetriebes:
A52: Bezeichnung Recyclingschrittes:
A55: 1. Beschreibung des einzelnen Recyclingschrittes/ -verfahrens2
A56: 2 Beschreibung eines einzelnen Recyclingschrittes. Beschreibt jeweils die nachgelagerten Recyclingschritte N_1, N_2, etc.. Die nachgelagerten Recyclingbetriebe hinterlegen jeweils diese Angaben, die vom ersten Recyclingbetrieb in Anlage A zusammengeführt werden.
A94: Anlage B | H94: 2. Fließschema des einzelnen Recyclingschrittes/ -verfahrens (fakultativ):
A95: Zur Dokumentation gem. § 28 BattDG der Recyclingbetriebe | H95: Hinweis zum Einfügen von Bildern bzw. Grafiken: Siehe "Einfügen" , "Bilder", "Über Zeile einfügen", "dieses Gerät"
A98: Name des Recyclingbetriebes:
A99: Bezeichnung Recyclingschrittes:
A102: 1. Beschreibung des einzelnen Recyclingschrittes/ -verfahrens2
A103: 2 Beschreibung eines einzelnen Recyclingschrittes. Beschreibt jeweils die nachgelagerten Recyclingschritte N_1, N_2, etc.. Die nachgelagerten Recyclingbetriebe hinterlegen jeweils diese Angaben, die vom ersten Recyclingbetrieb in Anlage A zusammengeführt werden.
A140: Anlage B | H140: 2. Fließschema des einzelnen Recyclingschrittes/ -verfahrens (fakultativ):
A141: Zur Dokumentation gem. § 28 BattDG der Recyclingbetriebe | H141: Hinweis zum Einfügen von Bildern bzw. Grafiken: Siehe "Einfügen" , "Bilder", "Über Zeile einfügen", "dieses Gerät"
A144: Name des Recyclingbetriebes: | D144: Bspw. Recyclingbetrieb N_4
A145: Bezeichnung Recyclingschrittes:
A148: 1. Beschreibung des einzelnen Recyclingschrittes/ -verfahrens2
A149: 2 Beschreibung eines einzelnen Recyclingschrittes. Beschreibt jeweils die nachgelagerten Recyclingschritte N_1, N_2, etc.. Die nachgelagerten Recyclingbetriebe hinterlegen jeweils diese Angaben, die vom ersten Recyclingbetrieb in Anlage A zusammengeführt werden.
A183: Bitte bei Bedarf weitere Angaben hinzufügen.

Sheet Ihre Bemerkungen
