Workbook
Name Dropdown5: TitelseiteSonstigeAltbatterien!#REF!
Name Dropdown6: TitelseiteSonstigeAltbatterien!#REF!
Name Text44: TitelseiteSonstigeAltbatterien!#REF!

Sheet Ausfüllhinweise
B5: Ausfüllhinweise
B7: Schritt 1: Bearbeitung des Formblattes "Titelseite" Tragen Sie zunächst im Formblatt "Titelseite" den Namen Ihres Recyclingbetriebes, das Jahr, über das sie berichten, und die Bezeichnung des ersten Recyclingschrittes ein. Diese Angaben werden automatisch auf Folgeformblätter übernommen.
B9: Schritt 2: Bearbeitung des Formblattes "Recyclingschritt N_0" Überspringen Sie das Formblatt "Gesamtergebnis", in dem keine Daten zu hinterlegen sind. Dieses Blatt dokumentiert die Ergebnisse des ersten Recyclingbetriebes (Ihre eigenen Recyclingergebnisse) sowie die Ergebnisse vorgelagerter Abfallbehandler und nachgelagerter Folgerecyclingbetriebe.
B11: Schritt 3: Bearbeitung der Formblätter N_1 bis N_6 Diese Formblätter dokumentieren die Ergebnisse der weiteren Recyclingschritte. Alle Recyclingschritte sind in den einzelnen Blättern vollständig abzubilden. Sollten diese Schritte nicht von Ihrem Unternehmen, sondern von nachgelagerten Recyclingbetrieben duchgeführt werden, müssen diese Daten vom ersten Recyclingbetrieb (Ihnen) beschafft werden.
B13: Schritt 4: Prüfung der Gesamtergebnisse (Zusammenfassung im Formblatt "Gesamtergebnis") Im Formblatt "Gesamtergebnis" sind keine Angaben und Daten zu hinterlegen. Dieses Formblatt übernimmt sämtliche Eingaben von der Titelseite und den Formblättern N_0, N_1, N_2, etc.. Bitte prüfen Sie die übernommenen zusammengefassten Angaben und korrigieren sie die Formblätter "Titelseite" und N_0, N_1, N_2, etc. bei Bedarf.
B15: Allgemeines zur Formularbearbeitung Weiße Ausfüllfelder: Angaben und Daten müssen bzw. können nur in weiß gehaltenen Eingabefeldern hinterlegt werden. Alle sonstigen Felder sind ausgegraut und geschützt. Tooltips: Zur Hilfestellung wurden - zusätzlich zu den Fußnoten - weitergehende Hinweise an ausgewählten Stellen hinzugefügt. Zu erkennen sind diese an der roten Markierung in der oberen rechten Ecke eines Feldes. Blaue Schrift: Teilweise werden Angaben und Daten zur Erleichterung und verbesserten Übersichtlichkeit automatisch innerhalb eines Formblattes sowie blattübergreifend übernommen. Angaben dieser Art sind leicht an der blauen Schrift zu erkennen. Individuelle Bemerkungen: Erklärende Bemerkungen können im Registerblatt "Ihre Bemerkungen" hinterlegt werden (siehe letztes Blatt).
B17: Umweltbundesamt
B18: Ansprechpartner: Falk Petrikowski
B19: Telefon: 0340 - 21032468
B20: E-Mail: batterierecht@uba.de

Sheet TitelseiteSonstigeAltbatterien
A2: Dokumentation gem. § 29 Abs. 2 BattDG der Recyclingbetriebe von
A3: Sonstigen Altbatterien
A4: Format* gemäß delegierter Verordnung (DV) zur Berechnung der Recyclingeffizienz und stofflichen Verwertung von Altbatterien (EU) 2025/606 vom 21.03.2025.
A5: Titelseite
B7: Name des (ersten) Recyclingbetriebs
B8: Kalenderjahr | F8: 2026
B10: Zu prüfendes Formblatt (Ergebniszusammenfassung) | F10: Formblatt "Gesamtergebnis"
B12: Bezeichnung 1. Recyclingschritt
B13: Auszufüllendes Formblatt | F13: Formblatt "Recyclingschritt N_0"
A15: Bezeichnung vorgelagerter Behandlungsschritte
A16: Bei Bedarf auszufüllen | B16: Formblatt RS N_-1 | D16: Formblatt RS N_-2 | F16: Formblatt RS N_-3 | H16: Formblatt RS N_-4 | J16: Formblatt RS N_-5
A18: Bezeichnung weiterer/ nachgelagerter Recyclingschritte
A19: Bei Bedarf auszufüllen | B19: Formblatt RS N_1 | D19: Formblatt RS N_2 | F19: Formblatt RS N_3 | H19: Formblatt RS N_4 | J19: Formblatt RS N_5
A21: Bezeichnung weiterer/ nachgelagerter Recyclingschritte
A22: Bei Bedarf auszufüllen | B22: Formblatt RS N_6 | D22: Formblatt RS N_7 | F22: Formblatt RS N_8 | H22: Formblatt RS N_9 | J22: Formblatt RS N_10
A25: Hinweise zur Bearbeitung: Bitte lesen Sie die prägnanten Ausfüllhinweise vor der Bearbeitung des Formulars (vgl. Registerblatt "Ausfüllhinweise"). Sollten die vorbereiteten Eingabefelder oder Formblätter nicht ausreichen, wenden Sie sich bitte an den Ansprechpartner beim UBA (siehe Kontaktadresse unten). In diesem Fall wird das UBA das Formular nach Bedarf erweitern und zurücksenden. Eigenständige Formularanpassungen sind zur Sicherstellung der Funktionalitäten nicht mehr möglich.
A31: Umweltbundesamt
A32: Wörlitzer Platz 1
A33: 06844 Dessau-Roßlau
A35: Ansprechpartner: Falk Petrikowski
A36: Telefon: 0340 - 21032468
A37: E-Mail: batterierecht@uba.de
H38: * Verbindliches elektronisches Format

Sheet Gesamtergebnis
D1: Name des (ersten) Recyclingbetriebes: | F1: =IF(TitelseiteSonstigeAltbatterien!$F$7<>"",TitelseiteSonstigeAltbatterien!$F$7,"")
A2: Ergebnisse (Quoten) für die Recyclingeffizienz und stoffliche Verwertung von
A3: {=IF(TitelseiteSonstigeAltbatterien!A3:B3<>"",TitelseiteSonstigeAltbatterien!A3:B3,"")} -> Sonstigen Altbatterien
A5: DV Abschnitt 9 (Teil 1) | B5: Von den Recyclingbetrieben ist Folgendes zu dokumentieren:
A6: Ausfüllhinweis: Angaben müssen bzw. können nur in den weiß gehaltenen Eingabefeldern hinterlegt werden. Teilweise werden Ihre Angaben automatisch innerhalb eines Formblattes sowie auf Folgeformblätter übertragen. Übernommene Angaben sind jeweils blau gekennzeichnet (vgl. auch die allgemeinen Formularbearbeitungshinweise im Formblatt "Ausfüllhinweise").
A8: Recyclingeffizienz eines Batterie-Recyclingverfahrens
A10: Kalenderjahr | C10: =IF(TitelseiteSonstigeAltbatterien!$F$8<>"",TitelseiteSonstigeAltbatterien!$F$8,"") -> 2026
A12: Angaben zum Recyclingbetrieb1
A13: Name | C13: =IF('Recyclingschritt N_0'!C11<>"",'Recyclingschritt N_0'!C11,"")
A14: Straße und Hausnummer | C14: =IF('Recyclingschritt N_0'!C12<>"",'Recyclingschritt N_0'!C12,"")
A15: PLZ | C15: =IF('Recyclingschritt N_0'!C13<>"",'Recyclingschritt N_0'!C13,"")
A16: Ort | C16: =IF('Recyclingschritt N_0'!C14<>"",'Recyclingschritt N_0'!C14,"")
A17: Land | C17: =IF('Recyclingschritt N_0'!C15<>"",'Recyclingschritt N_0'!C15,"")
A18: Kontaktperson | C18: =IF('Recyclingschritt N_0'!C16<>"",'Recyclingschritt N_0'!C16,"")
A19: Telefon | C19: =IF('Recyclingschritt N_0'!C17<>"",'Recyclingschritt N_0'!C17,"")
A20: E-Mail | C20: =IF('Recyclingschritt N_0'!C18<>"",'Recyclingschritt N_0'!C18,"")
A22: Beschreibung der Recyclingschritte des gesamten Recyclingverfahrens2 | C22: Bitte die Anlage A "Beschreibung des gesamten Batterie-Recyclings" nutzen (Word-Dokument).
A24: Input Angaben zu den Altbatterien zum Zeitpunkt der Zuführung zum vollständigen Recyclingprozess3
A25: Art/Beschreibung der Altbatterien und -akkumulatoren | C25: Abfallcode nach dem Europäischen Abfall-verzeichnis | D25: (Feucht) Masse4 | E25: Masseanteile | F25: Mitgliedstaat, in dem die Altbatterien gesammelt wurden9
D26: [t/a] | E26: [%]
A27: =IF('Recyclingschritt N_0'!A26<>"",'Recyclingschritt N_0'!A26,"") | C27: =IF('Recyclingschritt N_0'!C26<>"",'Recyclingschritt N_0'!C26,"") | D27: =IF('Recyclingschritt N_0'!D26<>"",'Recyclingschritt N_0'!D26,"") | E27: =IF(D27<>"",D27/$D$33,"") | F27: =IF('Recyclingschritt N_0'!E26<>"",'Recyclingschritt N_0'!E26,"")
A28: =IF('Recyclingschritt N_0'!A27<>"",'Recyclingschritt N_0'!A27,"") | C28: =IF('Recyclingschritt N_0'!C27<>"",'Recyclingschritt N_0'!C27,"") | D28: =IF('Recyclingschritt N_0'!D27<>"",'Recyclingschritt N_0'!D27,"") | E28: =IF(D28<>"",D28/$D$33,"") | F28: =IF('Recyclingschritt N_0'!E27<>"",'Recyclingschritt N_0'!E27,"")
A29: =IF('Recyclingschritt N_0'!A28<>"",'Recyclingschritt N_0'!A28,"") | C29: =IF('Recyclingschritt N_0'!C28<>"",'Recyclingschritt N_0'!C28,"") | D29: =IF('Recyclingschritt N_0'!D28<>"",'Recyclingschritt N_0'!D28,"") | E29: =IF(D29<>"",D29/$D$33,"") | F29: =IF('Recyclingschritt N_0'!E28<>"",'Recyclingschritt N_0'!E28,"")
A30: =IF('Recyclingschritt N_0'!A29<>"",'Recyclingschritt N_0'!A29,"") | C30: =IF('Recyclingschritt N_0'!C29<>"",'Recyclingschritt N_0'!C29,"") | D30: =IF('Recyclingschritt N_0'!D29<>"",'Recyclingschritt N_0'!D29,"") | E30: =IF(D30<>"",D30/$D$33,"") | F30: =IF('Recyclingschritt N_0'!E29<>"",'Recyclingschritt N_0'!E29,"")
A31: =IF('Recyclingschritt N_0'!A30<>"",'Recyclingschritt N_0'!A30,"") | C31: =IF('Recyclingschritt N_0'!C30<>"",'Recyclingschritt N_0'!C30,"") | D31: =IF('Recyclingschritt N_0'!D30<>"",'Recyclingschritt N_0'!D30,"") | E31: =IF(D31<>"",D31/$D$33,"") | F31: =IF('Recyclingschritt N_0'!E30<>"",'Recyclingschritt N_0'!E30,"")
A32: =IF('Recyclingschritt N_0'!A31<>"",'Recyclingschritt N_0'!A31,"") | C32: =IF('Recyclingschritt N_0'!C31<>"",'Recyclingschritt N_0'!C31,"") | D32: =IF('Recyclingschritt N_0'!D31<>"",'Recyclingschritt N_0'!D31,"") | E32: =IF(D32<>"",D32/$D$33,"") | F32: =IF('Recyclingschritt N_0'!E31<>"",'Recyclingschritt N_0'!E31,"")
A33: Gesamt | C33: =IF('Recyclingschritt N_0'!C32<>"",'Recyclingschritt N_0'!C32,"") | D33: =SUM(D27:D32) -> 0 | E33: =SUM(E27:E32) -> 0
E34: =IF('Recyclingschritt N_0'!E33<>"",'Recyclingschritt N_0'!E33,"")
A35: Output ERGEBNISSE je Herkunftsland— Berechnete Recyclingergebnisse von in DE gesammelten Altbatterien 10 (RS N_0 + N_1 + N_2, etc.)
A36: Masse Altbatterieinput: | B36: =D27
A37: MS, in dem die Altbatterien gesammelt wurden: | D37: =IF('Recyclingschritt N_0'!E26<>"",'Recyclingschritt N_0'!E26,"")
A38: Element oder Verbindung | B38: Input minput 5 | C38: Output moutput 5 innerhalb der EU-MS erzeugt | D38: Output moutput 9 außerhalb der EU erzeugt | E38: Output moutput 5 Gesamt | F38: rRE11 | G38: rRM12 | H38: Masse Cadmium (Cd) mCd,waste insges. und Masse Quecksilber (Hg) mHg,waste insges. sicher immobilisiert und entsorgt (13)
B39: [t/a] | C39: [t/a] | D39: [t/a] | E39: [t/a] | F39: [m%] | G39: [m%] | H39: [t/a]
A40: =IF('Recyclingschritt N_0'!A81<>"",'Recyclingschritt N_0'!A81,"") -> Kobalt (Co) | B40: ='Recyclingschritt N_0'!B81 | C40: =IFERROR('Recyclingschritt N_0'!C81+('Recyclingschritt N_1'!C45+'Recyclingschritt N_2'!C45+'Recyclingschritt N_3'!C45+'Recyclingschritt N_4'!C45+'Recyclingschritt N_4'!C45+'Recyclingschritt N_6'!C45+'Recyclingschritt N_7'!C45+'Recyclingschritt N_8'!C45)*$E$27,"") | D40: =IFERROR('Recyclingschritt N_0'!D81+('Recyclingschritt N_1'!D45+'Recyclingschritt N_2'!D45+'Recyclingschritt N_3'!D45+'Recyclingschritt N_4'!D45+'Recyclingschritt N_4'!D45+'Recyclingschritt N_6'!D45+'Recyclingschritt N_7'!D45+'Recyclingschritt N_8'!D45)*$E$27,"") | E40: =IFERROR(C40+D40,"") | G40: =IFERROR(E40/B40, "ggf. Pflichtfeld!") -> ggf. Pflichtfeld!
A41: =IF('Recyclingschritt N_0'!A82<>"",'Recyclingschritt N_0'!A82,"") -> Kupfer (Cu) | B41: ='Recyclingschritt N_0'!B82 | C41: =IFERROR('Recyclingschritt N_0'!C82+('Recyclingschritt N_1'!C46+'Recyclingschritt N_2'!C46+'Recyclingschritt N_3'!C46+'Recyclingschritt N_4'!C46+'Recyclingschritt N_4'!C46+'Recyclingschritt N_6'!C46+'Recyclingschritt N_7'!C46+'Recyclingschritt N_8'!C46)*$E$27,"") | D41: =IFERROR('Recyclingschritt N_0'!D82+('Recyclingschritt N_1'!D46+'Recyclingschritt N_2'!D46+'Recyclingschritt N_3'!D46+'Recyclingschritt N_4'!D46+'Recyclingschritt N_4'!D46+'Recyclingschritt N_6'!D46+'Recyclingschritt N_7'!D46+'Recyclingschritt N_8'!D46)*$E$27,"") | E41: =IFERROR(C41+D41,"") | G41: =IFERROR(E41/B41, "ggf. Pflichtfeld!") -> ggf. Pflichtfeld!
A42: =IF('Recyclingschritt N_0'!A83<>"",'Recyclingschritt N_0'!A83,"") -> Blei (Pb) | B42: ='Recyclingschritt N_0'!B83 | C42: =IFERROR('Recyclingschritt N_0'!C83+('Recyclingschritt N_1'!C47+'Recyclingschritt N_2'!C47+'Recyclingschritt N_3'!C47+'Recyclingschritt N_4'!C47+'Recyclingschritt N_4'!C47+'Recyclingschritt N_6'!C47+'Recyclingschritt N_7'!C47+'Recyclingschritt N_8'!C47)*$E$27,"") | D42: =IFERROR('Recyclingschritt N_0'!D83+('Recyclingschritt N_1'!D47+'Recyclingschritt N_2'!D47+'Recyclingschritt N_3'!D47+'Recyclingschritt N_4'!D47+'Recyclingschritt N_4'!D47+'Recyclingschritt N_6'!D47+'Recyclingschritt N_7'!D47+'Recyclingschritt N_8'!D47)*$E$27,"") | E42: =IFERROR(C42+D42,"") | G42: =IFERROR(E42/B42, "ggf. Pflichtfeld!") -> ggf. Pflichtfeld!
A43: =IF('Recyclingschritt N_0'!A84<>"",'Recyclingschritt N_0'!A84,"") -> Lithium (Li) | B43: ='Recyclingschritt N_0'!B84 | C43: =IFERROR('Recyclingschritt N_0'!C84+('Recyclingschritt N_1'!C48+'Recyclingschritt N_2'!C48+'Recyclingschritt N_3'!C48+'Recyclingschritt N_4'!C48+'Recyclingschritt N_4'!C48+'Recyclingschritt N_6'!C48+'Recyclingschritt N_7'!C48+'Recyclingschritt N_8'!C48)*$E$27,"") | D43: =IFERROR('Recyclingschritt N_0'!D84+('Recyclingschritt N_1'!D48+'Recyclingschritt N_2'!D48+'Recyclingschritt N_3'!D48+'Recyclingschritt N_4'!D48+'Recyclingschritt N_4'!D48+'Recyclingschritt N_6'!D48+'Recyclingschritt N_7'!D48+'Recyclingschritt N_8'!D48)*$E$27,"") | E43: =IFERROR(C43+D43,"") | G43: =IFERROR(E43/B43, "ggf. Pflichtfeld!") -> ggf. Pflichtfeld!
A44: =IF('Recyclingschritt N_0'!A85<>"",'Recyclingschritt N_0'!A85,"") -> Nickel (Ni) | B44: ='Recyclingschritt N_0'!B85 | C44: =IFERROR('Recyclingschritt N_0'!C85+('Recyclingschritt N_1'!C49+'Recyclingschritt N_2'!C49+'Recyclingschritt N_3'!C49+'Recyclingschritt N_4'!C49+'Recyclingschritt N_4'!C49+'Recyclingschritt N_6'!C49+'Recyclingschritt N_7'!C49+'Recyclingschritt N_8'!C49)*$E$27,"") | D44: =IFERROR('Recyclingschritt N_0'!D85+('Recyclingschritt N_1'!D49+'Recyclingschritt N_2'!D49+'Recyclingschritt N_3'!D49+'Recyclingschritt N_4'!D49+'Recyclingschritt N_4'!D49+'Recyclingschritt N_6'!D49+'Recyclingschritt N_7'!D49+'Recyclingschritt N_8'!D49)*$E$27,"") | E44: =IFERROR(C44+D44,"")
A45: =IF('Recyclingschritt N_0'!A86<>"",'Recyclingschritt N_0'!A86,"") -> Mangan (Mn) | B45: ='Recyclingschritt N_0'!B86 | C45: =IFERROR('Recyclingschritt N_0'!C86+('Recyclingschritt N_1'!C50+'Recyclingschritt N_2'!C50+'Recyclingschritt N_3'!C50+'Recyclingschritt N_4'!C50+'Recyclingschritt N_4'!C50+'Recyclingschritt N_6'!C50+'Recyclingschritt N_7'!C50+'Recyclingschritt N_8'!C50)*$E$27,"") | D45: =IFERROR('Recyclingschritt N_0'!D86+('Recyclingschritt N_1'!D50+'Recyclingschritt N_2'!D50+'Recyclingschritt N_3'!D50+'Recyclingschritt N_4'!D50+'Recyclingschritt N_4'!D50+'Recyclingschritt N_6'!D50+'Recyclingschritt N_7'!D50+'Recyclingschritt N_8'!D50)*$E$27,"") | E45: =IFERROR(C45+D45,"")
A46: =IF('Recyclingschritt N_0'!A87<>"",'Recyclingschritt N_0'!A87,"") -> Aluminium (Al) | B46: ='Recyclingschritt N_0'!B87 | C46: =IFERROR('Recyclingschritt N_0'!C87+('Recyclingschritt N_1'!C51+'Recyclingschritt N_2'!C51+'Recyclingschritt N_3'!C51+'Recyclingschritt N_4'!C51+'Recyclingschritt N_4'!C51+'Recyclingschritt N_6'!C51+'Recyclingschritt N_7'!C51+'Recyclingschritt N_8'!C51)*$E$27,"") | D46: =IFERROR('Recyclingschritt N_0'!D87+('Recyclingschritt N_1'!D51+'Recyclingschritt N_2'!D51+'Recyclingschritt N_3'!D51+'Recyclingschritt N_4'!D51+'Recyclingschritt N_4'!D51+'Recyclingschritt N_6'!D51+'Recyclingschritt N_7'!D51+'Recyclingschritt N_8'!D51)*$E$27,"") | E46: =IFERROR(C46+D46,"")
A47: =IF('Recyclingschritt N_0'!A88<>"",'Recyclingschritt N_0'!A88,"") -> Stahl | B47: ='Recyclingschritt N_0'!B88 | C47: =IFERROR('Recyclingschritt N_0'!C88+('Recyclingschritt N_1'!C52+'Recyclingschritt N_2'!C52+'Recyclingschritt N_3'!C52+'Recyclingschritt N_4'!C52+'Recyclingschritt N_4'!C52+'Recyclingschritt N_6'!C52+'Recyclingschritt N_7'!C52+'Recyclingschritt N_8'!C52)*$E$27,"") | D47: =IFERROR('Recyclingschritt N_0'!D88+('Recyclingschritt N_1'!D52+'Recyclingschritt N_2'!D52+'Recyclingschritt N_3'!D52+'Recyclingschritt N_4'!D52+'Recyclingschritt N_4'!D52+'Recyclingschritt N_6'!D52+'Recyclingschritt N_7'!D52+'Recyclingschritt N_8'!D52)*$E$27,"") | E47: =IFERROR(C47+D47,"")
A48: =IF('Recyclingschritt N_0'!A89<>"",'Recyclingschritt N_0'!A89,"") -> Elektrolyt (KOH) | B48: ='Recyclingschritt N_0'!B89 | C48: =IFERROR('Recyclingschritt N_0'!C89+('Recyclingschritt N_1'!C53+'Recyclingschritt N_2'!C53+'Recyclingschritt N_3'!C53+'Recyclingschritt N_4'!C53+'Recyclingschritt N_4'!C53+'Recyclingschritt N_6'!C53+'Recyclingschritt N_7'!C53+'Recyclingschritt N_8'!C53)*$E$27,"") | D48: =IFERROR('Recyclingschritt N_0'!D89+('Recyclingschritt N_1'!D53+'Recyclingschritt N_2'!D53+'Recyclingschritt N_3'!D53+'Recyclingschritt N_4'!D53+'Recyclingschritt N_4'!D53+'Recyclingschritt N_6'!D53+'Recyclingschritt N_7'!D53+'Recyclingschritt N_8'!D53)*$E$27,"") | E48: =IFERROR(C48+D48,"")
A49: =IF('Recyclingschritt N_0'!A90<>"",'Recyclingschritt N_0'!A90,"") -> Elektrolyt (NaOH) | B49: ='Recyclingschritt N_0'!B90 | C49: =IFERROR('Recyclingschritt N_0'!C90+('Recyclingschritt N_1'!C54+'Recyclingschritt N_2'!C54+'Recyclingschritt N_3'!C54+'Recyclingschritt N_4'!C54+'Recyclingschritt N_4'!C54+'Recyclingschritt N_6'!C54+'Recyclingschritt N_7'!C54+'Recyclingschritt N_8'!C54)*$E$27,"") | D49: =IFERROR('Recyclingschritt N_0'!D90+('Recyclingschritt N_1'!D54+'Recyclingschritt N_2'!D54+'Recyclingschritt N_3'!D54+'Recyclingschritt N_4'!D54+'Recyclingschritt N_4'!D54+'Recyclingschritt N_6'!D54+'Recyclingschritt N_7'!D54+'Recyclingschritt N_8'!D54)*$E$27,"") | E49: =IFERROR(C49+D49,"")
A50: =IF('Recyclingschritt N_0'!A91<>"",'Recyclingschritt N_0'!A91,"") -> Kunststoffe (9) | B50: ='Recyclingschritt N_0'!B91 | C50: =IFERROR('Recyclingschritt N_0'!C91+('Recyclingschritt N_1'!C55+'Recyclingschritt N_2'!C55+'Recyclingschritt N_3'!C55+'Recyclingschritt N_4'!C55+'Recyclingschritt N_4'!C55+'Recyclingschritt N_6'!C55+'Recyclingschritt N_7'!C55+'Recyclingschritt N_8'!C55)*$E$27,"") | D50: =IFERROR('Recyclingschritt N_0'!D91+('Recyclingschritt N_1'!D55+'Recyclingschritt N_2'!D55+'Recyclingschritt N_3'!D55+'Recyclingschritt N_4'!D55+'Recyclingschritt N_4'!D55+'Recyclingschritt N_6'!D55+'Recyclingschritt N_7'!D55+'Recyclingschritt N_8'!D55)*$E$27,"") | E50: =IFERROR(C50+D50,"")
A51: =IF('Recyclingschritt N_0'!A92<>"",'Recyclingschritt N_0'!A92,"") -> Sauerstoff (O2) (7) | B51: ='Recyclingschritt N_0'!B92 | C51: =IFERROR('Recyclingschritt N_0'!C92+('Recyclingschritt N_1'!C56+'Recyclingschritt N_2'!C56+'Recyclingschritt N_3'!C56+'Recyclingschritt N_4'!C56+'Recyclingschritt N_4'!C56+'Recyclingschritt N_6'!C56+'Recyclingschritt N_7'!C56+'Recyclingschritt N_8'!C56)*$E$27,"") | D51: =IFERROR('Recyclingschritt N_0'!D92+('Recyclingschritt N_1'!D56+'Recyclingschritt N_2'!D56+'Recyclingschritt N_3'!D56+'Recyclingschritt N_4'!D56+'Recyclingschritt N_4'!D56+'Recyclingschritt N_6'!D56+'Recyclingschritt N_7'!D56+'Recyclingschritt N_8'!D56)*$E$27,"") | E51: =IFERROR(C51+D51,"")
A52: =IF('Recyclingschritt N_0'!A93<>"",'Recyclingschritt N_0'!A93,"") -> Kohlenstoff aus Kohlenstoffquellen auf Zellebene (C) (7) | B52: ='Recyclingschritt N_0'!B93 | C52: =IFERROR('Recyclingschritt N_0'!C93+('Recyclingschritt N_1'!C57+'Recyclingschritt N_2'!C57+'Recyclingschritt N_3'!C57+'Recyclingschritt N_4'!C57+'Recyclingschritt N_4'!C57+'Recyclingschritt N_6'!C57+'Recyclingschritt N_7'!C57+'Recyclingschritt N_8'!C57)*$E$27,"") | D52: =IFERROR('Recyclingschritt N_0'!D93+('Recyclingschritt N_1'!D57+'Recyclingschritt N_2'!D57+'Recyclingschritt N_3'!D57+'Recyclingschritt N_4'!D57+'Recyclingschritt N_4'!D57+'Recyclingschritt N_6'!D57+'Recyclingschritt N_7'!D57+'Recyclingschritt N_8'!D57)*$E$27,"") | E52: =IFERROR(C52+D52,"")
A53: =IF('Recyclingschritt N_0'!A94<>"",'Recyclingschritt N_0'!A94,"") -> Eisen aus Eisenquellen auf Zellebene (Fe) (7) | B53: ='Recyclingschritt N_0'!B94 | C53: =IFERROR('Recyclingschritt N_0'!C94+('Recyclingschritt N_1'!C58+'Recyclingschritt N_2'!C58+'Recyclingschritt N_3'!C58+'Recyclingschritt N_4'!C58+'Recyclingschritt N_4'!C58+'Recyclingschritt N_6'!C58+'Recyclingschritt N_7'!C58+'Recyclingschritt N_8'!C58)*$E$27,"") | D53: =IFERROR('Recyclingschritt N_0'!D94+('Recyclingschritt N_1'!D58+'Recyclingschritt N_2'!D58+'Recyclingschritt N_3'!D58+'Recyclingschritt N_4'!D58+'Recyclingschritt N_4'!D58+'Recyclingschritt N_6'!D58+'Recyclingschritt N_7'!D58+'Recyclingschritt N_8'!D58)*$E$27,"") | E53: =IFERROR(C53+D53,"")
A54: =IF('Recyclingschritt N_0'!A95<>"",'Recyclingschritt N_0'!A95,"") -> Phosphor (P) (7) | B54: ='Recyclingschritt N_0'!B95 | C54: =IFERROR('Recyclingschritt N_0'!C95+('Recyclingschritt N_1'!C59+'Recyclingschritt N_2'!C59+'Recyclingschritt N_3'!C59+'Recyclingschritt N_4'!C59+'Recyclingschritt N_4'!C59+'Recyclingschritt N_6'!C59+'Recyclingschritt N_7'!C59+'Recyclingschritt N_8'!C59)*$E$27,"") | D54: =IFERROR('Recyclingschritt N_0'!D95+('Recyclingschritt N_1'!D59+'Recyclingschritt N_2'!D59+'Recyclingschritt N_3'!D59+'Recyclingschritt N_4'!D59+'Recyclingschritt N_4'!D59+'Recyclingschritt N_6'!D59+'Recyclingschritt N_7'!D59+'Recyclingschritt N_8'!D59)*$E$27,"") | E54: =IFERROR(C54+D54,"")
A55: =IF('Recyclingschritt N_0'!A96<>"",'Recyclingschritt N_0'!A96,"") -> Chlor (Cl) (7) | B55: ='Recyclingschritt N_0'!B96 | C55: =IFERROR('Recyclingschritt N_0'!C96+('Recyclingschritt N_1'!C60+'Recyclingschritt N_2'!C60+'Recyclingschritt N_3'!C60+'Recyclingschritt N_4'!C60+'Recyclingschritt N_4'!C60+'Recyclingschritt N_6'!C60+'Recyclingschritt N_7'!C60+'Recyclingschritt N_8'!C60)*$E$27,"") | D55: =IFERROR('Recyclingschritt N_0'!D96+('Recyclingschritt N_1'!D60+'Recyclingschritt N_2'!D60+'Recyclingschritt N_3'!D60+'Recyclingschritt N_4'!D60+'Recyclingschritt N_4'!D60+'Recyclingschritt N_6'!D60+'Recyclingschritt N_7'!D60+'Recyclingschritt N_8'!D60)*$E$27,"") | E55: =IFERROR(C55+D55,"")
A56: =IF('Recyclingschritt N_0'!A97<>"",'Recyclingschritt N_0'!A97,"") -> Schwefel (S) (7) | B56: ='Recyclingschritt N_0'!B97 | C56: =IFERROR('Recyclingschritt N_0'!C97+('Recyclingschritt N_1'!C61+'Recyclingschritt N_2'!C61+'Recyclingschritt N_3'!C61+'Recyclingschritt N_4'!C61+'Recyclingschritt N_4'!C61+'Recyclingschritt N_6'!C61+'Recyclingschritt N_7'!C61+'Recyclingschritt N_8'!C61)*$E$27,"") | D56: =IFERROR('Recyclingschritt N_0'!D97+('Recyclingschritt N_1'!D61+'Recyclingschritt N_2'!D61+'Recyclingschritt N_3'!D61+'Recyclingschritt N_4'!D61+'Recyclingschritt N_4'!D61+'Recyclingschritt N_6'!D61+'Recyclingschritt N_7'!D61+'Recyclingschritt N_8'!D61)*$E$27,"") | E56: =IFERROR(C56+D56,"")
A57: =IF('Recyclingschritt N_0'!A98<>"",'Recyclingschritt N_0'!A98,"") -> Quecksilber (Hg) (13) | B57: ='Recyclingschritt N_0'!B98 | C57: =IFERROR('Recyclingschritt N_0'!C98+('Recyclingschritt N_1'!C62+'Recyclingschritt N_2'!C62+'Recyclingschritt N_3'!C62+'Recyclingschritt N_4'!C62+'Recyclingschritt N_4'!C62+'Recyclingschritt N_6'!C62+'Recyclingschritt N_7'!C62+'Recyclingschritt N_8'!C62)*$E$27,"") | D57: =IFERROR('Recyclingschritt N_0'!D98+('Recyclingschritt N_1'!D62+'Recyclingschritt N_2'!D62+'Recyclingschritt N_3'!D62+'Recyclingschritt N_4'!D62+'Recyclingschritt N_4'!D62+'Recyclingschritt N_6'!D62+'Recyclingschritt N_7'!D62+'Recyclingschritt N_8'!D62)*$E$27,"") | E57: =IFERROR(C57+D57,"") | H57: =IFERROR('Recyclingschritt N_0'!I98+('Recyclingschritt N_1'!I62+'Recyclingschritt N_2'!I62+'Recyclingschritt N_3'!I62+'Recyclingschritt N_4'!I62+'Recyclingschritt N_5'!I62+'Recyclingschritt N_6'!I62+'Recyclingschritt N_7'!I62+'Recyclingschritt N_8'!I62)*E27,"")
A58: =IF('Recyclingschritt N_0'!A99<>"",'Recyclingschritt N_0'!A99,"") -> Cadmium (Cd) (13) | B58: ='Recyclingschritt N_0'!B99 | C58: =IFERROR('Recyclingschritt N_0'!C99+('Recyclingschritt N_1'!C63+'Recyclingschritt N_2'!C63+'Recyclingschritt N_3'!C63+'Recyclingschritt N_4'!C63+'Recyclingschritt N_4'!C63+'Recyclingschritt N_6'!C63+'Recyclingschritt N_7'!C63+'Recyclingschritt N_8'!C63)*$E$27,"") | D58: =IFERROR('Recyclingschritt N_0'!D99+('Recyclingschritt N_1'!D63+'Recyclingschritt N_2'!D63+'Recyclingschritt N_3'!D63+'Recyclingschritt N_4'!D63+'Recyclingschritt N_4'!D63+'Recyclingschritt N_6'!D63+'Recyclingschritt N_7'!D63+'Recyclingschritt N_8'!D63)*$E$27,"") | E58: =IFERROR(C58+D58,"") | H58: =IFERROR('Recyclingschritt N_0'!I99+('Recyclingschritt N_1'!I63+'Recyclingschritt N_2'!I63+'Recyclingschritt N_3'!I63+'Recyclingschritt N_4'!I63+'Recyclingschritt N_5'!I63+'Recyclingschritt N_6'!I63+'Recyclingschritt N_7'!I63+'Recyclingschritt N_8'!I63)*E27,"")
A59: =IF('Recyclingschritt N_0'!A100<>"",'Recyclingschritt N_0'!A100,"") | B59: ='Recyclingschritt N_0'!B100 | C59: =IFERROR('Recyclingschritt N_0'!C100+('Recyclingschritt N_1'!C64+'Recyclingschritt N_2'!C64+'Recyclingschritt N_3'!C64+'Recyclingschritt N_4'!C64+'Recyclingschritt N_4'!C64+'Recyclingschritt N_6'!C64+'Recyclingschritt N_7'!C64+'Recyclingschritt N_8'!C64)*$E$27,"") | D59: =IFERROR('Recyclingschritt N_0'!D100+('Recyclingschritt N_1'!D64+'Recyclingschritt N_2'!D64+'Recyclingschritt N_3'!D64+'Recyclingschritt N_4'!D64+'Recyclingschritt N_4'!D64+'Recyclingschritt N_6'!D64+'Recyclingschritt N_7'!D64+'Recyclingschritt N_8'!D64)*$E$27,"") | E59: =IFERROR(C59+D59,"")
A60: =IF('Recyclingschritt N_0'!A101<>"",'Recyclingschritt N_0'!A101,"") | B60: ='Recyclingschritt N_0'!B101 | C60: =IFERROR('Recyclingschritt N_0'!C101+('Recyclingschritt N_1'!C65+'Recyclingschritt N_2'!C65+'Recyclingschritt N_3'!C65+'Recyclingschritt N_4'!C65+'Recyclingschritt N_4'!C65+'Recyclingschritt N_6'!C65+'Recyclingschritt N_7'!C65+'Recyclingschritt N_8'!C65)*$E$27,"") | D60: =IFERROR('Recyclingschritt N_0'!D101+('Recyclingschritt N_1'!D65+'Recyclingschritt N_2'!D65+'Recyclingschritt N_3'!D65+'Recyclingschritt N_4'!D65+'Recyclingschritt N_4'!D65+'Recyclingschritt N_6'!D65+'Recyclingschritt N_7'!D65+'Recyclingschritt N_8'!D65)*$E$27,"") | E60: =IFERROR(C60+D60,"")
A61: =IF('Recyclingschritt N_0'!A102<>"",'Recyclingschritt N_0'!A102,"") | B61: ='Recyclingschritt N_0'!B102 | C61: =IFERROR('Recyclingschritt N_0'!C102+('Recyclingschritt N_1'!C66+'Recyclingschritt N_2'!C66+'Recyclingschritt N_3'!C66+'Recyclingschritt N_4'!C66+'Recyclingschritt N_4'!C66+'Recyclingschritt N_6'!C66+'Recyclingschritt N_7'!C66+'Recyclingschritt N_8'!C66)*$E$27,"") | D61: =IFERROR('Recyclingschritt N_0'!D102+('Recyclingschritt N_1'!D66+'Recyclingschritt N_2'!D66+'Recyclingschritt N_3'!D66+'Recyclingschritt N_4'!D66+'Recyclingschritt N_4'!D66+'Recyclingschritt N_6'!D66+'Recyclingschritt N_7'!D66+'Recyclingschritt N_8'!D66)*$E$27,"") | E61: =IFERROR(C61+D61,"")
A62: Ergebnis | B62: =SUM(B40:B61) -> 0 | C62: =SUM(C40:C61) -> 0 | D62: =SUM(D40:D61) -> 0 | E62: =C62+D62 -> 0 | F62: =IFERROR(E62/B62,"")
A64: Output ERGEBNISSE je Herkunftsland— Berechnete Recyclingergebnisse, von in einem MS gesammelten Altbatterien 10 (RS N_0 + N_1 + N_2, etc.)
A65: Masse Altbatterieinput: | B65: =D28
A66: MS, in dem die Altbatterien gesammelt wurden: | D66: =IF('Recyclingschritt N_0'!E27<>"",'Recyclingschritt N_0'!E27,"")
A67: Element oder Verbindung | B67: Input minput 5 | C67: Output moutput 5 innerhalb der EU-MS erzeugt | D67: Output moutput 5 außerhalb der EU erzeugt | E67: Output moutput 5 Gesamt | F67: rRE11 | G67: rRM12 | H67: Masse Cadmium (Cd) mCd,waste insges. und Masse Quecksilber (Hg) mHg,waste insges. sicher immobilisiert und entsorgt (13)
B68: [t/a] | C68: [t/a] | D68: [t/a] | E68: [t/a] | F68: [m%] | G68: [m%] | H68: [t/a]
A69: =IF('Recyclingschritt N_0'!A110<>"",'Recyclingschritt N_0'!A110,"") -> Kobalt (Co) | B69: ='Recyclingschritt N_0'!B110 | C69: =IFERROR('Recyclingschritt N_0'!C110+('Recyclingschritt N_1'!C45+'Recyclingschritt N_2'!C45+'Recyclingschritt N_3'!C45+'Recyclingschritt N_4'!C45+'Recyclingschritt N_4'!C45+'Recyclingschritt N_6'!C45+'Recyclingschritt N_7'!C45+'Recyclingschritt N_8'!C45)*$E$28,"") | D69: =IFERROR('Recyclingschritt N_0'!D110+('Recyclingschritt N_1'!D45+'Recyclingschritt N_2'!D45+'Recyclingschritt N_3'!D45+'Recyclingschritt N_4'!D45+'Recyclingschritt N_4'!D45+'Recyclingschritt N_6'!D45+'Recyclingschritt N_7'!D45+'Recyclingschritt N_8'!D45)*$E$28,"") | E69: =IFERROR(C69+D69,"") | G69: =IFERROR(E69/B69, "ggf. Pflichtfeld!") -> ggf. Pflichtfeld!
A70: =IF('Recyclingschritt N_0'!A111<>"",'Recyclingschritt N_0'!A111,"") -> Kupfer (Cu) | B70: ='Recyclingschritt N_0'!B111 | C70: =IFERROR('Recyclingschritt N_0'!C111+('Recyclingschritt N_1'!C46+'Recyclingschritt N_2'!C46+'Recyclingschritt N_3'!C46+'Recyclingschritt N_4'!C46+'Recyclingschritt N_4'!C46+'Recyclingschritt N_6'!C46+'Recyclingschritt N_7'!C46+'Recyclingschritt N_8'!C46)*$E$28,"") | D70: =IFERROR('Recyclingschritt N_0'!D111+('Recyclingschritt N_1'!D46+'Recyclingschritt N_2'!D46+'Recyclingschritt N_3'!D46+'Recyclingschritt N_4'!D46+'Recyclingschritt N_4'!D46+'Recyclingschritt N_6'!D46+'Recyclingschritt N_7'!D46+'Recyclingschritt N_8'!D46)*$E$28,"") | E70: =IFERROR(C70+D70,"") | G70: =IFERROR(E70/B70, "ggf. Pflichtfeld!") -> ggf. Pflichtfeld!
A71: =IF('Recyclingschritt N_0'!A112<>"",'Recyclingschritt N_0'!A112,"") -> Blei (Pb) | B71: ='Recyclingschritt N_0'!B112 | C71: =IFERROR('Recyclingschritt N_0'!C112+('Recyclingschritt N_1'!C47+'Recyclingschritt N_2'!C47+'Recyclingschritt N_3'!C47+'Recyclingschritt N_4'!C47+'Recyclingschritt N_4'!C47+'Recyclingschritt N_6'!C47+'Recyclingschritt N_7'!C47+'Recyclingschritt N_8'!C47)*$E$28,"") | D71: =IFERROR('Recyclingschritt N_0'!D112+('Recyclingschritt N_1'!D47+'Recyclingschritt N_2'!D47+'Recyclingschritt N_3'!D47+'Recyclingschritt N_4'!D47+'Recyclingschritt N_4'!D47+'Recyclingschritt N_6'!D47+'Recyclingschritt N_7'!D47+'Recyclingschritt N_8'!D47)*$E$28,"") | E71: =IFERROR(C71+D71,"") | G71: =IFERROR(E71/B71, "ggf. Pflichtfeld!") -> ggf. Pflichtfeld!
A72: =IF('Recyclingschritt N_0'!A113<>"",'Recyclingschritt N_0'!A113,"") -> Lithium (Li) | B72: ='Recyclingschritt N_0'!B113 | C72: =IFERROR('Recyclingschritt N_0'!C113+('Recyclingschritt N_1'!C48+'Recyclingschritt N_2'!C48+'Recyclingschritt N_3'!C48+'Recyclingschritt N_4'!C48+'Recyclingschritt N_4'!C48+'Recyclingschritt N_6'!C48+'Recyclingschritt N_7'!C48+'Recyclingschritt N_8'!C48)*$E$28,"") | D72: =IFERROR('Recyclingschritt N_0'!D113+('Recyclingschritt N_1'!D48+'Recyclingschritt N_2'!D48+'Recyclingschritt N_3'!D48+'Recyclingschritt N_4'!D48+'Recyclingschritt N_4'!D48+'Recyclingschritt N_6'!D48+'Recyclingschritt N_7'!D48+'Recyclingschritt N_8'!D48)*$E$28,"") | E72: =IFERROR(C72+D72,"") | G72: =IFERROR(E72/B72, "ggf. Pflichtfeld!") -> ggf. Pflichtfeld!
A73: =IF('Recyclingschritt N_0'!A114<>"",'Recyclingschritt N_0'!A114,"") -> Nickel (Ni) | B73: ='Recyclingschritt N_0'!B114 | C73: =IFERROR('Recyclingschritt N_0'!C114+('Recyclingschritt N_1'!C49+'Recyclingschritt N_2'!C49+'Recyclingschritt N_3'!C49+'Recyclingschritt N_4'!C49+'Recyclingschritt N_4'!C49+'Recyclingschritt N_6'!C49+'Recyclingschritt N_7'!C49+'Recyclingschritt N_8'!C49)*$E$28,"") | D73: =IFERROR('Recyclingschritt N_0'!D114+('Recyclingschritt N_1'!D49+'Recyclingschritt N_2'!D49+'Recyclingschritt N_3'!D49+'Recyclingschritt N_4'!D49+'Recyclingschritt N_4'!D49+'Recyclingschritt N_6'!D49+'Recyclingschritt N_7'!D49+'Recyclingschritt N_8'!D49)*$E$28,"") | E73: =IFERROR(C73+D73,"")
A74: =IF('Recyclingschritt N_0'!A115<>"",'Recyclingschritt N_0'!A115,"") -> Mangan (Mn) | B74: ='Recyclingschritt N_0'!B115 | C74: =IFERROR('Recyclingschritt N_0'!C115+('Recyclingschritt N_1'!C50+'Recyclingschritt N_2'!C50+'Recyclingschritt N_3'!C50+'Recyclingschritt N_4'!C50+'Recyclingschritt N_4'!C50+'Recyclingschritt N_6'!C50+'Recyclingschritt N_7'!C50+'Recyclingschritt N_8'!C50)*$E$28,"") | D74: =IFERROR('Recyclingschritt N_0'!D115+('Recyclingschritt N_1'!D50+'Recyclingschritt N_2'!D50+'Recyclingschritt N_3'!D50+'Recyclingschritt N_4'!D50+'Recyclingschritt N_4'!D50+'Recyclingschritt N_6'!D50+'Recyclingschritt N_7'!D50+'Recyclingschritt N_8'!D50)*$E$28,"") | E74: =IFERROR(C74+D74,"")
A75: =IF('Recyclingschritt N_0'!A116<>"",'Recyclingschritt N_0'!A116,"") -> Aluminium (Al) | B75: ='Recyclingschritt N_0'!B116 | C75: =IFERROR('Recyclingschritt N_0'!C116+('Recyclingschritt N_1'!C51+'Recyclingschritt N_2'!C51+'Recyclingschritt N_3'!C51+'Recyclingschritt N_4'!C51+'Recyclingschritt N_4'!C51+'Recyclingschritt N_6'!C51+'Recyclingschritt N_7'!C51+'Recyclingschritt N_8'!C51)*$E$28,"") | D75: =IFERROR('Recyclingschritt N_0'!D116+('Recyclingschritt N_1'!D51+'Recyclingschritt N_2'!D51+'Recyclingschritt N_3'!D51+'Recyclingschritt N_4'!D51+'Recyclingschritt N_4'!D51+'Recyclingschritt N_6'!D51+'Recyclingschritt N_7'!D51+'Recyclingschritt N_8'!D51)*$E$28,"") | E75: =IFERROR(C75+D75,"")
A76: =IF('Recyclingschritt N_0'!A117<>"",'Recyclingschritt N_0'!A117,"") -> Stahl | B76: ='Recyclingschritt N_0'!B117 | C76: =IFERROR('Recyclingschritt N_0'!C117+('Recyclingschritt N_1'!C52+'Recyclingschritt N_2'!C52+'Recyclingschritt N_3'!C52+'Recyclingschritt N_4'!C52+'Recyclingschritt N_4'!C52+'Recyclingschritt N_6'!C52+'Recyclingschritt N_7'!C52+'Recyclingschritt N_8'!C52)*$E$28,"") | D76: =IFERROR('Recyclingschritt N_0'!D117+('Recyclingschritt N_1'!D52+'Recyclingschritt N_2'!D52+'Recyclingschritt N_3'!D52+'Recyclingschritt N_4'!D52+'Recyclingschritt N_4'!D52+'Recyclingschritt N_6'!D52+'Recyclingschritt N_7'!D52+'Recyclingschritt N_8'!D52)*$E$28,"") | E76: =IFERROR(C76+D76,"")
A77: =IF('Recyclingschritt N_0'!A118<>"",'Recyclingschritt N_0'!A118,"") -> Elektrolyt (KOH) | B77: ='Recyclingschritt N_0'!B118 | C77: =IFERROR('Recyclingschritt N_0'!C118+('Recyclingschritt N_1'!C53+'Recyclingschritt N_2'!C53+'Recyclingschritt N_3'!C53+'Recyclingschritt N_4'!C53+'Recyclingschritt N_4'!C53+'Recyclingschritt N_6'!C53+'Recyclingschritt N_7'!C53+'Recyclingschritt N_8'!C53)*$E$28,"") | D77: =IFERROR('Recyclingschritt N_0'!D118+('Recyclingschritt N_1'!D53+'Recyclingschritt N_2'!D53+'Recyclingschritt N_3'!D53+'Recyclingschritt N_4'!D53+'Recyclingschritt N_4'!D53+'Recyclingschritt N_6'!D53+'Recyclingschritt N_7'!D53+'Recyclingschritt N_8'!D53)*$E$28,"") | E77: =IFERROR(C77+D77,"")
A78: =IF('Recyclingschritt N_0'!A119<>"",'Recyclingschritt N_0'!A119,"") -> Elektrolyt (NaOH) | B78: ='Recyclingschritt N_0'!B119 | C78: =IFERROR('Recyclingschritt N_0'!C119+('Recyclingschritt N_1'!C54+'Recyclingschritt N_2'!C54+'Recyclingschritt N_3'!C54+'Recyclingschritt N_4'!C54+'Recyclingschritt N_4'!C54+'Recyclingschritt N_6'!C54+'Recyclingschritt N_7'!C54+'Recyclingschritt N_8'!C54)*$E$28,"") | D78: =IFERROR('Recyclingschritt N_0'!D119+('Recyclingschritt N_1'!D54+'Recyclingschritt N_2'!D54+'Recyclingschritt N_3'!D54+'Recyclingschritt N_4'!D54+'Recyclingschritt N_4'!D54+'Recyclingschritt N_6'!D54+'Recyclingschritt N_7'!D54+'Recyclingschritt N_8'!D54)*$E$28,"") | E78: =IFERROR(C78+D78,"")
A79: =IF('Recyclingschritt N_0'!A120<>"",'Recyclingschritt N_0'!A120,"") -> Kunststoffe (9) | B79: ='Recyclingschritt N_0'!B120 | C79: =IFERROR('Recyclingschritt N_0'!C120+('Recyclingschritt N_1'!C55+'Recyclingschritt N_2'!C55+'Recyclingschritt N_3'!C55+'Recyclingschritt N_4'!C55+'Recyclingschritt N_4'!C55+'Recyclingschritt N_6'!C55+'Recyclingschritt N_7'!C55+'Recyclingschritt N_8'!C55)*$E$28,"") | D79: =IFERROR('Recyclingschritt N_0'!D120+('Recyclingschritt N_1'!D55+'Recyclingschritt N_2'!D55+'Recyclingschritt N_3'!D55+'Recyclingschritt N_4'!D55+'Recyclingschritt N_4'!D55+'Recyclingschritt N_6'!D55+'Recyclingschritt N_7'!D55+'Recyclingschritt N_8'!D55)*$E$28,"") | E79: =IFERROR(C79+D79,"")
A80: =IF('Recyclingschritt N_0'!A121<>"",'Recyclingschritt N_0'!A121,"") -> Sauerstoff (O2) (7) | B80: ='Recyclingschritt N_0'!B121 | C80: =IFERROR('Recyclingschritt N_0'!C121+('Recyclingschritt N_1'!C56+'Recyclingschritt N_2'!C56+'Recyclingschritt N_3'!C56+'Recyclingschritt N_4'!C56+'Recyclingschritt N_4'!C56+'Recyclingschritt N_6'!C56+'Recyclingschritt N_7'!C56+'Recyclingschritt N_8'!C56)*$E$28,"") | D80: =IFERROR('Recyclingschritt N_0'!D121+('Recyclingschritt N_1'!D56+'Recyclingschritt N_2'!D56+'Recyclingschritt N_3'!D56+'Recyclingschritt N_4'!D56+'Recyclingschritt N_4'!D56+'Recyclingschritt N_6'!D56+'Recyclingschritt N_7'!D56+'Recyclingschritt N_8'!D56)*$E$28,"") | E80: =IFERROR(C80+D80,"")
A81: =IF('Recyclingschritt N_0'!A122<>"",'Recyclingschritt N_0'!A122,"") -> Kohlenstoff aus Kohlenstoffquellen auf Zellebene (C) (7) | B81: ='Recyclingschritt N_0'!B122 | C81: =IFERROR('Recyclingschritt N_0'!C122+('Recyclingschritt N_1'!C57+'Recyclingschritt N_2'!C57+'Recyclingschritt N_3'!C57+'Recyclingschritt N_4'!C57+'Recyclingschritt N_4'!C57+'Recyclingschritt N_6'!C57+'Recyclingschritt N_7'!C57+'Recyclingschritt N_8'!C57)*$E$28,"") | D81: =IFERROR('Recyclingschritt N_0'!D122+('Recyclingschritt N_1'!D57+'Recyclingschritt N_2'!D57+'Recyclingschritt N_3'!D57+'Recyclingschritt N_4'!D57+'Recyclingschritt N_4'!D57+'Recyclingschritt N_6'!D57+'Recyclingschritt N_7'!D57+'Recyclingschritt N_8'!D57)*$E$28,"") | E81: =IFERROR(C81+D81,"")
A82: =IF('Recyclingschritt N_0'!A123<>"",'Recyclingschritt N_0'!A123,"") -> Eisen aus Eisenquellen auf Zellebene (Fe) (7) | B82: ='Recyclingschritt N_0'!B123 | C82: =IFERROR('Recyclingschritt N_0'!C123+('Recyclingschritt N_1'!C58+'Recyclingschritt N_2'!C58+'Recyclingschritt N_3'!C58+'Recyclingschritt N_4'!C58+'Recyclingschritt N_4'!C58+'Recyclingschritt N_6'!C58+'Recyclingschritt N_7'!C58+'Recyclingschritt N_8'!C58)*$E$28,"") | D82: =IFERROR('Recyclingschritt N_0'!D123+('Recyclingschritt N_1'!D58+'Recyclingschritt N_2'!D58+'Recyclingschritt N_3'!D58+'Recyclingschritt N_4'!D58+'Recyclingschritt N_4'!D58+'Recyclingschritt N_6'!D58+'Recyclingschritt N_7'!D58+'Recyclingschritt N_8'!D58)*$E$28,"") | E82: =IFERROR(C82+D82,"")
A83: =IF('Recyclingschritt N_0'!A124<>"",'Recyclingschritt N_0'!A124,"") -> Phosphor (P) (7) | B83: ='Recyclingschritt N_0'!B124 | C83: =IFERROR('Recyclingschritt N_0'!C124+('Recyclingschritt N_1'!C59+'Recyclingschritt N_2'!C59+'Recyclingschritt N_3'!C59+'Recyclingschritt N_4'!C59+'Recyclingschritt N_4'!C59+'Recyclingschritt N_6'!C59+'Recyclingschritt N_7'!C59+'Recyclingschritt N_8'!C59)*$E$28,"") | D83: =IFERROR('Recyclingschritt N_0'!D124+('Recyclingschritt N_1'!D59+'Recyclingschritt N_2'!D59+'Recyclingschritt N_3'!D59+'Recyclingschritt N_4'!D59+'Recyclingschritt N_4'!D59+'Recyclingschritt N_6'!D59+'Recyclingschritt N_7'!D59+'Recyclingschritt N_8'!D59)*$E$28,"") | E83: =IFERROR(C83+D83,"")
A84: =IF('Recyclingschritt N_0'!A125<>"",'Recyclingschritt N_0'!A125,"") -> Chlor (Cl) (7) | B84: ='Recyclingschritt N_0'!B125 | C84: =IFERROR('Recyclingschritt N_0'!C125+('Recyclingschritt N_1'!C60+'Recyclingschritt N_2'!C60+'Recyclingschritt N_3'!C60+'Recyclingschritt N_4'!C60+'Recyclingschritt N_4'!C60+'Recyclingschritt N_6'!C60+'Recyclingschritt N_7'!C60+'Recyclingschritt N_8'!C60)*$E$28,"") | D84: =IFERROR('Recyclingschritt N_0'!D125+('Recyclingschritt N_1'!D60+'Recyclingschritt N_2'!D60+'Recyclingschritt N_3'!D60+'Recyclingschritt N_4'!D60+'Recyclingschritt N_4'!D60+'Recyclingschritt N_6'!D60+'Recyclingschritt N_7'!D60+'Recyclingschritt N_8'!D60)*$E$28,"") | E84: =IFERROR(C84+D84,"")
A85: =IF('Recyclingschritt N_0'!A126<>"",'Recyclingschritt N_0'!A126,"") -> Schwefel (S) (7) | B85: ='Recyclingschritt N_0'!B126 | C85: =IFERROR('Recyclingschritt N_0'!C126+('Recyclingschritt N_1'!C61+'Recyclingschritt N_2'!C61+'Recyclingschritt N_3'!C61+'Recyclingschritt N_4'!C61+'Recyclingschritt N_4'!C61+'Recyclingschritt N_6'!C61+'Recyclingschritt N_7'!C61+'Recyclingschritt N_8'!C61)*$E$28,"") | D85: =IFERROR('Recyclingschritt N_0'!D126+('Recyclingschritt N_1'!D61+'Recyclingschritt N_2'!D61+'Recyclingschritt N_3'!D61+'Recyclingschritt N_4'!D61+'Recyclingschritt N_4'!D61+'Recyclingschritt N_6'!D61+'Recyclingschritt N_7'!D61+'Recyclingschritt N_8'!D61)*$E$28,"") | E85: =IFERROR(C85+D85,"")
A86: =IF('Recyclingschritt N_0'!A127<>"",'Recyclingschritt N_0'!A127,"") -> Quecksilber (Hg) (13) | B86: ='Recyclingschritt N_0'!B127 | C86: =IFERROR('Recyclingschritt N_0'!C127+('Recyclingschritt N_1'!C62+'Recyclingschritt N_2'!C62+'Recyclingschritt N_3'!C62+'Recyclingschritt N_4'!C62+'Recyclingschritt N_4'!C62+'Recyclingschritt N_6'!C62+'Recyclingschritt N_7'!C62+'Recyclingschritt N_8'!C62)*$E$28,"") | D86: =IFERROR('Recyclingschritt N_0'!D127+('Recyclingschritt N_1'!D62+'Recyclingschritt N_2'!D62+'Recyclingschritt N_3'!D62+'Recyclingschritt N_4'!D62+'Recyclingschritt N_4'!D62+'Recyclingschritt N_6'!D62+'Recyclingschritt N_7'!D62+'Recyclingschritt N_8'!D62)*$E$28,"") | E86: =IFERROR(C86+D86,"") | H86: =IFERROR('Recyclingschritt N_0'!I127+('Recyclingschritt N_1'!I62+'Recyclingschritt N_2'!I62+'Recyclingschritt N_3'!I62+'Recyclingschritt N_4'!I62+'Recyclingschritt N_5'!I62+'Recyclingschritt N_6'!I62+'Recyclingschritt N_7'!I62+'Recyclingschritt N_8'!I62)*E28,"")
A87: =IF('Recyclingschritt N_0'!A128<>"",'Recyclingschritt N_0'!A128,"") -> Cadmium (Cd) (13) | B87: ='Recyclingschritt N_0'!B128 | C87: =IFERROR('Recyclingschritt N_0'!C128+('Recyclingschritt N_1'!C63+'Recyclingschritt N_2'!C63+'Recyclingschritt N_3'!C63+'Recyclingschritt N_4'!C63+'Recyclingschritt N_4'!C63+'Recyclingschritt N_6'!C63+'Recyclingschritt N_7'!C63+'Recyclingschritt N_8'!C63)*$E$28,"") | D87: =IFERROR('Recyclingschritt N_0'!D128+('Recyclingschritt N_1'!D63+'Recyclingschritt N_2'!D63+'Recyclingschritt N_3'!D63+'Recyclingschritt N_4'!D63+'Recyclingschritt N_4'!D63+'Recyclingschritt N_6'!D63+'Recyclingschritt N_7'!D63+'Recyclingschritt N_8'!D63)*$E$28,"") | E87: =IFERROR(C87+D87,"") | H87: =IFERROR('Recyclingschritt N_0'!I128+('Recyclingschritt N_1'!I63+'Recyclingschritt N_2'!I63+'Recyclingschritt N_3'!I63+'Recyclingschritt N_4'!I63+'Recyclingschritt N_5'!I63+'Recyclingschritt N_6'!I63+'Recyclingschritt N_7'!I63+'Recyclingschritt N_8'!I63)*E28,"")
A88: =IF('Recyclingschritt N_0'!A129<>"",'Recyclingschritt N_0'!A129,"") | B88: ='Recyclingschritt N_0'!B129 | C88: =IFERROR('Recyclingschritt N_0'!C129+('Recyclingschritt N_1'!C64+'Recyclingschritt N_2'!C64+'Recyclingschritt N_3'!C64+'Recyclingschritt N_4'!C64+'Recyclingschritt N_4'!C64+'Recyclingschritt N_6'!C64+'Recyclingschritt N_7'!C64+'Recyclingschritt N_8'!C64)*$E$28,"") | D88: =IFERROR('Recyclingschritt N_0'!D129+('Recyclingschritt N_1'!D64+'Recyclingschritt N_2'!D64+'Recyclingschritt N_3'!D64+'Recyclingschritt N_4'!D64+'Recyclingschritt N_4'!D64+'Recyclingschritt N_6'!D64+'Recyclingschritt N_7'!D64+'Recyclingschritt N_8'!D64)*$E$28,"") | E88: =IFERROR(C88+D88,"")
A89: =IF('Recyclingschritt N_0'!A130<>"",'Recyclingschritt N_0'!A130,"") | B89: ='Recyclingschritt N_0'!B130 | C89: =IFERROR('Recyclingschritt N_0'!C130+('Recyclingschritt N_1'!C65+'Recyclingschritt N_2'!C65+'Recyclingschritt N_3'!C65+'Recyclingschritt N_4'!C65+'Recyclingschritt N_4'!C65+'Recyclingschritt N_6'!C65+'Recyclingschritt N_7'!C65+'Recyclingschritt N_8'!C65)*$E$28,"") | D89: =IFERROR('Recyclingschritt N_0'!D130+('Recyclingschritt N_1'!D65+'Recyclingschritt N_2'!D65+'Recyclingschritt N_3'!D65+'Recyclingschritt N_4'!D65+'Recyclingschritt N_4'!D65+'Recyclingschritt N_6'!D65+'Recyclingschritt N_7'!D65+'Recyclingschritt N_8'!D65)*$E$28,"") | E89: =IFERROR(C89+D89,"")
A90: =IF('Recyclingschritt N_0'!A131<>"",'Recyclingschritt N_0'!A131,"") | B90: ='Recyclingschritt N_0'!B131 | C90: =IFERROR('Recyclingschritt N_0'!C131+('Recyclingschritt N_1'!C66+'Recyclingschritt N_2'!C66+'Recyclingschritt N_3'!C66+'Recyclingschritt N_4'!C66+'Recyclingschritt N_4'!C66+'Recyclingschritt N_6'!C66+'Recyclingschritt N_7'!C66+'Recyclingschritt N_8'!C66)*$E$28,"") | D90: =IFERROR('Recyclingschritt N_0'!D131+('Recyclingschritt N_1'!D66+'Recyclingschritt N_2'!D66+'Recyclingschritt N_3'!D66+'Recyclingschritt N_4'!D66+'Recyclingschritt N_4'!D66+'Recyclingschritt N_6'!D66+'Recyclingschritt N_7'!D66+'Recyclingschritt N_8'!D66)*$E$28,"") | E90: =IFERROR(C90+D90,"")
A91: Ergebnis | B91: ='Recyclingschritt N_0'!B132 -> 0 | C91: =SUM(C69:C90) -> 0 | D91: =SUM(D69:D90) -> 0 | E91: =SUM(E69:E90) -> 0 | F91: =IFERROR(E91/B91,"")
A93: Output ERGEBNISSE je Herkunftsland— Berechnete Recyclingergebnisse, von in einem MS gesammelten Altbatterien 10 (RS N_0 + N_1 + N_2, etc.)
A94: Masse Altbatterieinput: | B94: =D29
A95: MS, in dem die Altbatterien gesammelt wurden: | D95: =IF('Recyclingschritt N_0'!E28<>"",'Recyclingschritt N_0'!E28,"")
A96: Element oder Verbindung | B96: Input minput 5 | C96: Output moutput 5 innerhalb der EU-MS erzeugt | D96: Output moutput 5 außerhalb der EU erzeugt | E96: Output moutput 5 Gesamt | F96: rRE11 | G96: rRM12 | H96: Masse Cadmium (Cd) mCd,waste insges. und Masse Quecksilber (Hg) mHg,waste insges. sicher immobilisiert und entsorgt (13)
B97: [t/a] | C97: [t/a] | D97: [t/a] | E97: [t/a] | F97: [m%] | G97: [m%] | H97: [t/a]
A98: =IF('Recyclingschritt N_0'!A139<>"",'Recyclingschritt N_0'!A139,"") -> Kobalt (Co) | B98: ='Recyclingschritt N_0'!B139 | C98: =IFERROR('Recyclingschritt N_0'!C139+('Recyclingschritt N_1'!C45+'Recyclingschritt N_2'!C45+'Recyclingschritt N_3'!C45+'Recyclingschritt N_4'!C45+'Recyclingschritt N_4'!C45+'Recyclingschritt N_6'!C45+'Recyclingschritt N_7'!C45+'Recyclingschritt N_8'!C45)*$E$29,"") | D98: =IFERROR('Recyclingschritt N_0'!D139+('Recyclingschritt N_1'!D45+'Recyclingschritt N_2'!D45+'Recyclingschritt N_3'!D45+'Recyclingschritt N_4'!D45+'Recyclingschritt N_4'!D45+'Recyclingschritt N_6'!D45+'Recyclingschritt N_7'!D45+'Recyclingschritt N_8'!D45)*$E$29,"") | E98: =IFERROR(C98+D98,"") | G98: =IFERROR(E98/B98, "ggf. Pflichtfeld!") -> ggf. Pflichtfeld!
A99: =IF('Recyclingschritt N_0'!A140<>"",'Recyclingschritt N_0'!A140,"") -> Kupfer (Cu) | B99: ='Recyclingschritt N_0'!B140 | C99: =IFERROR('Recyclingschritt N_0'!C140+('Recyclingschritt N_1'!C46+'Recyclingschritt N_2'!C46+'Recyclingschritt N_3'!C46+'Recyclingschritt N_4'!C46+'Recyclingschritt N_4'!C46+'Recyclingschritt N_6'!C46+'Recyclingschritt N_7'!C46+'Recyclingschritt N_8'!C46)*$E$29,"") | D99: =IFERROR('Recyclingschritt N_0'!D140+('Recyclingschritt N_1'!D46+'Recyclingschritt N_2'!D46+'Recyclingschritt N_3'!D46+'Recyclingschritt N_4'!D46+'Recyclingschritt N_4'!D46+'Recyclingschritt N_6'!D46+'Recyclingschritt N_7'!D46+'Recyclingschritt N_8'!D46)*$E$29,"") | E99: =IFERROR(C99+D99,"") | G99: =IFERROR(E99/B99, "ggf. Pflichtfeld!") -> ggf. Pflichtfeld!
A100: =IF('Recyclingschritt N_0'!A141<>"",'Recyclingschritt N_0'!A141,"") -> Blei (Pb) | B100: ='Recyclingschritt N_0'!B141 | C100: =IFERROR('Recyclingschritt N_0'!C141+('Recyclingschritt N_1'!C47+'Recyclingschritt N_2'!C47+'Recyclingschritt N_3'!C47+'Recyclingschritt N_4'!C47+'Recyclingschritt N_4'!C47+'Recyclingschritt N_6'!C47+'Recyclingschritt N_7'!C47+'Recyclingschritt N_8'!C47)*$E$29,"") | D100: =IFERROR('Recyclingschritt N_0'!D141+('Recyclingschritt N_1'!D47+'Recyclingschritt N_2'!D47+'Recyclingschritt N_3'!D47+'Recyclingschritt N_4'!D47+'Recyclingschritt N_4'!D47+'Recyclingschritt N_6'!D47+'Recyclingschritt N_7'!D47+'Recyclingschritt N_8'!D47)*$E$29,"") | E100: =IFERROR(C100+D100,"") | G100: =IFERROR(E100/B100, "ggf. Pflichtfeld!") -> ggf. Pflichtfeld!
A101: =IF('Recyclingschritt N_0'!A142<>"",'Recyclingschritt N_0'!A142,"") -> Lithium (Li) | B101: ='Recyclingschritt N_0'!B142 | C101: =IFERROR('Recyclingschritt N_0'!C142+('Recyclingschritt N_1'!C48+'Recyclingschritt N_2'!C48+'Recyclingschritt N_3'!C48+'Recyclingschritt N_4'!C48+'Recyclingschritt N_4'!C48+'Recyclingschritt N_6'!C48+'Recyclingschritt N_7'!C48+'Recyclingschritt N_8'!C48)*$E$29,"") | D101: =IFERROR('Recyclingschritt N_0'!D142+('Recyclingschritt N_1'!D48+'Recyclingschritt N_2'!D48+'Recyclingschritt N_3'!D48+'Recyclingschritt N_4'!D48+'Recyclingschritt N_4'!D48+'Recyclingschritt N_6'!D48+'Recyclingschritt N_7'!D48+'Recyclingschritt N_8'!D48)*$E$29,"") | E101: =IFERROR(C101+D101,"") | G101: =IFERROR(E101/B101, "ggf. Pflichtfeld!") -> ggf. Pflichtfeld!
A102: =IF('Recyclingschritt N_0'!A143<>"",'Recyclingschritt N_0'!A143,"") -> Nickel (Ni) | B102: ='Recyclingschritt N_0'!B143 | C102: =IFERROR('Recyclingschritt N_0'!C143+('Recyclingschritt N_1'!C49+'Recyclingschritt N_2'!C49+'Recyclingschritt N_3'!C49+'Recyclingschritt N_4'!C49+'Recyclingschritt N_4'!C49+'Recyclingschritt N_6'!C49+'Recyclingschritt N_7'!C49+'Recyclingschritt N_8'!C49)*$E$29,"") | D102: =IFERROR('Recyclingschritt N_0'!D143+('Recyclingschritt N_1'!D49+'Recyclingschritt N_2'!D49+'Recyclingschritt N_3'!D49+'Recyclingschritt N_4'!D49+'Recyclingschritt N_4'!D49+'Recyclingschritt N_6'!D49+'Recyclingschritt N_7'!D49+'Recyclingschritt N_8'!D49)*$E$29,"") | E102: =IFERROR(C102+D102,"")
A103: =IF('Recyclingschritt N_0'!A144<>"",'Recyclingschritt N_0'!A144,"") -> Mangan (Mn) | B103: ='Recyclingschritt N_0'!B144 | C103: =IFERROR('Recyclingschritt N_0'!C144+('Recyclingschritt N_1'!C50+'Recyclingschritt N_2'!C50+'Recyclingschritt N_3'!C50+'Recyclingschritt N_4'!C50+'Recyclingschritt N_4'!C50+'Recyclingschritt N_6'!C50+'Recyclingschritt N_7'!C50+'Recyclingschritt N_8'!C50)*$E$29,"") | D103: =IFERROR('Recyclingschritt N_0'!D144+('Recyclingschritt N_1'!D50+'Recyclingschritt N_2'!D50+'Recyclingschritt N_3'!D50+'Recyclingschritt N_4'!D50+'Recyclingschritt N_4'!D50+'Recyclingschritt N_6'!D50+'Recyclingschritt N_7'!D50+'Recyclingschritt N_8'!D50)*$E$29,"") | E103: =IFERROR(C103+D103,"")
A104: =IF('Recyclingschritt N_0'!A145<>"",'Recyclingschritt N_0'!A145,"") -> Aluminium (Al) | B104: ='Recyclingschritt N_0'!B145 | C104: =IFERROR('Recyclingschritt N_0'!C145+('Recyclingschritt N_1'!C51+'Recyclingschritt N_2'!C51+'Recyclingschritt N_3'!C51+'Recyclingschritt N_4'!C51+'Recyclingschritt N_4'!C51+'Recyclingschritt N_6'!C51+'Recyclingschritt N_7'!C51+'Recyclingschritt N_8'!C51)*$E$29,"") | D104: =IFERROR('Recyclingschritt N_0'!D145+('Recyclingschritt N_1'!D51+'Recyclingschritt N_2'!D51+'Recyclingschritt N_3'!D51+'Recyclingschritt N_4'!D51+'Recyclingschritt N_4'!D51+'Recyclingschritt N_6'!D51+'Recyclingschritt N_7'!D51+'Recyclingschritt N_8'!D51)*$E$29,"") | E104: =IFERROR(C104+D104,"")
A105: =IF('Recyclingschritt N_0'!A146<>"",'Recyclingschritt N_0'!A146,"") -> Stahl | B105: ='Recyclingschritt N_0'!B146 | C105: =IFERROR('Recyclingschritt N_0'!C146+('Recyclingschritt N_1'!C52+'Recyclingschritt N_2'!C52+'Recyclingschritt N_3'!C52+'Recyclingschritt N_4'!C52+'Recyclingschritt N_4'!C52+'Recyclingschritt N_6'!C52+'Recyclingschritt N_7'!C52+'Recyclingschritt N_8'!C52)*$E$29,"") | D105: =IFERROR('Recyclingschritt N_0'!D146+('Recyclingschritt N_1'!D52+'Recyclingschritt N_2'!D52+'Recyclingschritt N_3'!D52+'Recyclingschritt N_4'!D52+'Recyclingschritt N_4'!D52+'Recyclingschritt N_6'!D52+'Recyclingschritt N_7'!D52+'Recyclingschritt N_8'!D52)*$E$29,"") | E105: =IFERROR(C105+D105,"")
A106: =IF('Recyclingschritt N_0'!A147<>"",'Recyclingschritt N_0'!A147,"") -> Elektrolyt (KOH) | B106: ='Recyclingschritt N_0'!B147 | C106: =IFERROR('Recyclingschritt N_0'!C147+('Recyclingschritt N_1'!C53+'Recyclingschritt N_2'!C53+'Recyclingschritt N_3'!C53+'Recyclingschritt N_4'!C53+'Recyclingschritt N_4'!C53+'Recyclingschritt N_6'!C53+'Recyclingschritt N_7'!C53+'Recyclingschritt N_8'!C53)*$E$29,"") | D106: =IFERROR('Recyclingschritt N_0'!D147+('Recyclingschritt N_1'!D53+'Recyclingschritt N_2'!D53+'Recyclingschritt N_3'!D53+'Recyclingschritt N_4'!D53+'Recyclingschritt N_4'!D53+'Recyclingschritt N_6'!D53+'Recyclingschritt N_7'!D53+'Recyclingschritt N_8'!D53)*$E$29,"") | E106: =IFERROR(C106+D106,"")
A107: =IF('Recyclingschritt N_0'!A148<>"",'Recyclingschritt N_0'!A148,"") -> Elektrolyt (NaOH) | B107: ='Recyclingschritt N_0'!B148 | C107: =IFERROR('Recyclingschritt N_0'!C148+('Recyclingschritt N_1'!C54+'Recyclingschritt N_2'!C54+'Recyclingschritt N_3'!C54+'Recyclingschritt N_4'!C54+'Recyclingschritt N_4'!C54+'Recyclingschritt N_6'!C54+'Recyclingschritt N_7'!C54+'Recyclingschritt N_8'!C54)*$E$29,"") | D107: =IFERROR('Recyclingschritt N_0'!D148+('Recyclingschritt N_1'!D54+'Recyclingschritt N_2'!D54+'Recyclingschritt N_3'!D54+'Recyclingschritt N_4'!D54+'Recyclingschritt N_4'!D54+'Recyclingschritt N_6'!D54+'Recyclingschritt N_7'!D54+'Recyclingschritt N_8'!D54)*$E$29,"") | E107: =IFERROR(C107+D107,"")
A108: =IF('Recyclingschritt N_0'!A149<>"",'Recyclingschritt N_0'!A149,"") -> Kunststoffe (9) | B108: ='Recyclingschritt N_0'!B149 | C108: =IFERROR('Recyclingschritt N_0'!C149+('Recyclingschritt N_1'!C55+'Recyclingschritt N_2'!C55+'Recyclingschritt N_3'!C55+'Recyclingschritt N_4'!C55+'Recyclingschritt N_4'!C55+'Recyclingschritt N_6'!C55+'Recyclingschritt N_7'!C55+'Recyclingschritt N_8'!C55)*$E$29,"") | D108: =IFERROR('Recyclingschritt N_0'!D149+('Recyclingschritt N_1'!D55+'Recyclingschritt N_2'!D55+'Recyclingschritt N_3'!D55+'Recyclingschritt N_4'!D55+'Recyclingschritt N_4'!D55+'Recyclingschritt N_6'!D55+'Recyclingschritt N_7'!D55+'Recyclingschritt N_8'!D55)*$E$29,"") | E108: =IFERROR(C108+D108,"")
...

Sheet Recyclingschritt N_0
C1: Name des (ersten) Recyclingbetriebes: | I1: =IF(TitelseiteSonstigeAltbatterien!$F$7<>"",TitelseiteSonstigeAltbatterien!$F$7,"")
A2: DV Abschnitt 9 (Teil 2) | B2: Die einzelnen Recyclingschritte, d. h., alle beteiligten Recyclinganlagen, sind zu dokumentieren:
A3: Ausfüllhinweis: Angaben müssen bzw. können nur in den weiß gehaltenen Eingabefeldern hinterlegt werden. Teilweise werden Ihre Angaben automatisch innerhalb eines Formblattes sowie auf Folgeformblätter übertragen. Übernommene Angaben sind jeweils blau gekennzeichnet (vgl. auch die allgemeinen Formularbearbeitungshinweise im Formblatt "Ausfüllhinweise").
A5: Recyclingschritt | B5: =CONCATENATE("N_0, hier: ",TitelseiteSonstigeAltbatterien!F12) -> N_0, hier:
A8: Kalenderjahr | C8: =IF(TitelseiteSonstigeAltbatterien!$F$8<>"",TitelseiteSonstigeAltbatterien!$F$8,"") -> 2026
A10: Angaben zum Recyclingbetrieb1
A11: Name
A12: Straße und Hausnummer
A13: PLZ
A14: Ort
A15: Land
A16: Kontaktperson
A17: Telefon
A18: E-Mail
A20: Beschreibung der einzelnen Recyclingschritte: | C20: Bitte Anlage A "Beschreibung des gesamten Batterie-Recyclingverfahrens" am Ende des Formulars nutzen.
A23: 1. Recycling-Input zum Zeitpunkt der Zuführung zum jeweiligen Recyclingschritt2 (Altbatterien oder Fraktionen von Altbatterien) | I23: =CONCATENATE("hier: ",$I$1) -> hier:
A24: Art/Beschreibung der Altbatterien und -akkumulatoren | C24: Abfallcode nach dem Europäischen Abfall-verzeichnis | D24: Masse3 | E24: Mitgliedstaat, in dem die Altbatterien gesammelt wurden12 | G24: Masseanteile
D25: [t/a] | G25: [%]
G26: =IF(D26<>"",D26/$D$32,"")
G27: =IF(D27<>"",D27/$D$32,"")
G28: =IF(D28<>"",D28/$D$32,"")
G29: =IF(D29<>"",D29/$D$32,"")
G30: =IF(D30<>"",D30/$D$32,"")
G31: =IF(D31<>"",D31/$D$32,"")
A32: Gesamt | D32: =SUM(D26:D31) -> 0 | E32: =SUM(G26:G31) -> 0
A34: 2. Recycling-Output Zwischenfraktionen4 (noch keine "Endgültige Outputfraktion" - zur weiteren Behandlung) | I34: =CONCATENATE("hier: ",$I$1) -> hier:
A35: Beschreibung der Fraktion | C35: Abfallcode nach dem Europäischen Abfall-verzeichnis | D35: Masse | E35: Weitere Behandlung
E36: Weiterer Recycling- schritt | G36: Weiterer Akteur5 | I36: Weiterer Recycling- schritt
D37: [t/a] | E37: Bezeichnung | G37: Name des Empfängers | I37: Nummer
I38: N_1
I39: N_2
I40: N_3
I41: N_4
I42: N_5
I43: N_6
I44: N_7
I45: N_8
A46: Gesamt Output der Zwischenfraktionen | D46: =SUM(D38:D45) -> 0
A48: 3. Recycling-Input und -Output Input- und Outputfraktionen, die in den rRE- und rRM-Berechnungen6 berücksichtigt werden und aus Altbatterien stammen, die in DE und anderen MS gesammelt wurden | I48: =CONCATENATE("hier: ",$I$1) -> hier:
A49: Gesamtbetrachtung RS N_0: Ergebnisse des gesamten Anlagen In- und Outputs | B49: =D32 -> 0 | D49: Die benötigte Aufteilung nach Ländern, in den die Altbatterien gesammelt wurden, erfolgt in weiteren Schritten automatisiert gemäß den Masseanteilen unter 1., Spalte G.
A50: Element oder Verbindung7 | B50: Input minput | C50: Output moutput innerhalb der EU-MS erzeugt | D50: Output moutput außerhalb der EU erzeugt8 | E50: Output moutput Gesamt | F50: Bezeichnung der Outputfraktion (kein Abfall), die das Element oder die Verbindung enthält | G50: Ertrag der Outputfraktion | H50: Verbleib der Fraktion | I50: Masse Cadmium (Cd) mCd,waste insges. und Masse Quecksilber (Hg) mHg,waste insges. sicher immobilisiert und entsorgt (13)
B51: [t/a] | C51: [t/a] | D51: [t/a] | E51: [t/a] | G51: [m%] | I51: [t/a]
A52: Kobalt (Co) | E52: =C52 -> 0
A53: Kupfer (Cu) | E53: =C53 -> 0
A54: Blei (Pb) | E54: =C54 -> 0
A55: Lithium (Li) | E55: =C55 -> 0
A56: Nickel (Ni) | E56: =C56 -> 0
A57: Mangan (Mn) | E57: =C57 -> 0
A58: Aluminium (Al) | E58: =C58 -> 0
A59: Stahl | E59: =C59 -> 0
A60: Elektrolyt (KOH) | E60: =C60 -> 0
A61: Elektrolyt (NaOH) | E61: =C61 -> 0
A62: Kunststoffe (9) | E62: =C62 -> 0
A63: Sauerstoff (O2) (7) | E63: =C63 -> 0
... A70: Cadmium (Cd) (13) | E70: =C70 -> 0
E71: =C71 -> 0
E72: =C72 -> 0
E73: =C73 -> 0
A74: Ergebnis11 | B74: =SUM(B52:B73) -> 0 | C74: =SUM(C52:C73) -> 0 | E74: =SUM(E52:E73) -> 0
A76: 4. Recycling-Input und -Output Input- und Outputfraktionen, die in den rRE- und rRM-Berechnungen6 berücksichtigt werden und aus Altbatterien stammen, die in DE gesammelt wurden | I76: =CONCATENATE("hier: ",$I$1) -> hier:
A77: Einzelbetrachtung je Herkunftsland (RS N_0) Masse Altbatterieinput: | B77: =D26 -> 0
A78: MS, in dem die Altbatterien gesammelt wurden: | D78: =IF(E26<>"",E26,"")
A79: Element oder Verbindung7 | B79: Input minput | C79: Output moutput innerhalb der EU-MS erzeugt | D79: Output moutput außerhalb der EU erzeugt8 | E79: Output moutput Gesamt | F79: Bezeichnung der Outputfraktion (kein Abfall), die das Element oder die Verbindung enthält | G79: Ertrag der Outputfraktion | H79: Verbleib der Fraktion | I79: Masse Cadmium (Cd) mCd,waste insges. und Masse Quecksilber (Hg) mHg,waste insges. sicher immobilisiert und entsorgt (13)
B80: [t/a] | C80: [t/a] | D80: [t/a] | E80: [t/a] | G80: [m%] | I80: [t/a]
A81: Kobalt (Co) | B81: =IFERROR(B52*$G$26,"") | C81: =IFERROR(C52*$G$26,"") | E81: =C81 | F81: =IF($D$26<>"",F52,"") | G81: =IF($D$26<>"",G52,"") | H81: =IF($D$26<>"",H52,"") | I81: =IF($D$26<>"",I52,"")
A82: Kupfer (Cu) | B82: =IFERROR(B53*$G$26,"") | C82: =IFERROR(C53*$G$26,"") | E82: =C82 | F82: =IF($D$26<>"",F53,"") | G82: =IF($D$26<>"",G53,"") | H82: =IF($D$26<>"",H53,"") | I82: =IF($D$26<>"",I53,"")
A83: Blei (Pb) | B83: =IFERROR(B54*$G$26,"") | C83: =IFERROR(C54*$G$26,"") | E83: =C83 | F83: =IF($D$26<>"",F54,"") | G83: =IF($D$26<>"",G54,"") | H83: =IF($D$26<>"",H54,"") | I83: =IF($D$26<>"",I54,"")
A84: Lithium (Li) | B84: =IFERROR(B55*$G$26,"") | C84: =IFERROR(C55*$G$26,"") | E84: =C84 | F84: =IF($D$26<>"",F55,"") | G84: =IF($D$26<>"",G55,"") | H84: =IF($D$26<>"",H55,"") | I84: =IF($D$26<>"",I55,"")
A85: Nickel (Ni) | B85: =IFERROR(B56*$G$26,"") | C85: =IFERROR(C56*$G$26,"") | E85: =C85 | F85: =IF($D$26<>"",F56,"") | G85: =IF($D$26<>"",G56,"") | H85: =IF($D$26<>"",H56,"") | I85: =IF($D$26<>"",I56,"")
A86: Mangan (Mn) | B86: =IFERROR(B57*$G$26,"") | C86: =IFERROR(C57*$G$26,"") | E86: =C86 | F86: =IF($D$26<>"",F57,"") | G86: =IF($D$26<>"",G57,"") | H86: =IF($D$26<>"",H57,"") | I86: =IF($D$26<>"",I57,"")
A87: Aluminium (Al) | B87: =IFERROR(B58*$G$26,"") | C87: =IFERROR(C58*$G$26,"") | E87: =C87 | F87: =IF($D$26<>"",F58,"") | G87: =IF($D$26<>"",G58,"") | H87: =IF($D$26<>"",H58,"") | I87: =IF($D$26<>"",I58,"")
A88: Stahl | B88: =IFERROR(B59*$G$26,"") | C88: =IFERROR(C59*$G$26,"") | E88: =C88 | F88: =IF($D$26<>"",F59,"") | G88: =IF($D$26<>"",G59,"") | H88: =IF($D$26<>"",H59,"") | I88: =IF($D$26<>"",I59,"")
A89: Elektrolyt (KOH) | B89: =IFERROR(B60*$G$26,"") | C89: =IFERROR(C60*$G$26,"") | E89: =C89 | F89: =IF($D$26<>"",F60,"") | G89: =IF($D$26<>"",G60,"") | H89: =IF($D$26<>"",H60,"") | I89: =IF($D$26<>"",I60,"")
A90: Elektrolyt (NaOH) | B90: =IFERROR(B61*$G$26,"") | C90: =IFERROR(C61*$G$26,"") | E90: =C90 | F90: =IF($D$26<>"",F61,"") | G90: =IF($D$26<>"",G61,"") | H90: =IF($D$26<>"",H61,"") | I90: =IF($D$26<>"",I61,"")
A91: Kunststoffe (9) | B91: =IFERROR(B62*$G$26,"") | C91: =IFERROR(C62*$G$26,"") | E91: =C91 | F91: =IF($D$26<>"",F62,"") | G91: =IF($D$26<>"",G62,"") | H91: =IF($D$26<>"",H62,"") | I91: =IF($D$26<>"",I62,"")
A92: Sauerstoff (O2) (7) | B92: =IFERROR(B63*$G$26,"") | C92: =IFERROR(C63*$G$26,"") | E92: =C92 | F92: =IF($D$26<>"",F63,"") | G92: =IF($D$26<>"",G63,"") | H92: =IF($D$26<>"",H63,"")
A93: Kohlenstoff aus Kohlenstoffquellen auf Zellebene (C) (7) | B93: =IFERROR(B64*$G$26,"") | C93: =IFERROR(C64*$G$26,"") | E93: =C93 | F93: =IF($D$26<>"",F64,"") | G93: =IF($D$26<>"",G64,"") | H93: =IF($D$26<>"",H64,"") | I93: =IF($D$26<>"",I64,"")
A94: Eisen aus Eisenquellen auf Zellebene (Fe) (7) | B94: =IFERROR(B65*$G$26,"") | C94: =IFERROR(C65*$G$26,"") | E94: =C94 | F94: =IF($D$26<>"",F65,"") | G94: =IF($D$26<>"",G65,"") | H94: =IF($D$26<>"",H65,"") | I94: =IF($D$26<>"",I65,"")
A95: Phosphor (P) (7) | B95: =IFERROR(B66*$G$26,"") | C95: =IFERROR(C66*$G$26,"") | E95: =C95 | F95: =IF($D$26<>"",F66,"") | G95: =IF($D$26<>"",G66,"") | H95: =IF($D$26<>"",H66,"") | I95: =IF($D$26<>"",I66,"")
A96: Chlor (Cl) (7) | B96: =IFERROR(B67*$G$26,"") | C96: =IFERROR(C67*$G$26,"") | E96: =C96 | F96: =IF($D$26<>"",F67,"") | G96: =IF($D$26<>"",G67,"") | H96: =IF($D$26<>"",H67,"") | I96: =IF($D$26<>"",I67,"")
A97: Schwefel (S) (7) | B97: =IFERROR(B68*$G$26,"") | C97: =IFERROR(C68*$G$26,"") | E97: =C97 | F97: =IF($D$26<>"",F68,"") | G97: =IF($D$26<>"",G68,"") | H97: =IF($D$26<>"",H68,"") | I97: =IF($D$26<>"",I68,"")
A98: Quecksilber (Hg) (13) | B98: =IFERROR(B69*$G$26,"") | C98: =IFERROR(C69*$G$26,"") | E98: =C98 | F98: =IF($D$26<>"",F69,"") | G98: =IF($D$26<>"",G69,"") | H98: =IF($D$26<>"",H69,"") | I98: =IFERROR(I69*$G$26,"")
A99: Cadmium (Cd) (13) | B99: =IFERROR(B70*$G$26,"") | C99: =IFERROR(C70*$G$26,"") | E99: =C99 | F99: =IF($D$26<>"",F70,"") | G99: =IF($D$26<>"",G70,"") | H99: =IF($D$26<>"",H70,"") | I99: =IFERROR(I70*$G$26,"")
A100: =IF('Recyclingschritt N_0'!A71<>"",'Recyclingschritt N_0'!A71,"") | B100: =IFERROR(B71*$G$26,"") | C100: =IFERROR(C71*$G$26,"") | E100: =C100 | F100: =IF($D$26<>"",F71,"") | G100: =IF($D$26<>"",G71,"") | H100: =IF($D$26<>"",H71,"")
A101: =IF('Recyclingschritt N_0'!A72<>"",'Recyclingschritt N_0'!A72,"") | B101: =IFERROR(B72*$G$26,"") | C101: =IFERROR(C72*$G$26,"") | E101: =C101 | F101: =IF($D$26<>"",F72,"") | G101: =IF($D$26<>"",G72,"") | H101: =IF($D$26<>"",H72,"")
A102: =IF('Recyclingschritt N_0'!A73<>"",'Recyclingschritt N_0'!A73,"") | B102: =IFERROR(B73*$G$26,"") | C102: =IFERROR(C73*$G$26,"") | E102: =C102 | F102: =IF($D$26<>"",F73,"") | G102: =IF($D$26<>"",G73,"") | H102: =IF($D$26<>"",H73,"") | I102: =IF($D$26<>"",I71,"")
A103: Ergebnis (11) | B103: =SUM(B81:B102) -> 0 | C103: =SUM(C81:C102) -> 0 | E103: =SUM(E81:E102) -> 0
A105: 5. Recycling-Input und -Output Input- und Outputfraktionen, die in den rRE- und rRM-Berechnungen6 berücksichtigt werden und aus Altbatterien stammen, die in einem anderen Mitgliedstaat gesammelt wurden12 | I105: =CONCATENATE("hier: ",$I$1) -> hier:
A106: Einzelbetrachtung je Herkunftsland (RS N_0) Masse Altbatterieinput: | B106: =D27 -> 0
A107: MS, in dem die Altbatterien gesammelt wurden: | D107: =IF(E27<>"",E27,"")
A108: Element oder Verbindung7 | B108: Input minput | C108: Output moutput innerhalb der EU-MS erzeugt | D108: Output moutput außerhalb der EU erzeugt8 | E108: Output moutput Gesamt | F108: Bezeichnung der Outputfraktion (kein Abfall), die das Element oder die Verbindung enthält | G108: Ertrag der Outputfraktion | H108: Verbleib der Fraktion | I108: Masse Cadmium (Cd) mCd,waste insges. und Masse Quecksilber (Hg) mHg,waste insges. sicher immobilisiert und entsorgt (13)
B109: [t/a] | C109: [t/a] | D109: [t/a] | E109: [t/a] | G109: [m%] | I109: [t/a]
A110: Kobalt (Co) | B110: =IFERROR(B52*$G$27,"") | C110: =IFERROR(C52*$G$27,"") | E110: =C110 | F110: =IF($D$27<>"",F52,"") | G110: =IF($D$27<>"",G52,"") | H110: =IF($D$27<>"",H52,"") | I110: =IF($D$27<>"",I52,"")
A111: Kupfer (Cu) | B111: =IFERROR(B53*$G$27,"") | C111: =IFERROR(C53*$G$27,"") | E111: =C111 | F111: =IF($D$27<>"",F53,"") | G111: =IF($D$27<>"",G53,"") | H111: =IF($D$27<>"",H53,"") | I111: =IF($D$27<>"",I53,"")
A112: Blei (Pb) | B112: =IFERROR(B54*$G$27,"") | C112: =IFERROR(C54*$G$27,"") | E112: =C112 | F112: =IF($D$27<>"",F54,"") | G112: =IF($D$27<>"",G54,"") | H112: =IF($D$27<>"",H54,"") | I112: =IF($D$27<>"",I54,"")
A113: Lithium (Li) | B113: =IFERROR(B55*$G$27,"") | C113: =IFERROR(C55*$G$27,"") | E113: =C113 | F113: =IF($D$27<>"",F55,"") | G113: =IF($D$27<>"",G55,"") | H113: =IF($D$27<>"",H55,"") | I113: =IF($D$27<>"",I55,"")
A114: Nickel (Ni) | B114: =IFERROR(B56*$G$27,"") | C114: =IFERROR(C56*$G$27,"") | E114: =C114 | F114: =IF($D$27<>"",F56,"") | G114: =IF($D$27<>"",G56,"") | H114: =IF($D$27<>"",H56,"") | I114: =IF($D$27<>"",I56,"")
A115: Mangan (Mn) | B115: =IFERROR(B57*$G$27,"") | C115: =IFERROR(C57*$G$27,"") | E115: =C115 | F115: =IF($D$27<>"",F57,"") | G115: =IF($D$27<>"",G57,"") | H115: =IF($D$27<>"",H57,"") | I115: =IF($D$27<>"",I57,"")
A116: Aluminium (Al) | B116: =IFERROR(B58*$G$27,"") | C116: =IFERROR(C58*$G$27,"") | E116: =C116 | F116: =IF($D$27<>"",F58,"") | G116: =IF($D$27<>"",G58,"") | H116: =IF($D$27<>"",H58,"") | I116: =IF($D$27<>"",I58,"")
A117: Stahl | B117: =IFERROR(B59*$G$27,"") | C117: =IFERROR(C59*$G$27,"") | E117: =C117 | F117: =IF($D$27<>"",F59,"") | G117: =IF($D$27<>"",G59,"") | H117: =IF($D$27<>"",H59,"") | I117: =IF($D$27<>"",I59,"")
...

Sheet Recyclingschritt N_1
C1: Name des (ersten) Recyclingbetriebes: | H1: =IF(TitelseiteSonstigeAltbatterien!$F$7<>"",TitelseiteSonstigeAltbatterien!$F$7,"")
A2: ='Recyclingschritt N_0'!A2 -> DV Abschnitt 9 (Teil 2) | B2: Die einzelnen Recyclingschritte, d. h. alle beteiligten Recyclinganlagen, sind zu dokumentieren:
A3: Ausfüllhinweis: Angaben müssen bzw. können nur in den weiß gehaltenen Eingabefeldern hinterlegt werden. Teilweise werden Ihre Angaben automatisch innerhalb eines Formblattes sowie auf Folgeformblätter übertragen. Übernommene Angaben sind jeweils blau gekennzeichnet (vgl. auch die allgemeinen Formularbearbeitungshinweise im Formblatt "Ausfüllhinweise").
A5: Recyclingschritt | B5: =CONCATENATE("N_1, hier: ",IF(TitelseiteSonstigeAltbatterien!$B$18<>"",TitelseiteSonstigeAltbatterien!$B$18,"")) -> N_1, hier:
A7: Kalenderjahr | C7: =IF(TitelseiteSonstigeAltbatterien!$F$8<>"",TitelseiteSonstigeAltbatterien!$F$8,"") -> 2026
A9: Angaben zum Recyclingbetrieb1
A10: Name
A11: Straße und Hausnummer
A12: PLZ
A13: Ort
A14: Land
A15: Kontaktperson
A16: Telefon
A17: E-Mail
A19: Beschreibung der einzelnen Recyclingschritte: | C19: Bitte Anlage B "Beschreibung des einzelnen Recyclingschrittes" am Ende des Formulars zur Beschreibung der einzelnen Recyclingverfahren bspw. N_1, N_2, etc. nutzen.
A22: 1. Recycling-Input zum Zeitpunkt der Zuführung zum jeweiligen Recyclingschritt2 (Altbatterien oder Fraktionen von Altbatterien) | I22: =CONCATENATE("hier: ",$C$10) -> hier:
A23: Art des Inputs | C23: Abfallcode nach dem Europäischen Abfall-verzeichnis | D23: Masse3
D24: [t/a]
A25: {=IF('Recyclingschritt N_0'!A38:B38<>"",'Recyclingschritt N_0'!A38:B38,"")} | C25: =IF('Recyclingschritt N_0'!C38<>"",'Recyclingschritt N_0'!C38,"") | D25: =IF('Recyclingschritt N_0'!D38<>"",'Recyclingschritt N_0'!D38,"")
A31: 2. Recycling-Output Zwischenfraktionen4 (noch keine "Endgültige Outputfraktion" - zur weiteren Behandlung) | I31: =CONCATENATE("hier: ",C10) -> hier:
A32: Beschreibung der Fraktion | C32: Abfallcode nach dem Europäischen Abfall-verzeichnis | D32: Masse | E32: Weitere Behandlung
E33: Weiterer Recycling- schritt | G33: Weiterer Akteur5 | I33: Weiterer Recycling- schritt
D34: [t/a] | E34: Bezeichnung | G34: Name des Empfängers | I34: Nummer
I35: N_X
I36: N_X
I37: N_X
I38: N_X
I39: N_X
A40: Gesamt Output der Zwischenfraktionen | D40: =SUM(D35:D39) -> 0
A42: 3. Recycling-Output Input- und Outputfraktionen, die in den rRE- und rRM-Berechnungen6 berücksichtigt werden. | I42: =CONCATENATE("hier: ",$C$10) -> hier:
A43: Element oder Verbindung7 | B43: Input minput (nur dieser Recyclingschritt) | C43: Output moutput innerhalb der EU-MS erzeugt | D43: Output moutput außerhalb der EU erzeugt8 | E43: Output moutput Gesamt | F43: Bezeichnung der Outputfraktion (kein Abfall), die das Element oder die Verbindung enthält | G43: Ertrag der Outputfraktion | H43: Verbleib der Fraktion | I43: Masse Cadmium (Cd) mCd,waste insges. oder Masse Quecksilber (Hg) mHg,waste insges. sicher immobilisiert und entsorgt (13)
B44: [t/a] | C44: [t/a] | D44: [t/a] | E44: [t/a] | G44: [m%] | I44: [t/a]
A45: Kobalt (Co) | E45: =C45+D45 -> 0
A46: Kupfer (Cu) | E46: =C46+D46 -> 0
A47: Blei (Pb) | E47: =C47+D47 -> 0
A48: Lithium (Li) | E48: =C48+D48 -> 0
A49: Nickel (Ni) | E49: =C49+D49 -> 0
A50: Mangan (Mn) | E50: =C50+D50 -> 0
A51: Aluminium (Al) | E51: =C51+D51 -> 0
A52: Stahl | E52: =C52+D52 -> 0
A53: Elektrolyt (KOH) | E53: =C53+D53 -> 0
A54: Elektrolyt (NaOH) | E54: =C54+D54 -> 0
A55: Kunststoffe (9) | E55: =C55+D55 -> 0
A56: Sauerstoff (O2) (7) | E56: =C56+D56 -> 0
... A63: Cadmium (Cd) (13) | E63: =C63+D63 -> 0
A64: =IF('Recyclingschritt N_0'!A71<>"",'Recyclingschritt N_0'!A71,"") | E64: =C64+D64 -> 0
A65: =IF('Recyclingschritt N_0'!A72<>"",'Recyclingschritt N_0'!A72,"") | E65: =C65+D65 -> 0
A66: =IF('Recyclingschritt N_0'!A73<>"",'Recyclingschritt N_0'!A73,"") | E66: =C66+D66 -> 0
A67: Ergebnis (11) | B67: =SUM(B45:B66) -> 0 | C67: =SUM(C45:C66) -> 0 | D67: =SUM(D45:D66) -> 0 | E67: =SUM(E45:E66) -> 0
A70: =Gesamtergebnis!A217 -> Anmerkungen (vgl. DV Abschnitt 9):
A72: 1 Anlage, in der ein bestimmter Recyclingschritt erfolgt. Für weitere Recyclingschritte (N_X, etc.) in verschiedenen Anlagen füllen Sie bitte die Formblätter (N_1, N_2, etc.) entsprechend aus.
A74: 2 Input N_0 ist identisch mit dem in Teil 1 des Meldebogens angegebenen Input, der dem "vollständigen Recyclingprozess" zugeführt wurde (vgl. übernommene Angaben in Registerkarte "Gesamtergebnis"). Für die nachfolgenden Schritte N_1, N_2, etc. entspricht der Input jeweils dem Recyclingoutput der Zwischenfraktion aus dem vorangegangenen Schritt.
A77: 3 Die Masse der Fraktionen, die dem einzelnen Recyclingschritt zugeführt werden. Input N_0 ist identisch mit dem in Teil 1 des Meldebogens angegebenen Input, der dem "vollständigen Recyclingprozess" zugeführt wurde (vgl. Registerkarte "Gesamtergebnis").
A79: 4 Zur Begriffsbestimmung des Ausdrucks „Zwischenfraktion“ siehe Abschnitt 1 Nummer 3. Zu schwarzer Masse konsultieren Sie bitte Abschnitt 1 Nummer 5 und stellen Sie sicher, dass die chemische Zusammensetzung der Altbatterie (oder im Fall von Gemischen, die in Masse-% vorwiegende chemische Zusammensetzung) neben dem Begriff „schwarze Masse“ angegeben wird, z. B. „schwarze Masse aus ZnC“ oder „schwarze Masse aus NMC“.
A81: 5 Anlage, in der die Zwischenfraktion behandelt wird, einschließlich Name, Straße, Ort, Postleitzahl, Land, Kontaktperson, Telefon und E-Mail. Wird der nachfolgende Verfahrensschritt in derselben Anlage durchgeführt wie der vorangegangene Schritt, so geben Sie „wie zuvor“ an.
A84: 6 Zu den Begriffsbestimmungen der Ausdrücke „Inputfraktionen“ und „Outputfraktionen“ und insbesondere zu den für die Berechnung von RE und/oder RM anrechenbaren Fraktionen siehe Abschnitt 1 Nummern 2 und 4.
A86: 7 Aus der Inputfraktion der zugeführten Altbatterien zurückgewonnene Elemente und Verbindungen. Zu den Begriffsbestimmungen der Ausdrücke „Inputfraktionen“ und „Outputfraktionen“ und insbesondere zu den für die Berechnung von RE und/oder RM anrechenbaren Fraktionen siehe Abschnitt 1 Nummern 2 und 4.
A88: 8 Bitte legen Sie zusammen mit dieser Dokumentation Nachweise gemäß Artikel 72 Absatz 3 der Verordnung (EU) 2023/1542 vor.
A90: 9 Recycelte Kunststoffe, für die sowohl die Inputfraktionen minput als auch die Outputfraktionen moutput bestimmt werden, werden in der Liste getrennt von Kohlenstoff auf Zellebene angegeben.
A92: 10 Fügen Sie gegebenenfalls weitere Felder hinzu, um andere Elemente oder Verbindungen anzugeben (vgl. UBA-Ausfüllhinweise auf der Titelseite. Kurz: Wegen des Blattschutzes bitte neues individuelles Format beim UBA anfordern). Falls für das Element eine Zielvorgabe für die stoffliche Verwertung gemäß Anhang XII Teil C der Verordnung (EU) 2023/1542 gilt, ist auch die erzielte Quote für die stoffliche Verwertung (rRM) anzugeben. Enthalten die Altbatterien Quecksilber (Hg), konsultieren Sie bitte Abschnitt 4 zur Dokumentation von Quecksilber (Hg) und geben Sie die in der Inputfraktion enthaltene Gesamtmenge an Quecksilber (mHg,input) und die sicher immobilisierte und entsorgte Menge an Quecksilber (mHg,waste) an.
A94: 11 Die Summe von minput und moutput aus allen Schritten, d. h. N_0, N_1, N_2 usw., muss der Gesamtsumme von minput und moutput entsprechen.
A96: 12 Werden Altbatterien aus weiteren Mitgliedstaaten recycelt und weitere Eingabefelder benötigt, nutzen Sie bitte ein neues Formular und füllen es entsprechend aus (gilt nur für Baltt N_0).
A98: 13 Für die Dokumentation von Cadmium (Cd) siehe Abschnitt 4 der DV. Die zuständigen Behörden überprüfen, dass die Gesamtmenge an recyceltem Cadmium (mCd,output) und sicher immobilisiertem und entsorgtem Cadmium (mCd,waste) der Gesamtmenge des in der Inputfraktion enthaltenen Cadmiums (mCd,input) entspricht.

Sheet Recyclingschritt N_2
C1: Name des (ersten) Recyclingbetriebes: | H1: =IF(TitelseiteSonstigeAltbatterien!$F$7<>"",TitelseiteSonstigeAltbatterien!$F$7,"")
A2: ='Recyclingschritt N_0'!A2 -> DV Abschnitt 9 (Teil 2) | B2: Die einzelnen Recyclingschritte, d. h. alle beteiligten Recyclinganlagen, sind zu dokumentieren:
A3: Ausfüllhinweis: Angaben müssen bzw. können nur in den weiß gehaltenen Eingabefeldern hinterlegt werden. Teilweise werden Ihre Angaben automatisch innerhalb eines Formblattes sowie auf Folgeformblätter übertragen. Übernommene Angaben sind jeweils blau gekennzeichnet (vgl. auch die allgemeinen Formularbearbeitungshinweise im Formblatt "Ausfüllhinweise").
A5: Recyclingschritt | B5: =CONCATENATE("N_2, hier: ",IF(TitelseiteSonstigeAltbatterien!$D$18<>"",TitelseiteSonstigeAltbatterien!$D$18,"")) -> N_2, hier:
A7: Kalenderjahr | C7: =IF(TitelseiteSonstigeAltbatterien!$F$8<>"",TitelseiteSonstigeAltbatterien!$F$8,"") -> 2026
A9: Angaben zum Recyclingbetrieb1
A10: Name
A11: Straße und Hausnummer
A12: PLZ
A13: Ort
A14: Land
A15: Kontaktperson
A16: Telefon
A17: E-Mail
A19: Beschreibung der einzelnen Recyclingschritte: | C19: Bitte Anlage B "Beschreibung des einzelnen Recyclingschrittes" am Ende des Formulars zur Beschreibung der einzelnen Recyclingverfahren bspw. N_1, N_2, etc. nutzen.
A22: 1. Recycling-Input zum Zeitpunkt der Zuführung zum jeweiligen Recyclingschritt2 (Altbatterien oder Fraktionen von Altbatterien) | I22: =CONCATENATE("hier: ",$C$10) -> hier:
A23: Art des Inputs | C23: Abfallcode nach dem Europäischen Abfall-verzeichnis | D23: Masse3
D24: [t/a]
A25: {=IF('Recyclingschritt N_0'!A39:B39<>"",'Recyclingschritt N_0'!A39:B39,"")} | C25: =IF('Recyclingschritt N_0'!C39<>"",'Recyclingschritt N_0'!C39,"") | D25: =IF('Recyclingschritt N_0'!D39<>"",'Recyclingschritt N_0'!D39,"")
A31: 2. Recycling-Output Zwischenfraktionen4 (noch keine "Endgültige Outputfraktion" - zur weiteren Behandlung) | I31: =CONCATENATE("hier: ",C10) -> hier:
A32: Beschreibung der Fraktion | C32: Abfallcode nach dem Europäischen Abfall-verzeichnis | D32: Masse | E32: Weitere Behandlung
E33: Weiterer Recycling- schritt | G33: Weiterer Akteur5 | I33: Weiterer Recycling- schritt
D34: [t/a] | E34: Bezeichnung | G34: Name des Empfängers | I34: Nummer
I35: N_X
I36: N_X
I37: N_X
I38: N_X
I39: N_X
A40: Gesamt Output der Zwischenfraktionen | D40: =SUM(D35:D39) -> 0
A42: 3. Recycling-Output Input- und Outputfraktionen, die in den rRE- und rRM-Berechnungen6 berücksichtigt werden. | I42: =CONCATENATE("hier: ",$C$10) -> hier:
A43: Element oder Verbindung7 | B43: Input minput (nur dieser Recyclingschritt) | C43: Output moutput innerhalb der EU-MS erzeugt | D43: Output moutput außerhalb der EU erzeugt8 | E43: Output moutput Gesamt | F43: Bezeichnung der Outputfraktion (kein Abfall), die das Element oder die Verbindung enthält | G43: Ertrag der Outputfraktion | H43: Verbleib der Fraktion | I43: Masse Cadmium (Cd) mCd,waste insges. oder Masse Quecksilber (Hg) mHg,waste insges. sicher immobilisiert und entsorgt (13)
B44: [t/a] | C44: [t/a] | D44: [t/a] | E44: [t/a] | G44: [m%] | I44: [t/a]
A45: Kobalt (Co) | E45: =C45+D45 -> 0
A46: Kupfer (Cu) | E46: =C46+D46 -> 0
A47: Blei (Pb) | E47: =C47+D47 -> 0
A48: Lithium (Li) | E48: =C48+D48 -> 0
A49: Nickel (Ni) | E49: =C49+D49 -> 0
A50: Mangan (Mn) | E50: =C50+D50 -> 0
A51: Aluminium (Al) | E51: =C51+D51 -> 0
A52: Stahl | E52: =C52+D52 -> 0
A53: Elektrolyt (KOH) | E53: =C53+D53 -> 0
A54: Elektrolyt (NaOH) | E54: =C54+D54 -> 0
A55: Kunststoffe (9) | E55: =C55+D55 -> 0
A56: Sauerstoff (O2) (7) | E56: =C56+D56 -> 0
... A63: Cadmium (Cd) (13) | E63: =C63+D63 -> 0
A64: =IF('Recyclingschritt N_0'!A71<>"",'Recyclingschritt N_0'!A71,"") | E64: =C64+D64 -> 0
A65: =IF('Recyclingschritt N_0'!A72<>"",'Recyclingschritt N_0'!A72,"") | E65: =C65+D65 -> 0
A66: =IF('Recyclingschritt N_0'!A73<>"",'Recyclingschritt N_0'!A73,"") | E66: =C66+D66 -> 0
A67: Ergebnis (11) | B67: =SUM(B45:B66) -> 0 | C67: =SUM(C45:C66) -> 0 | D67: =SUM(D45:D66) -> 0 | E67: =SUM(E45:E66) -> 0
A70: =Gesamtergebnis!A217 -> Anmerkungen (vgl. DV Abschnitt 9):
A72: 1 Anlage, in der ein bestimmter Recyclingschritt erfolgt. Für weitere Recyclingschritte (N_X, etc.) in verschiedenen Anlagen füllen Sie bitte die Formblätter (N_1, N_2, etc.) entsprechend aus.
A74: 2 Input N_0 ist identisch mit dem in Teil 1 des Meldebogens angegebenen Input, der dem "vollständigen Recyclingprozess" zugeführt wurde (vgl. übernommene Angaben in Registerkarte "Gesamtergebnis"). Für die nachfolgenden Schritte N_1, N_2, etc. entspricht der Input jeweils dem Recyclingoutput der Zwischenfraktion aus dem vorangegangenen Schritt.
A77: 3 Die Masse der Fraktionen, die dem einzelnen Recyclingschritt zugeführt werden. Input N_0 ist identisch mit dem in Teil 1 des Meldebogens angegebenen Input, der dem "vollständigen Recyclingprozess" zugeführt wurde (vgl. Registerkarte "Gesamtergebnis").
A79: 4 Zur Begriffsbestimmung des Ausdrucks „Zwischenfraktion“ siehe Abschnitt 1 Nummer 3. Zu schwarzer Masse konsultieren Sie bitte Abschnitt 1 Nummer 5 und stellen Sie sicher, dass die chemische Zusammensetzung der Altbatterie (oder im Fall von Gemischen, die in Masse-% vorwiegende chemische Zusammensetzung) neben dem Begriff „schwarze Masse“ angegeben wird, z. B. „schwarze Masse aus ZnC“ oder „schwarze Masse aus NMC“.
A81: 5 Anlage, in der die Zwischenfraktion behandelt wird, einschließlich Name, Straße, Ort, Postleitzahl, Land, Kontaktperson, Telefon und E-Mail. Wird der nachfolgende Verfahrensschritt in derselben Anlage durchgeführt wie der vorangegangene Schritt, so geben Sie „wie zuvor“ an.
A84: 6 Zu den Begriffsbestimmungen der Ausdrücke „Inputfraktionen“ und „Outputfraktionen“ und insbesondere zu den für die Berechnung von RE und/oder RM anrechenbaren Fraktionen siehe Abschnitt 1 Nummern 2 und 4.
A86: 7 Aus der Inputfraktion der zugeführten Altbatterien zurückgewonnene Elemente und Verbindungen. Zu den Begriffsbestimmungen der Ausdrücke „Inputfraktionen“ und „Outputfraktionen“ und insbesondere zu den für die Berechnung von RE und/oder RM anrechenbaren Fraktionen siehe Abschnitt 1 Nummern 2 und 4.
A88: 8 Bitte legen Sie zusammen mit dieser Dokumentation Nachweise gemäß Artikel 72 Absatz 3 der Verordnung (EU) 2023/1542 vor.
A90: 9 Recycelte Kunststoffe, für die sowohl die Inputfraktionen minput als auch die Outputfraktionen moutput bestimmt werden, werden in der Liste getrennt von Kohlenstoff auf Zellebene angegeben.
A92: 10 Fügen Sie gegebenenfalls weitere Felder hinzu, um andere Elemente oder Verbindungen anzugeben (vgl. UBA-Ausfüllhinweise auf der Titelseite. Kurz: Wegen des Blattschutzes bitte neues individuelles Format beim UBA anfordern). Falls für das Element eine Zielvorgabe für die stoffliche Verwertung gemäß Anhang XII Teil C der Verordnung (EU) 2023/1542 gilt, ist auch die erzielte Quote für die stoffliche Verwertung (rRM) anzugeben. Enthalten die Altbatterien Quecksilber (Hg), konsultieren Sie bitte Abschnitt 4 zur Dokumentation von Quecksilber (Hg) und geben Sie die in der Inputfraktion enthaltene Gesamtmenge an Quecksilber (mHg,input) und die sicher immobilisierte und entsorgte Menge an Quecksilber (mHg,waste) an.
A94: 11 Die Summe von minput und moutput aus allen Schritten, d. h. N_0, N_1, N_2 usw., muss der Gesamtsumme von minput und moutput entsprechen.
A96: 12 Werden Altbatterien aus weiteren Mitgliedstaaten recycelt und weitere Eingabefelder benötigt, nutzen Sie bitte ein neues Formular und füllen es entsprechend aus (gilt nur für Baltt N_0).
A98: 13 Für die Dokumentation von Cadmium (Cd) siehe Abschnitt 4 der DV. Die zuständigen Behörden überprüfen, dass die Gesamtmenge an recyceltem Cadmium (mCd,output) und sicher immobilisiertem und entsorgtem Cadmium (mCd,waste) der Gesamtmenge des in der Inputfraktion enthaltenen Cadmiums (mCd,input) entspricht.

Sheet Recyclingschritt N_3
C1: Name des (ersten) Recyclingbetriebes: | H1: =IF(TitelseiteSonstigeAltbatterien!$F$7<>"",TitelseiteSonstigeAltbatterien!$F$7,"")
A2: ='Recyclingschritt N_0'!A2 -> DV Abschnitt 9 (Teil 2) | B2: Die einzelnen Recyclingschritte, d. h. alle beteiligten Recyclinganlagen, sind zu dokumentieren:
A3: Ausfüllhinweis: Angaben müssen bzw. können nur in den weiß gehaltenen Eingabefeldern hinterlegt werden. Teilweise werden Ihre Angaben automatisch innerhalb eines Formblattes sowie auf Folgeformblätter übertragen. Übernommene Angaben sind jeweils blau gekennzeichnet (vgl. auch die allgemeinen Formularbearbeitungshinweise im Formblatt "Ausfüllhinweise").
A5: Recyclingschritt | B5: =CONCATENATE("N_3, hier: ",IF(TitelseiteSonstigeAltbatterien!$F$18<>"",TitelseiteSonstigeAltbatterien!$F$18,"")) -> N_3, hier:
A7: Kalenderjahr | C7: =IF(TitelseiteSonstigeAltbatterien!$F$8<>"",TitelseiteSonstigeAltbatterien!$F$8,"") -> 2026
A9: Angaben zum Recyclingbetrieb1
A10: Name
A11: Straße und Hausnummer
A12: PLZ
A13: Ort
A14: Land
A15: Kontaktperson
A16: Telefon
A17: E-Mail
A19: Beschreibung der einzelnen Recyclingschritte: | C19: Bitte Anlage B "Beschreibung des einzelnen Recyclingschrittes" am Ende des Formulars zur Beschreibung der einzelnen Recyclingverfahren bspw. N_1, N_2, etc. nutzen.
A22: 1. Recycling-Input zum Zeitpunkt der Zuführung zum jeweiligen Recyclingschritt2 (Altbatterien oder Fraktionen von Altbatterien) | I22: =CONCATENATE("hier: ",$C$10) -> hier:
A23: Art des Inputs | C23: Abfallcode nach dem Europäischen Abfall-verzeichnis | D23: Masse3
D24: [t/a]
A25: {=IF('Recyclingschritt N_0'!A40:B40<>"",'Recyclingschritt N_0'!A40:B40,"")} | C25: =IF('Recyclingschritt N_0'!C40<>"",'Recyclingschritt N_0'!C40,"") | D25: =IF('Recyclingschritt N_0'!D40<>"",'Recyclingschritt N_0'!D40,"")
A31: 2. Recycling-Output Zwischenfraktionen4 (noch keine "Endgültige Outputfraktion" - zur weiteren Behandlung) | I31: =CONCATENATE("hier: ",C10) -> hier:
A32: Beschreibung der Fraktion | C32: Abfallcode nach dem Europäischen Abfall-verzeichnis | D32: Masse | E32: Weitere Behandlung
E33: Weiterer Recycling- schritt | G33: Weiterer Akteur5 | I33: Weiterer Recycling- schritt
D34: [t/a] | E34: Bezeichnung | G34: Name des Empfängers | I34: Nummer
I35: N_X
I36: N_X
I37: N_X
I38: N_X
I39: N_X
A40: Gesamt Output der Zwischenfraktionen | D40: =SUM(D35:D39) -> 0
A42: 3. Recycling-Output Input- und Outputfraktionen, die in den rRE- und rRM-Berechnungen6 berücksichtigt werden. | I42: =CONCATENATE("hier: ",$C$10) -> hier:
A43: Element oder Verbindung7 | B43: Input minput (nur dieser Recyclingschritt) | C43: Output moutput innerhalb der EU-MS erzeugt | D43: Output moutput außerhalb der EU erzeugt8 | E43: Output moutput Gesamt | F43: Bezeichnung der Outputfraktion (kein Abfall), die das Element oder die Verbindung enthält | G43: Ertrag der Outputfraktion | H43: Verbleib der Fraktion | I43: Masse Cadmium (Cd) mCd,waste insges. oder Masse Quecksilber (Hg) mHg,waste insges. sicher immobilisiert und entsorgt (13)
B44: [t/a] | C44: [t/a] | D44: [t/a] | E44: [t/a] | G44: [m%] | I44: [t/a]
A45: Kobalt (Co) | E45: =C45+D45 -> 0
A46: Kupfer (Cu) | E46: =C46+D46 -> 0
A47: Blei (Pb) | E47: =C47+D47 -> 0
A48: Lithium (Li) | E48: =C48+D48 -> 0
A49: Nickel (Ni) | E49: =C49+D49 -> 0
A50: Mangan (Mn) | E50: =C50+D50 -> 0
A51: Aluminium (Al) | E51: =C51+D51 -> 0
A52: Stahl | E52: =C52+D52 -> 0
A53: Elektrolyt (KOH) | E53: =C53+D53 -> 0
A54: Elektrolyt (NaOH) | E54: =C54+D54 -> 0
A55: Kunststoffe (9) | E55: =C55+D55 -> 0
A56: Sauerstoff (O2) (7) | E56: =C56+D56 -> 0
... A63: Cadmium (Cd) (13) | E63: =C63+D63 -> 0
A64: =IF('Recyclingschritt N_0'!A71<>"",'Recyclingschritt N_0'!A71,"") | E64: =C64+D64 -> 0
A65: =IF('Recyclingschritt N_0'!A72<>"",'Recyclingschritt N_0'!A72,"") | E65: =C65+D65 -> 0
A66: =IF('Recyclingschritt N_0'!A73<>"",'Recyclingschritt N_0'!A73,"") | E66: =C66+D66 -> 0
A67: Ergebnis (11) | B67: =SUM(B45:B66) -> 0 | C67: =SUM(C45:C66) -> 0 | D67: =SUM(D45:D66) -> 0 | E67: =SUM(E45:E66) -> 0
A70: =Gesamtergebnis!A217 -> Anmerkungen (vgl. DV Abschnitt 9):
A72: 1 Anlage, in der ein bestimmter Recyclingschritt erfolgt. Für weitere Recyclingschritte (N_X, etc.) in verschiedenen Anlagen füllen Sie bitte die Formblätter (N_1, N_2, etc.) entsprechend aus.
A74: 2 Input N_0 ist identisch mit dem in Teil 1 des Meldebogens angegebenen Input, der dem "vollständigen Recyclingprozess" zugeführt wurde (vgl. übernommene Angaben in Registerkarte "Gesamtergebnis"). Für die nachfolgenden Schritte N_1, N_2, etc. entspricht der Input jeweils dem Recyclingoutput der Zwischenfraktion aus dem vorangegangenen Schritt.
A77: 3 Die Masse der Fraktionen, die dem einzelnen Recyclingschritt zugeführt werden. Input N_0 ist identisch mit dem in Teil 1 des Meldebogens angegebenen Input, der dem "vollständigen Recyclingprozess" zugeführt wurde (vgl. Registerkarte "Gesamtergebnis").
A79: 4 Zur Begriffsbestimmung des Ausdrucks „Zwischenfraktion“ siehe Abschnitt 1 Nummer 3. Zu schwarzer Masse konsultieren Sie bitte Abschnitt 1 Nummer 5 und stellen Sie sicher, dass die chemische Zusammensetzung der Altbatterie (oder im Fall von Gemischen, die in Masse-% vorwiegende chemische Zusammensetzung) neben dem Begriff „schwarze Masse“ angegeben wird, z. B. „schwarze Masse aus ZnC“ oder „schwarze Masse aus NMC“.
A81: 5 Anlage, in der die Zwischenfraktion behandelt wird, einschließlich Name, Straße, Ort, Postleitzahl, Land, Kontaktperson, Telefon und E-Mail. Wird der nachfolgende Verfahrensschritt in derselben Anlage durchgeführt wie der vorangegangene Schritt, so geben Sie „wie zuvor“ an.
A84: 6 Zu den Begriffsbestimmungen der Ausdrücke „Inputfraktionen“ und „Outputfraktionen“ und insbesondere zu den für die Berechnung von RE und/oder RM anrechenbaren Fraktionen siehe Abschnitt 1 Nummern 2 und 4.
A86: 7 Aus der Inputfraktion der zugeführten Altbatterien zurückgewonnene Elemente und Verbindungen. Zu den Begriffsbestimmungen der Ausdrücke „Inputfraktionen“ und „Outputfraktionen“ und insbesondere zu den für die Berechnung von RE und/oder RM anrechenbaren Fraktionen siehe Abschnitt 1 Nummern 2 und 4.
A88: 8 Bitte legen Sie zusammen mit dieser Dokumentation Nachweise gemäß Artikel 72 Absatz 3 der Verordnung (EU) 2023/1542 vor.
A90: 9 Recycelte Kunststoffe, für die sowohl die Inputfraktionen minput als auch die Outputfraktionen moutput bestimmt werden, werden in der Liste getrennt von Kohlenstoff auf Zellebene angegeben.
A92: 10 Fügen Sie gegebenenfalls weitere Felder hinzu, um andere Elemente oder Verbindungen anzugeben (vgl. UBA-Ausfüllhinweise auf der Titelseite. Kurz: Wegen des Blattschutzes bitte neues individuelles Format beim UBA anfordern). Falls für das Element eine Zielvorgabe für die stoffliche Verwertung gemäß Anhang XII Teil C der Verordnung (EU) 2023/1542 gilt, ist auch die erzielte Quote für die stoffliche Verwertung (rRM) anzugeben. Enthalten die Altbatterien Quecksilber (Hg), konsultieren Sie bitte Abschnitt 4 zur Dokumentation von Quecksilber (Hg) und geben Sie die in der Inputfraktion enthaltene Gesamtmenge an Quecksilber (mHg,input) und die sicher immobilisierte und entsorgte Menge an Quecksilber (mHg,waste) an.
A94: 11 Die Summe von minput und moutput aus allen Schritten, d. h. N_0, N_1, N_2 usw., muss der Gesamtsumme von minput und moutput entsprechen.
A96: 12 Werden Altbatterien aus weiteren Mitgliedstaaten recycelt und weitere Eingabefelder benötigt, nutzen Sie bitte ein neues Formular und füllen es entsprechend aus (gilt nur für Baltt N_0).
A98: 13 Für die Dokumentation von Cadmium (Cd) siehe Abschnitt 4 der DV. Die zuständigen Behörden überprüfen, dass die Gesamtmenge an recyceltem Cadmium (mCd,output) und sicher immobilisiertem und entsorgtem Cadmium (mCd,waste) der Gesamtmenge des in der Inputfraktion enthaltenen Cadmiums (mCd,input) entspricht.

Sheet Recyclingschritt N_4
C1: Name des (ersten) Recyclingbetriebes: | H1: =IF(TitelseiteSonstigeAltbatterien!$F$7<>"",TitelseiteSonstigeAltbatterien!$F$7,"")
A2: ='Recyclingschritt N_0'!A2 -> DV Abschnitt 9 (Teil 2) | B2: Die einzelnen Recyclingschritte, d. h. alle beteiligten Recyclinganlagen, sind zu dokumentieren:
A3: Ausfüllhinweis: Angaben müssen bzw. können nur in den weiß gehaltenen Eingabefeldern hinterlegt werden. Teilweise werden Ihre Angaben automatisch innerhalb eines Formblattes sowie auf Folgeformblätter übertragen. Übernommene Angaben sind jeweils blau gekennzeichnet (vgl. auch die allgemeinen Formularbearbeitungshinweise im Formblatt "Ausfüllhinweise").
A5: Recyclingschritt | B5: =CONCATENATE("N_4, hier: ",IF(TitelseiteSonstigeAltbatterien!$H$18<>"",TitelseiteSonstigeAltbatterien!$H$18,"")) -> N_4, hier:
A7: Kalenderjahr | C7: =IF(TitelseiteSonstigeAltbatterien!$F$8<>"",TitelseiteSonstigeAltbatterien!$F$8,"") -> 2026
A9: Angaben zum Recyclingbetrieb1
A10: Name
A11: Straße und Hausnummer
A12: PLZ
A13: Ort
A14: Land
A15: Kontaktperson
A16: Telefon
A17: E-Mail
A19: Beschreibung der einzelnen Recyclingschritte: | C19: Bitte Anlage B "Beschreibung des einzelnen Recyclingschrittes" am Ende des Formulars zur Beschreibung der einzelnen Recyclingverfahren bspw. N_1, N_2, etc. nutzen.
A22: 1. Recycling-Input zum Zeitpunkt der Zuführung zum jeweiligen Recyclingschritt2 (Altbatterien oder Fraktionen von Altbatterien) | I22: =CONCATENATE("hier: ",$C$10) -> hier:
A23: Art des Inputs | C23: Abfallcode nach dem Europäischen Abfall-verzeichnis | D23: Masse3
D24: [t/a]
A25: {=IF('Recyclingschritt N_0'!A41:B41<>"",'Recyclingschritt N_0'!A41:B41,"")} | C25: =IF('Recyclingschritt N_0'!C41<>"",'Recyclingschritt N_0'!C41,"") | D25: =IF('Recyclingschritt N_0'!D41<>"",'Recyclingschritt N_0'!D41,"")
A31: 2. Recycling-Output Zwischenfraktionen4 (noch keine "Endgültige Outputfraktion" - zur weiteren Behandlung) | I31: =CONCATENATE("hier: ",C10) -> hier:
A32: Beschreibung der Fraktion | C32: Abfallcode nach dem Europäischen Abfall-verzeichnis | D32: Masse | E32: Weitere Behandlung
E33: Weiterer Recycling- schritt | G33: Weiterer Akteur5 | I33: Weiterer Recycling- schritt
D34: [t/a] | E34: Bezeichnung | G34: Name des Empfängers | I34: Nummer
I35: N_X
I36: N_X
I37: N_X
I38: N_X
I39: N_X
A40: Gesamt Output der Zwischenfraktionen | D40: =SUM(D35:D39) -> 0
A42: 3. Recycling-Output Input- und Outputfraktionen, die in den rRE- und rRM-Berechnungen6 berücksichtigt werden. | I42: =CONCATENATE("hier: ",$C$10) -> hier:
A43: Element oder Verbindung7 | B43: Input minput (nur dieser Recyclingschritt) | C43: Output moutput innerhalb der EU-MS erzeugt | D43: Output moutput außerhalb der EU erzeugt8 | E43: Output moutput Gesamt | F43: Bezeichnung der Outputfraktion (kein Abfall), die das Element oder die Verbindung enthält | G43: Ertrag der Outputfraktion | H43: Verbleib der Fraktion | I43: Masse Cadmium (Cd) mCd,waste insges. oder Masse Quecksilber (Hg) mHg,waste insges. sicher immobilisiert und entsorgt (13)
B44: [t/a] | C44: [t/a] | D44: [t/a] | E44: [t/a] | G44: [m%] | I44: [t/a]
A45: Kobalt (Co) | E45: =C45+D45 -> 0
A46: Kupfer (Cu) | E46: =C46+D46 -> 0
A47: Blei (Pb) | E47: =C47+D47 -> 0
A48: Lithium (Li) | E48: =C48+D48 -> 0
A49: Nickel (Ni) | E49: =C49+D49 -> 0
A50: Mangan (Mn) | E50: =C50+D50 -> 0
A51: Aluminium (Al) | E51: =C51+D51 -> 0
A52: Stahl | E52: =C52+D52 -> 0
A53: Elektrolyt (KOH) | E53: =C53+D53 -> 0
A54: Elektrolyt (NaOH) | E54: =C54+D54 -> 0
A55: Kunststoffe (9) | E55: =C55+D55 -> 0
A56: Sauerstoff (O2) (7) | E56: =C56+D56 -> 0
... A63: Cadmium (Cd) (13) | E63: =C63+D63 -> 0
A64: =IF('Recyclingschritt N_0'!A71<>"",'Recyclingschritt N_0'!A71,"") | E64: =C64+D64 -> 0
A65: =IF('Recyclingschritt N_0'!A72<>"",'Recyclingschritt N_0'!A72,"") | E65: =C65+D65 -> 0
A66: =IF('Recyclingschritt N_0'!A73<>"",'Recyclingschritt N_0'!A73,"") | E66: =C66+D66 -> 0
A67: Ergebnis (11) | B67: =SUM(B45:B66) -> 0 | C67: =SUM(C45:C66) -> 0 | D67: =SUM(D45:D66) -> 0 | E67: =SUM(E45:E66) -> 0
A70: =Gesamtergebnis!A217 -> Anmerkungen (vgl. DV Abschnitt 9):
A72: 1 Anlage, in der ein bestimmter Recyclingschritt erfolgt. Für weitere Recyclingschritte (N_X, etc.) in verschiedenen Anlagen füllen Sie bitte die Formblätter (N_1, N_2, etc.) entsprechend aus.
A74: 2 Input N_0 ist identisch mit dem in Teil 1 des Meldebogens angegebenen Input, der dem "vollständigen Recyclingprozess" zugeführt wurde (vgl. übernommene Angaben in Registerkarte "Gesamtergebnis"). Für die nachfolgenden Schritte N_1, N_2, etc. entspricht der Input jeweils dem Recyclingoutput der Zwischenfraktion aus dem vorangegangenen Schritt.
A77: 3 Die Masse der Fraktionen, die dem einzelnen Recyclingschritt zugeführt werden. Input N_0 ist identisch mit dem in Teil 1 des Meldebogens angegebenen Input, der dem "vollständigen Recyclingprozess" zugeführt wurde (vgl. Registerkarte "Gesamtergebnis").
A79: 4 Zur Begriffsbestimmung des Ausdrucks „Zwischenfraktion“ siehe Abschnitt 1 Nummer 3. Zu schwarzer Masse konsultieren Sie bitte Abschnitt 1 Nummer 5 und stellen Sie sicher, dass die chemische Zusammensetzung der Altbatterie (oder im Fall von Gemischen, die in Masse-% vorwiegende chemische Zusammensetzung) neben dem Begriff „schwarze Masse“ angegeben wird, z. B. „schwarze Masse aus ZnC“ oder „schwarze Masse aus NMC“.
A81: 5 Anlage, in der die Zwischenfraktion behandelt wird, einschließlich Name, Straße, Ort, Postleitzahl, Land, Kontaktperson, Telefon und E-Mail. Wird der nachfolgende Verfahrensschritt in derselben Anlage durchgeführt wie der vorangegangene Schritt, so geben Sie „wie zuvor“ an.
A84: 6 Zu den Begriffsbestimmungen der Ausdrücke „Inputfraktionen“ und „Outputfraktionen“ und insbesondere zu den für die Berechnung von RE und/oder RM anrechenbaren Fraktionen siehe Abschnitt 1 Nummern 2 und 4.
A86: 7 Aus der Inputfraktion der zugeführten Altbatterien zurückgewonnene Elemente und Verbindungen. Zu den Begriffsbestimmungen der Ausdrücke „Inputfraktionen“ und „Outputfraktionen“ und insbesondere zu den für die Berechnung von RE und/oder RM anrechenbaren Fraktionen siehe Abschnitt 1 Nummern 2 und 4.
A88: 8 Bitte legen Sie zusammen mit dieser Dokumentation Nachweise gemäß Artikel 72 Absatz 3 der Verordnung (EU) 2023/1542 vor.
A90: 9 Recycelte Kunststoffe, für die sowohl die Inputfraktionen minput als auch die Outputfraktionen moutput bestimmt werden, werden in der Liste getrennt von Kohlenstoff auf Zellebene angegeben.
A92: 10 Fügen Sie gegebenenfalls weitere Felder hinzu, um andere Elemente oder Verbindungen anzugeben (vgl. UBA-Ausfüllhinweise auf der Titelseite. Kurz: Wegen des Blattschutzes bitte neues individuelles Format beim UBA anfordern). Falls für das Element eine Zielvorgabe für die stoffliche Verwertung gemäß Anhang XII Teil C der Verordnung (EU) 2023/1542 gilt, ist auch die erzielte Quote für die stoffliche Verwertung (rRM) anzugeben. Enthalten die Altbatterien Quecksilber (Hg), konsultieren Sie bitte Abschnitt 4 zur Dokumentation von Quecksilber (Hg) und geben Sie die in der Inputfraktion enthaltene Gesamtmenge an Quecksilber (mHg,input) und die sicher immobilisierte und entsorgte Menge an Quecksilber (mHg,waste) an.
A94: 11 Die Summe von minput und moutput aus allen Schritten, d. h. N_0, N_1, N_2 usw., muss der Gesamtsumme von minput und moutput entsprechen.
A96: 12 Werden Altbatterien aus weiteren Mitgliedstaaten recycelt und weitere Eingabefelder benötigt, nutzen Sie bitte ein neues Formular und füllen es entsprechend aus (gilt nur für Baltt N_0).
A98: 13 Für die Dokumentation von Cadmium (Cd) siehe Abschnitt 4 der DV. Die zuständigen Behörden überprüfen, dass die Gesamtmenge an recyceltem Cadmium (mCd,output) und sicher immobilisiertem und entsorgtem Cadmium (mCd,waste) der Gesamtmenge des in der Inputfraktion enthaltenen Cadmiums (mCd,input) entspricht.

Sheet Recyclingschritt N_5
C1: Name des (ersten) Recyclingbetriebes: | H1: =IF(TitelseiteSonstigeAltbatterien!$F$7<>"",TitelseiteSonstigeAltbatterien!$F$7,"")
A2: ='Recyclingschritt N_0'!A2 -> DV Abschnitt 9 (Teil 2) | B2: Die einzelnen Recyclingschritte, d. h. alle beteiligten Recyclinganlagen, sind zu dokumentieren:
A3: Ausfüllhinweis: Angaben müssen bzw. können nur in den weiß gehaltenen Eingabefeldern hinterlegt werden. Teilweise werden Ihre Angaben automatisch innerhalb eines Formblattes sowie auf Folgeformblätter übertragen. Übernommene Angaben sind jeweils blau gekennzeichnet (vgl. auch die allgemeinen Formularbearbeitungshinweise im Formblatt "Ausfüllhinweise").
A5: Recyclingschritt | B5: =CONCATENATE("N_5, hier: ",IF(TitelseiteSonstigeAltbatterien!$J$18<>"",TitelseiteSonstigeAltbatterien!$J$18,"")) -> N_5, hier:
A7: Kalenderjahr | C7: =IF(TitelseiteSonstigeAltbatterien!$F$8<>"",TitelseiteSonstigeAltbatterien!$F$8,"") -> 2026
A9: Angaben zum Recyclingbetrieb1
A10: Name
A11: Straße und Hausnummer
A12: PLZ
A13: Ort
A14: Land
A15: Kontaktperson
A16: Telefon
A17: E-Mail
A19: Beschreibung der einzelnen Recyclingschritte: | C19: Bitte Anlage B "Beschreibung des einzelnen Recyclingschrittes" am Ende des Formulars zur Beschreibung der einzelnen Recyclingverfahren bspw. N_1, N_2, etc. nutzen.
A22: 1. Recycling-Input zum Zeitpunkt der Zuführung zum jeweiligen Recyclingschritt2 (Altbatterien oder Fraktionen von Altbatterien) | I22: =CONCATENATE("hier: ",$C$10) -> hier:
A23: Art des Inputs | C23: Abfallcode nach dem Europäischen Abfall-verzeichnis | D23: Masse3
D24: [t/a]
A25: {=IF('Recyclingschritt N_0'!A43:B43<>"",'Recyclingschritt N_0'!A43:B43,"")} | C25: =IF('Recyclingschritt N_0'!C43<>"",'Recyclingschritt N_0'!C43,"") | D25: =IF('Recyclingschritt N_0'!D43<>"",'Recyclingschritt N_0'!D43,"")
A31: 2. Recycling-Output Zwischenfraktionen4 (noch keine "Endgültige Outputfraktion" - zur weiteren Behandlung) | I31: =CONCATENATE("hier: ",C10) -> hier:
A32: Beschreibung der Fraktion | C32: Abfallcode nach dem Europäischen Abfall-verzeichnis | D32: Masse | E32: Weitere Behandlung
E33: Weiterer Recycling- schritt | G33: Weiterer Akteur5 | I33: Weiterer Recycling- schritt
D34: [t/a] | E34: Bezeichnung | G34: Name des Empfängers | I34: Nummer
I35: N_X
I36: N_X
I37: N_X
I38: N_X
I39: N_X
A40: Gesamt Output der Zwischenfraktionen | D40: =SUM(D35:D39) -> 0
A42: 3. Recycling-Output Input- und Outputfraktionen, die in den rRE- und rRM-Berechnungen6 berücksichtigt werden. | I42: =CONCATENATE("hier: ",$C$10) -> hier:
A43: Element oder Verbindung7 | B43: Input minput (nur dieser Recyclingschritt) | C43: Output moutput innerhalb der EU-MS erzeugt | D43: Output moutput außerhalb der EU erzeugt8 | E43: Output moutput Gesamt | F43: Bezeichnung der Outputfraktion (kein Abfall), die das Element oder die Verbindung enthält | G43: Ertrag der Outputfraktion | H43: Verbleib der Fraktion | I43: Masse Cadmium (Cd) mCd,waste insges. oder Masse Quecksilber (Hg) mHg,waste insges. sicher immobilisiert und entsorgt (13)
B44: [t/a] | C44: [t/a] | D44: [t/a] | E44: [t/a] | G44: [m%] | I44: [t/a]
A45: Kobalt (Co) | E45: =C45+D45 -> 0
A46: Kupfer (Cu) | E46: =C46+D46 -> 0
A47: Blei (Pb) | E47: =C47+D47 -> 0
A48: Lithium (Li) | E48: =C48+D48 -> 0
A49: Nickel (Ni) | E49: =C49+D49 -> 0
A50: Mangan (Mn) | E50: =C50+D50 -> 0
A51: Aluminium (Al) | E51: =C51+D51 -> 0
A52: Stahl | E52: =C52+D52 -> 0
A53: Elektrolyt (KOH) | E53: =C53+D53 -> 0
A54: Elektrolyt (NaOH) | E54: =C54+D54 -> 0
A55: Kunststoffe (9) | E55: =C55+D55 -> 0
A56: Sauerstoff (O2) (7) | E56: =C56+D56 -> 0
... A63: Cadmium (Cd) (13) | E63: =C63+D63 -> 0
A64: =IF('Recyclingschritt N_0'!A71<>"",'Recyclingschritt N_0'!A71,"") | E64: =C64+D64 -> 0
A65: =IF('Recyclingschritt N_0'!A72<>"",'Recyclingschritt N_0'!A72,"") | E65: =C65+D65 -> 0
A66: =IF('Recyclingschritt N_0'!A73<>"",'Recyclingschritt N_0'!A73,"") | E66: =C66+D66 -> 0
A67: Ergebnis (11) | B67: =SUM(B45:B66) -> 0 | C67: =SUM(C45:C66) -> 0 | D67: =SUM(D45:D66) -> 0 | E67: =SUM(E45:E66) -> 0
A70: =Gesamtergebnis!A217 -> Anmerkungen (vgl. DV Abschnitt 9):
A72: 1 Anlage, in der ein bestimmter Recyclingschritt erfolgt. Für weitere Recyclingschritte (N_X, etc.) in verschiedenen Anlagen füllen Sie bitte die Formblätter (N_1, N_2, etc.) entsprechend aus.
A74: 2 Input N_0 ist identisch mit dem in Teil 1 des Meldebogens angegebenen Input, der dem "vollständigen Recyclingprozess" zugeführt wurde (vgl. übernommene Angaben in Registerkarte "Gesamtergebnis"). Für die nachfolgenden Schritte N_1, N_2, etc. entspricht der Input jeweils dem Recyclingoutput der Zwischenfraktion aus dem vorangegangenen Schritt.
A77: 3 Die Masse der Fraktionen, die dem einzelnen Recyclingschritt zugeführt werden. Input N_0 ist identisch mit dem in Teil 1 des Meldebogens angegebenen Input, der dem "vollständigen Recyclingprozess" zugeführt wurde (vgl. Registerkarte "Gesamtergebnis").
A79: 4 Zur Begriffsbestimmung des Ausdrucks „Zwischenfraktion“ siehe Abschnitt 1 Nummer 3. Zu schwarzer Masse konsultieren Sie bitte Abschnitt 1 Nummer 5 und stellen Sie sicher, dass die chemische Zusammensetzung der Altbatterie (oder im Fall von Gemischen, die in Masse-% vorwiegende chemische Zusammensetzung) neben dem Begriff „schwarze Masse“ angegeben wird, z. B. „schwarze Masse aus ZnC“ oder „schwarze Masse aus NMC“.
A81: 5 Anlage, in der die Zwischenfraktion behandelt wird, einschließlich Name, Straße, Ort, Postleitzahl, Land, Kontaktperson, Telefon und E-Mail. Wird der nachfolgende Verfahrensschritt in derselben Anlage durchgeführt wie der vorangegangene Schritt, so geben Sie „wie zuvor“ an.
A84: 6 Zu den Begriffsbestimmungen der Ausdrücke „Inputfraktionen“ und „Outputfraktionen“ und insbesondere zu den für die Berechnung von RE und/oder RM anrechenbaren Fraktionen siehe Abschnitt 1 Nummern 2 und 4.
A86: 7 Aus der Inputfraktion der zugeführten Altbatterien zurückgewonnene Elemente und Verbindungen. Zu den Begriffsbestimmungen der Ausdrücke „Inputfraktionen“ und „Outputfraktionen“ und insbesondere zu den für die Berechnung von RE und/oder RM anrechenbaren Fraktionen siehe Abschnitt 1 Nummern 2 und 4.
A88: 8 Bitte legen Sie zusammen mit dieser Dokumentation Nachweise gemäß Artikel 72 Absatz 3 der Verordnung (EU) 2023/1542 vor.
A90: 9 Recycelte Kunststoffe, für die sowohl die Inputfraktionen minput als auch die Outputfraktionen moutput bestimmt werden, werden in der Liste getrennt von Kohlenstoff auf Zellebene angegeben.
A92: 10 Fügen Sie gegebenenfalls weitere Felder hinzu, um andere Elemente oder Verbindungen anzugeben (vgl. UBA-Ausfüllhinweise auf der Titelseite. Kurz: Wegen des Blattschutzes bitte neues individuelles Format beim UBA anfordern). Falls für das Element eine Zielvorgabe für die stoffliche Verwertung gemäß Anhang XII Teil C der Verordnung (EU) 2023/1542 gilt, ist auch die erzielte Quote für die stoffliche Verwertung (rRM) anzugeben. Enthalten die Altbatterien Quecksilber (Hg), konsultieren Sie bitte Abschnitt 4 zur Dokumentation von Quecksilber (Hg) und geben Sie die in der Inputfraktion enthaltene Gesamtmenge an Quecksilber (mHg,input) und die sicher immobilisierte und entsorgte Menge an Quecksilber (mHg,waste) an.
A94: 11 Die Summe von minput und moutput aus allen Schritten, d. h. N_0, N_1, N_2 usw., muss der Gesamtsumme von minput und moutput entsprechen.
A96: 12 Werden Altbatterien aus weiteren Mitgliedstaaten recycelt und weitere Eingabefelder benötigt, nutzen Sie bitte ein neues Formular und füllen es entsprechend aus (gilt nur für Baltt N_0).
A98: 13 Für die Dokumentation von Cadmium (Cd) siehe Abschnitt 4 der DV. Die zuständigen Behörden überprüfen, dass die Gesamtmenge an recyceltem Cadmium (mCd,output) und sicher immobilisiertem und entsorgtem Cadmium (mCd,waste) der Gesamtmenge des in der Inputfraktion enthaltenen Cadmiums (mCd,input) entspricht.

Sheet Recyclingschritt N_6
C1: Name des (ersten) Recyclingbetriebes: | H1: =IF(TitelseiteSonstigeAltbatterien!$F$7<>"",TitelseiteSonstigeAltbatterien!$F$7,"")
A2: ='Recyclingschritt N_0'!A2 -> DV Abschnitt 9 (Teil 2) | B2: Die einzelnen Recyclingschritte, d. h. alle beteiligten Recyclinganlagen, sind zu dokumentieren:
A3: Ausfüllhinweis: Angaben müssen bzw. können nur in den weiß gehaltenen Eingabefeldern hinterlegt werden. Teilweise werden Ihre Angaben automatisch innerhalb eines Formblattes sowie auf Folgeformblätter übertragen. Übernommene Angaben sind jeweils blau gekennzeichnet (vgl. auch die allgemeinen Formularbearbeitungshinweise im Formblatt "Ausfüllhinweise").
A5: Recyclingschritt | B5: =CONCATENATE("N_6, hier: ",IF(TitelseiteSonstigeAltbatterien!$B$21<>"",TitelseiteSonstigeAltbatterien!$B$21,"")) -> N_6, hier:
A7: Kalenderjahr | C7: =IF(TitelseiteSonstigeAltbatterien!$F$8<>"",TitelseiteSonstigeAltbatterien!$F$8,"") -> 2026
A9: Angaben zum Recyclingbetrieb1
A10: Name
A11: Straße und Hausnummer
A12: PLZ
A13: Ort
A14: Land
A15: Kontaktperson
A16: Telefon
A17: E-Mail
A19: Beschreibung der einzelnen Recyclingschritte: | C19: Bitte Anlage B "Beschreibung des einzelnen Recyclingschrittes" am Ende des Formulars zur Beschreibung der einzelnen Recyclingverfahren bspw. N_1, N_2, etc. nutzen.
A22: 1. Recycling-Input zum Zeitpunkt der Zuführung zum jeweiligen Recyclingschritt2 (Altbatterien oder Fraktionen von Altbatterien) | I22: =CONCATENATE("hier: ",$C$10) -> hier:
A23: Art des Inputs | C23: Abfallcode nach dem Europäischen Abfall-verzeichnis | D23: Masse3
D24: [t/a]
A25: {=IF('Recyclingschritt N_0'!A43:B43<>"",'Recyclingschritt N_0'!A43:B43,"")} | C25: =IF('Recyclingschritt N_0'!C43<>"",'Recyclingschritt N_0'!C43,"") | D25: =IF('Recyclingschritt N_0'!D43<>"",'Recyclingschritt N_0'!D43,"")
A31: 2. Recycling-Output Zwischenfraktionen4 (noch keine "Endgültige Outputfraktion" - zur weiteren Behandlung) | I31: =CONCATENATE("hier: ",C10) -> hier:
A32: Beschreibung der Fraktion | C32: Abfallcode nach dem Europäischen Abfall-verzeichnis | D32: Masse | E32: Weitere Behandlung
E33: Weiterer Recycling- schritt | G33: Weiterer Akteur5 | I33: Weiterer Recycling- schritt
D34: [t/a] | E34: Bezeichnung | G34: Name des Empfängers | I34: Nummer
I35: N_X
I36: N_X
I37: N_X
I38: N_X
I39: N_X
A40: Gesamt Output der Zwischenfraktionen | D40: =SUM(D35:D39) -> 0
A42: 3. Recycling-Output Input- und Outputfraktionen, die in den rRE- und rRM-Berechnungen6 berücksichtigt werden. | I42: =CONCATENATE("hier: ",$C$10) -> hier:
A43: Element oder Verbindung7 | B43: Input minput (nur dieser Recyclingschritt) | C43: Output moutput innerhalb der EU-MS erzeugt | D43: Output moutput außerhalb der EU erzeugt8 | E43: Output moutput Gesamt | F43: Bezeichnung der Outputfraktion (kein Abfall), die das Element oder die Verbindung enthält | G43: Ertrag der Outputfraktion | H43: Verbleib der Fraktion | I43: Masse Cadmium (Cd) mCd,waste insges. oder Masse Quecksilber (Hg) mHg,waste insges. sicher immobilisiert und entsorgt (13)
B44: [t/a] | C44: [t/a] | D44: [t/a] | E44: [t/a] | G44: [m%] | I44: [t/a]
A45: Kobalt (Co) | E45: =C45+D45 -> 0
A46: Kupfer (Cu) | E46: =C46+D46 -> 0
A47: Blei (Pb) | E47: =C47+D47 -> 0
A48: Lithium (Li) | E48: =C48+D48 -> 0
A49: Nickel (Ni) | E49: =C49+D49 -> 0
A50: Mangan (Mn) | E50: =C50+D50 -> 0
A51: Aluminium (Al) | E51: =C51+D51 -> 0
A52: Stahl | E52: =C52+D52 -> 0
A53: Elektrolyt (KOH) | E53: =C53+D53 -> 0
A54: Elektrolyt (NaOH) | E54: =C54+D54 -> 0
A55: Kunststoffe (9) | E55: =C55+D55 -> 0
A56: Sauerstoff (O2) (7) | E56: =C56+D56 -> 0
... A63: Cadmium (Cd) (13) | E63: =C63+D63 -> 0
A64: =IF('Recyclingschritt N_0'!A71<>"",'Recyclingschritt N_0'!A71,"") | E64: =C64+D64 -> 0
A65: =IF('Recyclingschritt N_0'!A72<>"",'Recyclingschritt N_0'!A72,"") | E65: =C65+D65 -> 0
A66: =IF('Recyclingschritt N_0'!A73<>"",'Recyclingschritt N_0'!A73,"") | E66: =C66+D66 -> 0
A67: Ergebnis (11) | B67: =SUM(B45:B66) -> 0 | C67: =SUM(C45:C66) -> 0 | D67: =SUM(D45:D66) -> 0 | E67: =SUM(E45:E66) -> 0
A70: =Gesamtergebnis!A217 -> Anmerkungen (vgl. DV Abschnitt 9):
A72: 1 Anlage, in der ein bestimmter Recyclingschritt erfolgt. Für weitere Recyclingschritte (N_X, etc.) in verschiedenen Anlagen füllen Sie bitte die Formblätter (N_1, N_2, etc.) entsprechend aus.
A74: 2 Input N_0 ist identisch mit dem in Teil 1 des Meldebogens angegebenen Input, der dem "vollständigen Recyclingprozess" zugeführt wurde (vgl. übernommene Angaben in Registerkarte "Gesamtergebnis"). Für die nachfolgenden Schritte N_1, N_2, etc. entspricht der Input jeweils dem Recyclingoutput der Zwischenfraktion aus dem vorangegangenen Schritt.
A77: 3 Die Masse der Fraktionen, die dem einzelnen Recyclingschritt zugeführt werden. Input N_0 ist identisch mit dem in Teil 1 des Meldebogens angegebenen Input, der dem "vollständigen Recyclingprozess" zugeführt wurde (vgl. Registerkarte "Gesamtergebnis").
A79: 4 Zur Begriffsbestimmung des Ausdrucks „Zwischenfraktion“ siehe Abschnitt 1 Nummer 3. Zu schwarzer Masse konsultieren Sie bitte Abschnitt 1 Nummer 5 und stellen Sie sicher, dass die chemische Zusammensetzung der Altbatterie (oder im Fall von Gemischen, die in Masse-% vorwiegende chemische Zusammensetzung) neben dem Begriff „schwarze Masse“ angegeben wird, z. B. „schwarze Masse aus ZnC“ oder „schwarze Masse aus NMC“.
A81: 5 Anlage, in der die Zwischenfraktion behandelt wird, einschließlich Name, Straße, Ort, Postleitzahl, Land, Kontaktperson, Telefon und E-Mail. Wird der nachfolgende Verfahrensschritt in derselben Anlage durchgeführt wie der vorangegangene Schritt, so geben Sie „wie zuvor“ an.
A84: 6 Zu den Begriffsbestimmungen der Ausdrücke „Inputfraktionen“ und „Outputfraktionen“ und insbesondere zu den für die Berechnung von RE und/oder RM anrechenbaren Fraktionen siehe Abschnitt 1 Nummern 2 und 4.
A86: 7 Aus der Inputfraktion der zugeführten Altbatterien zurückgewonnene Elemente und Verbindungen. Zu den Begriffsbestimmungen der Ausdrücke „Inputfraktionen“ und „Outputfraktionen“ und insbesondere zu den für die Berechnung von RE und/oder RM anrechenbaren Fraktionen siehe Abschnitt 1 Nummern 2 und 4.
A88: 8 Bitte legen Sie zusammen mit dieser Dokumentation Nachweise gemäß Artikel 72 Absatz 3 der Verordnung (EU) 2023/1542 vor.
A90: 9 Recycelte Kunststoffe, für die sowohl die Inputfraktionen minput als auch die Outputfraktionen moutput bestimmt werden, werden in der Liste getrennt von Kohlenstoff auf Zellebene angegeben.
A92: 10 Fügen Sie gegebenenfalls weitere Felder hinzu, um andere Elemente oder Verbindungen anzugeben (vgl. UBA-Ausfüllhinweise auf der Titelseite. Kurz: Wegen des Blattschutzes bitte neues individuelles Format beim UBA anfordern). Falls für das Element eine Zielvorgabe für die stoffliche Verwertung gemäß Anhang XII Teil C der Verordnung (EU) 2023/1542 gilt, ist auch die erzielte Quote für die stoffliche Verwertung (rRM) anzugeben. Enthalten die Altbatterien Quecksilber (Hg), konsultieren Sie bitte Abschnitt 4 zur Dokumentation von Quecksilber (Hg) und geben Sie die in der Inputfraktion enthaltene Gesamtmenge an Quecksilber (mHg,input) und die sicher immobilisierte und entsorgte Menge an Quecksilber (mHg,waste) an.
A94: 11 Die Summe von minput und moutput aus allen Schritten, d. h. N_0, N_1, N_2 usw., muss der Gesamtsumme von minput und moutput entsprechen.
A96: 12 Werden Altbatterien aus weiteren Mitgliedstaaten recycelt und weitere Eingabefelder benötigt, nutzen Sie bitte ein neues Formular und füllen es entsprechend aus (gilt nur für Baltt N_0).
A98: 13 Für die Dokumentation von Cadmium (Cd) siehe Abschnitt 4 der DV. Die zuständigen Behörden überprüfen, dass die Gesamtmenge an recyceltem Cadmium (mCd,output) und sicher immobilisiertem und entsorgtem Cadmium (mCd,waste) der Gesamtmenge des in der Inputfraktion enthaltenen Cadmiums (mCd,input) entspricht.

Sheet Recyclingschritt N_7
C1: Name des (ersten) Recyclingbetriebes: | H1: =IF(TitelseiteSonstigeAltbatterien!$F$7<>"",TitelseiteSonstigeAltbatterien!$F$7,"")
A2: ='Recyclingschritt N_0'!A2 -> DV Abschnitt 9 (Teil 2) | B2: Die einzelnen Recyclingschritte, d. h. alle beteiligten Recyclinganlagen, sind zu dokumentieren:
A3: Ausfüllhinweis: Angaben müssen bzw. können nur in den weiß gehaltenen Eingabefeldern hinterlegt werden. Teilweise werden Ihre Angaben automatisch innerhalb eines Formblattes sowie auf Folgeformblätter übertragen. Übernommene Angaben sind jeweils blau gekennzeichnet (vgl. auch die allgemeinen Formularbearbeitungshinweise im Formblatt "Ausfüllhinweise").
A5: Recyclingschritt | B5: =CONCATENATE("N_7, hier: ",IF(TitelseiteSonstigeAltbatterien!$D$21<>"",TitelseiteSonstigeAltbatterien!$D$21,"")) -> N_7, hier:
A7: Kalenderjahr | C7: =IF(TitelseiteSonstigeAltbatterien!$F$8<>"",TitelseiteSonstigeAltbatterien!$F$8,"") -> 2026
A9: Angaben zum Recyclingbetrieb1
A10: Name
A11: Straße und Hausnummer
A12: PLZ
A13: Ort
A14: Land
A15: Kontaktperson
A16: Telefon
A17: E-Mail
A19: Beschreibung der einzelnen Recyclingschritte: | C19: Bitte Anlage B "Beschreibung des einzelnen Recyclingschrittes" am Ende des Formulars zur Beschreibung der einzelnen Recyclingverfahren bspw. N_1, N_2, etc. nutzen.
A22: 1. Recycling-Input zum Zeitpunkt der Zuführung zum jeweiligen Recyclingschritt2 (Altbatterien oder Fraktionen von Altbatterien) | I22: =CONCATENATE("hier: ",$C$10) -> hier:
A23: Art des Inputs | C23: Abfallcode nach dem Europäischen Abfall-verzeichnis | D23: Masse3
D24: [t/a]
A25: {=IF('Recyclingschritt N_0'!A44:B44<>"",'Recyclingschritt N_0'!A44:B44,"")} | C25: =IF('Recyclingschritt N_0'!C44<>"",'Recyclingschritt N_0'!C44,"") | D25: =IF('Recyclingschritt N_0'!D44<>"",'Recyclingschritt N_0'!D44,"")
A31: 2. Recycling-Output Zwischenfraktionen4 (noch keine "Endgültige Outputfraktion" - zur weiteren Behandlung) | I31: =CONCATENATE("hier: ",C10) -> hier:
A32: Beschreibung der Fraktion | C32: Abfallcode nach dem Europäischen Abfall-verzeichnis | D32: Masse | E32: Weitere Behandlung
E33: Weiterer Recycling- schritt | G33: Weiterer Akteur5 | I33: Weiterer Recycling- schritt
D34: [t/a] | E34: Bezeichnung | G34: Name des Empfängers | I34: Nummer
I35: N_X
I36: N_X
I37: N_X
I38: N_X
I39: N_X
A40: Gesamt Output der Zwischenfraktionen | D40: =SUM(D35:D39) -> 0
A42: 3. Recycling-Output Input- und Outputfraktionen, die in den rRE- und rRM-Berechnungen6 berücksichtigt werden. | I42: =CONCATENATE("hier: ",$C$10) -> hier:
A43: Element oder Verbindung7 | B43: Input minput (nur dieser Recyclingschritt) | C43: Output moutput innerhalb der EU-MS erzeugt | D43: Output moutput außerhalb der EU erzeugt8 | E43: Output moutput Gesamt | F43: Bezeichnung der Outputfraktion (kein Abfall), die das Element oder die Verbindung enthält | G43: Ertrag der Outputfraktion | H43: Verbleib der Fraktion | I43: Masse Cadmium (Cd) mCd,waste insges. oder Masse Quecksilber (Hg) mHg,waste insges. sicher immobilisiert und entsorgt (13)
B44: [t/a] | C44: [t/a] | D44: [t/a] | E44: [t/a] | G44: [m%] | I44: [t/a]
A45: Kobalt (Co) | E45: =C45+D45 -> 0
A46: Kupfer (Cu) | E46: =C46+D46 -> 0
A47: Blei (Pb) | E47: =C47+D47 -> 0
A48: Lithium (Li) | E48: =C48+D48 -> 0
A49: Nickel (Ni) | E49: =C49+D49 -> 0
A50: Mangan (Mn) | E50: =C50+D50 -> 0
A51: Aluminium (Al) | E51: =C51+D51 -> 0
A52: Stahl | E52: =C52+D52 -> 0
A53: Elektrolyt (KOH) | E53: =C53+D53 -> 0
A54: Elektrolyt (NaOH) | E54: =C54+D54 -> 0
A55: Kunststoffe (9) | E55: =C55+D55 -> 0
A56: Sauerstoff (O2) (7) | E56: =C56+D56 -> 0
... A63: Cadmium (Cd) (13) | E63: =C63+D63 -> 0
A64: =IF('Recyclingschritt N_0'!A71<>"",'Recyclingschritt N_0'!A71,"") | E64: =C64+D64 -> 0
A65: =IF('Recyclingschritt N_0'!A72<>"",'Recyclingschritt N_0'!A72,"") | E65: =C65+D65 -> 0
A66: =IF('Recyclingschritt N_0'!A73<>"",'Recyclingschritt N_0'!A73,"") | E66: =C66+D66 -> 0
A67: Ergebnis (11) | B67: =SUM(B45:B66) -> 0 | C67: =SUM(C45:C66) -> 0 | D67: =SUM(D45:D66) -> 0 | E67: =SUM(E45:E66) -> 0
A70: =Gesamtergebnis!A217 -> Anmerkungen (vgl. DV Abschnitt 9):
A72: 1 Anlage, in der ein bestimmter Recyclingschritt erfolgt. Für weitere Recyclingschritte (N_X, etc.) in verschiedenen Anlagen füllen Sie bitte die Formblätter (N_1, N_2, etc.) entsprechend aus.
A74: 2 Input N_0 ist identisch mit dem in Teil 1 des Meldebogens angegebenen Input, der dem "vollständigen Recyclingprozess" zugeführt wurde (vgl. übernommene Angaben in Registerkarte "Gesamtergebnis"). Für die nachfolgenden Schritte N_1, N_2, etc. entspricht der Input jeweils dem Recyclingoutput der Zwischenfraktion aus dem vorangegangenen Schritt.
A77: 3 Die Masse der Fraktionen, die dem einzelnen Recyclingschritt zugeführt werden. Input N_0 ist identisch mit dem in Teil 1 des Meldebogens angegebenen Input, der dem "vollständigen Recyclingprozess" zugeführt wurde (vgl. Registerkarte "Gesamtergebnis").
A79: 4 Zur Begriffsbestimmung des Ausdrucks „Zwischenfraktion“ siehe Abschnitt 1 Nummer 3. Zu schwarzer Masse konsultieren Sie bitte Abschnitt 1 Nummer 5 und stellen Sie sicher, dass die chemische Zusammensetzung der Altbatterie (oder im Fall von Gemischen, die in Masse-% vorwiegende chemische Zusammensetzung) neben dem Begriff „schwarze Masse“ angegeben wird, z. B. „schwarze Masse aus ZnC“ oder „schwarze Masse aus NMC“.
A81: 5 Anlage, in der die Zwischenfraktion behandelt wird, einschließlich Name, Straße, Ort, Postleitzahl, Land, Kontaktperson, Telefon und E-Mail. Wird der nachfolgende Verfahrensschritt in derselben Anlage durchgeführt wie der vorangegangene Schritt, so geben Sie „wie zuvor“ an.
A84: 6 Zu den Begriffsbestimmungen der Ausdrücke „Inputfraktionen“ und „Outputfraktionen“ und insbesondere zu den für die Berechnung von RE und/oder RM anrechenbaren Fraktionen siehe Abschnitt 1 Nummern 2 und 4.
A86: 7 Aus der Inputfraktion der zugeführten Altbatterien zurückgewonnene Elemente und Verbindungen. Zu den Begriffsbestimmungen der Ausdrücke „Inputfraktionen“ und „Outputfraktionen“ und insbesondere zu den für die Berechnung von RE und/oder RM anrechenbaren Fraktionen siehe Abschnitt 1 Nummern 2 und 4.
A88: 8 Bitte legen Sie zusammen mit dieser Dokumentation Nachweise gemäß Artikel 72 Absatz 3 der Verordnung (EU) 2023/1542 vor.
A90: 9 Recycelte Kunststoffe, für die sowohl die Inputfraktionen minput als auch die Outputfraktionen moutput bestimmt werden, werden in der Liste getrennt von Kohlenstoff auf Zellebene angegeben.
A92: 10 Fügen Sie gegebenenfalls weitere Felder hinzu, um andere Elemente oder Verbindungen anzugeben (vgl. UBA-Ausfüllhinweise auf der Titelseite. Kurz: Wegen des Blattschutzes bitte neues individuelles Format beim UBA anfordern). Falls für das Element eine Zielvorgabe für die stoffliche Verwertung gemäß Anhang XII Teil C der Verordnung (EU) 2023/1542 gilt, ist auch die erzielte Quote für die stoffliche Verwertung (rRM) anzugeben. Enthalten die Altbatterien Quecksilber (Hg), konsultieren Sie bitte Abschnitt 4 zur Dokumentation von Quecksilber (Hg) und geben Sie die in der Inputfraktion enthaltene Gesamtmenge an Quecksilber (mHg,input) und die sicher immobilisierte und entsorgte Menge an Quecksilber (mHg,waste) an.
A94: 11 Die Summe von minput und moutput aus allen Schritten, d. h. N_0, N_1, N_2 usw., muss der Gesamtsumme von minput und moutput entsprechen.
A96: 12 Werden Altbatterien aus weiteren Mitgliedstaaten recycelt und weitere Eingabefelder benötigt, nutzen Sie bitte ein neues Formular und füllen es entsprechend aus (gilt nur für Baltt N_0).
A98: 13 Für die Dokumentation von Cadmium (Cd) siehe Abschnitt 4 der DV. Die zuständigen Behörden überprüfen, dass die Gesamtmenge an recyceltem Cadmium (mCd,output) und sicher immobilisiertem und entsorgtem Cadmium (mCd,waste) der Gesamtmenge des in der Inputfraktion enthaltenen Cadmiums (mCd,input) entspricht.

Sheet Recyclingschritt N_8
C1: Name des (ersten) Recyclingbetriebes: | H1: =IF(TitelseiteSonstigeAltbatterien!$F$7<>"",TitelseiteSonstigeAltbatterien!$F$7,"")
A2: ='Recyclingschritt N_0'!A2 -> DV Abschnitt 9 (Teil 2) | B2: Die einzelnen Recyclingschritte, d. h. alle beteiligten Recyclinganlagen, sind zu dokumentieren:
A3: Ausfüllhinweis: Angaben müssen bzw. können nur in den weiß gehaltenen Eingabefeldern hinterlegt werden. Teilweise werden Ihre Angaben automatisch innerhalb eines Formblattes sowie auf Folgeformblätter übertragen. Übernommene Angaben sind jeweils blau gekennzeichnet (vgl. auch die allgemeinen Formularbearbeitungshinweise im Formblatt "Ausfüllhinweise").
A5: Recyclingschritt | B5: =CONCATENATE("N_8, hier: ",IF(TitelseiteSonstigeAltbatterien!$F$21<>"",TitelseiteSonstigeAltbatterien!$F$21,"")) -> N_8, hier:
A7: Kalenderjahr | C7: =IF(TitelseiteSonstigeAltbatterien!$F$8<>"",TitelseiteSonstigeAltbatterien!$F$8,"") -> 2026
A9: Angaben zum Recyclingbetrieb1
A10: Name
A11: Straße und Hausnummer
A12: PLZ
A13: Ort
A14: Land
A15: Kontaktperson
A16: Telefon
A17: E-Mail
A19: Beschreibung der einzelnen Recyclingschritte: | C19: Bitte Anlage B "Beschreibung des einzelnen Recyclingschrittes" am Ende des Formulars zur Beschreibung der einzelnen Recyclingverfahren bspw. N_1, N_2, etc. nutzen.
A22: 1. Recycling-Input zum Zeitpunkt der Zuführung zum jeweiligen Recyclingschritt2 (Altbatterien oder Fraktionen von Altbatterien) | I22: =CONCATENATE("hier: ",$C$10) -> hier:
A23: Art des Inputs | C23: Abfallcode nach dem Europäischen Abfall-verzeichnis | D23: Masse3
D24: [t/a]
A25: {=IF('Recyclingschritt N_0'!A45:B45<>"",'Recyclingschritt N_0'!A45:B45,"")} | C25: =IF('Recyclingschritt N_0'!C45<>"",'Recyclingschritt N_0'!C45,"") | D25: =IF('Recyclingschritt N_0'!D45<>"",'Recyclingschritt N_0'!D45,"")
A31: 2. Recycling-Output Zwischenfraktionen4 (noch keine "Endgültige Outputfraktion" - zur weiteren Behandlung) | I31: =CONCATENATE("hier: ",C10) -> hier:
A32: Beschreibung der Fraktion | C32: Abfallcode nach dem Europäischen Abfall-verzeichnis | D32: Masse | E32: Weitere Behandlung
E33: Weiterer Recycling- schritt | G33: Weiterer Akteur5 | I33: Weiterer Recycling- schritt
D34: [t/a] | E34: Bezeichnung | G34: Name des Empfängers | I34: Nummer
I35: N_X
I36: N_X
I37: N_X
I38: N_X
I39: N_X
A40: Gesamt Output der Zwischenfraktionen | D40: =SUM(D35:D39) -> 0
A42: 3. Recycling-Output Input- und Outputfraktionen, die in den rRE- und rRM-Berechnungen6 berücksichtigt werden. | I42: =CONCATENATE("hier: ",$C$10) -> hier:
A43: Element oder Verbindung7 | B43: Input minput (nur dieser Recyclingschritt) | C43: Output moutput innerhalb der EU-MS erzeugt | D43: Output moutput außerhalb der EU erzeugt8 | E43: Output moutput Gesamt | F43: Bezeichnung der Outputfraktion (kein Abfall), die das Element oder die Verbindung enthält | G43: Ertrag der Outputfraktion | H43: Verbleib der Fraktion | I43: Masse Cadmium (Cd) mCd,waste insges. oder Masse Quecksilber (Hg) mHg,waste insges. sicher immobilisiert und entsorgt (13)
B44: [t/a] | C44: [t/a] | D44: [t/a] | E44: [t/a] | G44: [m%] | I44: [t/a]
A45: Kobalt (Co) | E45: =C45+D45 -> 0
A46: Kupfer (Cu) | E46: =C46+D46 -> 0
A47: Blei (Pb) | E47: =C47+D47 -> 0
A48: Lithium (Li) | E48: =C48+D48 -> 0
A49: Nickel (Ni) | E49: =C49+D49 -> 0
A50: Mangan (Mn) | E50: =C50+D50 -> 0
A51: Aluminium (Al) | E51: =C51+D51 -> 0
A52: Stahl | E52: =C52+D52 -> 0
A53: Elektrolyt (KOH) | E53: =C53+D53 -> 0
A54: Elektrolyt (NaOH) | E54: =C54+D54 -> 0
A55: Kunststoffe (9) | E55: =C55+D55 -> 0
A56: Sauerstoff (O2) (7) | E56: =C56+D56 -> 0
... A63: Cadmium (Cd) (13) | E63: =C63+D63 -> 0
A64: =IF('Recyclingschritt N_0'!A71<>"",'Recyclingschritt N_0'!A71,"") | E64: =C64+D64 -> 0
A65: =IF('Recyclingschritt N_0'!A72<>"",'Recyclingschritt N_0'!A72,"") | E65: =C65+D65 -> 0
A66: =IF('Recyclingschritt N_0'!A73<>"",'Recyclingschritt N_0'!A73,"") | E66: =C66+D66 -> 0
A67: Ergebnis (11) | B67: =SUM(B45:B66) -> 0 | C67: =SUM(C45:C66) -> 0 | D67: =SUM(D45:D66) -> 0 | E67: =SUM(E45:E66) -> 0
A70: =Gesamtergebnis!A217 -> Anmerkungen (vgl. DV Abschnitt 9):
A72: 1 Anlage, in der ein bestimmter Recyclingschritt erfolgt. Für weitere Recyclingschritte (N_X, etc.) in verschiedenen Anlagen füllen Sie bitte die Formblätter (N_1, N_2, etc.) entsprechend aus.
A74: 2 Input N_0 ist identisch mit dem in Teil 1 des Meldebogens angegebenen Input, der dem "vollständigen Recyclingprozess" zugeführt wurde (vgl. übernommene Angaben in Registerkarte "Gesamtergebnis"). Für die nachfolgenden Schritte N_1, N_2, etc. entspricht der Input jeweils dem Recyclingoutput der Zwischenfraktion aus dem vorangegangenen Schritt.
A77: 3 Die Masse der Fraktionen, die dem einzelnen Recyclingschritt zugeführt werden. Input N_0 ist identisch mit dem in Teil 1 des Meldebogens angegebenen Input, der dem "vollständigen Recyclingprozess" zugeführt wurde (vgl. Registerkarte "Gesamtergebnis").
A79: 4 Zur Begriffsbestimmung des Ausdrucks „Zwischenfraktion“ siehe Abschnitt 1 Nummer 3. Zu schwarzer Masse konsultieren Sie bitte Abschnitt 1 Nummer 5 und stellen Sie sicher, dass die chemische Zusammensetzung der Altbatterie (oder im Fall von Gemischen, die in Masse-% vorwiegende chemische Zusammensetzung) neben dem Begriff „schwarze Masse“ angegeben wird, z. B. „schwarze Masse aus ZnC“ oder „schwarze Masse aus NMC“.
A81: 5 Anlage, in der die Zwischenfraktion behandelt wird, einschließlich Name, Straße, Ort, Postleitzahl, Land, Kontaktperson, Telefon und E-Mail. Wird der nachfolgende Verfahrensschritt in derselben Anlage durchgeführt wie der vorangegangene Schritt, so geben Sie „wie zuvor“ an.
A84: 6 Zu den Begriffsbestimmungen der Ausdrücke „Inputfraktionen“ und „Outputfraktionen“ und insbesondere zu den für die Berechnung von RE und/oder RM anrechenbaren Fraktionen siehe Abschnitt 1 Nummern 2 und 4.
A86: 7 Aus der Inputfraktion der zugeführten Altbatterien zurückgewonnene Elemente und Verbindungen. Zu den Begriffsbestimmungen der Ausdrücke „Inputfraktionen“ und „Outputfraktionen“ und insbesondere zu den für die Berechnung von RE und/oder RM anrechenbaren Fraktionen siehe Abschnitt 1 Nummern 2 und 4.
A88: 8 Bitte legen Sie zusammen mit dieser Dokumentation Nachweise gemäß Artikel 72 Absatz 3 der Verordnung (EU) 2023/1542 vor.
A90: 9 Recycelte Kunststoffe, für die sowohl die Inputfraktionen minput als auch die Outputfraktionen moutput bestimmt werden, werden in der Liste getrennt von Kohlenstoff auf Zellebene angegeben.
A92: 10 Fügen Sie gegebenenfalls weitere Felder hinzu, um andere Elemente oder Verbindungen anzugeben (vgl. UBA-Ausfüllhinweise auf der Titelseite. Kurz: Wegen des Blattschutzes bitte neues individuelles Format beim UBA anfordern). Falls für das Element eine Zielvorgabe für die stoffliche Verwertung gemäß Anhang XII Teil C der Verordnung (EU) 2023/1542 gilt, ist auch die erzielte Quote für die stoffliche Verwertung (rRM) anzugeben. Enthalten die Altbatterien Quecksilber (Hg), konsultieren Sie bitte Abschnitt 4 zur Dokumentation von Quecksilber (Hg) und geben Sie die in der Inputfraktion enthaltene Gesamtmenge an Quecksilber (mHg,input) und die sicher immobilisierte und entsorgte Menge an Quecksilber (mHg,waste) an.
A94: 11 Die Summe von minput und moutput aus allen Schritten, d. h. N_0, N_1, N_2 usw., muss der Gesamtsumme von minput und moutput entsprechen.
A96: 12 Werden Altbatterien aus weiteren Mitgliedstaaten recycelt und weitere Eingabefelder benötigt, nutzen Sie bitte ein neues Formular und füllen es entsprechend aus (gilt nur für Baltt N_0).
A98: 13 Für die Dokumentation von Cadmium (Cd) siehe Abschnitt 4 der DV. Die zuständigen Behörden überprüfen, dass die Gesamtmenge an recyceltem Cadmium (mCd,output) und sicher immobilisiertem und entsorgtem Cadmium (mCd,waste) der Gesamtmenge des in der Inputfraktion enthaltenen Cadmiums (mCd,input) entspricht.

Sheet Anlage A
A2: Anlage A | H2: 2. Fließschema des gesamten Batterie-Recyclingverfahrens (fakultativ):
A3: Zur Dokumentation gem. § 29 Abs. 2 BattDG der Recyclingbetriebe | H3: Hinweis zum Einfügen von Bildern bzw. Grafiken: Siehe "Einfügen" , "Bilder", "Über Zeile einfügen", "dieses Gerät"
A6: Name des Recyclingbetriebes:
A7: Bezeichnung des Recyclingschrittes:
A10: 1. Beschreibung des gesamten Recyclingverfahrens1
A11: 1 Beschreibung des vollständigen Batterie-Recyclingverfahrens unabhängig davon, ob es in einer oder mehreren Anlagen durchgeführt wird (mit Beschreibung der einzelnen Recyclingschritte und ihrer Outputfraktionen). Siehe auch die zusätzlichen Hinweise im folgenden Freitextfeld.

Sheet Anlage B
A2: Anlage B | H2: 2. Fließschema des einzelnen Recyclingschrittes/ -verfahrens (fakultativ):
A3: Zur Dokumentation gem. § 29 Abs. 2 BattDG der Recyclingbetriebe | H3: Hinweis zum Einfügen von Bildern bzw. Grafiken: Siehe "Einfügen" , "Bilder", "Über Zeile einfügen", "dieses Gerät"
A6: Name des Recyclingbetriebes:
A7: Bezeichnung des Recyclingschrittes:
A10: 1. Beschreibung des einzelnen Recyclingschrittes/ -verfahrens2
A11: 2 Beschreibung eines einzelnen Recyclingschrittes. Beschreibt jeweils die nachgelagerten Recyclingschritte N_1, N_2, etc.. Die nachgelagerten Recyclingbetriebe hinterlegen jeweils diese Angaben, die vom ersten Recyclingbetrieb in Anlage A zusammengeführt werden.
A47: Anlage B | H47: 2. Fließschema des einzelnen Recyclingschrittes/ -verfahrens (fakultativ):
A48: Zur Dokumentation gem. § 28 BattDG der Recyclingbetriebe | H48: Hinweis zum Einfügen von Bildern bzw. Grafiken: Siehe "Einfügen" , "Bilder", "Über Zeile einfügen", "dieses Gerät"
A51: Name des Recyclingbetriebes:
A52: Bezeichnung Recyclingschrittes:
A55: 1. Beschreibung des einzelnen Recyclingschrittes/ -verfahrens2
A56: 2 Beschreibung eines einzelnen Recyclingschrittes. Beschreibt jeweils die nachgelagerten Recyclingschritte N_1, N_2, etc.. Die nachgelagerten Recyclingbetriebe hinterlegen jeweils diese Angaben, die vom ersten Recyclingbetrieb in Anlage A zusammengeführt werden.
A94: Anlage B | H94: 2. Fließschema des einzelnen Recyclingschrittes/ -verfahrens (fakultativ):
A95: Zur Dokumentation gem. § 28 BattDG der Recyclingbetriebe | H95: Hinweis zum Einfügen von Bildern bzw. Grafiken: Siehe "Einfügen" , "Bilder", "Über Zeile einfügen", "dieses Gerät"
A98: Name des Recyclingbetriebes:
A99: Bezeichnung Recyclingschrittes:
A102: 1. Beschreibung des einzelnen Recyclingschrittes/ -verfahrens2
A103: 2 Beschreibung eines einzelnen Recyclingschrittes. Beschreibt jeweils die nachgelagerten Recyclingschritte N_1, N_2, etc.. Die nachgelagerten Recyclingbetriebe hinterlegen jeweils diese Angaben, die vom ersten Recyclingbetrieb in Anlage A zusammengeführt werden.
A140: Anlage B | H140: 2. Fließschema des einzelnen Recyclingschrittes/ -verfahrens (fakultativ):
A141: Zur Dokumentation gem. § 28 BattDG der Recyclingbetriebe | H141: Hinweis zum Einfügen von Bildern bzw. Grafiken: Siehe "Einfügen" , "Bilder", "Über Zeile einfügen", "dieses Gerät"
A144: Name des Recyclingbetriebes: | D144: Bspw. Recyclingbetrieb N_4
A145: Bezeichnung Recyclingschrittes:
A148: 1. Beschreibung des einzelnen Recyclingschrittes/ -verfahrens2
A149: 2 Beschreibung eines einzelnen Recyclingschrittes. Beschreibt jeweils die nachgelagerten Recyclingschritte N_1, N_2, etc.. Die nachgelagerten Recyclingbetriebe hinterlegen jeweils diese Angaben, die vom ersten Recyclingbetrieb in Anlage A zusammengeführt werden.
A183: Bitte bei Bedarf weitere Angaben hinzufügen.

Sheet Ihre Bemerkungen
