Workbook
Name _ftn1: 'Anlage A'!$A$22
Name _ftn1: 'Anlage B'!$A$21
Name _ftnref1: 'Anlage A'!$A$10
Name _ftnref1: 'Anlage B'!$A$10
Name Dropdown5: 'Titelseite Pb-Altbatterien'!#REF!
Name Dropdown6: 'Titelseite Pb-Altbatterien'!#REF!
Name Text44: 'Titelseite Pb-Altbatterien'!#REF!

Sheet Ausfüllhinweise
B5: Ausfüllhinweise
B7: Schritt 1: Bearbeitung des Formblattes "Titelseite" Tragen Sie zunächst im Formblatt "Titelseite" den Namen Ihres Recyclingbetriebes, das Jahr, über das sie berichten, und die Bezeichnung des ersten Recyclingschrittes ein. Diese Angaben werden automatisch auf Folgeformblätter übernommen.
B9: Schritt 2: Bearbeitung des Formblattes "Recyclingschritt N_0" Überspringen Sie das Formblatt "Gesamtergebnis", in dem keine Daten zu hinterlegen sind. Dieser Recyclingschritt dokumentiert die Ergebnisse des ersten Recyclingbetriebes (Ihre eigenen Recyclingergebnisse).
B11: Schritt 3: Bearbeitung der Formblätter N_1 bis N_6 Diese Formblätter dokumentieren die Ergebnisse der weiteren Recyclingschritte. Alle Recyclingschritte sind in den einzelnen Blättern vollständig abzubilden. Sollten diese Schritte nicht von Ihrem Unternehmen, sondern von nachgelagerten Recyclingbetrieben duchgeführt werden, müssen diese Daten vom ersten Recyclingbetrieb (Ihnen) beschafft werden.
B13: Schritt 4: Prüfung der Gesamtergebnisse (Zusammenfassung im Formblatt "Gesamtergebnis") Im Formblatt "Gesamtergebnis" sind keine Angaben und Daten zu hinterlegen. Dieses Formblatt übernimmt sämtliche Eingaben von der Titelseite und den Formblättern N_0, N_1, N_2, etc.. Bitte prüfen Sie die übernommenen zusammengefassten Angaben und korrigieren sie die Formblätter "Titelseite" und N_0, N_1, N_2, etc. bei Bedarf.
B15: Allgemeines zur Formularbearbeitung Weiße Ausfüllfelder: Angaben und Daten müssen bzw. können nur in weiß gehaltenen Eingabefeldern hinterlegt werden. Alle sonstigen Felder sind ausgegraut und geschützt. Tooltips: Zur Hilfestellung wurden - zusätzlich zu den Fußnoten - weitergehende Hinweise an ausgewählten Stellen hinzugefügt. Zu erkennen sind diese an der roten Markierung in der oberen rechten Ecke eines Feldes. Blaue Schrift: Teilweise werden Angaben und Daten zur Erleichterung und verbesserten Übersichtlichkeit automatisch innerhalb eines Formblattes sowie blattübergreifend übernommen. Angaben dieser Art sind leicht an der blauen Schrift zu erkennen. Individuelle Bemerkungen: Erklärende Bemerkungen können im Registerblatt "Ihre Bemerkungen" hinterlegt werden (siehe letztes Blatt).
B17: Umweltbundesamt
B18: Ansprechpartner: Falk Petrikowski
B19: Telefon: 0340 - 21032468
B20: E-Mail: batterierecht@uba.de

Sheet Titelseite Pb-Altbatterien
A2: Dokumentation gem. § 29 Abs. 2 BattDG der Recyclingbetriebe von
A3: Blei-Säure-Altbatterien
A4: Format* gemäß delegierter Verordnung (DV) zur Berechnung der Recyclingeffizienz und stofflichen Verwertung von Altbatterien (EU) 2025/606 vom 21.03.2025.
A5: Titelseite
B7: Name des (ersten) Recyclingbetriebs
B8: Kalenderjahr | F8: 2026
B10: Zu prüfendes Formblatt (Ergebniszusammenfassung) | F10: Formblatt "Gesamtergebnis"
B12: Bezeichnung Recyclingschritt
B13: Auszufüllendes Formblatt | F13: Formblatt "Recyclingschritt N_0"
A15: Bezeichnung
A16: Bei Bedarf auszufüllen | B16: Formblatt RS N_1 | D16: Formblatt RS N_2 | F16: Formblatt RS N_3 | H16: Formblatt RS N_4 | J16: Formblatt RS N_5
A18: Bezeichnung
A19: Bei Bedarf auszufüllen | B19: Formblatt RS N_6 | D19: Formblatt RS N_X | F19: Formblatt RS N_X | H19: Formblatt RS N_X | J19: Formblatt RS N_X
A21: Bezeichnung
A22: Bei Bedarf auszufüllen | B22: Formblatt RS N_X | D22: Formblatt RS N_X | F22: Formblatt RS N_X | H22: Formblatt RS N_X | J22: Formblatt RS N_X
A26: Hinweis zur Bearbeitung: Bitte lesen Sie die prägnanten Ausfüllhinweise vor der Bearbeitung des Formulars (vgl. Registerblatt "Ausfüllhinweise"). Sollten die vorbereiteten Eingabefelder oder Formblätter nicht ausreichen, wenden Sie sich bitte an den Ansprechpartner beim UBA (siehe Kontaktadresse unten). In diesem Fall wird das UBA das Formular nach Bedarf erweitern und zurücksenden. Eigenständige Formularanpassungen sind zur Sicherstellung der Funktionalitäten nicht mehr möglich.
A33: Umweltbundesamt
A34: Wörlitzer Platz 1
A35: 06844 Dessau-Roßlau
A37: Ansprechpartner: Falk Petrikowski
A38: Telefon: 0340 - 21032468
A39: E-Mail: batterierecht@uba.de
H40: * Verbindliches elektronisches Format

Sheet Gesamtergebnis
D1: Name des (ersten) Recyclingbetriebes: | F1: =IF('Titelseite Pb-Altbatterien'!$F$7<>"",'Titelseite Pb-Altbatterien'!$F$7,"")
A2: Ergebnisse (Quoten) für die Recyclingeffizienz und stoffliche Verwertung von
A3: {=IF('Titelseite Pb-Altbatterien'!A3:B3<>"",'Titelseite Pb-Altbatterien'!A3:B3,"")} -> Blei-Säure-Altbatterien
A5: DV Abschnitt 6 (Teil 1) | B5: Von den Recyclingbetrieben ist Folgendes zu dokumentieren:
A6: Ausfüllhinweis: Angaben müssen bzw. können nur in den weiß gehaltenen Eingabefeldern hinterlegt werden. Teilweise werden Ihre Angaben automatisch innerhalb eines Formblattes sowie auf Folgeformblätter übertragen. Übernommene Angaben sind jeweils blau gekennzeichnet (vgl. auch die allgemeinen Formularbearbeitungshinweise im Formblatt "Ausfüllhinweise").
A8: Recyclingeffizienz eines Batterie-Recyclingverfahrens
A10: Kalenderjahr | C10: =IF('Titelseite Pb-Altbatterien'!$F$8<>"",'Titelseite Pb-Altbatterien'!$F$8,"") -> 2026
A12: Angaben zum Recyclingbetrieb1
A13: Name | C13: =IF('Recyclingschritt N_0'!C11<>"",'Recyclingschritt N_0'!C11,"")
A14: Straße und Hausnummer | C14: =IF('Recyclingschritt N_0'!C12<>"",'Recyclingschritt N_0'!C12,"")
A15: PLZ | C15: =IF('Recyclingschritt N_0'!C13<>"",'Recyclingschritt N_0'!C13,"")
A16: Ort | C16: =IF('Recyclingschritt N_0'!C14<>"",'Recyclingschritt N_0'!C14,"")
A17: Land | C17: =IF('Recyclingschritt N_0'!C15<>"",'Recyclingschritt N_0'!C15,"")
A18: Kontaktperson | C18: =IF('Recyclingschritt N_0'!C16<>"",'Recyclingschritt N_0'!C16,"")
A19: Telefon | C19: =IF('Recyclingschritt N_0'!C17<>"",'Recyclingschritt N_0'!C17,"")
A20: E-Mail | C20: =IF('Recyclingschritt N_0'!C18<>"",'Recyclingschritt N_0'!C18,"")
A22: Beschreibung der Recyclingschritte des gesamten Recyclingverfahrens2 | C22: Bitte Anlage A "Beschreibung des gesamten Batterie-Recyclingverfahrens" am Ende des Formulars nutzen.
A24: Input Angaben zu den Altbatterien zum Zeitpunkt der Zuführung zum vollständigen Recyclingprozess3
A25: Art/ Beschreibung der Altbatterien und -akkumulatoren | C25: Abfallcode nach dem Europäischen Abfall-verzeichnis | D25: (Feucht) Masse4 | E25: Masseanteile | F25: Mitgliedstaat, in dem die Altbatterien gesammelt wurden9
D26: [t/a] | E26: [%]
A27: =IF('Recyclingschritt N_0'!A26<>"",'Recyclingschritt N_0'!A26,"") | C27: =IF('Recyclingschritt N_0'!C26<>"",'Recyclingschritt N_0'!C26,"") | D27: =IF('Recyclingschritt N_0'!D26<>"",'Recyclingschritt N_0'!D26,"") | E27: =IF(D27<>"",D27/$D$33,"") | F27: =IF('Recyclingschritt N_0'!E26<>"",'Recyclingschritt N_0'!E26,"")
A28: =IF('Recyclingschritt N_0'!A27<>"",'Recyclingschritt N_0'!A27,"") | C28: =IF('Recyclingschritt N_0'!C27<>"",'Recyclingschritt N_0'!C27,"") | D28: =IF('Recyclingschritt N_0'!D27<>"",'Recyclingschritt N_0'!D27,"") | E28: =IF(D28<>"",D28/$D$33,"") | F28: =IF('Recyclingschritt N_0'!E27<>"",'Recyclingschritt N_0'!E27,"")
A29: =IF('Recyclingschritt N_0'!A28<>"",'Recyclingschritt N_0'!A28,"") | C29: =IF('Recyclingschritt N_0'!C28<>"",'Recyclingschritt N_0'!C28,"") | D29: =IF('Recyclingschritt N_0'!D28<>"",'Recyclingschritt N_0'!D28,"") | E29: =IF(D29<>"",D29/$D$33,"") | F29: =IF('Recyclingschritt N_0'!E28<>"",'Recyclingschritt N_0'!E28,"")
A30: =IF('Recyclingschritt N_0'!A29<>"",'Recyclingschritt N_0'!A29,"") | C30: =IF('Recyclingschritt N_0'!C29<>"",'Recyclingschritt N_0'!C29,"") | D30: =IF('Recyclingschritt N_0'!D29<>"",'Recyclingschritt N_0'!D29,"") | E30: =IF(D30<>"",D30/$D$33,"") | F30: =IF('Recyclingschritt N_0'!E29<>"",'Recyclingschritt N_0'!E29,"")
A31: =IF('Recyclingschritt N_0'!A30<>"",'Recyclingschritt N_0'!A30,"") | C31: =IF('Recyclingschritt N_0'!C30<>"",'Recyclingschritt N_0'!C30,"") | D31: =IF('Recyclingschritt N_0'!D30<>"",'Recyclingschritt N_0'!D30,"") | E31: =IF(D31<>"",D31/$D$33,"") | F31: =IF('Recyclingschritt N_0'!E30<>"",'Recyclingschritt N_0'!E30,"")
A32: =IF('Recyclingschritt N_0'!A31<>"",'Recyclingschritt N_0'!A31,"") | C32: =IF('Recyclingschritt N_0'!C31<>"",'Recyclingschritt N_0'!C31,"") | D32: =IF('Recyclingschritt N_0'!D31<>"",'Recyclingschritt N_0'!D31,"") | E32: =IF(D32<>"",D32/$D$33,"") | F32: =IF('Recyclingschritt N_0'!E31<>"",'Recyclingschritt N_0'!E31,"")
A33: Gesamt | C33: =IF('Recyclingschritt N_0'!C32<>"",'Recyclingschritt N_0'!C32,"") | D33: =SUM(D27:D32) -> 0 | E33: =SUM(E27:E32) -> 0
E34: =IF('Recyclingschritt N_0'!E33<>"",'Recyclingschritt N_0'!E33,"")
A35: Output ERGEBNISSE je Herkunftsland— Berechnete Recyclingergebnisse von in DE gesammelten Altbatterien 9 (RS N_0 + N_1 + N_2, etc.)
A36: Masse Altbatterieinput: | B36: =D27
A37: MS, in dem die Altbatterien gesammelt wurden: | D37: =IF('Recyclingschritt N_0'!E26<>"",'Recyclingschritt N_0'!E26,"")
A38: Element oder Verbindung | B38: Input minput 5 | C38: Output moutput 5 innerhalb der EU-MS erzeugt | D38: Output moutput 8 außerhalb der EU erzeugt | E38: Output moutput 5 Gesamt | F38: rRE10 | G38: rRM11
B39: [t/a] | C39: [t/a] | D39: [t/a] | E39: [t/a] | F39: [m%] | G39: [m%]
A40: Blei insgesamt (Pb) | B40: ='Recyclingschritt N_0'!B66 | C40: =IFERROR('Recyclingschritt N_0'!C66+('Recyclingschritt N_1'!C45+'Recyclingschritt N_2'!C45+'Recyclingschritt N_3'!C45+'Recyclingschritt N_4'!C45+'Recyclingschritt N_5'!C45+'Recyclingschritt N_6'!C45)*$E$27,"") | D40: =IFERROR('Recyclingschritt N_0'!D66+('Recyclingschritt N_1'!D45+'Recyclingschritt N_2'!D45+'Recyclingschritt N_3'!D45+'Recyclingschritt N_4'!D45+'Recyclingschritt N_5'!D45+'Recyclingschritt N_6'!D45)*$E$27,"") | E40: =IFERROR(C40+D40,"") | G40: =IFERROR(E40/B40, "ggf. Pflichtfeld!") -> ggf. Pflichtfeld!
A41: Wasserfreie Schwefelsäure (H2SO4) | B41: ='Recyclingschritt N_0'!B67 | C41: =IFERROR('Recyclingschritt N_0'!C67+('Recyclingschritt N_1'!C46+'Recyclingschritt N_2'!C46+'Recyclingschritt N_3'!C46+'Recyclingschritt N_4'!C46+'Recyclingschritt N_5'!C46+'Recyclingschritt N_6'!C46)*$E$27,"") | D41: =IFERROR('Recyclingschritt N_0'!D67+('Recyclingschritt N_1'!D46+'Recyclingschritt N_2'!D46+'Recyclingschritt N_3'!D46+'Recyclingschritt N_4'!D46+'Recyclingschritt N_5'!D46+'Recyclingschritt N_6'!D46)*$E$27,"") | E41: =IFERROR(C41+D41,"")
A42: Kunststoffe6 | B42: ='Recyclingschritt N_0'!B68 | C42: =IFERROR('Recyclingschritt N_0'!C68+('Recyclingschritt N_1'!C47+'Recyclingschritt N_2'!C47+'Recyclingschritt N_3'!C47+'Recyclingschritt N_4'!C47+'Recyclingschritt N_5'!C47+'Recyclingschritt N_6'!C47)*$E$27,"") | D42: =IFERROR('Recyclingschritt N_0'!D68+('Recyclingschritt N_1'!D47+'Recyclingschritt N_2'!D47+'Recyclingschritt N_3'!D47+'Recyclingschritt N_4'!D47+'Recyclingschritt N_5'!D47+'Recyclingschritt N_6'!D47)*$E$27,"") | E42: =IFERROR(C42+D42,"")
A43: Stahl | B43: ='Recyclingschritt N_0'!B69 | C43: =IFERROR('Recyclingschritt N_0'!C69+('Recyclingschritt N_1'!C48+'Recyclingschritt N_2'!C48+'Recyclingschritt N_3'!C48+'Recyclingschritt N_4'!C48+'Recyclingschritt N_5'!C48+'Recyclingschritt N_6'!C48)*$E$27,"") | D43: =IFERROR('Recyclingschritt N_0'!D69+('Recyclingschritt N_1'!D48+'Recyclingschritt N_2'!D48+'Recyclingschritt N_3'!D48+'Recyclingschritt N_4'!D48+'Recyclingschritt N_5'!D48+'Recyclingschritt N_6'!D48)*$E$27,"") | E43: =IFERROR(C43+D43,"")
A44: =IF('Recyclingschritt N_0'!A70<>"",'Recyclingschritt N_0'!A70,"") | B44: ='Recyclingschritt N_0'!B70 | C44: =IFERROR('Recyclingschritt N_0'!C70+('Recyclingschritt N_1'!C49+'Recyclingschritt N_2'!C49+'Recyclingschritt N_3'!C49+'Recyclingschritt N_4'!C49+'Recyclingschritt N_5'!C49+'Recyclingschritt N_6'!C49)*$E$27,"") | D44: =IFERROR('Recyclingschritt N_0'!D70+('Recyclingschritt N_1'!D49+'Recyclingschritt N_2'!D49+'Recyclingschritt N_3'!D49+'Recyclingschritt N_4'!D49+'Recyclingschritt N_5'!D49+'Recyclingschritt N_6'!D49)*$E$27,"") | E44: =IFERROR(C44+D44,"")
A45: =IF('Recyclingschritt N_0'!A71<>"",'Recyclingschritt N_0'!A71,"") | B45: ='Recyclingschritt N_0'!B71 | C45: =IFERROR('Recyclingschritt N_0'!C71+('Recyclingschritt N_1'!C50+'Recyclingschritt N_2'!C50+'Recyclingschritt N_3'!C50+'Recyclingschritt N_4'!C50+'Recyclingschritt N_5'!C50+'Recyclingschritt N_6'!C50)*$E$27,"") | D45: =IFERROR('Recyclingschritt N_0'!D71+('Recyclingschritt N_1'!D50+'Recyclingschritt N_2'!D50+'Recyclingschritt N_3'!D50+'Recyclingschritt N_4'!D50+'Recyclingschritt N_5'!D50+'Recyclingschritt N_6'!D50)*$E$27,"") | E45: =IFERROR(C45+D45,"")
A46: =IF('Recyclingschritt N_0'!A72<>"",'Recyclingschritt N_0'!A72,"") | B46: ='Recyclingschritt N_0'!B72 | C46: =IFERROR('Recyclingschritt N_0'!C72+('Recyclingschritt N_1'!C51+'Recyclingschritt N_2'!C51+'Recyclingschritt N_3'!C51+'Recyclingschritt N_4'!C51+'Recyclingschritt N_5'!C51+'Recyclingschritt N_6'!C51)*$E$27,"") | D46: =IFERROR('Recyclingschritt N_0'!D72+('Recyclingschritt N_1'!D51+'Recyclingschritt N_2'!D51+'Recyclingschritt N_3'!D51+'Recyclingschritt N_4'!D51+'Recyclingschritt N_5'!D51+'Recyclingschritt N_6'!D51)*$E$27,"") | E46: =IFERROR(C46+D46,"")
A47: =IF('Recyclingschritt N_0'!A73<>"",'Recyclingschritt N_0'!A73,"") | B47: ='Recyclingschritt N_0'!B73 | C47: =IFERROR('Recyclingschritt N_0'!C73+('Recyclingschritt N_1'!C52+'Recyclingschritt N_2'!C52+'Recyclingschritt N_3'!C52+'Recyclingschritt N_4'!C52+'Recyclingschritt N_5'!C52+'Recyclingschritt N_6'!C52)*$E$27,"") | D47: =IFERROR('Recyclingschritt N_0'!D73+('Recyclingschritt N_1'!D52+'Recyclingschritt N_2'!D52+'Recyclingschritt N_3'!D52+'Recyclingschritt N_4'!D52+'Recyclingschritt N_5'!D52+'Recyclingschritt N_6'!D52)*$E$27,"") | E47: =IFERROR(C47+D47,"")
A48: =IF('Recyclingschritt N_0'!A74<>"",'Recyclingschritt N_0'!A74,"") | B48: ='Recyclingschritt N_0'!B74 | C48: =IFERROR('Recyclingschritt N_0'!C74+('Recyclingschritt N_1'!C53+'Recyclingschritt N_2'!C53+'Recyclingschritt N_3'!C53+'Recyclingschritt N_4'!C53+'Recyclingschritt N_5'!C53+'Recyclingschritt N_6'!C53)*$E$27,"") | D48: =IFERROR('Recyclingschritt N_0'!D74+('Recyclingschritt N_1'!D53+'Recyclingschritt N_2'!D53+'Recyclingschritt N_3'!D53+'Recyclingschritt N_4'!D53+'Recyclingschritt N_5'!D53+'Recyclingschritt N_6'!D53)*$E$27,"") | E48: =IFERROR(C48+D48,"")
A49: Ergebnis | B49: =SUM(B40:B48) -> 0 | C49: =SUM(C40:C48) -> 0 | D49: =SUM(D40:D48) -> 0 | E49: =C49+D49 -> 0 | F49: =IFERROR(E49/B49,"")
A51: Output ERGEBNISSE je Herkunftsland— Berechnete Recyclingergebnisse, von in einem MS gesammelten Altbatterien 9 (RS N_0 + N_1 + N_2, etc.)
A52: Masse Altbatterieinput: | B52: =D28
A53: MS, in dem die Altbatterien gesammelt wurden: | D53: =IF('Recyclingschritt N_0'!E27<>"",'Recyclingschritt N_0'!E27,"")
A54: Element oder Verbindung | B54: Input minput 5 | C54: Output moutput 5 innerhalb der EU-MS erzeugt | D54: Output moutput 8 außerhalb der EU erzeugt | E54: Output moutput 5 Gesamt | F54: rRE 10 | G54: rRM 11
B55: [t/a] | C55: [t/a] | D55: [t/a] | E55: [t/a] | F55: [m%] | G55: [m%]
A56: Blei insgesamt (Pb) | B56: ='Recyclingschritt N_0'!B82 | C56: =IFERROR('Recyclingschritt N_0'!C82+('Recyclingschritt N_1'!C45+'Recyclingschritt N_2'!C45+'Recyclingschritt N_3'!C45+'Recyclingschritt N_4'!C45+'Recyclingschritt N_5'!C45+'Recyclingschritt N_6'!C45)*$E$28,"") | D56: =IFERROR('Recyclingschritt N_0'!D82+('Recyclingschritt N_1'!D45+'Recyclingschritt N_2'!D45+'Recyclingschritt N_3'!D45+'Recyclingschritt N_4'!D45+'Recyclingschritt N_5'!D45+'Recyclingschritt N_6'!D45)*$E$28,"") | E56: =IFERROR(C56+D56,"") | G56: =IFERROR(E56/B56, "ggf. Pflichtfeld!") -> ggf. Pflichtfeld!
A57: Wasserfreie Schwefelsäure (H2SO4) | B57: ='Recyclingschritt N_0'!B83 | C57: =IFERROR('Recyclingschritt N_0'!C83+('Recyclingschritt N_1'!C46+'Recyclingschritt N_2'!C46+'Recyclingschritt N_3'!C46+'Recyclingschritt N_4'!C46+'Recyclingschritt N_5'!C46+'Recyclingschritt N_6'!C46)*$E$28,"") | D57: =IFERROR('Recyclingschritt N_0'!D83+('Recyclingschritt N_1'!D46+'Recyclingschritt N_2'!D46+'Recyclingschritt N_3'!D46+'Recyclingschritt N_4'!D46+'Recyclingschritt N_5'!D46+'Recyclingschritt N_6'!D46)*$E$28,"") | E57: =IFERROR(C57+D57,"")
A58: Kunststoffe 6 | B58: ='Recyclingschritt N_0'!B84 | C58: =IFERROR('Recyclingschritt N_0'!C84+('Recyclingschritt N_1'!C47+'Recyclingschritt N_2'!C47+'Recyclingschritt N_3'!C47+'Recyclingschritt N_4'!C47+'Recyclingschritt N_5'!C47+'Recyclingschritt N_6'!C47)*$E$28,"") | D58: =IFERROR('Recyclingschritt N_0'!D84+('Recyclingschritt N_1'!D47+'Recyclingschritt N_2'!D47+'Recyclingschritt N_3'!D47+'Recyclingschritt N_4'!D47+'Recyclingschritt N_5'!D47+'Recyclingschritt N_6'!D47)*$E$28,"") | E58: =IFERROR(C58+D58,"")
A59: Stahl | B59: ='Recyclingschritt N_0'!B85 | C59: =IFERROR('Recyclingschritt N_0'!C85+('Recyclingschritt N_1'!C48+'Recyclingschritt N_2'!C48+'Recyclingschritt N_3'!C48+'Recyclingschritt N_4'!C48+'Recyclingschritt N_5'!C48+'Recyclingschritt N_6'!C48)*$E$28,"") | D59: =IFERROR('Recyclingschritt N_0'!D85+('Recyclingschritt N_1'!D48+'Recyclingschritt N_2'!D48+'Recyclingschritt N_3'!D48+'Recyclingschritt N_4'!D48+'Recyclingschritt N_5'!D48+'Recyclingschritt N_6'!D48)*$E$28,"") | E59: =IFERROR(C59+D59,"")
A60: =IF('Recyclingschritt N_0'!A86<>"",'Recyclingschritt N_0'!A86,"") | B60: ='Recyclingschritt N_0'!B86 | C60: =IFERROR('Recyclingschritt N_0'!C86+('Recyclingschritt N_1'!C49+'Recyclingschritt N_2'!C49+'Recyclingschritt N_3'!C49+'Recyclingschritt N_4'!C49+'Recyclingschritt N_5'!C49+'Recyclingschritt N_6'!C49)*$E$28,"") | D60: =IFERROR('Recyclingschritt N_0'!D86+('Recyclingschritt N_1'!D49+'Recyclingschritt N_2'!D49+'Recyclingschritt N_3'!D49+'Recyclingschritt N_4'!D49+'Recyclingschritt N_5'!D49+'Recyclingschritt N_6'!D49)*$E$28,"") | E60: =IFERROR(C60+D60,"")
A61: =IF('Recyclingschritt N_0'!A87<>"",'Recyclingschritt N_0'!A87,"") | B61: ='Recyclingschritt N_0'!B87 | C61: =IFERROR('Recyclingschritt N_0'!C87+('Recyclingschritt N_1'!C50+'Recyclingschritt N_2'!C50+'Recyclingschritt N_3'!C50+'Recyclingschritt N_4'!C50+'Recyclingschritt N_5'!C50+'Recyclingschritt N_6'!C50)*$E$28,"") | D61: =IFERROR('Recyclingschritt N_0'!D87+('Recyclingschritt N_1'!D50+'Recyclingschritt N_2'!D50+'Recyclingschritt N_3'!D50+'Recyclingschritt N_4'!D50+'Recyclingschritt N_5'!D50+'Recyclingschritt N_6'!D50)*$E$28,"") | E61: =IFERROR(C61+D61,"")
A62: =IF('Recyclingschritt N_0'!A88<>"",'Recyclingschritt N_0'!A88,"") | B62: ='Recyclingschritt N_0'!B88 | C62: =IFERROR('Recyclingschritt N_0'!C88+('Recyclingschritt N_1'!C51+'Recyclingschritt N_2'!C51+'Recyclingschritt N_3'!C51+'Recyclingschritt N_4'!C51+'Recyclingschritt N_5'!C51+'Recyclingschritt N_6'!C51)*$E$28,"") | D62: =IFERROR('Recyclingschritt N_0'!D88+('Recyclingschritt N_1'!D51+'Recyclingschritt N_2'!D51+'Recyclingschritt N_3'!D51+'Recyclingschritt N_4'!D51+'Recyclingschritt N_5'!D51+'Recyclingschritt N_6'!D51)*$E$28,"") | E62: =IFERROR(C62+D62,"")
A63: =IF('Recyclingschritt N_0'!A89<>"",'Recyclingschritt N_0'!A89,"") | B63: ='Recyclingschritt N_0'!B89 | C63: =IFERROR('Recyclingschritt N_0'!C89+('Recyclingschritt N_1'!C52+'Recyclingschritt N_2'!C52+'Recyclingschritt N_3'!C52+'Recyclingschritt N_4'!C52+'Recyclingschritt N_5'!C52+'Recyclingschritt N_6'!C52)*$E$28,"") | D63: =IFERROR('Recyclingschritt N_0'!D89+('Recyclingschritt N_1'!D52+'Recyclingschritt N_2'!D52+'Recyclingschritt N_3'!D52+'Recyclingschritt N_4'!D52+'Recyclingschritt N_5'!D52+'Recyclingschritt N_6'!D52)*$E$28,"") | E63: =IFERROR(C63+D63,"")
A64: =IF('Recyclingschritt N_0'!A90<>"",'Recyclingschritt N_0'!A90,"") | B64: ='Recyclingschritt N_0'!B90 | C64: =IFERROR('Recyclingschritt N_0'!C90+('Recyclingschritt N_1'!C53+'Recyclingschritt N_2'!C53+'Recyclingschritt N_3'!C53+'Recyclingschritt N_4'!C53+'Recyclingschritt N_5'!C53+'Recyclingschritt N_6'!C53)*$E$28,"") | D64: =IFERROR('Recyclingschritt N_0'!D90+('Recyclingschritt N_1'!D53+'Recyclingschritt N_2'!D53+'Recyclingschritt N_3'!D53+'Recyclingschritt N_4'!D53+'Recyclingschritt N_5'!D53+'Recyclingschritt N_6'!D53)*$E$28,"") | E64: =IFERROR(C64+D64,"")
A65: Ergebnis | B65: ='Recyclingschritt N_0'!B91 -> 0 | C65: =SUM(C56:C64) -> 0 | D65: =SUM(D56:D64) -> 0 | E65: =C65+D65 -> 0 | F65: =IFERROR(E65/B65,"")
A67: Output ERGEBNISSE je Herkunftsland— Berechnete Recyclingergebnisse, von in einem MS gesammelten Altbatterien 9 (RS N_0 + N_1 + N_2, etc.)
A68: Masse Altbatterieinput: | B68: =D29
A69: MS, in dem die Altbatterien gesammelt wurden: | D69: =IF('Recyclingschritt N_0'!E28<>"",'Recyclingschritt N_0'!E28,"")
A70: Element oder Verbindung | B70: Input minput 5 | C70: Output moutput 5 innerhalb der EU-MS erzeugt | D70: Output moutput 8 außerhalb der EU erzeugt | E70: Output moutput 5 Gesamt | F70: rRE10 | G70: rRM11
B71: [t/a] | C71: [t/a] | D71: [t/a] | E71: [t/a] | F71: [m%] | G71: [m%]
A72: Blei insgesamt (Pb) | B72: ='Recyclingschritt N_0'!B98 | C72: =IFERROR('Recyclingschritt N_0'!C98+('Recyclingschritt N_1'!C45+'Recyclingschritt N_2'!C45+'Recyclingschritt N_3'!C45+'Recyclingschritt N_4'!C45+'Recyclingschritt N_5'!C45+'Recyclingschritt N_6'!C45)*$E$29,"") | D72: =IFERROR('Recyclingschritt N_0'!D98+('Recyclingschritt N_1'!D45+'Recyclingschritt N_2'!D45+'Recyclingschritt N_3'!D45+'Recyclingschritt N_4'!D45+'Recyclingschritt N_5'!D45+'Recyclingschritt N_6'!D45)*$E$29,"") | E72: =IFERROR(C72+D72,"") | G72: =IFERROR(E72/B72, "ggf. Pflichtfeld!") -> ggf. Pflichtfeld!
A73: Wasserfreie Schwefelsäure (H2SO4) | B73: ='Recyclingschritt N_0'!B99 | C73: =IFERROR('Recyclingschritt N_0'!C99+('Recyclingschritt N_1'!C46+'Recyclingschritt N_2'!C46+'Recyclingschritt N_3'!C46+'Recyclingschritt N_4'!C46+'Recyclingschritt N_5'!C46+'Recyclingschritt N_6'!C46)*$E$29,"") | D73: =IFERROR('Recyclingschritt N_0'!D99+('Recyclingschritt N_1'!D46+'Recyclingschritt N_2'!D46+'Recyclingschritt N_3'!D46+'Recyclingschritt N_4'!D46+'Recyclingschritt N_5'!D46+'Recyclingschritt N_6'!D46)*$E$29,"") | E73: =IFERROR(C73+D73,"")
A74: Kunststoffe6 | B74: ='Recyclingschritt N_0'!B100 | C74: =IFERROR('Recyclingschritt N_0'!C100+('Recyclingschritt N_1'!C47+'Recyclingschritt N_2'!C47+'Recyclingschritt N_3'!C47+'Recyclingschritt N_4'!C47+'Recyclingschritt N_5'!C47+'Recyclingschritt N_6'!C47)*$E$29,"") | D74: =IFERROR('Recyclingschritt N_0'!D100+('Recyclingschritt N_1'!D47+'Recyclingschritt N_2'!D47+'Recyclingschritt N_3'!D47+'Recyclingschritt N_4'!D47+'Recyclingschritt N_5'!D47+'Recyclingschritt N_6'!D47)*$E$29,"") | E74: =IFERROR(C74+D74,"")
A75: Stahl | B75: ='Recyclingschritt N_0'!B101 | C75: =IFERROR('Recyclingschritt N_0'!C101+('Recyclingschritt N_1'!C48+'Recyclingschritt N_2'!C48+'Recyclingschritt N_3'!C48+'Recyclingschritt N_4'!C48+'Recyclingschritt N_5'!C48+'Recyclingschritt N_6'!C48)*$E$29,"") | D75: =IFERROR('Recyclingschritt N_0'!D101+('Recyclingschritt N_1'!D48+'Recyclingschritt N_2'!D48+'Recyclingschritt N_3'!D48+'Recyclingschritt N_4'!D48+'Recyclingschritt N_5'!D48+'Recyclingschritt N_6'!D48)*$E$29,"") | E75: =IFERROR(C75+D75,"")
A76: =IF('Recyclingschritt N_0'!A102<>"",'Recyclingschritt N_0'!A102,"") | B76: ='Recyclingschritt N_0'!B102 | C76: =IFERROR('Recyclingschritt N_0'!C102+('Recyclingschritt N_1'!C49+'Recyclingschritt N_2'!C49+'Recyclingschritt N_3'!C49+'Recyclingschritt N_4'!C49+'Recyclingschritt N_5'!C49+'Recyclingschritt N_6'!C49)*$E$29,"") | D76: =IFERROR('Recyclingschritt N_0'!D102+('Recyclingschritt N_1'!D49+'Recyclingschritt N_2'!D49+'Recyclingschritt N_3'!D49+'Recyclingschritt N_4'!D49+'Recyclingschritt N_5'!D49+'Recyclingschritt N_6'!D49)*$E$29,"") | E76: =IFERROR(C76+D76,"")
A77: =IF('Recyclingschritt N_0'!A103<>"",'Recyclingschritt N_0'!A103,"") | B77: ='Recyclingschritt N_0'!B103 | C77: =IFERROR('Recyclingschritt N_0'!C103+('Recyclingschritt N_1'!C50+'Recyclingschritt N_2'!C50+'Recyclingschritt N_3'!C50+'Recyclingschritt N_4'!C50+'Recyclingschritt N_5'!C50+'Recyclingschritt N_6'!C50)*$E$29,"") | D77: =IFERROR('Recyclingschritt N_0'!D103+('Recyclingschritt N_1'!D50+'Recyclingschritt N_2'!D50+'Recyclingschritt N_3'!D50+'Recyclingschritt N_4'!D50+'Recyclingschritt N_5'!D50+'Recyclingschritt N_6'!D50)*$E$29,"") | E77: =IFERROR(C77+D77,"")
A78: =IF('Recyclingschritt N_0'!A104<>"",'Recyclingschritt N_0'!A104,"") | B78: ='Recyclingschritt N_0'!B104 | C78: =IFERROR('Recyclingschritt N_0'!C104+('Recyclingschritt N_1'!C51+'Recyclingschritt N_2'!C51+'Recyclingschritt N_3'!C51+'Recyclingschritt N_4'!C51+'Recyclingschritt N_5'!C51+'Recyclingschritt N_6'!C51)*$E$29,"") | D78: =IFERROR('Recyclingschritt N_0'!D104+('Recyclingschritt N_1'!D51+'Recyclingschritt N_2'!D51+'Recyclingschritt N_3'!D51+'Recyclingschritt N_4'!D51+'Recyclingschritt N_5'!D51+'Recyclingschritt N_6'!D51)*$E$29,"") | E78: =IFERROR(C78+D78,"")
A79: =IF('Recyclingschritt N_0'!A105<>"",'Recyclingschritt N_0'!A105,"") | B79: ='Recyclingschritt N_0'!B105 | C79: =IFERROR('Recyclingschritt N_0'!C105+('Recyclingschritt N_1'!C52+'Recyclingschritt N_2'!C52+'Recyclingschritt N_3'!C52+'Recyclingschritt N_4'!C52+'Recyclingschritt N_5'!C52+'Recyclingschritt N_6'!C52)*$E$29,"") | D79: =IFERROR('Recyclingschritt N_0'!D105+('Recyclingschritt N_1'!D52+'Recyclingschritt N_2'!D52+'Recyclingschritt N_3'!D52+'Recyclingschritt N_4'!D52+'Recyclingschritt N_5'!D52+'Recyclingschritt N_6'!D52)*$E$29,"") | E79: =IFERROR(C79+D79,"")
A80: =IF('Recyclingschritt N_0'!A106<>"",'Recyclingschritt N_0'!A106,"") | B80: ='Recyclingschritt N_0'!B106 | C80: =IFERROR('Recyclingschritt N_0'!C106+('Recyclingschritt N_1'!C53+'Recyclingschritt N_2'!C53+'Recyclingschritt N_3'!C53+'Recyclingschritt N_4'!C53+'Recyclingschritt N_5'!C53+'Recyclingschritt N_6'!C53)*$E$29,"") | D80: =IFERROR('Recyclingschritt N_0'!D106+('Recyclingschritt N_1'!D53+'Recyclingschritt N_2'!D53+'Recyclingschritt N_3'!D53+'Recyclingschritt N_4'!D53+'Recyclingschritt N_5'!D53+'Recyclingschritt N_6'!D53)*$E$29,"") | E80: =IFERROR(C80+D80,"")
A81: Ergebnis | B81: =SUM(B72:B80) -> 0 | C81: =SUM(C72:C80) -> 0 | D81: =SUM(D72:D80) -> 0 | E81: =C81+D81 -> 0 | F81: =IFERROR(E81/B81,"")
A83: Output ERGEBNISSE je Herkunftsland— Berechnete Recyclingergebnisse, von in einem MS gesammelten Altbatterien 9 (RS N_0 + N_1 + N_2, etc.)
A84: Masse Altbatterieinput: | B84: =D30
A85: MS, in dem die Altbatterien gesammelt wurden: | D85: =IF('Recyclingschritt N_0'!E29<>"",'Recyclingschritt N_0'!E29,"")
A86: Element oder Verbindung | B86: Input minput 5 | C86: Output moutput 5 innerhalb der EU-MS erzeugt | D86: Output moutput 8 außerhalb der EU erzeugt | E86: Output moutput 5 Gesamt | F86: rRE10 | G86: rRM11
B87: [t/a] | C87: [t/a] | D87: [t/a] | E87: [t/a] | F87: [m%] | G87: [m%]
A88: Blei insgesamt (Pb) | B88: ='Recyclingschritt N_0'!B114 | C88: =IFERROR('Recyclingschritt N_0'!C114+('Recyclingschritt N_1'!C45+'Recyclingschritt N_2'!C45+'Recyclingschritt N_3'!C45+'Recyclingschritt N_4'!C45+'Recyclingschritt N_5'!C45+'Recyclingschritt N_6'!C45)*$E$30,"") | D88: =IFERROR('Recyclingschritt N_0'!D114+('Recyclingschritt N_1'!D45+'Recyclingschritt N_2'!D45+'Recyclingschritt N_3'!D45+'Recyclingschritt N_4'!D45+'Recyclingschritt N_5'!D45+'Recyclingschritt N_6'!D45)*$E$30,"") | E88: =IFERROR(C88+D88,"") | G88: =IFERROR(E88/B88, "ggf. Pflichtfeld!") -> ggf. Pflichtfeld!
A89: Wasserfreie Schwefelsäure (H2SO4) | B89: ='Recyclingschritt N_0'!B115 | C89: =IFERROR('Recyclingschritt N_0'!C115+('Recyclingschritt N_1'!C46+'Recyclingschritt N_2'!C46+'Recyclingschritt N_3'!C46+'Recyclingschritt N_4'!C46+'Recyclingschritt N_5'!C46+'Recyclingschritt N_6'!C46)*$E$30,"") | D89: =IFERROR('Recyclingschritt N_0'!D115+('Recyclingschritt N_1'!D46+'Recyclingschritt N_2'!D46+'Recyclingschritt N_3'!D46+'Recyclingschritt N_4'!D46+'Recyclingschritt N_5'!D46+'Recyclingschritt N_6'!D46)*$E$30,"") | E89: =IFERROR(C89+D89,"")
A90: Kunststoffe6 | B90: ='Recyclingschritt N_0'!B116 | C90: =IFERROR('Recyclingschritt N_0'!C116+('Recyclingschritt N_1'!C47+'Recyclingschritt N_2'!C47+'Recyclingschritt N_3'!C47+'Recyclingschritt N_4'!C47+'Recyclingschritt N_5'!C47+'Recyclingschritt N_6'!C47)*$E$30,"") | D90: =IFERROR('Recyclingschritt N_0'!D116+('Recyclingschritt N_1'!D47+'Recyclingschritt N_2'!D47+'Recyclingschritt N_3'!D47+'Recyclingschritt N_4'!D47+'Recyclingschritt N_5'!D47+'Recyclingschritt N_6'!D47)*$E$30,"") | E90: =IFERROR(C90+D90,"")
A91: Stahl | B91: ='Recyclingschritt N_0'!B117 | C91: =IFERROR('Recyclingschritt N_0'!C117+('Recyclingschritt N_1'!C48+'Recyclingschritt N_2'!C48+'Recyclingschritt N_3'!C48+'Recyclingschritt N_4'!C48+'Recyclingschritt N_5'!C48+'Recyclingschritt N_6'!C48)*$E$30,"") | D91: =IFERROR('Recyclingschritt N_0'!D117+('Recyclingschritt N_1'!D48+'Recyclingschritt N_2'!D48+'Recyclingschritt N_3'!D48+'Recyclingschritt N_4'!D48+'Recyclingschritt N_5'!D48+'Recyclingschritt N_6'!D48)*$E$30,"") | E91: =IFERROR(C91+D91,"")
A92: =IF('Recyclingschritt N_0'!A118<>"",'Recyclingschritt N_0'!A118,"") | B92: ='Recyclingschritt N_0'!B118 | C92: =IFERROR('Recyclingschritt N_0'!C118+('Recyclingschritt N_1'!C49+'Recyclingschritt N_2'!C49+'Recyclingschritt N_3'!C49+'Recyclingschritt N_4'!C49+'Recyclingschritt N_5'!C49+'Recyclingschritt N_6'!C49)*$E$30,"") | D92: =IFERROR('Recyclingschritt N_0'!D118+('Recyclingschritt N_1'!D49+'Recyclingschritt N_2'!D49+'Recyclingschritt N_3'!D49+'Recyclingschritt N_4'!D49+'Recyclingschritt N_5'!D49+'Recyclingschritt N_6'!D49)*$E$30,"") | E92: =IFERROR(C92+D92,"")
A93: =IF('Recyclingschritt N_0'!A119<>"",'Recyclingschritt N_0'!A119,"") | B93: ='Recyclingschritt N_0'!B119 | C93: =IFERROR('Recyclingschritt N_0'!C119+('Recyclingschritt N_1'!C50+'Recyclingschritt N_2'!C50+'Recyclingschritt N_3'!C50+'Recyclingschritt N_4'!C50+'Recyclingschritt N_5'!C50+'Recyclingschritt N_6'!C50)*$E$30,"") | D93: =IFERROR('Recyclingschritt N_0'!D119+('Recyclingschritt N_1'!D50+'Recyclingschritt N_2'!D50+'Recyclingschritt N_3'!D50+'Recyclingschritt N_4'!D50+'Recyclingschritt N_5'!D50+'Recyclingschritt N_6'!D50)*$E$30,"") | E93: =IFERROR(C93+D93,"")
A94: =IF('Recyclingschritt N_0'!A120<>"",'Recyclingschritt N_0'!A120,"") | B94: ='Recyclingschritt N_0'!B120 | C94: =IFERROR('Recyclingschritt N_0'!C120+('Recyclingschritt N_1'!C51+'Recyclingschritt N_2'!C51+'Recyclingschritt N_3'!C51+'Recyclingschritt N_4'!C51+'Recyclingschritt N_5'!C51+'Recyclingschritt N_6'!C51)*$E$30,"") | D94: =IFERROR('Recyclingschritt N_0'!D120+('Recyclingschritt N_1'!D51+'Recyclingschritt N_2'!D51+'Recyclingschritt N_3'!D51+'Recyclingschritt N_4'!D51+'Recyclingschritt N_5'!D51+'Recyclingschritt N_6'!D51)*$E$30,"") | E94: =IFERROR(C94+D94,"")
A95: =IF('Recyclingschritt N_0'!A121<>"",'Recyclingschritt N_0'!A121,"") | B95: ='Recyclingschritt N_0'!B121 | C95: =IFERROR('Recyclingschritt N_0'!C121+('Recyclingschritt N_1'!C52+'Recyclingschritt N_2'!C52+'Recyclingschritt N_3'!C52+'Recyclingschritt N_4'!C52+'Recyclingschritt N_5'!C52+'Recyclingschritt N_6'!C52)*$E$30,"") | D95: =IFERROR('Recyclingschritt N_0'!D121+('Recyclingschritt N_1'!D52+'Recyclingschritt N_2'!D52+'Recyclingschritt N_3'!D52+'Recyclingschritt N_4'!D52+'Recyclingschritt N_5'!D52+'Recyclingschritt N_6'!D52)*$E$30,"") | E95: =IFERROR(C95+D95,"")
A96: =IF('Recyclingschritt N_0'!A122<>"",'Recyclingschritt N_0'!A122,"") | B96: ='Recyclingschritt N_0'!B122 | C96: =IFERROR('Recyclingschritt N_0'!C122+('Recyclingschritt N_1'!C53+'Recyclingschritt N_2'!C53+'Recyclingschritt N_3'!C53+'Recyclingschritt N_4'!C53+'Recyclingschritt N_5'!C53+'Recyclingschritt N_6'!C53)*$E$30,"") | D96: =IFERROR('Recyclingschritt N_0'!D122+('Recyclingschritt N_1'!D53+'Recyclingschritt N_2'!D53+'Recyclingschritt N_3'!D53+'Recyclingschritt N_4'!D53+'Recyclingschritt N_5'!D53+'Recyclingschritt N_6'!D53)*$E$30,"") | E96: =IFERROR(C96+D96,"")
A97: Ergebnis | B97: =SUM(B88:B96) -> 0 | C97: =SUM(C88:C96) -> 0 | D97: =SUM(D88:D96) -> 0 | E97: =C97+D97 -> 0 | F97: =IFERROR(E97/B97,"")
A99: Output ERGEBNISSE je Herkunftsland— Berechnete Recyclingergebnisse, von in einem MS gesammelten Altbatterien 9 (RS N_0 + N_1 + N_2, etc.)
A100: Masse Altbatterieinput: | B100: =D31
A101: MS, in dem die Altbatterien gesammelt wurden: | D101: =IF('Recyclingschritt N_0'!E30<>"",'Recyclingschritt N_0'!E30,"")
A102: Element oder Verbindung | B102: Input minput 5 | C102: Output moutput 5 innerhalb der EU-MS erzeugt | D102: Output moutput 8 außerhalb der EU erzeugt | E102: Output moutput 5 Gesamt | F102: rRE10 | G102: rRM11
B103: [t/a] | C103: [t/a] | D103: [t/a] | E103: [t/a] | F103: [m%] | G103: [m%]
A104: Blei insgesamt (Pb) | B104: ='Recyclingschritt N_0'!B130 | C104: =IFERROR('Recyclingschritt N_0'!C130+('Recyclingschritt N_1'!C45+'Recyclingschritt N_2'!C45+'Recyclingschritt N_3'!C45+'Recyclingschritt N_4'!C45+'Recyclingschritt N_5'!C45+'Recyclingschritt N_6'!C45)*$E$31,"") | D104: =IFERROR('Recyclingschritt N_0'!D130+('Recyclingschritt N_1'!D45+'Recyclingschritt N_2'!D45+'Recyclingschritt N_3'!D45+'Recyclingschritt N_4'!D45+'Recyclingschritt N_5'!D45+'Recyclingschritt N_6'!D45)*$E$31,"") | E104: =IFERROR(C104+D104,"") | G104: =IFERROR(E104/B104, "ggf. Pflichtfeld!") -> ggf. Pflichtfeld!
A105: Wasserfreie Schwefelsäure (H2SO4) | B105: ='Recyclingschritt N_0'!B131 | C105: =IFERROR('Recyclingschritt N_0'!C131+('Recyclingschritt N_1'!C46+'Recyclingschritt N_2'!C46+'Recyclingschritt N_3'!C46+'Recyclingschritt N_4'!C46+'Recyclingschritt N_5'!C46+'Recyclingschritt N_6'!C46)*$E$31,"") | D105: =IFERROR('Recyclingschritt N_0'!D131+('Recyclingschritt N_1'!D46+'Recyclingschritt N_2'!D46+'Recyclingschritt N_3'!D46+'Recyclingschritt N_4'!D46+'Recyclingschritt N_5'!D46+'Recyclingschritt N_6'!D46)*$E$31,"") | E105: =IFERROR(C105+D105,"")
A106: Kunststoffe6 | B106: ='Recyclingschritt N_0'!B132 | C106: =IFERROR('Recyclingschritt N_0'!C132+('Recyclingschritt N_1'!C47+'Recyclingschritt N_2'!C47+'Recyclingschritt N_3'!C47+'Recyclingschritt N_4'!C47+'Recyclingschritt N_5'!C47+'Recyclingschritt N_6'!C47)*$E$31,"") | D106: =IFERROR('Recyclingschritt N_0'!D132+('Recyclingschritt N_1'!D47+'Recyclingschritt N_2'!D47+'Recyclingschritt N_3'!D47+'Recyclingschritt N_4'!D47+'Recyclingschritt N_5'!D47+'Recyclingschritt N_6'!D47)*$E$31,"") | E106: =IFERROR(C106+D106,"")
A107: Stahl | B107: ='Recyclingschritt N_0'!B133 | C107: =IFERROR('Recyclingschritt N_0'!C133+('Recyclingschritt N_1'!C48+'Recyclingschritt N_2'!C48+'Recyclingschritt N_3'!C48+'Recyclingschritt N_4'!C48+'Recyclingschritt N_5'!C48+'Recyclingschritt N_6'!C48)*$E$31,"") | D107: =IFERROR('Recyclingschritt N_0'!D133+('Recyclingschritt N_1'!D48+'Recyclingschritt N_2'!D48+'Recyclingschritt N_3'!D48+'Recyclingschritt N_4'!D48+'Recyclingschritt N_5'!D48+'Recyclingschritt N_6'!D48)*$E$31,"") | E107: =IFERROR(C107+D107,"")
A108: =IF('Recyclingschritt N_0'!A134<>"",'Recyclingschritt N_0'!A134,"") | B108: ='Recyclingschritt N_0'!B134 | C108: =IFERROR('Recyclingschritt N_0'!C134+('Recyclingschritt N_1'!C49+'Recyclingschritt N_2'!C49+'Recyclingschritt N_3'!C49+'Recyclingschritt N_4'!C49+'Recyclingschritt N_5'!C49+'Recyclingschritt N_6'!C49)*$E$31,"") | D108: =IFERROR('Recyclingschritt N_0'!D134+('Recyclingschritt N_1'!D49+'Recyclingschritt N_2'!D49+'Recyclingschritt N_3'!D49+'Recyclingschritt N_4'!D49+'Recyclingschritt N_5'!D49+'Recyclingschritt N_6'!D49)*$E$31,"") | E108: =IFERROR(C108+D108,"")
A109: =IF('Recyclingschritt N_0'!A135<>"",'Recyclingschritt N_0'!A135,"") | B109: ='Recyclingschritt N_0'!B135 | C109: =IFERROR('Recyclingschritt N_0'!C135+('Recyclingschritt N_1'!C50+'Recyclingschritt N_2'!C50+'Recyclingschritt N_3'!C50+'Recyclingschritt N_4'!C50+'Recyclingschritt N_5'!C50+'Recyclingschritt N_6'!C50)*$E$31,"") | D109: =IFERROR('Recyclingschritt N_0'!D135+('Recyclingschritt N_1'!D50+'Recyclingschritt N_2'!D50+'Recyclingschritt N_3'!D50+'Recyclingschritt N_4'!D50+'Recyclingschritt N_5'!D50+'Recyclingschritt N_6'!D50)*$E$31,"") | E109: =IFERROR(C109+D109,"")
A110: =IF('Recyclingschritt N_0'!A136<>"",'Recyclingschritt N_0'!A136,"") | B110: ='Recyclingschritt N_0'!B136 | C110: =IFERROR('Recyclingschritt N_0'!C136+('Recyclingschritt N_1'!C51+'Recyclingschritt N_2'!C51+'Recyclingschritt N_3'!C51+'Recyclingschritt N_4'!C51+'Recyclingschritt N_5'!C51+'Recyclingschritt N_6'!C51)*$E$31,"") | D110: =IFERROR('Recyclingschritt N_0'!D136+('Recyclingschritt N_1'!D51+'Recyclingschritt N_2'!D51+'Recyclingschritt N_3'!D51+'Recyclingschritt N_4'!D51+'Recyclingschritt N_5'!D51+'Recyclingschritt N_6'!D51)*$E$31,"") | E110: =IFERROR(C110+D110,"")
...

Sheet Recyclingschritt N_0
C1: Name des (ersten) Recyclingbetriebes: | H1: =IF('Titelseite Pb-Altbatterien'!$F$7<>"",'Titelseite Pb-Altbatterien'!$F$7,"")
A2: DV Abschnitt 6 (Teil 2) | B2: Die einzelnen Recyclingschritte, d. h., alle beteiligten Recyclinganlagen, sind zu dokumentieren:
A3: Ausfüllhinweis: Angaben müssen bzw. können nur in den weiß gehaltenen Eingabefeldern hinterlegt werden. Teilweise werden Ihre Angaben automatisch innerhalb eines Formblattes sowie auf Folgeformblätter übertragen. Übernommene Angaben sind jeweils blau gekennzeichnet (vgl. auch die allgemeinen Formularbearbeitungshinweise im Formblatt "Ausfüllhinweise").
A5: Recyclingschritt | B5: =CONCATENATE("N_0, hier: ",'Titelseite Pb-Altbatterien'!F12) -> N_0, hier:
A8: Kalenderjahr | C8: =IF('Titelseite Pb-Altbatterien'!$F$8<>"",'Titelseite Pb-Altbatterien'!$F$8,"") -> 2026
A10: Angaben zum Recyclingbetrieb1
A11: Name
A12: Straße und Hausnummer
A13: PLZ
A14: Ort
A15: Land
A16: Kontaktperson
A17: Telefon
A18: E-Mail
A20: Beschreibung der einzelnen Recyclingschritte: | C20: Bitte Anlage A "Beschreibung des gesamten Batterie-Recyclingverfahrens" am Ende des Formulars nutzen.
A23: 1. Recycling-Input zum Zeitpunkt der Zuführung zum jeweiligen Recyclingschritt2 (Altbatterien oder Fraktionen von Altbatterien) | H23: =CONCATENATE("hier: ",$H$1) -> hier:
A24: Art/Beschreibung der Altbatterien und -akkumulatoren | C24: Abfallcode nach dem Europäischen Abfall-verzeichnis | D24: Masse3 | E24: Mitgliedstaat, in dem die Altbatterien gesammelt wurden12 | G24: Masseanteile
D25: [t/a] | G25: [%]
G26: =IF(D26<>"",D26/$D$32,"")
G27: =IF(D27<>"",D27/$D$32,"")
G28: =IF(D28<>"",D28/$D$32,"")
G29: =IF(D29<>"",D29/$D$32,"")
G30: =IF(D30<>"",D30/$D$32,"")
G31: =IF(D31<>"",D31/$D$32,"")
A32: Gesamt | D32: =SUM(D26:D31) -> 0 | E32: =SUM(G26:G31) -> 0
A34: 2. Recycling-Output Zwischenfraktionen4 (noch keine "Endgültige Outputfraktion" - zur weiteren Behandlung) | H34: =CONCATENATE("hier: ",$H$1) -> hier:
A35: Beschreibung der Fraktion | C35: Abfallcode nach dem Europäischen Abfall-verzeichnis | D35: Masse | E35: Weitere Behandlung
E36: Weiterer Recycling- schritt | G36: Weiterer Akteur5 | H36: Weiterer Recycling- schritt
D37: [t/a] | E37: Bezeichnung | G37: Name des Empfängers | H37: Nummer
H38: N_1
H39: N_2
H40: N_3
H41: N_4
H42: N_5
H43: N_6
A44: Gesamt Output der Zwischenfraktionen | D44: =SUM(D38:D42) -> 0
A46: 3. Recycling-Output Input- und Outputfraktionen, die in den rRE- und rRM-Berechnungen6 berücksichtigt werden und aus Altbatterien stammen, die in DE und anderen MS gesammelt wurden | H46: =CONCATENATE("hier: ",$H$1) -> hier:
A47: Gesamtbetrachtung RS N_0: Ergebnisse des gesamten Anlagen In- und Outputs | B47: =D32 -> 0 | D47: Die benötigte Aufteilung nach Ländern, in den die Altbatterien gesammelt wurden, erfolgt in weiteren Schritten automatisiert gemäß den Masseanteilen unter 1., Spalte G.
A48: Element oder Verbindung7, 12 | B48: Input minput | C48: Output moutput innerhalb der EU-MS erzeugt | D48: Output moutput außerhalb der EU erzeugt8 | E48: Output moutput Gesamt | F48: Bezeichnung der Outputfraktion (kein Abfall), die das Element oder die Verbindung enthält | G48: Ertrag der Outputfraktion | H48: Verbleib der Fraktion
B49: [t/a] | C49: [t/a] | D49: [t/a] | E49: [t/a] | G49: [m%]
A50: Blei insgesamt (Pb) | B50: 800 | E50: =C50 -> 0
A51: Wasserfreie Schwefelsäure (H2SO4) | E51: =C51 -> 0
A52: Kunststoffe9 | E52: =C52 -> 0
A53: Stahl | E53: =C53 -> 0
E54: =C54 -> 0
E55: =C55 -> 0
E56: =C56 -> 0
E57: =C57 -> 0
E58: =C58 -> 0
A59: Ergebnis11 | B59: =SUM(B50:B58) -> 800 | C59: =SUM(C50:C58) -> 0 | E59: =SUM(E50:E58) -> 0
A61: 4. Recycling-Output Input- und Outputfraktionen, die in den rRE- und rRM-Berechnungen6 berücksichtigt werden und aus Altbatterien stammen, die in DE gesammelt wurden | H61: =CONCATENATE("hier: ",$H$1) -> hier:
A62: Einzelbetrachtung je Herkunftsland (RS N_0) Masse Altbatterieinput: | B62: =D26 -> 0
A63: MS, in dem die Altbatterien gesammelt wurden: | D63: =IF(E26<>"",E26,"")
A64: Element oder Verbindung7, 12 | B64: Input minput | C64: Output moutput innerhalb der EU-MS erzeugt | D64: Output moutput außerhalb der EU erzeugt8 | E64: Output moutput Gesamt | F64: Bezeichnung der Outputfraktion (kein Abfall), die das Element oder die Verbindung enthält | G64: Ertrag der Outputfraktion | H64: Verbleib der Fraktion
B65: [t/a] | C65: [t/a] | D65: [t/a] | E65: [t/a] | G65: [m%]
A66: Blei insgesamt (Pb) | B66: =IFERROR(B50*$G$26,"") | C66: =IFERROR(C50*$G$26,"") | E66: =C66 | F66: =IF($D$26<>"",F50,"") | G66: =IF($D$26<>"",G50,"") | H66: =IF($D$26<>"",H50,"")
A67: Wasserfreie Schwefelsäure (H2SO4) | B67: =IFERROR(B51*$G$26,"") | C67: =IFERROR(C51*$G$26,"") | E67: =C67 | F67: =IF($D$26<>"",F51,"") | G67: =IF($D$26<>"",G51,"") | H67: =IF($D$26<>"",H51,"")
A68: Kunststoffe9 | B68: =IFERROR(B52*$G$26,"") | C68: =IFERROR(C52*$G$26,"") | E68: =C68 | F68: =IF($D$26<>"",F52,"") | G68: =IF($D$26<>"",G52,"") | H68: =IF($D$26<>"",H52,"")
A69: Stahl | B69: =IFERROR(B53*$G$26,"") | C69: =IFERROR(C53*$G$26,"") | E69: =C69 | F69: =IF($D$26<>"",F53,"") | G69: =IF($D$26<>"",G53,"") | H69: =IF($D$26<>"",H53,"")
A70: =IF('Recyclingschritt N_0'!A54<>"",'Recyclingschritt N_0'!A54,"") | B70: =IFERROR(B54*$G$26,"") | C70: =IFERROR(C54*$G$26,"") | E70: =C70 | F70: =IF($D$26<>"",F54,"") | G70: =IF($D$26<>"",G54,"") | H70: =IF($D$26<>"",H54,"")
A71: =IF('Recyclingschritt N_0'!A55<>"",'Recyclingschritt N_0'!A55,"") | B71: =IFERROR(B55*$G$26,"") | C71: =IFERROR(C55*$G$26,"") | E71: =C71 | F71: =IF($D$26<>"",F55,"") | G71: =IF($D$26<>"",G55,"") | H71: =IF($D$26<>"",H55,"")
A72: =IF('Recyclingschritt N_0'!A56<>"",'Recyclingschritt N_0'!A56,"") | B72: =IFERROR(B56*$G$26,"") | C72: =IFERROR(C56*$G$26,"") | E72: =C72 | F72: =IF($D$26<>"",F56,"") | G72: =IF($D$26<>"",G56,"") | H72: =IF($D$26<>"",H56,"")
A73: =IF('Recyclingschritt N_0'!A57<>"",'Recyclingschritt N_0'!A57,"") | B73: =IFERROR(B57*$G$26,"") | C73: =IFERROR(C57*$G$26,"") | E73: =C73 | F73: =IF($D$26<>"",F57,"") | G73: =IF($D$26<>"",G57,"") | H73: =IF($D$26<>"",H57,"")
A74: =IF('Recyclingschritt N_0'!A58<>"",'Recyclingschritt N_0'!A58,"") | B74: =IFERROR(B58*$G$26,"") | C74: =IFERROR(C58*$G$26,"") | E74: =C74 | F74: =IF($D$26<>"",F58,"") | G74: =IF($D$26<>"",G58,"") | H74: =IF($D$26<>"",H58,"")
A75: Ergebnis11 | B75: =SUM(B66:B74) -> 0 | C75: =SUM(C66:C74) -> 0 | E75: =SUM(E66:E74) -> 0
A77: 5. Recycling-Output Input- und Outputfraktionen, die in den rRE- und rRM-Berechnungen6 berücksichtigt werden und aus Altbatterien stammen, die in einem anderen Mitgliedstaat gesammelt wurden12 | H77: =CONCATENATE("hier: ",$H$1) -> hier:
A78: Einzelbetrachtung je Herkunftsland (RS N_0) Masse Altbatterieinput: | B78: =D27 -> 0
A79: MS, in dem die Altbatterien gesammelt wurden: | D79: =IF(E27<>"",E27,"")
A80: Element oder Verbindung7, 12 | B80: Input minput | C80: Output moutput innerhalb der EU-MS erzeugt | D80: Output moutput außerhalb der EU erzeugt8 | E80: Output moutput Gesamt | F80: Bezeichnung der Outputfraktion (kein Abfall), die das Element oder die Verbindung enthält | G80: Ertrag der Outputfraktion | H80: Verbleib der Fraktion
B81: [t/a] | C81: [t/a] | D81: [t/a] | E81: [t/a] | G81: [m%]
A82: Blei insgesamt (Pb) | B82: =IFERROR(B50*$G$27,"") | C82: =IFERROR(C50*$G$27,"") | E82: =C82 | F82: =IF($D$27<>"",F50,"") | G82: =IF($D$27<>"",G50,"") | H82: =IF($D$27<>"",H50,"")
A83: Wasserfreie Schwefelsäure (H2SO4) | B83: =IFERROR(B51*$G$27,"") | C83: =IFERROR(C51*$G$27,"") | E83: =C83 | F83: =IF($D$27<>"",F51,"") | G83: =IF($D$27<>"",G51,"") | H83: =IF($D$27<>"",H51,"")
A84: Kunststoffe9 | B84: =IFERROR(B52*$G$27,"") | C84: =IFERROR(C52*$G$27,"") | E84: =C84 | F84: =IF($D$27<>"",F52,"") | G84: =IF($D$27<>"",G52,"") | H84: =IF($D$27<>"",H52,"")
A85: Stahl | B85: =IFERROR(B53*$G$27,"") | C85: =IFERROR(C53*$G$27,"") | E85: =C85 | F85: =IF($D$27<>"",F53,"") | G85: =IF($D$27<>"",G53,"") | H85: =IF($D$27<>"",H53,"")
A86: =IF('Recyclingschritt N_0'!A54<>"",'Recyclingschritt N_0'!A54,"") | B86: =IFERROR(B54*$G$27,"") | C86: =IFERROR(C54*$G$27,"") | E86: =C86 | F86: =IF($D$27<>"",F54,"") | G86: =IF($D$27<>"",G54,"") | H86: =IF($D$27<>"",H54,"")
A87: =IF('Recyclingschritt N_0'!A55<>"",'Recyclingschritt N_0'!A55,"") | B87: =IFERROR(B55*$G$27,"") | C87: =IFERROR(C55*$G$27,"") | E87: =C87 | F87: =IF($D$27<>"",F55,"") | G87: =IF($D$27<>"",G55,"") | H87: =IF($D$27<>"",H55,"")
A88: =IF('Recyclingschritt N_0'!A56<>"",'Recyclingschritt N_0'!A56,"") | B88: =IFERROR(B56*$G$27,"") | C88: =IFERROR(C56*$G$27,"") | E88: =C88 | F88: =IF($D$27<>"",F56,"") | G88: =IF($D$27<>"",G56,"") | H88: =IF($D$27<>"",H56,"")
A89: =IF('Recyclingschritt N_0'!A57<>"",'Recyclingschritt N_0'!A57,"") | B89: =IFERROR(B57*$G$27,"") | C89: =IFERROR(C57*$G$27,"") | E89: =C89 | F89: =IF($D$27<>"",F57,"") | G89: =IF($D$27<>"",G57,"") | H89: =IF($D$27<>"",H57,"")
A90: =IF('Recyclingschritt N_0'!A58<>"",'Recyclingschritt N_0'!A58,"") | B90: =IFERROR(B58*$G$27,"") | C90: =IFERROR(C58*$G$27,"") | E90: =C90 | F90: =IF($D$27<>"",F58,"") | G90: =IF($D$27<>"",G58,"") | H90: =IF($D$27<>"",H58,"")
A91: Ergebnis11 | B91: =SUM(B82:B90) -> 0 | C91: =SUM(C82:C90) -> 0 | E91: =SUM(E82:E90) -> 0
A93: 6. Recycling-Output Input- und Outputfraktionen, die in den rRE- und rRM-Berechnungen6 berücksichtigt werden und aus Altbatterien stammen, die in einem anderen Mitgliedstaat gesammelt wurden12 | H93: =CONCATENATE("hier: ",$H$1) -> hier:
A94: Einzelbetrachtung je Herkunftsland (RS N_0) Masse Altbatterieinput: | B94: =D28 -> 0
A95: MS, in dem die Altbatterien gesammelt wurden: | D95: =IF(E28<>"",E28,"")
A96: Element oder Verbindung7, 12 | B96: Input minput | C96: Output moutput innerhalb der EU-MS erzeugt | D96: Output moutput außerhalb der EU erzeugt8 | E96: Output moutput Gesamt | F96: Bezeichnung der Outputfraktion (kein Abfall), die das Element oder die Verbindung enthält | G96: Ertrag der Outputfraktion | H96: Verbleib der Fraktion
B97: [t/a] | C97: [t/a] | D97: [t/a] | E97: [t/a] | G97: [m%]
A98: Blei insgesamt (Pb) | B98: =IFERROR(B50*$G$28,"") | C98: =IFERROR(C50*$G$28,"") | E98: =C98 | F98: =IF($D$28<>"",F50,"") | G98: =IF($D$28<>"",G50,"") | H98: =IF($D$28<>"",H50,"")
A99: Wasserfreie Schwefelsäure (H2SO4) | B99: =IFERROR(B51*$G$28,"") | C99: =IFERROR(C51*$G$28,"") | E99: =C99 | F99: =IF($D$28<>"",F51,"") | G99: =IF($D$28<>"",G51,"") | H99: =IF($D$28<>"",H51,"")
A100: Kunststoffe9 | B100: =IFERROR(B52*$G$28,"") | C100: =IFERROR(C52*$G$28,"") | E100: =C100 | F100: =IF($D$28<>"",F52,"") | G100: =IF($D$28<>"",G52,"") | H100: =IF($D$28<>"",H52,"")
A101: Stahl | B101: =IFERROR(B53*$G$28,"") | C101: =IFERROR(C53*$G$28,"") | E101: =C101 | F101: =IF($D$28<>"",F53,"") | G101: =IF($D$28<>"",G53,"") | H101: =IF($D$28<>"",H53,"")
A102: =IF('Recyclingschritt N_0'!A54<>"",'Recyclingschritt N_0'!A54,"") | B102: =IFERROR(B54*$G$28,"") | C102: =IFERROR(C54*$G$28,"") | E102: =C102 | F102: =IF($D$28<>"",F54,"") | G102: =IF($D$28<>"",G54,"") | H102: =IF($D$28<>"",H54,"")
A103: =IF('Recyclingschritt N_0'!A55<>"",'Recyclingschritt N_0'!A55,"") | B103: =IFERROR(B55*$G$28,"") | C103: =IFERROR(C55*$G$28,"") | E103: =C103 | F103: =IF($D$28<>"",F55,"") | G103: =IF($D$28<>"",G55,"") | H103: =IF($D$28<>"",H55,"")
A104: =IF('Recyclingschritt N_0'!A56<>"",'Recyclingschritt N_0'!A56,"") | B104: =IFERROR(B56*$G$28,"") | C104: =IFERROR(C56*$G$28,"") | E104: =C104 | F104: =IF($D$28<>"",F56,"") | G104: =IF($D$28<>"",G56,"") | H104: =IF($D$28<>"",H56,"")
A105: =IF('Recyclingschritt N_0'!A57<>"",'Recyclingschritt N_0'!A57,"") | B105: =IFERROR(B57*$G$28,"") | C105: =IFERROR(C57*$G$28,"") | F105: =IF($D$28<>"",F57,"") | G105: =IF($D$28<>"",G57,"") | H105: =IF($D$28<>"",H57,"")
A106: =IF('Recyclingschritt N_0'!A58<>"",'Recyclingschritt N_0'!A58,"") | B106: =IFERROR(B58*$G$28,"") | C106: =IFERROR(C58*$G$28,"") | E106: =C106 | F106: =IF($D$28<>"",F58,"") | G106: =IF($D$28<>"",G58,"") | H106: =IF($D$28<>"",H58,"")
A107: Ergebnis11 | B107: =SUM(B98:B106) -> 0 | C107: =SUM(C98:C106) -> 0 | E107: =SUM(E98:E106) -> 0
A109: 7. Recycling-Output Input- und Outputfraktionen, die in den rRE- und rRM-Berechnungen6 berücksichtigt werden und aus Altbatterien stammen, die in einem anderen Mitgliedstaat gesammelt wurden12 | H109: =CONCATENATE("hier: ",$H$1) -> hier:
A110: Einzelbetrachtung je Herkunftsland (RS N_0) Masse Altbatterieinput: | B110: =D29 -> 0
A111: MS, in dem die Altbatterien gesammelt wurden: | D111: =IF(E29<>"",E29,"")
A112: Element oder Verbindung7, 12 | B112: Input minput | C112: Output moutput innerhalb der EU-MS erzeugt | D112: Output moutput außerhalb der EU erzeugt8 | E112: Output moutput Gesamt | F112: Bezeichnung der Outputfraktion (kein Abfall), die das Element oder die Verbindung enthält | G112: Ertrag der Outputfraktion | H112: Verbleib der Fraktion
B113: [t/a] | C113: [t/a] | D113: [t/a] | E113: [t/a] | G113: [m%]
...

Sheet Recyclingschritt N_1
C1: Name des (ersten) Recyclingbetriebes: | H1: =IF('Titelseite Pb-Altbatterien'!$F$7<>"",'Titelseite Pb-Altbatterien'!$F$7,"")
A2: DV Abschnitt 6 (Teil 2) | B2: Die einzelnen Recyclingschritte, d. h. alle beteiligten Recyclinganlagen, sind zu dokumentieren:
A3: Ausfüllhinweis: Angaben müssen bzw. können nur in den weiß gehaltenen Eingabefeldern hinterlegt werden. Teilweise werden Ihre Angaben automatisch innerhalb eines Formblattes sowie auf Folgeformblätter übertragen. Übernommene Angaben sind jeweils blau gekennzeichnet (vgl. auch die allgemeinen Formularbearbeitungshinweise im Formblatt "Ausfüllhinweise").
A5: Recyclingschritt | B5: =CONCATENATE("N_1, hier: ",IF('Titelseite Pb-Altbatterien'!$B$15<>"",'Titelseite Pb-Altbatterien'!$B$15,"")) -> N_1, hier:
A7: Kalenderjahr | C7: =IF('Titelseite Pb-Altbatterien'!$F$8<>"",'Titelseite Pb-Altbatterien'!$F$8,"") -> 2026
A9: Angaben zum Recyclingbetrieb1
A10: Name
A11: Straße und Hausnummer
A12: PLZ
A13: Ort
A14: Land
A15: Kontaktperson
A16: Telefon
A17: E-Mail
A19: Beschreibung der einzelnen Recyclingschritte: | C19: Bitte Anlage B "Beschreibung des einzelnen Recyclingschrittes" am Ende des Formulars zur Beschreibung der einzelnen Recyclingverfahren bspw. N_1, N_2, etc. nutzen.
A22: 1. Recycling-Input zum Zeitpunkt der Zuführung zum jeweiligen Recyclingschritt2 (Altbatterien oder Fraktionen von Altbatterien) | H22: =CONCATENATE("hier: ",$C$10) -> hier:
A23: Art des Inputs | C23: Abfallcode nach dem Europäischen Abfall-verzeichnis | D23: Masse3
D24: [t/a]
A25: {=IF('Recyclingschritt N_0'!A38:B38<>"",'Recyclingschritt N_0'!A38:B38,"")} | C25: =IF('Recyclingschritt N_0'!C38<>"",'Recyclingschritt N_0'!C38,"") | D25: =IF('Recyclingschritt N_0'!D38<>"",'Recyclingschritt N_0'!D38,"")
A31: 2. Recycling-Output Zwischenfraktionen4 (noch keine "Endgültige Outputfraktion" - zur weiteren Behandlung) | H31: =CONCATENATE("hier: ",C10) -> hier:
A32: Beschreibung der Fraktion | C32: Abfallcode nach dem Europäischen Abfall-verzeichnis | D32: Masse | E32: Weitere Behandlung
E33: Weiterer Recycling- schritt | G33: Weiterer Akteur5 | H33: Weiterer Recycling- schritt
D34: [t/a] | E34: Bezeichnung | G34: Name des Empfängers | H34: Nummer
H35: N_X
H36: N_X
H37: N_X
H38: N_X
H39: N_X
A40: Gesamt Output der Zwischenfraktionen | D40: =SUM(D35:D39) -> 0
A42: 3. Recycling-Output Input- und Outputfraktionen, die in den rRE- und rRM-Berechnungen6 berücksichtigt werden. | H42: =CONCATENATE("hier: ",$C$10) -> hier:
A43: Element oder Verbindung7 | B43: Input minput (nur dieser Recyclingschritt) | C43: Output moutput innerhalb der EU-MS erzeugt | D43: Output moutput außerhalb der EU erzeugt8 | E43: Output moutput Gesamt | F43: Bezeichnung der Outputfraktion (kein Abfall), die das Element oder die Verbindung enthält | G43: Ertrag der Outputfraktion | H43: Verbleib der Fraktion
B44: [t/a] | C44: [t/a] | D44: [t/a] | E44: [t/a] | G44: [m%]
A45: Blei insgesamt (Pb) | E45: =C45+D45 -> 0
A46: Wasserfreie Schwefelsäure (H2SO4) | E46: =C46+D46 -> 0
A47: Kunststoffe9 | E47: =C47+D47 -> 0
A48: Stahl | E48: =C48+D48 -> 0
A49: =IF('Recyclingschritt N_0'!A54<>"",'Recyclingschritt N_0'!A54,"") | E49: =C49+D49 -> 0
A50: =IF('Recyclingschritt N_0'!A55<>"",'Recyclingschritt N_0'!A55,"") | E50: =C50+D50 -> 0
A51: =IF('Recyclingschritt N_0'!A56<>"",'Recyclingschritt N_0'!A56,"") | E51: =C51+D51 -> 0
A52: =IF('Recyclingschritt N_0'!A57<>"",'Recyclingschritt N_0'!A57,"") | E52: =C52+D52 -> 0
A53: =IF('Recyclingschritt N_0'!A58<>"",'Recyclingschritt N_0'!A58,"") | E53: =C53+D53 -> 0
A54: Ergebnis | B54: =SUM(B45:B53) -> 0 | C54: =SUM(C45:C53) -> 0 | D54: =SUM(D45:D53) -> 0 | E54: =C54+D54 -> 0
A57: Anmerkungen (vgl. DV Abschnitt 6):
A59: 1 Anlage, in der ein bestimmter Recyclingschritt erfolgt. Für weitere Recyclingschritte (N_X, etc.) in verschiedenen Anlagen kopieren Sie bitte diesen gesamten Teil 2 und füllen Sie ihn entsprechend aus.
A61: 2 Input N_0 ist identisch mit dem in Teil 1 des Meldebogens angegebenen Input, der dem "vollständigen Recyclingprozess" zugeführt wurde (vgl. Registerkarte "Gesamtergebnis"). Für die nachfolgenden Schritte N_X, etc. entspricht der Input jeweils dem Recyclingoutput der Zwischenfraktion aus dem vorangegangenen Schritt.
A64: 3 Die Masse der Fraktionen, die dem einzelnen Recyclingschritt zugeführt werden. Input N_0 ist identisch mit dem in Teil 1 des Meldebogens angegebenen Input, der dem "vollständigen Recyclingprozess" zugeführt wurde (vgl. Registerkarte "Gesamtergebnis").
A66: 4 Zur Begriffsbestimmung des Ausdrucks „Zwischenfraktion“ siehe Abschnitt 1 Nummer 3. Zu schwarzer Masse konsultieren Sie bitte Abschnitt 1 Nummer 5 und stellen Sie sicher, dass die chemische Zusammensetzung der Altbatterie (oder im Fall von Gemischen die in Masse-% vorwiegende chemische Zusammensetzung) neben dem Begriff „schwarze Masse“ angegeben wird, z. B. „schwarze Masse aus ZnC“ oder „schwarze Masse aus NMC“.
A68: 5 Anlage, in der die Zwischenfraktion behandelt wird, einschließlich Name, Straße, Ort, Postleitzahl, Land, Kontaktperson, Telefon und E-Mail. Wird der nachfolgende Verfahrensschritt in derselben Anlage durchgeführt wie der vorangegangene Schritt, so geben Sie „wie zuvor“ an.
A71: 6 Zu den Begriffsbestimmungen der Ausdrücke „Inputfraktionen“ und „Outputfraktionen“ und insbesondere zu den für die Berechnung von RE und/oder RM anrechenbaren Fraktionen siehe Abschnitt 1 Nummern 2 und 4.
A72: 7 Aus der Inputfraktion der zugeführten Altbatterien zurückgewonnene Elemente und Verbindungen. Zu den Begriffsbestimmungen der Ausdrücke „Inputfraktionen“ und „Outputfraktionen“ und insbesondere zu den für die Berechnung von RE und/oder RM anrechenbaren Fraktionen siehe Abschnitt 1 Nummern 2 und 4.
A74: 8 Bitte legen Sie zusammen mit dieser Dokumentation Nachweise gemäß Artikel 72 Absatz 3 der Verordnung (EU) 2023/1542 vor.
A76: 9 Recycelte Kunststoffe, für die sowohl die Inputfraktionen minput als auch die Outputfraktionen moutput bestimmt werden, werden in der Liste getrennt von Kohlenstoff auf Zellebene angegeben.
A78: 10 Fügen Sie gegebenenfalls weitere Felder hinzu, um andere Elemente oder Verbindungen anzugeben (vgl. UBA-Ausfüllhinweise auf der Titelseite. Kurz: Bitte neues Format beim UBA anfordern). Falls für das Element eine Zielvorgabe für die stoffliche Verwertung gemäß Anhang XII Teil C der Verordnung (EU) 2023/1542 gilt, ist auch die erzielte Quote für die stoffliche Verwertung (rRM) anzugeben. Enthalten die Altbatterien Quecksilber (Hg), konsultieren Sie bitte Abschnitt 4 zur Dokumentation von Quecksilber (Hg) und geben Sie die in der Inputfraktion enthaltene Gesamtmenge an Quecksilber (mHg,input) und die sicher immobilisierte und entsorgte Menge an Quecksilber (mHg,waste) an.

Sheet Recyclingschritt N_2
C1: Name des (ersten) Recyclingbetriebes: | H1: =IF('Titelseite Pb-Altbatterien'!$F$7<>"",'Titelseite Pb-Altbatterien'!$F$7,"")
A2: DV Abschnitt 6 (Teil 2) | B2: Die einzelnen Recyclingschritte, d. h. alle beteiligten Recyclinganlagen, sind zu dokumentieren:
A3: Ausfüllhinweis: Angaben müssen bzw. können nur in den weiß gehaltenen Eingabefeldern hinterlegt werden. Teilweise werden Ihre Angaben automatisch innerhalb eines Formblattes sowie auf Folgeformblätter übertragen. Übernommene Angaben sind jeweils blau gekennzeichnet (vgl. auch die allgemeinen Formularbearbeitungshinweise im Formblatt "Ausfüllhinweise").
A5: Recyclingschritt | B5: =CONCATENATE("N_2, hier: ",IF('Titelseite Pb-Altbatterien'!$D$15<>"",'Titelseite Pb-Altbatterien'!$D$15,"")) -> N_2, hier:
A7: Kalenderjahr | C7: =IF('Titelseite Pb-Altbatterien'!$F$8<>"",'Titelseite Pb-Altbatterien'!$F$8,"") -> 2026
A9: Angaben zum Recyclingbetrieb1
A10: Name
A11: Straße und Hausnummer
A12: PLZ
A13: Ort
A14: Land
A15: Kontaktperson
A16: Telefon
A17: E-Mail
A19: Beschreibung der einzelnen Recyclingschritte: | C19: Bitte Anlage B "Beschreibung des einzelnen Recyclingschrittes" am Ende des Formulars zur Beschreibung der einzelnen Recyclingverfahren bspw. N_1, N_2, etc. nutzen.
A22: 1. Recycling-Input zum Zeitpunkt der Zuführung zum jeweiligen Recyclingschritt2 (Altbatterien oder Fraktionen von Altbatterien) | H22: =CONCATENATE("hier: ",$C$10) -> hier:
A23: Art des Inputs | C23: Abfallcode nach dem Europäischen Abfall-verzeichnis | D23: Masse3
D24: [t/a]
A25: {=IF('Recyclingschritt N_0'!A39:B39<>"",'Recyclingschritt N_0'!A39:B39,"")} | C25: =IF('Recyclingschritt N_0'!C39<>"",'Recyclingschritt N_0'!C39,"") | D25: =IF('Recyclingschritt N_0'!D39<>"",'Recyclingschritt N_0'!D39,"")
A31: 2. Recycling-Output Zwischenfraktionen4 (noch keine "Endgültige Outputfraktion" - zur weiteren Behandlung) | H31: =CONCATENATE("hier: ",C10) -> hier:
A32: Beschreibung der Fraktion | C32: Abfallcode nach dem Europäischen Abfall-verzeichnis | D32: Masse | E32: Weitere Behandlung
E33: Weiterer Recycling- schritt | G33: Weiterer Akteur5 | H33: Weiterer Recycling- schritt
D34: [t/a] | E34: Bezeichnung | G34: Name des Empfängers | H34: Nummer
H35: N_X
H36: N_X
H37: N_X
H38: N_X
H39: N_X
A40: Gesamt Output der Zwischenfraktionen | D40: =SUM(D35:D39) -> 0
A42: 3. Recycling-Output Input- und Outputfraktionen, die in den rRE- und rRM-Berechnungen6 berücksichtigt werden. | H42: =CONCATENATE("hier: ",$C$10) -> hier:
A43: Element oder Verbindung7 | B43: Input minput (nur dieser Recyclingschritt) | C43: Output moutput innerhalb der EU-MS erzeugt | D43: Output moutput außerhalb der EU erzeugt8 | E43: Output moutput Gesamt | F43: Bezeichnung der Outputfraktion (kein Abfall), die das Element oder die Verbindung enthält | G43: Ertrag der Outputfraktion | H43: Verbleib der Fraktion
B44: [t/a] | C44: [t/a] | D44: [t/a] | E44: [t/a] | G44: [m%]
A45: Blei insgesamt (Pb) | E45: =C45+D45 -> 0
A46: Wasserfreie Schwefelsäure (H2SO4) | E46: =C46+D46 -> 0
A47: Kunststoffe9 | E47: =C47+D47 -> 0
A48: Stahl | E48: =C48+D48 -> 0
A49: =IF('Recyclingschritt N_0'!A70<>"",'Recyclingschritt N_0'!A70,"") | E49: =C49+D49 -> 0
A50: =IF('Recyclingschritt N_0'!A71<>"",'Recyclingschritt N_0'!A71,"") | E50: =C50+D50 -> 0
A51: =IF('Recyclingschritt N_0'!A72<>"",'Recyclingschritt N_0'!A72,"") | E51: =C51+D51 -> 0
A52: =IF('Recyclingschritt N_0'!A73<>"",'Recyclingschritt N_0'!A73,"") | E52: =C52+D52 -> 0
A53: =IF('Recyclingschritt N_0'!A74<>"",'Recyclingschritt N_0'!A74,"") | E53: =C53+D53 -> 0
A54: Ergebnis | B54: =SUM(B45:B53) -> 0 | C54: =SUM(C45:C53) -> 0 | D54: =SUM(D45:D53) -> 0 | E54: =C54+D54 -> 0
A57: Anmerkungen (vgl. DV Abschnitt 6):
A59: 1 Anlage, in der ein bestimmter Recyclingschritt erfolgt. Für weitere Recyclingschritte (N_X, etc.) in verschiedenen Anlagen kopieren Sie bitte diesen gesamten Teil 2 und füllen Sie ihn entsprechend aus.
A61: 2 Input N_0 ist identisch mit dem in Teil 1 des Meldebogens angegebenen Input, der dem "vollständigen Recyclingprozess" zugeführt wurde (vgl. Registerkarte "Gesamtergebnis"). Für die nachfolgenden Schritte N_X, etc. entspricht der Input jeweils dem Recyclingoutput der Zwischenfraktion aus dem vorangegangenen Schritt.
A64: 3 Die Masse der Fraktionen, die dem einzelnen Recyclingschritt zugeführt werden. Input N_0 ist identisch mit dem in Teil 1 des Meldebogens angegebenen Input, der dem "vollständigen Recyclingprozess" zugeführt wurde (vgl. Registerkarte "Gesamtergebnis").
A66: 4 Zur Begriffsbestimmung des Ausdrucks „Zwischenfraktion“ siehe Abschnitt 1 Nummer 3. Zu schwarzer Masse konsultieren Sie bitte Abschnitt 1 Nummer 5 und stellen Sie sicher, dass die chemische Zusammensetzung der Altbatterie (oder im Fall von Gemischen die in Masse-% vorwiegende chemische Zusammensetzung) neben dem Begriff „schwarze Masse“ angegeben wird, z. B. „schwarze Masse aus ZnC“ oder „schwarze Masse aus NMC“.
A68: 5 Anlage, in der die Zwischenfraktion behandelt wird, einschließlich Name, Straße, Ort, Postleitzahl, Land, Kontaktperson, Telefon und E-Mail. Wird der nachfolgende Verfahrensschritt in derselben Anlage durchgeführt wie der vorangegangene Schritt, so geben Sie „wie zuvor“ an.
A71: 6 Zu den Begriffsbestimmungen der Ausdrücke „Inputfraktionen“ und „Outputfraktionen“ und insbesondere zu den für die Berechnung von RE und/oder RM anrechenbaren Fraktionen siehe Abschnitt 1 Nummern 2 und 4.
A72: 7 Aus der Inputfraktion der zugeführten Altbatterien zurückgewonnene Elemente und Verbindungen. Zu den Begriffsbestimmungen der Ausdrücke „Inputfraktionen“ und „Outputfraktionen“ und insbesondere zu den für die Berechnung von RE und/oder RM anrechenbaren Fraktionen siehe Abschnitt 1 Nummern 2 und 4.
A74: 8 Bitte legen Sie zusammen mit dieser Dokumentation Nachweise gemäß Artikel 72 Absatz 3 der Verordnung (EU) 2023/1542 vor.
A76: 9 Recycelte Kunststoffe, für die sowohl die Inputfraktionen minput als auch die Outputfraktionen moutput bestimmt werden, werden in der Liste getrennt von Kohlenstoff auf Zellebene angegeben.
A78: 10 Fügen Sie gegebenenfalls weitere Felder hinzu, um andere Elemente oder Verbindungen anzugeben (vgl. UBA-Ausfüllhinweise auf der Titelseite. Kurz: Bitte neues Format beim UBA anfordern). Falls für das Element eine Zielvorgabe für die stoffliche Verwertung gemäß Anhang XII Teil C der Verordnung (EU) 2023/1542 gilt, ist auch die erzielte Quote für die stoffliche Verwertung (rRM) anzugeben. Enthalten die Altbatterien Quecksilber (Hg), konsultieren Sie bitte Abschnitt 4 zur Dokumentation von Quecksilber (Hg) und geben Sie die in der Inputfraktion enthaltene Gesamtmenge an Quecksilber (mHg,input) und die sicher immobilisierte und entsorgte Menge an Quecksilber (mHg,waste) an.

Sheet Recyclingschritt N_3
C1: Name des (ersten) Recyclingbetriebes: | H1: =IF('Titelseite Pb-Altbatterien'!$F$7<>"",'Titelseite Pb-Altbatterien'!$F$7,"")
A2: DV Abschnitt 6 (Teil 2) | B2: Die einzelnen Recyclingschritte, d. h. alle beteiligten Recyclinganlagen, sind zu dokumentieren:
A3: Ausfüllhinweis: Angaben müssen bzw. können nur in den weiß gehaltenen Eingabefeldern hinterlegt werden. Teilweise werden Ihre Angaben automatisch innerhalb eines Formblattes sowie auf Folgeformblätter übertragen. Übernommene Angaben sind jeweils blau gekennzeichnet (vgl. auch die allgemeinen Formularbearbeitungshinweise im Formblatt "Ausfüllhinweise").
A5: Recyclingschritt | B5: =CONCATENATE("N_3, hier: ",IF('Titelseite Pb-Altbatterien'!$F$15<>"",'Titelseite Pb-Altbatterien'!$F$15,"")) -> N_3, hier:
A7: Kalenderjahr | C7: =IF('Titelseite Pb-Altbatterien'!$F$8<>"",'Titelseite Pb-Altbatterien'!$F$8,"") -> 2026
A9: Angaben zum Recyclingbetrieb1
A10: Name
A11: Straße und Hausnummer
A12: PLZ
A13: Ort
A14: Land
A15: Kontaktperson
A16: Telefon
A17: E-Mail
A19: Beschreibung der einzelnen Recyclingschritte: | C19: Bitte Anlage B "Beschreibung des einzelnen Recyclingschrittes" am Ende des Formulars zur Beschreibung der einzelnen Recyclingverfahren bspw. N_1, N_2, etc. nutzen.
A22: 1. Recycling-Input zum Zeitpunkt der Zuführung zum jeweiligen Recyclingschritt2 (Altbatterien oder Fraktionen von Altbatterien) | H22: =CONCATENATE("hier: ",$C$10) -> hier:
A23: Art des Inputs | C23: Abfallcode nach dem Europäischen Abfall-verzeichnis | D23: Masse3
D24: [t/a]
A25: {=IF('Recyclingschritt N_0'!A40:B40<>"",'Recyclingschritt N_0'!A40:B40,"")} | C25: =IF('Recyclingschritt N_0'!C40<>"",'Recyclingschritt N_0'!C40,"") | D25: =IF('Recyclingschritt N_0'!D40<>"",'Recyclingschritt N_0'!D40,"")
A31: 2. Recycling-Output Zwischenfraktionen4 (noch keine "Endgültige Outputfraktion" - zur weiteren Behandlung) | H31: =CONCATENATE("hier: ",C10) -> hier:
A32: Beschreibung der Fraktion | C32: Abfallcode nach dem Europäischen Abfall-verzeichnis | D32: Masse | E32: Weitere Behandlung
E33: Weiterer Recycling- schritt | G33: Weiterer Akteur5 | H33: Weiterer Recycling- schritt
D34: [t/a] | E34: Bezeichnung | G34: Name des Empfängers | H34: Nummer
H35: N_X
H36: N_X
H37: N_X
H38: N_X
H39: N_X
A40: Gesamt Output der Zwischenfraktionen | D40: =SUM(D35:D39) -> 0
A42: 3. Recycling-Output Input- und Outputfraktionen, die in den rRE- und rRM-Berechnungen6 berücksichtigt werden. | H42: =CONCATENATE("hier: ",$C$10) -> hier:
A43: Element oder Verbindung7 | B43: Input minput (nur dieser Recyclingschritt) | C43: Output moutput innerhalb der EU-MS erzeugt | D43: Output moutput außerhalb der EU erzeugt8 | E43: Output moutput Gesamt | F43: Bezeichnung der Outputfraktion (kein Abfall), die das Element oder die Verbindung enthält | G43: Ertrag der Outputfraktion | H43: Verbleib der Fraktion
B44: [t/a] | C44: [t/a] | D44: [t/a] | E44: [t/a] | G44: [m%]
A45: Blei insgesamt (Pb) | E45: =C45+D45 -> 0
A46: Wasserfreie Schwefelsäure (H2SO4) | E46: =C46+D46 -> 0
A47: Kunststoffe9 | E47: =C47+D47 -> 0
A48: Stahl | E48: =C48+D48 -> 0
A49: =IF('Recyclingschritt N_0'!A70<>"",'Recyclingschritt N_0'!A70,"") | E49: =C49+D49 -> 0
A50: =IF('Recyclingschritt N_0'!A71<>"",'Recyclingschritt N_0'!A71,"") | E50: =C50+D50 -> 0
A51: =IF('Recyclingschritt N_0'!A72<>"",'Recyclingschritt N_0'!A72,"") | E51: =C51+D51 -> 0
A52: =IF('Recyclingschritt N_0'!A73<>"",'Recyclingschritt N_0'!A73,"") | E52: =C52+D52 -> 0
A53: =IF('Recyclingschritt N_0'!A74<>"",'Recyclingschritt N_0'!A74,"") | E53: =C53+D53 -> 0
A54: Ergebnis | B54: =SUM(B45:B53) -> 0 | C54: =SUM(C45:C53) -> 0 | D54: =SUM(D45:D53) -> 0 | E54: =C54+D54 -> 0
A57: Anmerkungen (vgl. DV Abschnitt 6):
A59: 1 Anlage, in der ein bestimmter Recyclingschritt erfolgt. Für weitere Recyclingschritte (N_X, etc.) in verschiedenen Anlagen kopieren Sie bitte diesen gesamten Teil 2 und füllen Sie ihn entsprechend aus.
A61: 2 Input N_0 ist identisch mit dem in Teil 1 des Meldebogens angegebenen Input, der dem "vollständigen Recyclingprozess" zugeführt wurde (vgl. Registerkarte "Gesamtergebnis"). Für die nachfolgenden Schritte N_X, etc. entspricht der Input jeweils dem Recyclingoutput der Zwischenfraktion aus dem vorangegangenen Schritt.
A64: 3 Die Masse der Fraktionen, die dem einzelnen Recyclingschritt zugeführt werden. Input N_0 ist identisch mit dem in Teil 1 des Meldebogens angegebenen Input, der dem "vollständigen Recyclingprozess" zugeführt wurde (vgl. Registerkarte "Gesamtergebnis").
A66: 4 Zur Begriffsbestimmung des Ausdrucks „Zwischenfraktion“ siehe Abschnitt 1 Nummer 3. Zu schwarzer Masse konsultieren Sie bitte Abschnitt 1 Nummer 5 und stellen Sie sicher, dass die chemische Zusammensetzung der Altbatterie (oder im Fall von Gemischen die in Masse-% vorwiegende chemische Zusammensetzung) neben dem Begriff „schwarze Masse“ angegeben wird, z. B. „schwarze Masse aus ZnC“ oder „schwarze Masse aus NMC“.
A68: 5 Anlage, in der die Zwischenfraktion behandelt wird, einschließlich Name, Straße, Ort, Postleitzahl, Land, Kontaktperson, Telefon und E-Mail. Wird der nachfolgende Verfahrensschritt in derselben Anlage durchgeführt wie der vorangegangene Schritt, so geben Sie „wie zuvor“ an.
A71: 6 Zu den Begriffsbestimmungen der Ausdrücke „Inputfraktionen“ und „Outputfraktionen“ und insbesondere zu den für die Berechnung von RE und/oder RM anrechenbaren Fraktionen siehe Abschnitt 1 Nummern 2 und 4.
A72: 7 Aus der Inputfraktion der zugeführten Altbatterien zurückgewonnene Elemente und Verbindungen. Zu den Begriffsbestimmungen der Ausdrücke „Inputfraktionen“ und „Outputfraktionen“ und insbesondere zu den für die Berechnung von RE und/oder RM anrechenbaren Fraktionen siehe Abschnitt 1 Nummern 2 und 4.
A74: 8 Bitte legen Sie zusammen mit dieser Dokumentation Nachweise gemäß Artikel 72 Absatz 3 der Verordnung (EU) 2023/1542 vor.
A76: 9 Recycelte Kunststoffe, für die sowohl die Inputfraktionen minput als auch die Outputfraktionen moutput bestimmt werden, werden in der Liste getrennt von Kohlenstoff auf Zellebene angegeben.
A78: 10 Fügen Sie gegebenenfalls weitere Felder hinzu, um andere Elemente oder Verbindungen anzugeben (vgl. UBA-Ausfüllhinweise auf der Titelseite. Kurz: Bitte neues Format beim UBA anfordern). Falls für das Element eine Zielvorgabe für die stoffliche Verwertung gemäß Anhang XII Teil C der Verordnung (EU) 2023/1542 gilt, ist auch die erzielte Quote für die stoffliche Verwertung (rRM) anzugeben. Enthalten die Altbatterien Quecksilber (Hg), konsultieren Sie bitte Abschnitt 4 zur Dokumentation von Quecksilber (Hg) und geben Sie die in der Inputfraktion enthaltene Gesamtmenge an Quecksilber (mHg,input) und die sicher immobilisierte und entsorgte Menge an Quecksilber (mHg,waste) an.

Sheet Recyclingschritt N_4
C1: Name des (ersten) Recyclingbetriebes: | H1: =IF('Titelseite Pb-Altbatterien'!$F$7<>"",'Titelseite Pb-Altbatterien'!$F$7,"")
A2: DV Abschnitt 6 (Teil 2) | B2: Die einzelnen Recyclingschritte, d. h. alle beteiligten Recyclinganlagen, sind zu dokumentieren:
A3: Ausfüllhinweis: Angaben müssen bzw. können nur in den weiß gehaltenen Eingabefeldern hinterlegt werden. Teilweise werden Ihre Angaben automatisch innerhalb eines Formblattes sowie auf Folgeformblätter übertragen. Übernommene Angaben sind jeweils blau gekennzeichnet (vgl. auch die allgemeinen Formularbearbeitungshinweise im Formblatt "Ausfüllhinweise").
A5: Recyclingschritt | B5: =CONCATENATE("N_4, hier: ",IF('Titelseite Pb-Altbatterien'!$H$15<>"",'Titelseite Pb-Altbatterien'!$H$15,"")) -> N_4, hier:
A7: Kalenderjahr | C7: =IF('Titelseite Pb-Altbatterien'!$F$8<>"",'Titelseite Pb-Altbatterien'!$F$8,"") -> 2026
A9: Angaben zum Recyclingbetrieb1
A10: Name
A11: Straße und Hausnummer
A12: PLZ
A13: Ort
A14: Land
A15: Kontaktperson
A16: Telefon
A17: E-Mail
A19: Beschreibung der einzelnen Recyclingschritte: | C19: Bitte Anlage B "Beschreibung des einzelnen Recyclingschrittes" am Ende des Formulars zur Beschreibung der einzelnen Recyclingverfahren bspw. N_1, N_2, etc. nutzen.
A22: 1. Recycling-Input zum Zeitpunkt der Zuführung zum jeweiligen Recyclingschritt2 (Altbatterien oder Fraktionen von Altbatterien) | H22: =CONCATENATE("hier: ",$C$10) -> hier:
A23: Art des Inputs | C23: Abfallcode nach dem Europäischen Abfall-verzeichnis | D23: Masse3
D24: [t/a]
A25: {=IF('Recyclingschritt N_0'!A41:B41<>"",'Recyclingschritt N_0'!A41:B41,"")} | C25: =IF('Recyclingschritt N_0'!C41<>"",'Recyclingschritt N_0'!C41,"") | D25: =IF('Recyclingschritt N_0'!D41<>"",'Recyclingschritt N_0'!D41,"")
A31: 2. Recycling-Output Zwischenfraktionen4 (noch keine "Endgültige Outputfraktion" - zur weiteren Behandlung) | H31: =CONCATENATE("hier: ",C10) -> hier:
A32: Beschreibung der Fraktion | C32: Abfallcode nach dem Europäischen Abfall-verzeichnis | D32: Masse | E32: Weitere Behandlung
E33: Weiterer Recycling- schritt | G33: Weiterer Akteur5 | H33: Weiterer Recycling- schritt
D34: [t/a] | E34: Bezeichnung | G34: Name des Empfängers | H34: Nummer
H35: N_X
H36: N_X
H37: N_X
H38: N_X
H39: N_X
A40: Gesamt Output der Zwischenfraktionen | D40: =SUM(D35:D39) -> 0
A42: 3. Recycling-Output Input- und Outputfraktionen, die in den rRE- und rRM-Berechnungen6 berücksichtigt werden. | H42: =CONCATENATE("hier: ",$C$10) -> hier:
A43: Element oder Verbindung7 | B43: Input minput (nur dieser Recyclingschritt) | C43: Output moutput innerhalb der EU-MS erzeugt | D43: Output moutput außerhalb der EU erzeugt8 | E43: Output moutput Gesamt | F43: Bezeichnung der Outputfraktion (kein Abfall), die das Element oder die Verbindung enthält | G43: Ertrag der Outputfraktion | H43: Verbleib der Fraktion
B44: [t/a] | C44: [t/a] | D44: [t/a] | E44: [t/a] | G44: [m%]
A45: Blei insgesamt (Pb) | E45: =C45+D45 -> 0
A46: Wasserfreie Schwefelsäure (H2SO4) | E46: =C46+D46 -> 0
A47: Kunststoffe9 | E47: =C47+D47 -> 0
A48: Stahl | E48: =C48+D48 -> 0
A49: =IF('Recyclingschritt N_0'!A70<>"",'Recyclingschritt N_0'!A70,"") | E49: =C49+D49 -> 0
A50: =IF('Recyclingschritt N_0'!A71<>"",'Recyclingschritt N_0'!A71,"") | E50: =C50+D50 -> 0
A51: =IF('Recyclingschritt N_0'!A72<>"",'Recyclingschritt N_0'!A72,"") | E51: =C51+D51 -> 0
A52: =IF('Recyclingschritt N_0'!A73<>"",'Recyclingschritt N_0'!A73,"") | E52: =C52+D52 -> 0
A53: =IF('Recyclingschritt N_0'!A74<>"",'Recyclingschritt N_0'!A74,"") | E53: =C53+D53 -> 0
A54: Ergebnis | B54: =SUM(B45:B53) -> 0 | C54: =SUM(C45:C53) -> 0 | D54: =SUM(D45:D53) -> 0 | E54: =C54+D54 -> 0
A57: Anmerkungen (vgl. DV Abschnitt 6):
A59: 1 Anlage, in der ein bestimmter Recyclingschritt erfolgt. Für weitere Recyclingschritte (N_X, etc.) in verschiedenen Anlagen kopieren Sie bitte diesen gesamten Teil 2 und füllen Sie ihn entsprechend aus.
A61: 2 Input N_0 ist identisch mit dem in Teil 1 des Meldebogens angegebenen Input, der dem "vollständigen Recyclingprozess" zugeführt wurde (vgl. Registerkarte "Gesamtergebnis"). Für die nachfolgenden Schritte N_X, etc. entspricht der Input jeweils dem Recyclingoutput der Zwischenfraktion aus dem vorangegangenen Schritt.
A64: 3 Die Masse der Fraktionen, die dem einzelnen Recyclingschritt zugeführt werden. Input N_0 ist identisch mit dem in Teil 1 des Meldebogens angegebenen Input, der dem "vollständigen Recyclingprozess" zugeführt wurde (vgl. Registerkarte "Gesamtergebnis").
A66: 4 Zur Begriffsbestimmung des Ausdrucks „Zwischenfraktion“ siehe Abschnitt 1 Nummer 3. Zu schwarzer Masse konsultieren Sie bitte Abschnitt 1 Nummer 5 und stellen Sie sicher, dass die chemische Zusammensetzung der Altbatterie (oder im Fall von Gemischen die in Masse-% vorwiegende chemische Zusammensetzung) neben dem Begriff „schwarze Masse“ angegeben wird, z. B. „schwarze Masse aus ZnC“ oder „schwarze Masse aus NMC“.
A68: 5 Anlage, in der die Zwischenfraktion behandelt wird, einschließlich Name, Straße, Ort, Postleitzahl, Land, Kontaktperson, Telefon und E-Mail. Wird der nachfolgende Verfahrensschritt in derselben Anlage durchgeführt wie der vorangegangene Schritt, so geben Sie „wie zuvor“ an.
A71: 6 Zu den Begriffsbestimmungen der Ausdrücke „Inputfraktionen“ und „Outputfraktionen“ und insbesondere zu den für die Berechnung von RE und/oder RM anrechenbaren Fraktionen siehe Abschnitt 1 Nummern 2 und 4.
A72: 7 Aus der Inputfraktion der zugeführten Altbatterien zurückgewonnene Elemente und Verbindungen. Zu den Begriffsbestimmungen der Ausdrücke „Inputfraktionen“ und „Outputfraktionen“ und insbesondere zu den für die Berechnung von RE und/oder RM anrechenbaren Fraktionen siehe Abschnitt 1 Nummern 2 und 4.
A74: 8 Bitte legen Sie zusammen mit dieser Dokumentation Nachweise gemäß Artikel 72 Absatz 3 der Verordnung (EU) 2023/1542 vor.
A76: 9 Recycelte Kunststoffe, für die sowohl die Inputfraktionen minput als auch die Outputfraktionen moutput bestimmt werden, werden in der Liste getrennt von Kohlenstoff auf Zellebene angegeben.
A78: 10 Fügen Sie gegebenenfalls weitere Felder hinzu, um andere Elemente oder Verbindungen anzugeben (vgl. UBA-Ausfüllhinweise auf der Titelseite. Kurz: Bitte neues Format beim UBA anfordern). Falls für das Element eine Zielvorgabe für die stoffliche Verwertung gemäß Anhang XII Teil C der Verordnung (EU) 2023/1542 gilt, ist auch die erzielte Quote für die stoffliche Verwertung (rRM) anzugeben. Enthalten die Altbatterien Quecksilber (Hg), konsultieren Sie bitte Abschnitt 4 zur Dokumentation von Quecksilber (Hg) und geben Sie die in der Inputfraktion enthaltene Gesamtmenge an Quecksilber (mHg,input) und die sicher immobilisierte und entsorgte Menge an Quecksilber (mHg,waste) an.

Sheet Recyclingschritt N_5
C1: Name des (ersten) Recyclingbetriebes: | H1: =IF('Titelseite Pb-Altbatterien'!$F$7<>"",'Titelseite Pb-Altbatterien'!$F$7,"")
A2: DVO Abschnitt 6 (Teil 2) | B2: Die einzelnen Recyclingschritte, d. h. alle beteiligten Recyclinganlagen, sind zu dokumentieren:
A3: Ausfüllhinweis: Angaben müssen bzw. können nur in den weiß gehaltenen Eingabefeldern hinterlegt werden. Teilweise werden Ihre Angaben automatisch innerhalb eines Formblattes sowie auf Folgeformblätter übertragen. Übernommene Angaben sind jeweils blau gekennzeichnet (vgl. auch die allgemeinen Formularbearbeitungshinweise im Formblatt "Ausfüllhinweise").
A5: Recyclingschritt | B5: =CONCATENATE("N_5, hier: ",IF('Titelseite Pb-Altbatterien'!$J$15<>"",'Titelseite Pb-Altbatterien'!$J$15,"")) -> N_5, hier:
A7: Kalenderjahr | C7: =IF('Titelseite Pb-Altbatterien'!$F$8<>"",'Titelseite Pb-Altbatterien'!$F$8,"") -> 2026
A9: Angaben zum Recyclingbetrieb1
A10: Name
A11: Straße und Hausnummer
A12: PLZ
A13: Ort
A14: Land
A15: Kontaktperson
A16: Telefon
A17: E-Mail
A19: Beschreibung der einzelnen Recyclingschritte: | C19: Bitte Anlage B "Beschreibung des einzelnen Recyclingschrittes" am Ende des Formulars zur Beschreibung der einzelnen Recyclingverfahren bspw. N_1, N_2, etc. nutzen.
A22: 1. Recycling-Input zum Zeitpunkt der Zuführung zum jeweiligen Recyclingschritt2 (Altbatterien oder Fraktionen von Altbatterien) | H22: =CONCATENATE("hier: ",$C$10) -> hier:
A23: Art des Inputs | C23: Abfallcode nach dem Europäischen Abfall-verzeichnis | D23: Masse3
D24: [t/a]
A25: {=IF('Recyclingschritt N_0'!A42:B42<>"",'Recyclingschritt N_0'!A42:B42,"")} | C25: =IF('Recyclingschritt N_0'!C42<>"",'Recyclingschritt N_0'!C42,"") | D25: =IF('Recyclingschritt N_0'!D42<>"",'Recyclingschritt N_0'!D42,"")
A31: 2. Recycling-Output Zwischenfraktionen4 (noch keine "Endgültige Outputfraktion" - zur weiteren Behandlung) | H31: =CONCATENATE("hier: ",C10) -> hier:
A32: Beschreibung der Fraktion | C32: Abfallcode nach dem Europäischen Abfall-verzeichnis | D32: Masse | E32: Weitere Behandlung
E33: Weiterer Recycling- schritt | G33: Weiterer Akteur5 | H33: Weiterer Recycling- schritt
D34: [t/a] | E34: Bezeichnung | G34: Name des Empfängers | H34: Nummer
H35: N_X
H36: N_X
H37: N_X
H38: N_X
H39: N_X
A40: Gesamt Output der Zwischenfraktionen | D40: =SUM(D35:D39) -> 0
A42: 3. Recycling-Output Input- und Outputfraktionen, die in den rRE- und rRM-Berechnungen6 berücksichtigt werden. | H42: =CONCATENATE("hier: ",$C$10) -> hier:
A43: Element oder Verbindung7 | B43: Input minput (nur dieser Recyclingschritt) | C43: Output moutput innerhalb der EU-MS erzeugt | D43: Output moutput außerhalb der EU erzeugt8 | E43: Output moutput Gesamt | F43: Bezeichnung der Outputfraktion (kein Abfall), die das Element oder die Verbindung enthält | G43: Ertrag der Outputfraktion | H43: Verbleib der Fraktion
B44: [t/a] | C44: [t/a] | D44: [t/a] | E44: [t/a] | G44: [m%]
A45: Blei insgesamt (Pb) | E45: =C45+D45 -> 0
A46: Wasserfreie Schwefelsäure (H2SO4) | E46: =C46+D46 -> 0
A47: Kunststoffe9 | E47: =C47+D47 -> 0
A48: Stahl | E48: =C48+D48 -> 0
A49: =IF('Recyclingschritt N_0'!A70<>"",'Recyclingschritt N_0'!A70,"") | E49: =C49+D49 -> 0
A50: =IF('Recyclingschritt N_0'!A71<>"",'Recyclingschritt N_0'!A71,"") | E50: =C50+D50 -> 0
A51: =IF('Recyclingschritt N_0'!A72<>"",'Recyclingschritt N_0'!A72,"") | E51: =C51+D51 -> 0
A52: =IF('Recyclingschritt N_0'!A73<>"",'Recyclingschritt N_0'!A73,"") | E52: =C52+D52 -> 0
A53: =IF('Recyclingschritt N_0'!A74<>"",'Recyclingschritt N_0'!A74,"") | E53: =C53+D53 -> 0
A54: Ergebnis | B54: =SUM(B45:B53) -> 0 | C54: =SUM(C45:C53) -> 0 | D54: =SUM(D45:D53) -> 0 | E54: =C54+D54 -> 0
A57: Anmerkungen (vgl. DV Abschnitt 6):
A59: 1 Anlage, in der ein bestimmter Recyclingschritt erfolgt. Für weitere Recyclingschritte (N_X, etc.) in verschiedenen Anlagen kopieren Sie bitte diesen gesamten Teil 2 und füllen Sie ihn entsprechend aus.
A61: 2 Input N_0 ist identisch mit dem in Teil 1 des Meldebogens angegebenen Input, der dem "vollständigen Recyclingprozess" zugeführt wurde (vgl. Registerkarte "Gesamtergebnis"). Für die nachfolgenden Schritte N_X, etc. entspricht der Input jeweils dem Recyclingoutput der Zwischenfraktion aus dem vorangegangenen Schritt.
A64: 3 Die Masse der Fraktionen, die dem einzelnen Recyclingschritt zugeführt werden. Input N_0 ist identisch mit dem in Teil 1 des Meldebogens angegebenen Input, der dem "vollständigen Recyclingprozess" zugeführt wurde (vgl. Registerkarte "Gesamtergebnis").
A66: 4 Zur Begriffsbestimmung des Ausdrucks „Zwischenfraktion“ siehe Abschnitt 1 Nummer 3. Zu schwarzer Masse konsultieren Sie bitte Abschnitt 1 Nummer 5 und stellen Sie sicher, dass die chemische Zusammensetzung der Altbatterie (oder im Fall von Gemischen die in Masse-% vorwiegende chemische Zusammensetzung) neben dem Begriff „schwarze Masse“ angegeben wird, z. B. „schwarze Masse aus ZnC“ oder „schwarze Masse aus NMC“.
A68: 5 Anlage, in der die Zwischenfraktion behandelt wird, einschließlich Name, Straße, Ort, Postleitzahl, Land, Kontaktperson, Telefon und E-Mail. Wird der nachfolgende Verfahrensschritt in derselben Anlage durchgeführt wie der vorangegangene Schritt, so geben Sie „wie zuvor“ an.
A71: 6 Zu den Begriffsbestimmungen der Ausdrücke „Inputfraktionen“ und „Outputfraktionen“ und insbesondere zu den für die Berechnung von RE und/oder RM anrechenbaren Fraktionen siehe Abschnitt 1 Nummern 2 und 4.
A72: 7 Aus der Inputfraktion der zugeführten Altbatterien zurückgewonnene Elemente und Verbindungen. Zu den Begriffsbestimmungen der Ausdrücke „Inputfraktionen“ und „Outputfraktionen“ und insbesondere zu den für die Berechnung von RE und/oder RM anrechenbaren Fraktionen siehe Abschnitt 1 Nummern 2 und 4.
A74: 8 Bitte legen Sie zusammen mit dieser Dokumentation Nachweise gemäß Artikel 72 Absatz 3 der Verordnung (EU) 2023/1542 vor.
A76: 9 Recycelte Kunststoffe, für die sowohl die Inputfraktionen minput als auch die Outputfraktionen moutput bestimmt werden, werden in der Liste getrennt von Kohlenstoff auf Zellebene angegeben.
A78: 10 Fügen Sie gegebenenfalls weitere Felder hinzu, um andere Elemente oder Verbindungen anzugeben (vgl. UBA-Ausfüllhinweise auf der Titelseite. Kurz: Bitte neues Format beim UBA anfordern). Falls für das Element eine Zielvorgabe für die stoffliche Verwertung gemäß Anhang XII Teil C der Verordnung (EU) 2023/1542 gilt, ist auch die erzielte Quote für die stoffliche Verwertung (rRM) anzugeben. Enthalten die Altbatterien Quecksilber (Hg), konsultieren Sie bitte Abschnitt 4 zur Dokumentation von Quecksilber (Hg) und geben Sie die in der Inputfraktion enthaltene Gesamtmenge an Quecksilber (mHg,input) und die sicher immobilisierte und entsorgte Menge an Quecksilber (mHg,waste) an.

Sheet Recyclingschritt N_6
C1: Name des (ersten) Recyclingbetriebes: | H1: =IF('Titelseite Pb-Altbatterien'!$F$7<>"",'Titelseite Pb-Altbatterien'!$F$7,"")
A2: DVO Abschnitt 6 (Teil 2) | B2: Die einzelnen Recyclingschritte, d. h. alle beteiligten Recyclinganlagen, sind zu dokumentieren:
A3: Ausfüllhinweis: Angaben müssen bzw. können nur in den weiß gehaltenen Eingabefeldern hinterlegt werden. Teilweise werden Ihre Angaben automatisch innerhalb eines Formblattes sowie auf Folgeformblätter übertragen. Übernommene Angaben sind jeweils blau gekennzeichnet (vgl. auch die allgemeinen Formularbearbeitungshinweise im Formblatt "Ausfüllhinweise").
A5: Recyclingschritt | B5: =CONCATENATE("N_6, hier: ",IF('Titelseite Pb-Altbatterien'!$B$18<>"",'Titelseite Pb-Altbatterien'!$B$18,"")) -> N_6, hier:
A7: Kalenderjahr | C7: =IF('Titelseite Pb-Altbatterien'!$F$8<>"",'Titelseite Pb-Altbatterien'!$F$8,"") -> 2026
A9: Angaben zum Recyclingbetrieb1
A10: Name
A11: Straße und Hausnummer
A12: PLZ
A13: Ort
A14: Land
A15: Kontaktperson
A16: Telefon
A17: E-Mail
A19: Beschreibung der einzelnen Recyclingschritte: | C19: Bitte Anlage B "Beschreibung des einzelnen Recyclingschrittes" am Ende des Formulars zur Beschreibung der einzelnen Recyclingverfahren bspw. N_1, N_2, etc. nutzen.
A22: 1. Recycling-Input zum Zeitpunkt der Zuführung zum jeweiligen Recyclingschritt2 (Altbatterien oder Fraktionen von Altbatterien) | H22: =CONCATENATE("hier: ",$C$10) -> hier:
A23: Art des Inputs | C23: Abfallcode nach dem Europäischen Abfall-verzeichnis | D23: Masse3
D24: [t/a]
A25: {=IF('Recyclingschritt N_0'!A43:B43<>"",'Recyclingschritt N_0'!A43:B43,"")} | C25: =IF('Recyclingschritt N_0'!C43<>"",'Recyclingschritt N_0'!C43,"") | D25: =IF('Recyclingschritt N_0'!D43<>"",'Recyclingschritt N_0'!D43,"")
A31: 2. Recycling-Output Zwischenfraktionen4 (noch keine "Endgültige Outputfraktion" - zur weiteren Behandlung) | H31: =CONCATENATE("hier: ",C10) -> hier:
A32: Beschreibung der Fraktion | C32: Abfallcode nach dem Europäischen Abfall-verzeichnis | D32: Masse | E32: Weitere Behandlung
E33: Weiterer Recycling- schritt | G33: Weiterer Akteur5 | H33: Weiterer Recycling- schritt
D34: [t/a] | E34: Bezeichnung | G34: Name des Empfängers | H34: Nummer
H35: N_X
H36: N_X
H37: N_X
H38: N_X
H39: N_X
A40: Gesamt Output der Zwischenfraktionen | D40: =SUM(D35:D39) -> 0
A42: 3. Recycling-Output Input- und Outputfraktionen, die in den rRE- und rRM-Berechnungen6 berücksichtigt werden. | H42: =CONCATENATE("hier: ",$C$10) -> hier:
A43: Element oder Verbindung7 | B43: Input minput (nur dieser Recyclingschritt) | C43: Output moutput innerhalb der EU-MS erzeugt | D43: Output moutput außerhalb der EU erzeugt8 | E43: Output moutput Gesamt | F43: Bezeichnung der Outputfraktion (kein Abfall), die das Element oder die Verbindung enthält | G43: Ertrag der Outputfraktion | H43: Verbleib der Fraktion
B44: [t/a] | C44: [t/a] | D44: [t/a] | E44: [t/a] | G44: [m%]
A45: Blei insgesamt (Pb) | E45: =C45+D45 -> 0
A46: Wasserfreie Schwefelsäure (H2SO4) | E46: =C46+D46 -> 0
A47: Kunststoffe9 | E47: =C47+D47 -> 0
A48: Stahl | E48: =C48+D48 -> 0
A49: =IF('Recyclingschritt N_0'!A70<>"",'Recyclingschritt N_0'!A70,"") | E49: =C49+D49 -> 0
A50: =IF('Recyclingschritt N_0'!A71<>"",'Recyclingschritt N_0'!A71,"") | E50: =C50+D50 -> 0
A51: =IF('Recyclingschritt N_0'!A72<>"",'Recyclingschritt N_0'!A72,"") | E51: =C51+D51 -> 0
A52: =IF('Recyclingschritt N_0'!A73<>"",'Recyclingschritt N_0'!A73,"") | E52: =C52+D52 -> 0
A53: =IF('Recyclingschritt N_0'!A74<>"",'Recyclingschritt N_0'!A74,"") | E53: =C53+D53 -> 0
A54: Ergebnis | B54: =SUM(B45:B53) -> 0 | C54: =SUM(C45:C53) -> 0 | D54: =SUM(D45:D53) -> 0 | E54: =C54+D54 -> 0
A57: Anmerkungen (vgl. DV Abschnitt 6):
A59: 1 Anlage, in der ein bestimmter Recyclingschritt erfolgt. Für weitere Recyclingschritte (N_X, etc.) in verschiedenen Anlagen kopieren Sie bitte diesen gesamten Teil 2 und füllen Sie ihn entsprechend aus.
A61: 2 Input N_0 ist identisch mit dem in Teil 1 des Meldebogens angegebenen Input, der dem "vollständigen Recyclingprozess" zugeführt wurde (vgl. Registerkarte "Gesamtergebnis"). Für die nachfolgenden Schritte N_X, etc. entspricht der Input jeweils dem Recyclingoutput der Zwischenfraktion aus dem vorangegangenen Schritt.
A64: 3 Die Masse der Fraktionen, die dem einzelnen Recyclingschritt zugeführt werden. Input N_0 ist identisch mit dem in Teil 1 des Meldebogens angegebenen Input, der dem "vollständigen Recyclingprozess" zugeführt wurde (vgl. Registerkarte "Gesamtergebnis").
A66: 4 Zur Begriffsbestimmung des Ausdrucks „Zwischenfraktion“ siehe Abschnitt 1 Nummer 3. Zu schwarzer Masse konsultieren Sie bitte Abschnitt 1 Nummer 5 und stellen Sie sicher, dass die chemische Zusammensetzung der Altbatterie (oder im Fall von Gemischen die in Masse-% vorwiegende chemische Zusammensetzung) neben dem Begriff „schwarze Masse“ angegeben wird, z. B. „schwarze Masse aus ZnC“ oder „schwarze Masse aus NMC“.
A68: 5 Anlage, in der die Zwischenfraktion behandelt wird, einschließlich Name, Straße, Ort, Postleitzahl, Land, Kontaktperson, Telefon und E-Mail. Wird der nachfolgende Verfahrensschritt in derselben Anlage durchgeführt wie der vorangegangene Schritt, so geben Sie „wie zuvor“ an.
A71: 6 Zu den Begriffsbestimmungen der Ausdrücke „Inputfraktionen“ und „Outputfraktionen“ und insbesondere zu den für die Berechnung von RE und/oder RM anrechenbaren Fraktionen siehe Abschnitt 1 Nummern 2 und 4.
A72: 7 Aus der Inputfraktion der zugeführten Altbatterien zurückgewonnene Elemente und Verbindungen. Zu den Begriffsbestimmungen der Ausdrücke „Inputfraktionen“ und „Outputfraktionen“ und insbesondere zu den für die Berechnung von RE und/oder RM anrechenbaren Fraktionen siehe Abschnitt 1 Nummern 2 und 4.
A74: 8 Bitte legen Sie zusammen mit dieser Dokumentation Nachweise gemäß Artikel 72 Absatz 3 der Verordnung (EU) 2023/1542 vor.
A76: 9 Recycelte Kunststoffe, für die sowohl die Inputfraktionen minput als auch die Outputfraktionen moutput bestimmt werden, werden in der Liste getrennt von Kohlenstoff auf Zellebene angegeben.
A78: 10 Fügen Sie gegebenenfalls weitere Felder hinzu, um andere Elemente oder Verbindungen anzugeben (vgl. UBA-Ausfüllhinweise auf der Titelseite. Kurz: Bitte neues Format beim UBA anfordern). Falls für das Element eine Zielvorgabe für die stoffliche Verwertung gemäß Anhang XII Teil C der Verordnung (EU) 2023/1542 gilt, ist auch die erzielte Quote für die stoffliche Verwertung (rRM) anzugeben. Enthalten die Altbatterien Quecksilber (Hg), konsultieren Sie bitte Abschnitt 4 zur Dokumentation von Quecksilber (Hg) und geben Sie die in der Inputfraktion enthaltene Gesamtmenge an Quecksilber (mHg,input) und die sicher immobilisierte und entsorgte Menge an Quecksilber (mHg,waste) an.

Sheet Anlage A
A2: Anlage A | H2: 2. Fließschema des gesamten Batterie-Recyclingverfahrens (fakultativ):
A3: Zur Dokumentation gem. § 29 BattDG der Recyclingbetriebe | H3: Hinweis zum Einfügen von Bildern bzw. Grafiken: Siehe "Einfügen" , "Bilder", "Über Zeile einfügen", "dieses Gerät"
A6: Name des Recyclingbetriebes:
A7: Bezeichnung Recyclingschrittes:
A10: 1. Beschreibung des gesamten Recyclingverfahrens1
A11: 1 Beschreibung des vollständigen Batterie-Recyclingverfahrens unabhängig davon, ob es in einer oder mehreren Anlagen durchgeführt wird (mit Beschreibung der einzelnen Recyclingschritte und ihrer Outputfraktionen). Siehe auch den Kommentar zum folgenden Freitextfeld.

Sheet Anlage B
A2: Anlage B | H2: 2. Fließschema des einzelnen Recyclingschrittes/ -verfahrens (fakultativ):
A3: Zur Dokumentation gem. § 29 BattDG der Recyclingbetriebe | H3: Hinweis zum Einfügen von Bildern bzw. Grafiken: Siehe "Einfügen" , "Bilder", "Über Zeile einfügen", "dieses Gerät"
A6: Name des Recyclingbetriebes:
A7: Bezeichnung Recyclingschrittes:
A10: 1. Beschreibung des einzelnen Recyclingschrittes/ -verfahrens2
A11: 2 Beschreibung eines einzelnen Recyclingschrittes. Beschreibt jeweils die nachgelagerten Recyclingschritte N_1, N_2, etc.. Die nachgelagerten Recyclingbetriebe hinterlegen jeweils diese Angaben, die vom ersten Recyclingbetrieb in Anlage A zusammengeführt werden.
D45: Seite 1 | K45: Seite 2
A47: Anlage B | H47: 2. Fließschema des einzelnen Recyclingschrittes/ -verfahrens (fakultativ):
A48: Zur Dokumentation gem. § 28 BattDG der Recyclingbetriebe | H48: Hinweis zum Einfügen von Bildern bzw. Grafiken: Siehe "Einfügen" , "Bilder", "Über Zeile einfügen", "dieses Gerät"
A51: Name des Recyclingbetriebes:
A52: Bezeichnung Recyclingschrittes:
A55: 1. Beschreibung des einzelnen Recyclingschrittes/ -verfahrens2
A56: 2 Beschreibung eines einzelnen Recyclingschrittes. Beschreibt jeweils die nachgelagerten Recyclingschritte N_1, N_2, etc.. Die nachgelagerten Recyclingbetriebe hinterlegen jeweils diese Angaben, die vom ersten Recyclingbetrieb in Anlage A zusammengeführt werden.
D91: Seite 3 | K91: Seite 4
A94: Anlage B | H94: 2. Fließschema des einzelnen Recyclingschrittes/ -verfahrens (fakultativ):
A95: Zur Dokumentation gem. § 28 BattDG der Recyclingbetriebe | H95: Hinweis zum Einfügen von Bildern bzw. Grafiken: Siehe "Einfügen" , "Bilder", "Über Zeile einfügen", "dieses Gerät"
A98: Name des Recyclingbetriebes:
A99: Bezeichnung Recyclingschrittes:
A102: 1. Beschreibung des einzelnen Recyclingschrittes/ -verfahrens2
A103: 2 Beschreibung eines einzelnen Recyclingschrittes. Beschreibt jeweils die nachgelagerten Recyclingschritte N_1, N_2, etc.. Die nachgelagerten Recyclingbetriebe hinterlegen jeweils diese Angaben, die vom ersten Recyclingbetrieb in Anlage A zusammengeführt werden.
D137: Seite 5 | K137: Seite 6
A140: Anlage B | H140: 2. Fließschema des einzelnen Recyclingschrittes/ -verfahrens (fakultativ):
A141: Zur Dokumentation gem. § 28 BattDG der Recyclingbetriebe | H141: Hinweis zum Einfügen von Bildern bzw. Grafiken: Siehe "Einfügen" , "Bilder", "Über Zeile einfügen", "dieses Gerät"
A144: Name des Recyclingbetriebes:
A145: Bezeichnung Recyclingschrittes:
A148: 1. Beschreibung des einzelnen Recyclingschrittes/ -verfahrens2
A149: 2 Beschreibung eines einzelnen Recyclingschrittes. Beschreibt jeweils die nachgelagerten Recyclingschritte N_1, N_2, etc.. Die nachgelagerten Recyclingbetriebe hinterlegen jeweils diese Angaben, die vom ersten Recyclingbetrieb in Anlage A zusammengeführt werden.
D183: Seite 7 | K183: Seite 8

Sheet Ihre Bemerkungen
